{"text_format":"1","workbook":"xlsx","n_sheets":13,"sheets":["Cow Housing","RMR","Livestock PM10","Livestock PM10 2","Livestock PM10 3","Livestock PM10 4","Dairy Miscellaneous","Dairy Miscellaneous 2","Dairy Miscellaneous 3","Dairy Miscellaneous 4","Milk Parlor","Dairy Lagoon","SHARP "],"not_rendered":{"charts":0,"images":0,"macros":1,"external_links":0,"defined_names":11,"comments":4,"pivot_tables":0},"unopened":[],"bounds":{"document_bytes":16777216,"sheet_cells":100000,"rows_first":2000,"rows_last":500,"rows_between":2000,"halvings":0,"cell_chars":16384,"cell_head_chars":4096},"cells_cut":0,"cells_raw":0,"read":"whole","date_system":"1900"}

{"sheet":"Cow Housing","index":0,"n_rows":91,"n_cols":10,"rows_kept":91,"cut":false,"hidden":false,"merged":[[6,1,6,9],[0,2,0,7],[1,2,1,7],[2,2,2,3],[2,5,2,6],[0,8,5,12],[3,6,3,7]]}
[null,"Name","Cow Housing Summary",null,null,null,null,null,"Copy and paste the SSIPE - Cow Housing table (rows under header) from the RMR Summary worksheet in the Engineer's Dairy Calculator. Zero and null entries will be highlighted in red after entry. 250926 Naphthalene and Perchloroethylene were removed by the District as they are unlikely to be present at a dairy and are not dairy related chemicals."]
[null,"Applicability","Use this spreadsheet to enter data from the Engineer's Dairy Calculator. Entries here will be linked to other worksheets. After completion, proceed to RMR worksheet for further entries."]
[null,"Author or updater","Matthew Cegielski",null,"Last Update","2025-09-29"]
[null,"Facility:","Happy Cows",null,null,0,{"$f":"VLOOKUP(F4,A84:B91,2)","v":"Not Set"}]
[null,"ID#:","C-7777"]
[null,"Project #:","C-3333"]
[null," Potential to Emit - Cow Housing"]
[null,"Housing Name(s) or #(s)","Type of Cow","# of Cows","VOC       (lb/hr)","VOC        (lb/yr)","NH3        (lb/hr)","NH3         (lb/yr)","PM10       (lb/hr)","PM10       (lb/yr)"]
[]
[]
[]
[]
[]
[]
[]
[]
[]
[]
[]
[]
[]
[]
[]
[]
[]
[]
[]
[]
[]
[]
[]
[]
[]
[]
[]
[]
[]
[]
[]
[]
[]
[]
[]
[]
[]
[]
[]
[]
[]
[]
[]
[]
[]
[]
[]
[]
[]
[]
[]
[]
[]
[]
[]
[]
[]
[]
[]
[]
[]
[]
[]
[]
[]
[]
[]
[]
[]
[]
[]
[]
[]
[]
[]
[0,"Not Set"]
[10,"Cow Houses"]
[20,"Cow Houses"]
[30,"Cow Houses"]
[40,"Cow Houses"]
[50,"Cow Houses"]
[60,"Cow Houses"]
[75,"Cow Houses"]

{"sheet":"RMR","index":1,"n_rows":25,"n_cols":9,"rows_kept":25,"cut":false,"hidden":false,"merged":[[21,1,21,3],[1,1,6,7],[22,2,22,3],[23,2,23,3],[24,2,24,3],[8,1,8,8]]}
[]
[null,"Copy and paste values from the corresponding table in the Engineer Dairy Calculator's RMR Summary worksheet. Paste values only with matched destination formatting. Ensure the same names are lined up by row number. Zero and null entries will be highlighted in red after entry."]
[]
[]
[]
[]
[]
[]
[null,"SSIPE RMR Summary"]
[null,null,"PM10 lb/hr","PM10 lb/yr","VOC lb/hr","VOC lb/yr","NH3 lb/hr","NH3 lb/yr","H2S lb/yr"]
[null,"Milking Parlor"]
[null,"Cow Housing"]
[null,"Liquid Manure"]
[null,"Solid Manure"]
[null,"Feed Handling"]
[null,"Lagoon/Storage Pond"]
[null,"Land Application (Liquid)"]
[null,"Land Application (Solid)"]
[null,"Solid Manure Storage"]
[]
[]
[null,"SSIPE Total Herd Summary"]
[null,"Change in Milk Cows"]
[null,"Change in Dairy Head"]
[null,"Change in Dairy Head (Flushed)"]

{"sheet":"Livestock PM10","index":2,"n_rows":43,"n_cols":43,"rows_kept":43,"cut":false,"hidden":false,"merged":[[1,0,1,2],[0,0,0,2],[7,41,8,42],[11,41,12,41],[11,42,12,42],[7,37,8,38],[11,37,12,37],[11,38,12,38],[7,39,8,40],[11,39,12,39],[11,40,12,40],[11,10,12,10],[11,18,12,18],[7,33,8,34],[11,33,12,33],[11,34,12,34],[7,35,8,36],[11,35,12,35],[11,36,12,36],[7,29,8,30],[11,29,12,29],[11,30,12,30],[7,31,8,32],[11,31,12,31],[11,32,12,32],[7,27,8,28],[11,27,12,27],[11,28,12,28],[11,20,12,20],[7,21,8,22],[11,21,12,21],[11,22,12,22],[7,25,8,26],[11,25,12,25],[11,26,12,26],[7,19,8,20],[11,19,12,19],[7,23,8,24],[11,23,12,23],[11,24,12,24],[7,17,8,18],[11,17,12,17],[11,12,12,12],[11,9,12,9],[11,5,12,5],[7,9,8,10],[7,7,8,8],[11,16,12,16],[7,11,8,12],[7,13,8,14],[11,11,12,11],[7,15,8,16],[11,15,12,15],[11,13,12,13],[11,14,12,14],[11,7,12,7],[11,8,12,8],[33,0,33,2],[34,0,34,2],[35,0,35,2],[37,0,40,0],[37,1,40,1],[11,2,12,2],[11,0,12,0],[11,4,12,4],[2,1,2,2],[11,6,12,6],[3,1,3,2],[7,3,8,4],[9,0,9,2],[7,5,8,6],[7,0,7,2],[8,0,8,2],[11,3,12,3],[10,0,10,2],[11,1,12,1]]}
["PM10 based Agricultural Emissions from Operations generating Dust from Livestock Soil "]
["Use this spreadsheet when the emissions are from a Feedlot Soil sources or Cow Housing and the PM10 rates are known (e.g. Dairy operations). Ammonia and PM10 Emission rates linked to Cow Housing worksheet. No entries required on this worksheet. Zero and null entries will be highlighted in red after entry."]
["Author or updater","Matthew Cegielski"]
["Last Update","2018-09-24"]
["Facility:",{"$f":"'Cow Housing'!C4","v":"Happy Cows"}]
["ID#:",{"$f":"'Cow Housing'!C5","v":"C-7777"}]
["Project #:",{"$f":"'Cow Housing'!C6","v":"C-3333"}]
["Formula",null,null,{"$f":"'Cow Housing'!$B$9","v":0},null,{"$f":"'Cow Housing'!$B$10","v":0},null,{"$f":"'Cow Housing'!$B$11","v":0},null,{"$f":"'Cow Housing'!$B$12","v":0},null,{"$f":"'Cow Housing'!$B$13","v":0},null,{"$f":"'Cow Housing'!$B$14","v":0},null,{"$f":"'Cow Housing'!$B$15","v":0},null,{"$f":"'Cow Housing'!$B$16","v":0},null,{"$f":"'Cow Housing'!$B$17","v":0},null,{"$f":"'Cow Housing'!$B$18","v":0},null,{"$f":"'Cow Housing'!$B$19","v":0},null,{"$f":"'Cow Housing'!$B$20","v":0},null,{"$f":"'Cow Housing'!$B$21","v":0},null,{"$f":"'Cow Housing'!$B$22","v":0},null,{"$f":"'Cow Housing'!$B$23","v":0},null,{"$f":"'Cow Housing'!$B$24","v":0},null,{"$f":"'Cow Housing'!$B$25","v":0},null,{"$f":"'Cow Housing'!$B$26","v":0},null,{"$f":"'Cow Housing'!$B$27","v":0},null,{"$f":"'Cow Housing'!$B$28","v":0}]
["Emission are calculated by the multiplication of the PM10 Rates and the Emission Factors."]
[null,null,null,"lb/hr","lb/yr","lb/hr","lb/yr","lb/hr","lb/yr","lb/hr","lb/yr","lb/hr","lb/yr","lb/hr","lb/yr","lb/hr","lb/yr","lb/hr","lb/yr","lb/hr","lb/yr","lb/hr","lb/yr","lb/hr","lb/yr","lb/hr","lb/yr","lb/hr","lb/yr","lb/hr","lb/yr","lb/hr","lb/yr","lb/hr","lb/yr","lb/hr","lb/yr","lb/hr","lb/yr","lb/hr","lb/yr","lb/hr","lb/yr"]
["PM10 Emissions Rates",null,null,{"$f":"IF('Cow Housing'!I9>0,'Cow Housing'!I9,0)","v":0},{"$f":"IF('Cow Housing'!J9>0,'Cow Housing'!J9,0)","v":0},{"$f":"IF('Cow Housing'!I10>0,'Cow Housing'!I10,0)","v":0},{"$f":"IF('Cow Housing'!J10>0,'Cow Housing'!J10,0)","v":0},{"$f":"IF('Cow Housing'!I11>0,'Cow Housing'!I11,0)","v":0},{"$f":"IF('Cow Housing'!J11>0,'Cow Housing'!J11,0)","v":0},{"$f":"IF('Cow Housing'!I12>0,'Cow Housing'!I12,0)","v":0},{"$f":"IF('Cow Housing'!J12>0,'Cow Housing'!J12,0)","v":0},{"$f":"IF('Cow Housing'!I13>0,'Cow Housing'!I13,0)","v":0},{"$f":"IF('Cow Housing'!J13>0,'Cow Housing'!J13,0)","v":0},{"$f":"IF('Cow Housing'!I14>0,'Cow Housing'!I14,0)","v":0},{"$f":"IF('Cow Housing'!J14>0,'Cow Housing'!J14,0)","v":0},{"$f":"IF('Cow Housing'!I15>0,'Cow Housing'!I15,0)","v":0},{"$f":"IF('Cow Housing'!J15>0,'Cow Housing'!J15,0)","v":0},{"$f":"IF('Cow Housing'!I16>0,'Cow Housing'!I16,0)","v":0},{"$f":"IF('Cow Housing'!J16>0,'Cow Housing'!J16,0)","v":0},{"$f":"IF('Cow Housing'!I17>0,'Cow Housing'!I17,0)","v":0},{"$f":"IF('Cow Housing'!J17>0,'Cow Housing'!J17,0)","v":0},{"$f":"IF('Cow Housing'!I18>0,'Cow Housing'!I18,0)","v":0},{"$f":"IF('Cow Housing'!J18>0,'Cow Housing'!J18,0)","v":0},{"$f":"IF('Cow Housing'!I19>0,'Cow Housing'!I19,0)","v":0},{"$f":"IF('Cow Housing'!J19>0,'Cow Housing'!J19,0)","v":0},{"$f":"IF('Cow Housing'!I20>0,'Cow Housing'!I20,0)","v":0},{"$f":"IF('Cow Housing'!J20>0,'Cow Housing'!J20,0)","v":0},{"$f":"IF('Cow Housing'!I21>0,'Cow Housing'!I21,0)","v":0},{"$f":"IF('Cow Housing'!J21>0,'Cow Housing'!J21,0)","v":0},{"$f":"IF('Cow Housing'!I22>0,'Cow Housing'!I22,0)","v":0},{"$f":"IF('Cow Housing'!J22>0,'Cow Housing'!J22,0)","v":0},{"$f":"IF('Cow Housing'!I23>0,'Cow Housing'!I23,0)","v":0},{"$f":"IF('Cow Housing'!J23>0,'Cow Housing'!J23,0)","v":0},{"$f":"IF('Cow Housing'!I24>0,'Cow Housing'!I24,0)","v":0},{"$f":"IF('Cow Housing'!J24>0,'Cow Housing'!J24,0)","v":0},{"$f":"IF('Cow Housing'!I25>0,'Cow Housing'!I25,0)","v":0},{"$f":"IF('Cow Housing'!J25>0,'Cow Housing'!J25,0)","v":0},{"$f":"IF('Cow Housing'!I26>0,'Cow Housing'!I26,0)","v":0},{"$f":"IF('Cow Housing'!J26>0,'Cow Housing'!J26,0)","v":0},{"$f":"IF('Cow Housing'!I27>0,'Cow Housing'!I27,0)","v":0},{"$f":"IF('Cow Housing'!J27>0,'Cow Housing'!J27,0)","v":0},{"$f":"IF('Cow Housing'!I28>0,'Cow Housing'!I28,0)","v":0},{"$f":"IF('Cow Housing'!J28>0,'Cow Housing'!J28,0)","v":0}]
["Substances","CAS#","  Dust*      lb/lb PM10","      LB/HR"," LB/YR","      LB/HR"," LB/YR","      LB/HR"," LB/YR","      LB/HR"," LB/YR","      LB/HR"," LB/YR","      LB/HR"," LB/YR","      LB/HR"," LB/YR","      LB/HR"," LB/YR","      LB/HR"," LB/YR","      LB/HR"," LB/YR","      LB/HR"," LB/YR","      LB/HR"," LB/YR","      LB/HR"," LB/YR","      LB/HR"," LB/YR","      LB/HR"," LB/YR","      LB/HR"," LB/YR","      LB/HR"," LB/YR","      LB/HR"," LB/YR","      LB/HR"," LB/YR","      LB/HR"," LB/YR"]
[]
["Aluminum",7429905,4.6614000000000003E-2,{"$f":"$D$11*C14","v":0},{"$f":"$E$11*C14","v":0},{"$f":"$F$11*C14","v":0},{"$f":"$G$11*C14","v":0},{"$f":"$H$11*C14","v":0},{"$f":"$I$11*C14","v":0},{"$f":"$J$11*C14","v":0},{"$f":"$K$11*C14","v":0},{"$f":"$L$11*C14","v":0},{"$f":"$M$11*C14","v":0},{"$f":"$N$11*C14","v":0},{"$f":"$O$11*C14","v":0},{"$f":"$P$11*C14","v":0},{"$f":"$Q$11*C14","v":0},{"$f":"$R$11*C14","v":0},{"$f":"$S$11*C14","v":0},{"$f":"$T$11*C14","v":0},{"$f":"$U$11*C14","v":0},{"$f":"$V$11*C14","v":0},{"$f":"$W$11*C14","v":0},{"$f":"$X$11*C14","v":0},{"$f":"$Y$11*C14","v":0},{"$f":"$Z$11*C14","v":0},{"$f":"$AA$11*C14","v":0},{"$f":"$AB$11*C14","v":0},{"$f":"$AC$11*C14","v":0},{"$f":"$AD$11*C14","v":0},{"$f":"$AE$11*C14","v":0},{"$f":"$AF$11*C14","v":0},{"$f":"$AG$11*C14","v":0},{"$f":"$AH$11*C14","v":0},{"$f":"$AI$11*C14","v":0},{"$f":"$AJ$11*C14","v":0},{"$f":"$AK$11*C14","v":0},{"$f":"$AL$11*C14","v":0},{"$f":"$AM$11*C14","v":0},{"$f":"$AN$11*C14","v":0},{"$f":"$AO$11*C14","v":0},{"$f":"$AP$11*C14","v":0},{"$f":"$AQ$11*C14","v":0}]
["Antimony",7440360,1.9000000000000001E-5,{"$f":"$D$11*C15","v":0},{"$f":"$E$11*C15","v":0},{"$f":"$F$11*C15","v":0},{"$f":"$G$11*C15","v":0},{"$f":"$H$11*C15","v":0},{"$f":"$I$11*C15","v":0},{"$f":"$J$11*C15","v":0},{"$f":"$K$11*C15","v":0},{"$f":"$L$11*C15","v":0},{"$f":"$M$11*C15","v":0},{"$f":"$N$11*C15","v":0},{"$f":"$O$11*C15","v":0},{"$f":"$P$11*C15","v":0},{"$f":"$Q$11*C15","v":0},{"$f":"$R$11*C15","v":0},{"$f":"$S$11*C15","v":0},{"$f":"$T$11*C15","v":0},{"$f":"$U$11*C15","v":0},{"$f":"$V$11*C15","v":0},{"$f":"$W$11*C15","v":0},{"$f":"$X$11*C15","v":0},{"$f":"$Y$11*C15","v":0},{"$f":"$Z$11*C15","v":0},{"$f":"$AA$11*C15","v":0},{"$f":"$AB$11*C15","v":0},{"$f":"$AC$11*C15","v":0},{"$f":"$AD$11*C15","v":0},{"$f":"$AE$11*C15","v":0},{"$f":"$AF$11*C15","v":0},{"$f":"$AG$11*C15","v":0},{"$f":"$AH$11*C15","v":0},{"$f":"$AI$11*C15","v":0},{"$f":"$AJ$11*C15","v":0},{"$f":"$AK$11*C15","v":0},{"$f":"$AL$11*C15","v":0},{"$f":"$AM$11*C15","v":0},{"$f":"$AN$11*C15","v":0},{"$f":"$AO$11*C15","v":0},{"$f":"$AP$11*C15","v":0},{"$f":"$AQ$11*C15","v":0}]
["Arsenic",7440382,1.5999999999999999E-5,0,0,0,0,{"$f":"$H$11*C16","v":0},{"$f":"$I$11*C16","v":0},0,0,{"$f":"$L$11*C16","v":0},{"$f":"$M$11*C16","v":0},0,0,0,0,0,0,0,0,0,0,0,0,0,0,0,0,0,0,0,0,0,0,0,0,0,0,0,0,0,0]
["Barium",7440393,4.6899999999999996E-4,0,0,0,0,0,0,0,0,0,0,0,0,0,0,0,0,0,0,0,0,0,0,0,0,0,0,0,0,0,0,0,0,0,0,0,0,0,0,0,0]
["Bromine",7726956,4.4000000000000006E-5,0,0,0,0,0,0,0,0,0,0,0,0,0,0,0,0,0,0,0,0,0,0,0,0,0,0,0,0,0,0,0,0,0,0,0,0,0,0,0,0]
["Chromium ",7440473,1.4E-5,0,0,0,0,0,0,0,0,0,0,0,0,0,0,0,0,0,0,0,0,0,0,0,0,0,0,0,0,0,0,0,0,0,0,0,0,0,0,0,0]
["Copper",7440508,1.3200000000000001E-4,0,0,0,0,0,0,0,0,0,0,0,0,0,0,0,0,0,0,0,0,0,0,0,0,0,0,0,0,0,0,0,0,0,0,0,0,0,0,0,0]
["Hexavalent Chromium**",18540299,7.0000000000000007E-7,0,0,0,0,0,0,0,0,0,0,0,0,0,0,0,0,0,0,0,0,0,0,0,0,0,0,0,0,0,0,0,0,0,0,0,0,0,0,0,0]
["Lead",7439921,3.5000000000000004E-5,0,0,0,0,0,0,0,0,0,0,0,0,0,0,0,0,0,0,0,0,0,0,0,0,0,0,0,0,0,0,0,0,0,0,0,0,0,0,0,0]
["Manganese",7439965,7.5899999999999991E-4,0,0,0,0,0,0,0,0,0,0,0,0,0,0,0,0,0,0,0,0,0,0,0,0,0,0,0,0,0,0,0,0,0,0,0,0,0,0,0,0]
["Mercury",7439976,3.9999999999999998E-6,0,0,0,0,0,0,0,0,0,0,0,0,0,0,0,0,0,0,0,0,0,0,0,0,0,0,0,0,0,0,0,0,0,0,0,0,0,0,0,0]
["Nickel",7440020,6.9999999999999999E-6,0,0,0,0,0,0,0,0,0,0,0,0,0,0,0,0,0,0,0,0,0,0,0,0,0,0,0,0,0,0,0,0,0,0,0,0,0,0,0,0]
["Phosphorus",7723140,4.0140000000000002E-2,0,0,0,0,0,0,0,0,0,0,0,0,0,0,0,0,0,0,0,0,0,0,0,0,0,0,0,0,0,0,0,0,0,0,0,0,0,0,0,0]
["Selenium",7782492,9.9999999999999995E-7,0,0,0,0,0,0,0,0,0,0,0,0,0,0,0,0,0,0,0,0,0,0,0,0,0,0,0,0,0,0,0,0,0,0,0,0,0,0,0,0]
["Sulfates",9960,7.2829999999999995E-3,0,0,0,0,0,0,0,0,0,0,0,0,0,0,0,0,0,0,0,0,0,0,0,0,0,0,0,0,0,0,0,0,0,0,0,0,0,0,0,0]
["Vanadium",7440622,3.0000000000000001E-5,0,0,0,0,0,0,0,0,0,0,0,0,0,0,0,0,0,0,0,0,0,0,0,0,0,0,0,0,0,0,0,0,0,0,0,0,0,0,0,0]
["Zinc",7440666,3.4200000000000002E-4,0,0,0,0,0,0,0,0,0,0,0,0,0,0,0,0,0,0,0,0,0,0,0,0,0,0,0,0,0,0,{"$f":"$AH$11*K30","v":0},{"$f":"$AI$11*K30","v":0},0,0,0,0,{"$f":"$AN$11*C30","v":0},{"$f":"$AO$11*C30","v":0},0,0]
["Ammonia",7664417,null,{"$f":"IF('Cow Housing'!G9>0, 'Cow Housing'!G9, 0)","v":0},{"$f":"IF('Cow Housing'!H9>0, 'Cow Housing'!H9, 0)","v":0},{"$f":"IF('Cow Housing'!G10>0, 'Cow Housing'!G10, 0)","v":0},{"$f":"IF('Cow Housing'!H10>0, 'Cow Housing'!H10, 0)","v":0},{"$f":"IF('Cow Housing'!G11>0, 'Cow Housing'!G11, 0)","v":0},{"$f":"IF('Cow Housing'!H11>0, 'Cow Housing'!H11, 0)","v":0},{"$f":"IF('Cow Housing'!G12>0, 'Cow Housing'!G12, 0)","v":0},{"$f":"IF('Cow Housing'!H12>0, 'Cow Housing'!H12, 0)","v":0},{"$f":"IF('Cow Housing'!G13>0, 'Cow Housing'!G13, 0)","v":0},{"$f":"IF('Cow Housing'!H13>0, 'Cow Housing'!H13, 0)","v":0},{"$f":"IF('Cow Housing'!G14>0, 'Cow Housing'!G14, 0)","v":0},{"$f":"IF('Cow Housing'!H14>0, 'Cow Housing'!H14, 0)","v":0},{"$f":"IF('Cow Housing'!G15>0, 'Cow Housing'!G15, 0)","v":0},{"$f":"IF('Cow Housing'!H15>0, 'Cow Housing'!H15, 0)","v":0},{"$f":"IF('Cow Housing'!G16>0, 'Cow Housing'!G16, 0)","v":0},{"$f":"IF('Cow Housing'!H16>0, 'Cow Housing'!H16, 0)","v":0},{"$f":"IF('Cow Housing'!G17>0, 'Cow Housing'!G17, 0)","v":0},{"$f":"IF('Cow Housing'!H17>0, 'Cow Housing'!H17, 0)","v":0},{"$f":"IF('Cow Housing'!G18>0, 'Cow Housing'!G18, 0)","v":0},{"$f":"IF('Cow Housing'!H18>0, 'Cow Housing'!H18, 0)","v":0},{"$f":"IF('Cow Housing'!G19>0, 'Cow Housing'!G19, 0)","v":0},{"$f":"IF('Cow Housing'!H19>0, 'Cow Housing'!H19, 0)","v":0},{"$f":"IF('Cow Housing'!G20>0, 'Cow Housing'!G20, 0)","v":0},{"$f":"IF('Cow Housing'!H20>0, 'Cow Housing'!H20, 0)","v":0},{"$f":"IF('Cow Housing'!G21>0, 'Cow Housing'!G21, 0)","v":0},{"$f":"IF('Cow Housing'!H21>0, 'Cow Housing'!H21, 0)","v":0},{"$f":"IF('Cow Housing'!G22>0, 'Cow Housing'!G22, 0)","v":0},{"$f":"IF('Cow Housing'!H22>0, 'Cow Housing'!H22, 0)","v":0},{"$f":"IF('Cow Housing'!G23>0, 'Cow Housing'!G23, 0)","v":0},{"$f":"IF('Cow Housing'!H23>0, 'Cow Housing'!H23, 0)","v":0},{"$f":"IF('Cow Housing'!G24>0, 'Cow Housing'!G24, 0)","v":0},{"$f":"IF('Cow Housing'!H24>0, 'Cow Housing'!H24, 0)","v":0},{"$f":"IF('Cow Housing'!G25>0, 'Cow Housing'!G25, 0)","v":0},{"$f":"IF('Cow Housing'!H25>0, 'Cow Housing'!H25, 0)","v":0},{"$f":"IF('Cow Housing'!G26>0, 'Cow Housing'!G26, 0)","v":0},{"$f":"IF('Cow Housing'!H26>0, 'Cow Housing'!H26, 0)","v":0},{"$f":"IF('Cow Housing'!G27>0, 'Cow Housing'!G27, 0)","v":0},{"$f":"IF('Cow Housing'!H27>0, 'Cow Housing'!H27, 0)","v":0},{"$f":"IF('Cow Housing'!G28>0, 'Cow Housing'!G28, 0)","v":0},{"$f":"IF('Cow Housing'!H28>0, 'Cow Housing'!H28, 0)","v":0}]
[]
["References:"]
["* Emission factors are derived from a worst case composite of 1997 San Joaquin Valley soil profiles listed in EPA's speciation program."]
["**Hexavalent chromium is assumed to be 5% of chromium."]
["Pollutants required for toxic reporting. Current as of update date."]
[]
["Compounds Tested for but not detected","CAS#"]
[]
[]
[]
["Cadmium",7440439]
["Cobalt",7440484]

{"sheet":"Livestock PM10 2","index":3,"n_rows":43,"n_cols":43,"rows_kept":43,"cut":false,"hidden":false,"merged":[[34,0,34,2],[35,0,35,2],[37,0,40,0],[37,1,40,1],[11,42,12,42],[33,0,33,2],[11,36,12,36],[11,37,12,37],[11,38,12,38],[11,39,12,39],[11,40,12,40],[11,41,12,41],[11,30,12,30],[11,31,12,31],[11,32,12,32],[11,33,12,33],[11,34,12,34],[11,35,12,35],[11,24,12,24],[11,25,12,25],[11,26,12,26],[11,27,12,27],[11,28,12,28],[11,29,12,29],[11,23,12,23],[11,12,12,12],[11,13,12,13],[11,14,12,14],[11,15,12,15],[11,16,12,16],[11,17,12,17],[11,18,12,18],[11,19,12,19],[11,20,12,20],[11,21,12,21],[11,22,12,22],[11,11,12,11],[11,3,12,3],[11,4,12,4],[11,5,12,5],[9,0,9,2],[10,0,10,2],[11,0,12,0],[11,1,12,1],[11,2,12,2],[11,6,12,6],[11,7,12,7],[11,8,12,8],[11,9,12,9],[11,10,12,10],[7,37,8,38],[7,39,8,40],[7,41,8,42],[8,0,8,2],[7,25,8,26],[7,27,8,28],[7,29,8,30],[7,31,8,32],[7,33,8,34],[7,35,8,36],[7,13,8,14],[7,15,8,16],[7,17,8,18],[7,19,8,20],[7,21,8,22],[7,23,8,24],[7,3,8,4],[7,5,8,6],[7,7,8,8],[7,9,8,10],[7,11,8,12],[0,0,0,2],[1,0,1,2],[2,1,2,2],[3,1,3,2],[7,0,7,2]]}
["PM10 based Agricultural Emissions from Operations generating Dust from Livestock Soil "]
["Use this spreadsheet when the emissions are from a Feedlot Soil sources or Cow Housing and the PM10 rates are known (e.g. Dairy operations). Ammonia and PM10 Emission rates linked to Cow Housing worksheet. No entries required on this worksheet. Zero and null entries will be highlighted in red after entry."]
["Author or updater","Matthew Cegielski"]
["Last Update","2018-09-24"]
["Facility:",{"$f":"'Cow Housing'!C4","v":"Happy Cows"}]
["ID#:",{"$f":"'Cow Housing'!C5","v":"C-7777"}]
["Project #:",{"$f":"'Cow Housing'!C6","v":"C-3333"}]
["Formula",null,null,{"$f":"'Cow Housing'!$B$29","v":0},null,{"$f":"'Cow Housing'!$B$30","v":0},null,{"$f":"'Cow Housing'!$B$31","v":0},null,{"$f":"'Cow Housing'!$B$32","v":0},null,{"$f":"'Cow Housing'!$B$33","v":0},null,{"$f":"'Cow Housing'!$B$34","v":0},null,{"$f":"'Cow Housing'!$B$35","v":0},null,{"$f":"'Cow Housing'!$B$36","v":0},null,{"$f":"'Cow Housing'!$B$37","v":0},null,{"$f":"'Cow Housing'!$B$38","v":0},null,{"$f":"'Cow Housing'!$B$39","v":0},null,{"$f":"'Cow Housing'!$B$40","v":0},null,{"$f":"'Cow Housing'!$B$41","v":0},null,{"$f":"'Cow Housing'!$B$42","v":0},null,{"$f":"'Cow Housing'!$B$43","v":0},null,{"$f":"'Cow Housing'!$B$44","v":0},null,{"$f":"'Cow Housing'!$B$45","v":0},null,{"$f":"'Cow Housing'!$B$46","v":0},null,{"$f":"'Cow Housing'!$B$47","v":0},null,{"$f":"'Cow Housing'!$B$48","v":0}]
["Emission are calculated by the multiplication of the PM10 Rates and the Emission Factors."]
[null,null,null,"lb/hr","lb/yr","lb/hr","lb/yr","lb/hr","lb/yr","lb/hr","lb/yr","lb/hr","lb/yr","lb/hr","lb/yr","lb/hr","lb/yr","lb/hr","lb/yr","lb/hr","lb/yr","lb/hr","lb/yr","lb/hr","lb/yr","lb/hr","lb/yr","lb/hr","lb/yr","lb/hr","lb/yr","lb/hr","lb/yr","lb/hr","lb/yr","lb/hr","lb/yr","lb/hr","lb/yr","lb/hr","lb/yr","lb/hr","lb/yr"]
["PM10 Emissions Rates",null,null,{"$f":"IF('Cow Housing'!I29>0,'Cow Housing'!I29,0)","v":0},{"$f":"IF('Cow Housing'!J29>0,'Cow Housing'!J29,0)","v":0},{"$f":"IF('Cow Housing'!I30>0,'Cow Housing'!I30,0)","v":0},{"$f":"IF('Cow Housing'!J30>0,'Cow Housing'!J30,0)","v":0},{"$f":"IF('Cow Housing'!I31>0,'Cow Housing'!I31,0)","v":0},{"$f":"IF('Cow Housing'!J31>0,'Cow Housing'!J31,0)","v":0},{"$f":"IF('Cow Housing'!I32>0,'Cow Housing'!I32,0)","v":0},{"$f":"IF('Cow Housing'!J32>0,'Cow Housing'!J32,0)","v":0},{"$f":"IF('Cow Housing'!I33>0,'Cow Housing'!I33,0)","v":0},{"$f":"IF('Cow Housing'!J33>0,'Cow Housing'!J33,0)","v":0},{"$f":"IF('Cow Housing'!I34>0,'Cow Housing'!I34,0)","v":0},{"$f":"IF('Cow Housing'!J34>0,'Cow Housing'!J34,0)","v":0},{"$f":"IF('Cow Housing'!I35>0,'Cow Housing'!I35,0)","v":0},{"$f":"IF('Cow Housing'!J35>0,'Cow Housing'!J35,0)","v":0},{"$f":"IF('Cow Housing'!I36>0,'Cow Housing'!I36,0)","v":0},{"$f":"IF('Cow Housing'!J36>0,'Cow Housing'!J36,0)","v":0},{"$f":"IF('Cow Housing'!I37>0,'Cow Housing'!I37,0)","v":0},{"$f":"IF('Cow Housing'!J37>0,'Cow Housing'!J37,0)","v":0},{"$f":"IF('Cow Housing'!I38>0,'Cow Housing'!I38,0)","v":0},{"$f":"IF('Cow Housing'!J38>0,'Cow Housing'!J38,0)","v":0},{"$f":"IF('Cow Housing'!I39>0,'Cow Housing'!I39,0)","v":0},{"$f":"IF('Cow Housing'!J39>0,'Cow Housing'!J39,0)","v":0},{"$f":"IF('Cow Housing'!I40>0,'Cow Housing'!I40,0)","v":0},{"$f":"IF('Cow Housing'!J40>0,'Cow Housing'!J40,0)","v":0},{"$f":"IF('Cow Housing'!I41>0,'Cow Housing'!I41,0)","v":0},{"$f":"IF('Cow Housing'!J41>0,'Cow Housing'!J41,0)","v":0},{"$f":"IF('Cow Housing'!I42>0,'Cow Housing'!I42,0)","v":0},{"$f":"IF('Cow Housing'!J42>0,'Cow Housing'!J42,0)","v":0},{"$f":"IF('Cow Housing'!I43>0,'Cow Housing'!I43,0)","v":0},{"$f":"IF('Cow Housing'!J43>0,'Cow Housing'!J43,0)","v":0},{"$f":"IF('Cow Housing'!I44>0,'Cow Housing'!I44,0)","v":0},{"$f":"IF('Cow Housing'!J44>0,'Cow Housing'!J44,0)","v":0},{"$f":"IF('Cow Housing'!I45>0,'Cow Housing'!I45,0)","v":0},{"$f":"IF('Cow Housing'!J45>0,'Cow Housing'!J45,0)","v":0},{"$f":"IF('Cow Housing'!I46>0,'Cow Housing'!I46,0)","v":0},{"$f":"IF('Cow Housing'!J46>0,'Cow Housing'!J46,0)","v":0},{"$f":"IF('Cow Housing'!I47>0,'Cow Housing'!I47,0)","v":0},{"$f":"IF('Cow Housing'!J47>0,'Cow Housing'!J47,0)","v":0},{"$f":"IF('Cow Housing'!I48>0,'Cow Housing'!I48,0)","v":0},{"$f":"IF('Cow Housing'!J48>0,'Cow Housing'!J48,0)","v":0}]
["Substances","CAS#","  Dust*      lb/lb PM10","      LB/HR"," LB/YR","      LB/HR"," LB/YR","      LB/HR"," LB/YR","      LB/HR"," LB/YR","      LB/HR"," LB/YR","      LB/HR"," LB/YR","      LB/HR"," LB/YR","      LB/HR"," LB/YR","      LB/HR"," LB/YR","      LB/HR"," LB/YR","      LB/HR"," LB/YR","      LB/HR"," LB/YR","      LB/HR"," LB/YR","      LB/HR"," LB/YR","      LB/HR"," LB/YR","      LB/HR"," LB/YR","      LB/HR"," LB/YR","      LB/HR"," LB/YR","      LB/HR"," LB/YR","      LB/HR"," LB/YR"]
[]
["Aluminum",7429905,4.6614000000000003E-2,{"$f":"$D$11*C14","v":0},{"$f":"$E$11*C14","v":0},{"$f":"$F$11*C14","v":0},{"$f":"$G$11*C14","v":0},{"$f":"$H$11*C14","v":0},{"$f":"$I$11*C14","v":0},{"$f":"$J$11*C14","v":0},{"$f":"$K$11*C14","v":0},{"$f":"$L$11*C14","v":0},{"$f":"$M$11*C14","v":0},{"$f":"$N$11*C14","v":0},{"$f":"$O$11*C14","v":0},{"$f":"$P$11*C14","v":0},{"$f":"$Q$11*C14","v":0},{"$f":"$R$11*C14","v":0},{"$f":"$S$11*C14","v":0},{"$f":"$T$11*C14","v":0},{"$f":"$U$11*C14","v":0},{"$f":"$V$11*C14","v":0},{"$f":"$W$11*C14","v":0},{"$f":"$X$11*C14","v":0},{"$f":"$Y$11*C14","v":0},{"$f":"$Z$11*C14","v":0},{"$f":"$AA$11*C14","v":0},{"$f":"$AB$11*C14","v":0},{"$f":"$AC$11*C14","v":0},{"$f":"$AD$11*C14","v":0},{"$f":"$AE$11*C14","v":0},{"$f":"$AF$11*C14","v":0},{"$f":"$AG$11*C14","v":0},{"$f":"$AH$11*C14","v":0},{"$f":"$AI$11*C14","v":0},{"$f":"$AJ$11*C14","v":0},{"$f":"$AK$11*C14","v":0},{"$f":"$AL$11*C14","v":0},{"$f":"$AM$11*C14","v":0},{"$f":"$AN$11*C14","v":0},{"$f":"$AO$11*C14","v":0},{"$f":"$AP$11*C14","v":0},{"$f":"$AQ$11*C14","v":0}]
["Antimony",7440360,1.9000000000000001E-5,{"$f":"$D$11*C15","v":0},{"$f":"$E$11*C15","v":0},{"$f":"$F$11*C15","v":0},{"$f":"$G$11*C15","v":0},{"$f":"$H$11*C15","v":0},{"$f":"$I$11*C15","v":0},{"$f":"$J$11*C15","v":0},{"$f":"$K$11*C15","v":0},{"$f":"$L$11*C15","v":0},{"$f":"$M$11*C15","v":0},{"$f":"$N$11*C15","v":0},{"$f":"$O$11*C15","v":0},{"$f":"$P$11*C15","v":0},{"$f":"$Q$11*C15","v":0},{"$f":"$R$11*C15","v":0},{"$f":"$S$11*C15","v":0},{"$f":"$T$11*C15","v":0},{"$f":"$U$11*C15","v":0},{"$f":"$V$11*C15","v":0},{"$f":"$W$11*C15","v":0},{"$f":"$X$11*C15","v":0},{"$f":"$Y$11*C15","v":0},{"$f":"$Z$11*C15","v":0},{"$f":"$AA$11*C15","v":0},{"$f":"$AB$11*C15","v":0},{"$f":"$AC$11*C15","v":0},{"$f":"$AD$11*C15","v":0},{"$f":"$AE$11*C15","v":0},{"$f":"$AF$11*C15","v":0},{"$f":"$AG$11*C15","v":0},{"$f":"$AH$11*C15","v":0},{"$f":"$AI$11*C15","v":0},{"$f":"$AJ$11*C15","v":0},{"$f":"$AK$11*C15","v":0},{"$f":"$AL$11*C15","v":0},{"$f":"$AM$11*C15","v":0},{"$f":"$AN$11*C15","v":0},{"$f":"$AO$11*C15","v":0},{"$f":"$AP$11*C15","v":0},{"$f":"$AQ$11*C15","v":0}]
["Arsenic",7440382,1.5999999999999999E-5,0,0,0,0,0,0,0,0,0,0,0,0,0,0,0,0,0,0,0,0,0,0,0,0,{"$f":"$AB$11*C16","v":0},0,0,0,{"$f":"$AF$11*C16","v":0},{"$f":"$AG$11*C16","v":0},0,0,0,0,0,0,0,0,0,0]
["Barium",7440393,4.6899999999999996E-4,0,0,0,0,0,0,0,0,0,0,0,0,0,0,0,0,0,0,0,0,0,0,0,0,{"$f":"$AB$11*C17","v":0},0,0,0,0,0,0,0,0,0,0,0,0,0,0,0]
["Bromine",7726956,4.4000000000000006E-5,0,0,0,0,0,0,0,0,0,0,0,0,0,0,0,0,{"$f":"$T$11*C18","v":0},0,0,0,0,0,0,0,{"$f":"$AB$11*C18","v":0},0,0,0,0,0,0,0,0,0,0,0,0,0,0,0]
["Chromium ",7440473,1.4E-5,0,0,0,0,0,0,0,0,0,0,0,0,0,0,0,0,{"$f":"$T$11*C19","v":0},0,0,0,0,0,0,0,0,0,0,0,0,0,0,0,0,0,0,0,0,0,0,0]
["Copper",7440508,1.3200000000000001E-4,0,0,0,0,0,0,0,0,0,0,0,0,0,0,0,0,0,0,0,0,0,0,0,0,0,0,0,0,0,0,0,0,0,0,0,0,0,0,0,0]
["Hexavalent Chromium**",18540299,7.0000000000000007E-7,0,0,0,0,0,0,0,0,0,0,0,0,0,0,0,0,0,0,0,0,0,0,0,0,0,0,0,0,0,0,0,0,0,0,0,0,0,0,0,0]
["Lead",7439921,3.5000000000000004E-5,0,0,0,0,0,0,0,0,0,0,0,0,0,0,0,0,0,0,0,0,0,0,0,0,0,0,0,0,0,0,0,0,0,0,0,0,0,0,0,0]
["Manganese",7439965,7.5899999999999991E-4,0,0,0,0,0,0,0,0,0,0,0,0,0,0,0,0,0,0,0,0,0,0,0,0,0,0,0,0,0,0,0,0,0,0,0,0,0,0,0,{"$f":"$AQ$11*C23","v":0}]
["Mercury",7439976,3.9999999999999998E-6,0,0,0,0,0,0,0,0,0,0,0,0,0,0,0,0,0,0,0,0,0,0,0,0,0,0,0,0,0,0,0,0,0,0,0,0,0,0,0,0]
["Nickel",7440020,6.9999999999999999E-6,0,0,0,0,0,0,0,0,0,0,0,0,0,0,0,0,0,0,0,0,0,0,0,0,0,0,0,0,0,0,0,0,0,0,0,0,0,0,0,0]
["Phosphorus",7723140,4.0140000000000002E-2,0,0,0,0,0,0,0,0,0,0,0,0,0,0,0,0,0,0,0,0,0,0,0,0,0,0,0,0,0,0,0,0,0,0,0,0,0,0,0,0]
["Selenium",7782492,9.9999999999999995E-7,0,0,0,0,0,0,0,0,0,0,0,0,0,0,0,0,0,0,0,0,0,0,0,0,0,0,0,0,0,0,0,0,0,0,0,0,0,0,0,0]
["Sulfates",9960,7.2829999999999995E-3,0,0,0,0,0,0,0,0,0,0,0,0,0,0,0,0,0,0,0,0,0,0,0,0,0,0,0,0,0,0,0,0,0,0,0,0,0,0,0,0]
["Vanadium",7440622,3.0000000000000001E-5,0,0,0,0,0,0,0,0,0,0,0,0,0,0,0,0,0,0,0,0,0,0,0,0,0,0,0,0,0,0,0,0,0,0,0,0,0,0,0,0]
["Zinc",7440666,3.4200000000000002E-4,0,0,0,0,0,0,0,0,0,0,0,0,0,0,0,0,{"$f":"$T$11*C30","v":0},0,0,0,0,0,0,0,0,0,0,0,0,0,0,0,0,0,0,0,0,0,0,0]
["Ammonia",7664417,null,{"$f":"IF('Cow Housing'!G29>0, 'Cow Housing'!G29, 0)","v":0},{"$f":"IF('Cow Housing'!H29>0, 'Cow Housing'!H29, 0)","v":0},{"$f":"IF('Cow Housing'!G30>0, 'Cow Housing'!G30, 0)","v":0},{"$f":"IF('Cow Housing'!H30>0, 'Cow Housing'!H30, 0)","v":0},{"$f":"IF('Cow Housing'!G31>0, 'Cow Housing'!G31, 0)","v":0},{"$f":"IF('Cow Housing'!H31>0, 'Cow Housing'!H31, 0)","v":0},{"$f":"IF('Cow Housing'!G32>0, 'Cow Housing'!G32, 0)","v":0},{"$f":"IF('Cow Housing'!H32>0, 'Cow Housing'!H32, 0)","v":0},{"$f":"IF('Cow Housing'!G33>0, 'Cow Housing'!G33, 0)","v":0},{"$f":"IF('Cow Housing'!H33>0, 'Cow Housing'!H33, 0)","v":0},{"$f":"IF('Cow Housing'!G34>0, 'Cow Housing'!G34, 0)","v":0},{"$f":"IF('Cow Housing'!H34>0, 'Cow Housing'!H34, 0)","v":0},{"$f":"IF('Cow Housing'!G35>0, 'Cow Housing'!G35, 0)","v":0},{"$f":"IF('Cow Housing'!H35>0, 'Cow Housing'!H35, 0)","v":0},{"$f":"IF('Cow Housing'!G36>0, 'Cow Housing'!G36, 0)","v":0},{"$f":"IF('Cow Housing'!H36>0, 'Cow Housing'!H36, 0)","v":0},{"$f":"IF('Cow Housing'!G37>0, 'Cow Housing'!G37, 0)","v":0},{"$f":"IF('Cow Housing'!H37>0, 'Cow Housing'!H37, 0)","v":0},{"$f":"IF('Cow Housing'!G38>0, 'Cow Housing'!G38, 0)","v":0},{"$f":"IF('Cow Housing'!H38>0, 'Cow Housing'!H38, 0)","v":0},{"$f":"IF('Cow Housing'!G39>0, 'Cow Housing'!G39, 0)","v":0},{"$f":"IF('Cow Housing'!H39>0, 'Cow Housing'!H39, 0)","v":0},{"$f":"IF('Cow Housing'!G40>0, 'Cow Housing'!G40, 0)","v":0},{"$f":"IF('Cow Housing'!H40>0, 'Cow Housing'!H40, 0)","v":0},{"$f":"IF('Cow Housing'!$G41>0, 'Cow Housing'!$G41, 0)","v":0},{"$f":"IF('Cow Housing'!$H41>0, 'Cow Housing'!$H41, 0)","v":0},{"$f":"IF('Cow Housing'!$G42>0, 'Cow Housing'!$G42, 0)","v":0},{"$f":"IF('Cow Housing'!$H42>0, 'Cow Housing'!$H42, 0)","v":0},{"$f":"IF('Cow Housing'!$G43>0, 'Cow Housing'!$G43, 0)","v":0},{"$f":"IF('Cow Housing'!$H43>0, 'Cow Housing'!$H43, 0)","v":0},{"$f":"IF('Cow Housing'!$G44>0, 'Cow Housing'!$G44, 0)","v":0},{"$f":"IF('Cow Housing'!$H44>0, 'Cow Housing'!$H44, 0)","v":0},{"$f":"IF('Cow Housing'!$G45>0, 'Cow Housing'!$G45, 0)","v":0},{"$f":"IF('Cow Housing'!$H45>0, 'Cow Housing'!$H45, 0)","v":0},{"$f":"IF('Cow Housing'!$G46>0, 'Cow Housing'!$G46, 0)","v":0},{"$f":"IF('Cow Housing'!$H46>0, 'Cow Housing'!$H46, 0)","v":0},{"$f":"IF('Cow Housing'!$G47>0, 'Cow Housing'!$G47, 0)","v":0},{"$f":"IF('Cow Housing'!$H47>0, 'Cow Housing'!$H47, 0)","v":0},{"$f":"IF('Cow Housing'!$G48>0, 'Cow Housing'!$G48, 0)","v":0},{"$f":"IF('Cow Housing'!$H48>0, 'Cow Housing'!$H48, 0)","v":0}]
[]
["References:"]
["* Emission factors are derived from a worst case composite of 1997 San Joaquin Valley soil profiles listed in EPA's speciation program."]
["**Hexavalent chromium is assumed to be 5% of chromium."]
["Pollutants required for toxic reporting. Current as of update date."]
[]
["Compounds Tested for but not detected","CAS#"]
[]
[]
[]
["Cadmium",7440439]
["Cobalt",7440484]

{"sheet":"Livestock PM10 3","index":4,"n_rows":43,"n_cols":43,"rows_kept":43,"cut":false,"hidden":false,"merged":[[11,42,12,42],[33,0,33,2],[34,0,34,2],[35,0,35,2],[37,0,40,0],[37,1,40,1],[11,36,12,36],[11,37,12,37],[11,38,12,38],[11,39,12,39],[11,40,12,40],[11,41,12,41],[11,30,12,30],[11,31,12,31],[11,32,12,32],[11,33,12,33],[11,34,12,34],[11,35,12,35],[11,24,12,24],[11,25,12,25],[11,26,12,26],[11,27,12,27],[11,28,12,28],[11,29,12,29],[11,23,12,23],[11,12,12,12],[11,13,12,13],[11,14,12,14],[11,15,12,15],[11,16,12,16],[11,17,12,17],[11,18,12,18],[11,19,12,19],[11,20,12,20],[11,21,12,21],[11,22,12,22],[11,6,12,6],[11,7,12,7],[11,8,12,8],[11,9,12,9],[11,10,12,10],[11,11,12,11],[7,41,8,42],[8,0,8,2],[9,0,9,2],[10,0,10,2],[11,0,12,0],[11,1,12,1],[11,2,12,2],[11,3,12,3],[11,4,12,4],[11,5,12,5],[7,29,8,30],[7,31,8,32],[7,33,8,34],[7,35,8,36],[7,37,8,38],[7,39,8,40],[7,17,8,18],[7,19,8,20],[7,21,8,22],[7,23,8,24],[7,25,8,26],[7,27,8,28],[7,15,8,16],[0,0,0,2],[1,0,1,2],[2,1,2,2],[3,1,3,2],[7,0,7,2],[7,3,8,4],[7,5,8,6],[7,7,8,8],[7,9,8,10],[7,11,8,12],[7,13,8,14]]}
["PM10 based Agricultural Emissions from Operations generating Dust from Livestock Soil "]
["Use this spreadsheet when the emissions are from a Feedlot Soil sources or Cow Housing and the PM10 rates are known (e.g. Dairy operations). Ammonia and PM10 Emission rates linked to Cow Housing worksheet. No entries required on this worksheet. Zero and null entries will be highlighted in red after entry."]
["Author or updater","Matthew Cegielski"]
["Last Update","2018-09-24"]
["Facility:",{"$f":"'Cow Housing'!C4","v":"Happy Cows"}]
["ID#:",{"$f":"'Cow Housing'!C5","v":"C-7777"}]
["Project #:",{"$f":"'Cow Housing'!C6","v":"C-3333"}]
["Formula",null,null,{"$f":"'Cow Housing'!$B$49","v":0},null,{"$f":"'Cow Housing'!$B$50","v":0},null,{"$f":"'Cow Housing'!$B$51","v":0},null,{"$f":"'Cow Housing'!$B$52","v":0},null,{"$f":"'Cow Housing'!$B$53","v":0},null,{"$f":"'Cow Housing'!$B$54","v":0},null,{"$f":"'Cow Housing'!$B$55","v":0},null,{"$f":"'Cow Housing'!$B$56","v":0},null,{"$f":"'Cow Housing'!$B$57","v":0},null,{"$f":"'Cow Housing'!$B$58","v":0},null,{"$f":"'Cow Housing'!$B$59","v":0},null,{"$f":"'Cow Housing'!$B$60","v":0},null,{"$f":"'Cow Housing'!$B$61","v":0},null,{"$f":"'Cow Housing'!$B$62","v":0},null,{"$f":"'Cow Housing'!$B$63","v":0},null,{"$f":"'Cow Housing'!$B$64","v":0},null,{"$f":"'Cow Housing'!$B$65","v":0},null,{"$f":"'Cow Housing'!$B$66","v":0},null,{"$f":"'Cow Housing'!$B$67","v":0},null,{"$f":"'Cow Housing'!$B$68","v":0}]
["Emission are calculated by the multiplication of the PM10 Rates and the Emission Factors."]
[null,null,null,"lb/hr","lb/yr","lb/hr","lb/yr","lb/hr","lb/yr","lb/hr","lb/yr","lb/hr","lb/yr","lb/hr","lb/yr","lb/hr","lb/yr","lb/hr","lb/yr","lb/hr","lb/yr","lb/hr","lb/yr","lb/hr","lb/yr","lb/hr","lb/yr","lb/hr","lb/yr","lb/hr","lb/yr","lb/hr","lb/yr","lb/hr","lb/yr","lb/hr","lb/yr","lb/hr","lb/yr","lb/hr","lb/yr","lb/hr","lb/yr"]
["PM10 Emissions Rates",null,null,{"$f":"IF('Cow Housing'!I49>0,'Cow Housing'!I49,0)","v":0},{"$f":"IF('Cow Housing'!J49>0,'Cow Housing'!J49,0)","v":0},{"$f":"IF('Cow Housing'!I50>0,'Cow Housing'!I50,0)","v":0},{"$f":"IF('Cow Housing'!J50>0,'Cow Housing'!J50,0)","v":0},{"$f":"IF('Cow Housing'!I51>0,'Cow Housing'!I51,0)","v":0},{"$f":"IF('Cow Housing'!J51>0,'Cow Housing'!J51,0)","v":0},{"$f":"IF('Cow Housing'!I52>0,'Cow Housing'!I52,0)","v":0},{"$f":"IF('Cow Housing'!J52>0,'Cow Housing'!J52,0)","v":0},{"$f":"IF('Cow Housing'!I53>0,'Cow Housing'!I53,0)","v":0},{"$f":"IF('Cow Housing'!J53>0,'Cow Housing'!J53,0)","v":0},{"$f":"IF('Cow Housing'!I54>0,'Cow Housing'!I54,0)","v":0},{"$f":"IF('Cow Housing'!J54>0,'Cow Housing'!J54,0)","v":0},{"$f":"IF('Cow Housing'!I55>0,'Cow Housing'!I55,0)","v":0},{"$f":"IF('Cow Housing'!J55>0,'Cow Housing'!J55,0)","v":0},{"$f":"IF('Cow Housing'!I56>0,'Cow Housing'!I56,0)","v":0},{"$f":"IF('Cow Housing'!J56>0,'Cow Housing'!J56,0)","v":0},{"$f":"IF('Cow Housing'!I57>0,'Cow Housing'!I57,0)","v":0},{"$f":"IF('Cow Housing'!J57>0,'Cow Housing'!J57,0)","v":0},{"$f":"IF('Cow Housing'!I58>0,'Cow Housing'!I58,0)","v":0},{"$f":"IF('Cow Housing'!J58>0,'Cow Housing'!J58,0)","v":0},{"$f":"IF('Cow Housing'!I59>0,'Cow Housing'!I59,0)","v":0},{"$f":"IF('Cow Housing'!J59>0,'Cow Housing'!J59,0)","v":0},{"$f":"IF('Cow Housing'!I60>0,'Cow Housing'!I60,0)","v":0},{"$f":"IF('Cow Housing'!J60>0,'Cow Housing'!J60,0)","v":0},{"$f":"IF('Cow Housing'!I61>0,'Cow Housing'!I61,0)","v":0},{"$f":"IF('Cow Housing'!J61>0,'Cow Housing'!J61,0)","v":0},{"$f":"IF('Cow Housing'!I62>0,'Cow Housing'!I62,0)","v":0},{"$f":"IF('Cow Housing'!J62>0,'Cow Housing'!J62,0)","v":0},{"$f":"IF('Cow Housing'!I63>0,'Cow Housing'!I63,0)","v":0},{"$f":"IF('Cow Housing'!J63>0,'Cow Housing'!J63,0)","v":0},{"$f":"IF('Cow Housing'!I64>0,'Cow Housing'!I64,0)","v":0},{"$f":"IF('Cow Housing'!J64>0,'Cow Housing'!J64,0)","v":0},{"$f":"IF('Cow Housing'!I65>0,'Cow Housing'!I65,0)","v":0},{"$f":"IF('Cow Housing'!J65>0,'Cow Housing'!J65,0)","v":0},{"$f":"IF('Cow Housing'!I66>0,'Cow Housing'!I66,0)","v":0},{"$f":"IF('Cow Housing'!J66>0,'Cow Housing'!J66,0)","v":0},{"$f":"IF('Cow Housing'!I67>0,'Cow Housing'!I67,0)","v":0},{"$f":"IF('Cow Housing'!J67>0,'Cow Housing'!J67,0)","v":0},{"$f":"IF('Cow Housing'!I68>0,'Cow Housing'!I68,0)","v":0},{"$f":"IF('Cow Housing'!J68>0,'Cow Housing'!J68,0)","v":0}]
["Substances","CAS#","  Dust*      lb/lb PM10","      LB/HR"," LB/YR","      LB/HR"," LB/YR","      LB/HR"," LB/YR","      LB/HR"," LB/YR","      LB/HR"," LB/YR","      LB/HR"," LB/YR","      LB/HR"," LB/YR","      LB/HR"," LB/YR","      LB/HR"," LB/YR","      LB/HR"," LB/YR","      LB/HR"," LB/YR","      LB/HR"," LB/YR","      LB/HR"," LB/YR","      LB/HR"," LB/YR","      LB/HR"," LB/YR","      LB/HR"," LB/YR","      LB/HR"," LB/YR","      LB/HR"," LB/YR","      LB/HR"," LB/YR","      LB/HR"," LB/YR"]
[]
["Aluminum",7429905,4.6614000000000003E-2,{"$f":"$D$11*C14","v":0},{"$f":"$E$11*C14","v":0},{"$f":"$F$11*C14","v":0},{"$f":"$G$11*C14","v":0},{"$f":"$H$11*C14","v":0},{"$f":"$I$11*C14","v":0},{"$f":"$J$11*C14","v":0},{"$f":"$K$11*C14","v":0},{"$f":"$L$11*C14","v":0},{"$f":"$M$11*C14","v":0},{"$f":"$N$11*C14","v":0},{"$f":"$O$11*C14","v":0},{"$f":"$P$11*C14","v":0},{"$f":"$Q$11*C14","v":0},{"$f":"$R$11*C14","v":0},{"$f":"$S$11*C14","v":0},{"$f":"$T$11*C14","v":0},{"$f":"$U$11*C14","v":0},{"$f":"$V$11*C14","v":0},{"$f":"$W$11*C14","v":0},{"$f":"$X$11*C14","v":0},{"$f":"$Y$11*C14","v":0},{"$f":"$Z$11*C14","v":0},{"$f":"$AA$11*C14","v":0},{"$f":"$AB$11*C14","v":0},{"$f":"$AC$11*C14","v":0},{"$f":"$AD$11*C14","v":0},{"$f":"$AE$11*C14","v":0},{"$f":"$AF$11*C14","v":0},{"$f":"$AG$11*C14","v":0},{"$f":"$AH$11*C14","v":0},{"$f":"$AI$11*C14","v":0},{"$f":"$AJ$11*C14","v":0},{"$f":"$AK$11*C14","v":0},{"$f":"$AL$11*C14","v":0},{"$f":"$AM$11*C14","v":0},{"$f":"$AN$11*C14","v":0},{"$f":"$AO$11*C14","v":0},{"$f":"$AP$11*C14","v":0},{"$f":"$AQ$11*C14","v":0}]
["Antimony",7440360,1.9000000000000001E-5,{"$f":"$D$11*C15","v":0},{"$f":"$E$11*C15","v":0},{"$f":"$F$11*C15","v":0},{"$f":"$G$11*C15","v":0},{"$f":"$H$11*C15","v":0},{"$f":"$I$11*C15","v":0},{"$f":"$J$11*C15","v":0},{"$f":"$K$11*C15","v":0},{"$f":"$L$11*C15","v":0},{"$f":"$M$11*C15","v":0},{"$f":"$N$11*C15","v":0},{"$f":"$O$11*C15","v":0},{"$f":"$P$11*C15","v":0},{"$f":"$Q$11*C15","v":0},{"$f":"$R$11*C15","v":0},{"$f":"$S$11*C15","v":0},{"$f":"$T$11*C15","v":0},{"$f":"$U$11*C15","v":0},{"$f":"$V$11*C15","v":0},{"$f":"$W$11*C15","v":0},{"$f":"$X$11*C15","v":0},{"$f":"$Y$11*C15","v":0},{"$f":"$Z$11*C15","v":0},{"$f":"$AA$11*C15","v":0},{"$f":"$AB$11*C15","v":0},{"$f":"$AC$11*C15","v":0},{"$f":"$AD$11*C15","v":0},{"$f":"$AE$11*C15","v":0},{"$f":"$AF$11*C15","v":0},{"$f":"$AG$11*C15","v":0},{"$f":"$AH$11*C15","v":0},{"$f":"$AI$11*C15","v":0},{"$f":"$AJ$11*C15","v":0},{"$f":"$AK$11*C15","v":0},{"$f":"$AL$11*C15","v":0},{"$f":"$AM$11*C15","v":0},{"$f":"$AN$11*C15","v":0},{"$f":"$AO$11*C15","v":0},{"$f":"$AP$11*C15","v":0},{"$f":"$AQ$11*C15","v":0}]
["Arsenic",7440382,1.5999999999999999E-5,0,0,0,0,0,0,0,0,0,0,0,0,0,0,0,0,0,0,0,0,0,0,0,0,{"$f":"$AB$11*C16","v":0},0,0,0,{"$f":"$AF$11*C16","v":0},{"$f":"$AG$11*C16","v":0},0,0,0,0,0,0,0,0,0,0]
["Barium",7440393,4.6899999999999996E-4,0,0,0,0,0,0,0,0,0,0,0,0,0,0,0,0,0,0,0,0,0,0,0,0,{"$f":"$AB$11*C17","v":0},0,0,0,0,0,0,0,0,0,0,0,0,0,0,0]
["Bromine",7726956,4.4000000000000006E-5,0,0,0,0,0,0,0,0,0,0,0,0,0,0,0,0,{"$f":"$T$11*C18","v":0},0,0,0,0,0,0,0,{"$f":"$AB$11*C18","v":0},0,0,0,0,0,0,0,0,0,0,0,0,0,0,0]
["Chromium ",7440473,1.4E-5,0,0,0,0,0,0,0,0,0,0,0,0,0,0,0,0,{"$f":"$T$11*C19","v":0},0,0,0,0,0,0,0,0,0,0,0,0,0,0,0,0,0,0,0,0,0,0,0]
["Copper",7440508,1.3200000000000001E-4,0,0,0,0,0,0,0,0,0,0,0,0,0,0,0,0,0,0,0,0,0,0,0,0,0,0,0,0,0,0,0,0,0,0,0,0,0,0,0,0]
["Hexavalent Chromium**",18540299,7.0000000000000007E-7,0,0,0,0,0,0,0,0,0,0,0,0,0,0,0,0,0,0,0,0,0,0,0,0,0,0,0,0,0,0,0,0,0,0,0,0,0,0,0,0]
["Lead",7439921,3.5000000000000004E-5,0,0,0,0,0,0,0,0,0,0,0,0,0,0,0,0,0,0,0,0,0,0,0,0,0,0,0,0,0,0,0,0,0,0,0,0,0,0,0,0]
["Manganese",7439965,7.5899999999999991E-4,0,0,0,0,0,0,0,0,0,0,0,0,0,0,0,0,0,0,0,0,0,0,0,0,0,0,0,0,0,0,0,0,0,0,0,0,0,0,0,{"$f":"$AQ$11*C23","v":0}]
["Mercury",7439976,3.9999999999999998E-6,0,0,0,0,0,0,0,0,0,0,0,0,0,0,0,0,0,0,0,0,0,0,0,0,0,0,0,0,0,0,0,0,0,0,0,0,0,0,0,0]
["Nickel",7440020,6.9999999999999999E-6,0,0,0,0,0,0,0,0,0,0,0,0,0,0,0,0,0,0,0,0,0,0,0,0,0,0,0,0,0,0,0,0,0,0,0,0,0,0,0,0]
["Phosphorus",7723140,4.0140000000000002E-2,0,0,0,0,0,0,0,0,0,0,0,0,0,0,0,0,0,0,0,0,0,0,0,0,0,0,0,0,0,0,0,0,0,0,0,0,0,0,0,0]
["Selenium",7782492,9.9999999999999995E-7,0,0,0,0,0,0,0,0,0,0,0,0,0,0,0,0,0,0,0,0,0,0,0,0,0,0,0,0,0,0,0,0,0,0,0,0,0,0,0,0]
["Sulfates",9960,7.2829999999999995E-3,0,0,0,0,0,0,0,0,0,0,0,0,0,0,0,0,0,0,0,0,0,0,0,0,0,0,0,0,0,0,0,0,0,0,0,0,0,0,0,0]
["Vanadium",7440622,3.0000000000000001E-5,0,0,0,0,0,0,0,0,0,0,0,0,0,0,0,0,0,0,0,0,0,0,0,0,0,0,0,0,0,0,0,0,0,0,0,0,0,0,0,0]
["Zinc",7440666,3.4200000000000002E-4,0,0,0,0,0,0,0,0,0,0,0,0,0,0,0,0,{"$f":"$T$11*C30","v":0},0,0,0,0,0,0,0,0,0,0,0,0,0,0,0,0,0,0,0,0,0,0,0]
["Ammonia",7664417,null,{"$f":"IF('Cow Housing'!G49>0, 'Cow Housing'!G49, 0)","v":0},{"$f":"IF('Cow Housing'!H49>0, 'Cow Housing'!H49, 0)","v":0},{"$f":"IF('Cow Housing'!G50>0, 'Cow Housing'!G50, 0)","v":0},{"$f":"IF('Cow Housing'!H50>0, 'Cow Housing'!H50, 0)","v":0},{"$f":"IF('Cow Housing'!G51>0, 'Cow Housing'!G51, 0)","v":0},{"$f":"IF('Cow Housing'!H51>0, 'Cow Housing'!H51, 0)","v":0},{"$f":"IF('Cow Housing'!G52>0, 'Cow Housing'!G52, 0)","v":0},{"$f":"IF('Cow Housing'!H52>0, 'Cow Housing'!H52, 0)","v":0},{"$f":"IF('Cow Housing'!G53>0, 'Cow Housing'!G53, 0)","v":0},{"$f":"IF('Cow Housing'!H53>0, 'Cow Housing'!H53, 0)","v":0},{"$f":"IF('Cow Housing'!G54>0, 'Cow Housing'!G54, 0)","v":0},{"$f":"IF('Cow Housing'!H54>0, 'Cow Housing'!H54, 0)","v":0},{"$f":"IF('Cow Housing'!G55>0, 'Cow Housing'!G55, 0)","v":0},{"$f":"IF('Cow Housing'!H55>0, 'Cow Housing'!H55, 0)","v":0},{"$f":"IF('Cow Housing'!G56>0, 'Cow Housing'!G56, 0)","v":0},{"$f":"IF('Cow Housing'!H56>0, 'Cow Housing'!H56, 0)","v":0},{"$f":"IF('Cow Housing'!G57>0, 'Cow Housing'!G57, 0)","v":0},{"$f":"IF('Cow Housing'!H57>0, 'Cow Housing'!H57, 0)","v":0},{"$f":"IF('Cow Housing'!G58>0, 'Cow Housing'!G58, 0)","v":0},{"$f":"IF('Cow Housing'!H58>0, 'Cow Housing'!H58, 0)","v":0},{"$f":"IF('Cow Housing'!G59>0, 'Cow Housing'!G59, 0)","v":0},{"$f":"IF('Cow Housing'!H59>0, 'Cow Housing'!H59, 0)","v":0},{"$f":"IF('Cow Housing'!G60>0, 'Cow Housing'!G60, 0)","v":0},{"$f":"IF('Cow Housing'!H60>0, 'Cow Housing'!H60, 0)","v":0},{"$f":"IF('Cow Housing'!$G61>0, 'Cow Housing'!$G61, 0)","v":0},{"$f":"IF('Cow Housing'!$H61>0, 'Cow Housing'!$H61, 0)","v":0},{"$f":"IF('Cow Housing'!$G62>0, 'Cow Housing'!$G62, 0)","v":0},{"$f":"IF('Cow Housing'!$H62>0, 'Cow Housing'!$H62, 0)","v":0},{"$f":"IF('Cow Housing'!$G63>0, 'Cow Housing'!$G63, 0)","v":0},{"$f":"IF('Cow Housing'!$H63>0, 'Cow Housing'!$H63, 0)","v":0},{"$f":"IF('Cow Housing'!$G64>0, 'Cow Housing'!$G64, 0)","v":0},{"$f":"IF('Cow Housing'!$H64>0, 'Cow Housing'!$H64, 0)","v":0},{"$f":"IF('Cow Housing'!$G65>0, 'Cow Housing'!$G65, 0)","v":0},{"$f":"IF('Cow Housing'!$H65>0, 'Cow Housing'!$H65, 0)","v":0},{"$f":"IF('Cow Housing'!$G66>0, 'Cow Housing'!$G66, 0)","v":0},{"$f":"IF('Cow Housing'!$H66>0, 'Cow Housing'!$H66, 0)","v":0},{"$f":"IF('Cow Housing'!$G67>0, 'Cow Housing'!$G67, 0)","v":0},{"$f":"IF('Cow Housing'!$H67>0, 'Cow Housing'!$H67, 0)","v":0},{"$f":"IF('Cow Housing'!$G68>0, 'Cow Housing'!$G68, 0)","v":0},{"$f":"IF('Cow Housing'!$H68>0, 'Cow Housing'!$H68, 0)","v":0}]
[]
["References:"]
["* Emission factors are derived from a worst case composite of 1997 San Joaquin Valley soil profiles listed in EPA's speciation program."]
["**Hexavalent chromium is assumed to be 5% of chromium."]
["Pollutants required for toxic reporting. Current as of update date."]
[]
["Compounds Tested for but not detected","CAS#"]
[]
[]
[]
["Cadmium",7440439]
["Cobalt",7440484]

{"sheet":"Livestock PM10 4","index":5,"n_rows":43,"n_cols":33,"rows_kept":43,"cut":false,"hidden":false,"merged":[[33,0,33,2],[34,0,34,2],[35,0,35,2],[37,0,40,0],[37,1,40,1],[11,11,12,11],[11,30,12,30],[11,31,12,31],[11,32,12,32],[11,24,12,24],[11,25,12,25],[11,26,12,26],[11,27,12,27],[11,28,12,28],[11,29,12,29],[11,18,12,18],[11,19,12,19],[11,20,12,20],[11,21,12,21],[11,22,12,22],[8,0,8,2],[9,0,9,2],[10,0,10,2],[11,0,12,0],[11,1,12,1],[11,2,12,2],[11,3,12,3],[11,4,12,4],[11,5,12,5],[7,5,8,6],[7,7,8,8],[7,3,8,4],[11,8,12,8],[7,9,8,10],[7,11,8,12],[11,6,12,6],[11,7,12,7],[7,29,8,30],[7,13,8,14],[7,15,8,16],[11,9,12,9],[11,10,12,10],[11,23,12,23],[11,12,12,12],[11,13,12,13],[11,14,12,14],[11,15,12,15],[11,16,12,16],[11,17,12,17],[7,31,8,32],[7,17,8,18],[7,19,8,20],[7,21,8,22],[7,23,8,24],[7,25,8,26],[7,27,8,28],[0,0,0,2],[1,0,1,2],[2,1,2,2],[3,1,3,2],[7,0,7,2]]}
["PM10 based Agricultural Emissions from Operations generating Dust from Livestock Soil "]
["Use this spreadsheet when the emissions are from a Feedlot Soil sources or Cow Housing and the PM10 rates are known (e.g. Dairy operations). Ammonia and PM10 Emission rates linked to Cow Housing worksheet. No entries required on this worksheet. Zero and null entries will be highlighted in red after entry."]
["Author or updater","Matthew Cegielski"]
["Last Update","2018-09-24"]
["Facility:",{"$f":"'Cow Housing'!C4","v":"Happy Cows"}]
["ID#:",{"$f":"'Cow Housing'!C5","v":"C-7777"}]
["Project #:",{"$f":"'Cow Housing'!C6","v":"C-3333"}]
["Formula",null,null,{"$f":"'Cow Housing'!$B$69","v":0},null,{"$f":"'Cow Housing'!$B$70","v":0},null,{"$f":"'Cow Housing'!$B$71","v":0},null,{"$f":"'Cow Housing'!$B$72","v":0},null,{"$f":"'Cow Housing'!$B$73","v":0},null,{"$f":"'Cow Housing'!$B$74","v":0},null,{"$f":"'Cow Housing'!$B$75","v":0},null,{"$f":"'Cow Housing'!$B$76","v":0},null,{"$f":"'Cow Housing'!$B$77","v":0},null,{"$f":"'Cow Housing'!$B$78","v":0},null,{"$f":"'Cow Housing'!$B$79","v":0},null,{"$f":"'Cow Housing'!$B$80","v":0},null,{"$f":"'Cow Housing'!$B$81","v":0},null,{"$f":"'Cow Housing'!$B$82","v":0},null,{"$f":"'Cow Housing'!$B$83","v":0}]
["Emission are calculated by the multiplication of the PM10 Rates and the Emission Factors."]
[null,null,null,"lb/hr","lb/yr","lb/hr","lb/yr","lb/hr","lb/yr","lb/hr","lb/yr","lb/hr","lb/yr","lb/hr","lb/yr","lb/hr","lb/yr","lb/hr","lb/yr","lb/hr","lb/yr","lb/hr","lb/yr","lb/hr","lb/yr","lb/hr","lb/yr","lb/hr","lb/yr","lb/hr","lb/yr","lb/hr","lb/yr"]
["PM10 Emissions Rates",null,null,{"$f":"IF('Cow Housing'!I69>0,'Cow Housing'!I69,0)","v":0},{"$f":"IF('Cow Housing'!J69>0,'Cow Housing'!J69,0)","v":0},{"$f":"IF('Cow Housing'!I70>0,'Cow Housing'!I70,0)","v":0},{"$f":"IF('Cow Housing'!J70>0,'Cow Housing'!J70,0)","v":0},{"$f":"IF('Cow Housing'!I71>0,'Cow Housing'!I71,0)","v":0},{"$f":"IF('Cow Housing'!J71>0,'Cow Housing'!J71,0)","v":0},{"$f":"IF('Cow Housing'!I72>0,'Cow Housing'!I72,0)","v":0},{"$f":"IF('Cow Housing'!J72>0,'Cow Housing'!J72,0)","v":0},{"$f":"IF('Cow Housing'!I73>0,'Cow Housing'!I73,0)","v":0},{"$f":"IF('Cow Housing'!J73>0,'Cow Housing'!J73,0)","v":0},{"$f":"IF('Cow Housing'!I74>0,'Cow Housing'!I74,0)","v":0},{"$f":"IF('Cow Housing'!J74>0,'Cow Housing'!J74,0)","v":0},{"$f":"IF('Cow Housing'!I75>0,'Cow Housing'!I75,0)","v":0},{"$f":"IF('Cow Housing'!J75>0,'Cow Housing'!J75,0)","v":0},{"$f":"IF('Cow Housing'!I76>0,'Cow Housing'!I76,0)","v":0},{"$f":"IF('Cow Housing'!J76>0,'Cow Housing'!J76,0)","v":0},{"$f":"IF('Cow Housing'!I77>0,'Cow Housing'!I77,0)","v":0},{"$f":"IF('Cow Housing'!J77>0,'Cow Housing'!J77,0)","v":0},{"$f":"IF('Cow Housing'!I78>0,'Cow Housing'!I78,0)","v":0},{"$f":"IF('Cow Housing'!J78>0,'Cow Housing'!J78,0)","v":0},{"$f":"IF('Cow Housing'!I79>0,'Cow Housing'!I79,0)","v":0},{"$f":"IF('Cow Housing'!J79>0,'Cow Housing'!J79,0)","v":0},{"$f":"IF('Cow Housing'!I80>0,'Cow Housing'!I80,0)","v":0},{"$f":"IF('Cow Housing'!J80>0,'Cow Housing'!J80,0)","v":0},{"$f":"IF('Cow Housing'!I81>0,'Cow Housing'!I81,0)","v":0},{"$f":"IF('Cow Housing'!J81>0,'Cow Housing'!J81,0)","v":0},{"$f":"IF('Cow Housing'!I82>0,'Cow Housing'!I82,0)","v":0},{"$f":"IF('Cow Housing'!J82>0,'Cow Housing'!J82,0)","v":0},{"$f":"IF('Cow Housing'!I83>0,'Cow Housing'!I83,0)","v":0},{"$f":"IF('Cow Housing'!J83>0,'Cow Housing'!J83,0)","v":0}]
["Substances","CAS#","  Dust*      lb/lb PM10","      LB/HR"," LB/YR","      LB/HR"," LB/YR","      LB/HR"," LB/YR","      LB/HR"," LB/YR","      LB/HR"," LB/YR","      LB/HR"," LB/YR","      LB/HR"," LB/YR","      LB/HR"," LB/YR","      LB/HR"," LB/YR","      LB/HR"," LB/YR","      LB/HR"," LB/YR","      LB/HR"," LB/YR","      LB/HR"," LB/YR","      LB/HR"," LB/YR","      LB/HR"," LB/YR"]
[]
["Aluminum",7429905,4.6614000000000003E-2,{"$f":"$D$11*C14","v":0},{"$f":"$E$11*C14","v":0},{"$f":"$F$11*C14","v":0},{"$f":"$G$11*C14","v":0},{"$f":"$H$11*C14","v":0},{"$f":"$I$11*C14","v":0},{"$f":"$J$11*C14","v":0},{"$f":"$K$11*C14","v":0},{"$f":"$L$11*C14","v":0},{"$f":"$M$11*C14","v":0},{"$f":"$N$11*C14","v":0},{"$f":"$O$11*C14","v":0},{"$f":"$P$11*C14","v":0},{"$f":"$Q$11*C14","v":0},{"$f":"$R$11*C14","v":0},{"$f":"$S$11*C14","v":0},{"$f":"$T$11*C14","v":0},{"$f":"$U$11*C14","v":0},{"$f":"$V$11*C14","v":0},{"$f":"$W$11*C14","v":0},{"$f":"$X$11*C14","v":0},{"$f":"$Y$11*C14","v":0},{"$f":"$Z$11*C14","v":0},{"$f":"$AA$11*C14","v":0},{"$f":"$AB$11*C14","v":0},{"$f":"$AC$11*C14","v":0},{"$f":"$AD$11*C14","v":0},{"$f":"$AE$11*C14","v":0},{"$f":"$AF$11*C14","v":0},{"$f":"$AG$11*C14","v":0}]
["Antimony",7440360,1.9000000000000001E-5,{"$f":"$D$11*C15","v":0},{"$f":"$E$11*C15","v":0},{"$f":"$F$11*C15","v":0},{"$f":"$G$11*C15","v":0},{"$f":"$H$11*C15","v":0},{"$f":"$I$11*C15","v":0},{"$f":"$J$11*C15","v":0},{"$f":"$K$11*C15","v":0},{"$f":"$L$11*C15","v":0},{"$f":"$M$11*C15","v":0},{"$f":"$N$11*C15","v":0},{"$f":"$O$11*C15","v":0},{"$f":"$P$11*C15","v":0},{"$f":"$Q$11*C15","v":0},{"$f":"$R$11*C15","v":0},{"$f":"$S$11*C15","v":0},{"$f":"$T$11*C15","v":0},{"$f":"$U$11*C15","v":0},{"$f":"$V$11*C15","v":0},{"$f":"$W$11*C15","v":0},{"$f":"$X$11*C15","v":0},{"$f":"$Y$11*C15","v":0},{"$f":"$Z$11*C15","v":0},{"$f":"$AA$11*C15","v":0},{"$f":"$AB$11*C15","v":0},{"$f":"$AC$11*C15","v":0},{"$f":"$AD$11*C15","v":0},{"$f":"$AE$11*C15","v":0},{"$f":"$AF$11*C15","v":0},{"$f":"$AG$11*C15","v":0}]
["Arsenic",7440382,1.5999999999999999E-5,0,0,0,0,0,0,0,0,0,0,0,0,0,0,0,0,0,0,0,0,0,0,0,0,{"$f":"$AB$11*C16","v":0},0,0,0,{"$f":"$AF$11*C16","v":0},{"$f":"$AG$11*C16","v":0}]
["Barium",7440393,4.6899999999999996E-4,0,0,0,0,0,0,0,0,0,0,0,0,0,0,0,0,0,0,0,0,0,0,0,0,{"$f":"$AB$11*C17","v":0},0,0,0,0,0]
["Bromine",7726956,4.4000000000000006E-5,0,0,0,0,0,0,0,0,0,0,0,0,0,0,0,0,{"$f":"$T$11*C18","v":0},0,0,0,0,0,0,0,{"$f":"$AB$11*C18","v":0},0,0,0,0,0]
["Chromium ",7440473,1.4E-5,0,0,0,0,0,0,0,0,0,0,0,0,0,0,0,0,{"$f":"$T$11*C19","v":0},0,0,0,0,0,0,0,0,0,0,0,0,0]
["Copper",7440508,1.3200000000000001E-4,0,0,0,0,0,0,0,0,0,0,0,0,0,0,0,0,0,0,0,0,0,0,0,0,0,0,0,0,0,0]
["Hexavalent Chromium**",18540299,7.0000000000000007E-7,0,0,0,0,0,0,0,0,0,0,0,0,0,0,0,0,0,0,0,0,0,0,0,0,0,0,0,0,0,0]
["Lead",7439921,3.5000000000000004E-5,0,0,0,0,0,0,0,0,0,0,0,0,0,0,0,0,0,0,0,0,0,0,0,0,0,0,0,0,0,0]
["Manganese",7439965,7.5899999999999991E-4,0,0,0,0,0,0,0,0,0,0,0,0,0,0,0,0,0,0,0,0,0,0,0,0,0,0,0,0,0,0]
["Mercury",7439976,3.9999999999999998E-6,0,0,0,0,0,0,0,0,0,0,0,0,0,0,0,0,0,0,0,0,0,0,0,0,0,0,0,0,0,0]
["Nickel",7440020,6.9999999999999999E-6,0,0,0,0,0,0,0,0,0,0,0,0,0,0,0,0,0,0,0,0,0,0,0,0,0,0,0,0,0,0]
["Phosphorus",7723140,4.0140000000000002E-2,0,0,0,0,0,0,0,0,0,0,0,0,0,0,0,0,0,0,0,0,0,0,0,0,0,0,0,0,0,0]
["Selenium",7782492,9.9999999999999995E-7,0,0,0,0,0,0,0,0,0,0,0,0,0,0,0,0,0,0,0,0,0,0,0,0,0,0,0,0,0,0]
["Sulfates",9960,7.2829999999999995E-3,0,0,0,0,0,0,0,0,0,0,0,0,0,0,0,0,0,0,0,0,0,0,0,0,0,0,0,0,0,0]
["Vanadium",7440622,3.0000000000000001E-5,0,0,0,0,0,0,0,0,0,0,0,0,0,0,0,0,0,0,0,0,0,0,0,0,0,0,0,0,0,0]
["Zinc",7440666,3.4200000000000002E-4,0,0,0,0,0,0,0,0,0,0,0,0,0,0,0,0,{"$f":"$T$11*C30","v":0},0,0,0,0,0,0,0,0,0,0,0,0,0]
["Ammonia",7664417,null,{"$f":"IF('Cow Housing'!G69>0, 'Cow Housing'!G69, 0)","v":0},{"$f":"IF('Cow Housing'!H69>0, 'Cow Housing'!H69, 0)","v":0},{"$f":"IF('Cow Housing'!G70>0, 'Cow Housing'!G70, 0)","v":0},{"$f":"IF('Cow Housing'!H70>0, 'Cow Housing'!H70, 0)","v":0},{"$f":"IF('Cow Housing'!G71>0, 'Cow Housing'!G71, 0)","v":0},{"$f":"IF('Cow Housing'!H71>0, 'Cow Housing'!H71, 0)","v":0},{"$f":"IF('Cow Housing'!G72>0, 'Cow Housing'!G72, 0)","v":0},{"$f":"IF('Cow Housing'!H72>0, 'Cow Housing'!H72, 0)","v":0},{"$f":"IF('Cow Housing'!G73>0, 'Cow Housing'!G73, 0)","v":0},{"$f":"IF('Cow Housing'!H73>0, 'Cow Housing'!H73, 0)","v":0},{"$f":"IF('Cow Housing'!G74>0, 'Cow Housing'!G74, 0)","v":0},{"$f":"IF('Cow Housing'!H74>0, 'Cow Housing'!H74, 0)","v":0},{"$f":"IF('Cow Housing'!G75>0, 'Cow Housing'!G75, 0)","v":0},{"$f":"IF('Cow Housing'!H75>0, 'Cow Housing'!H75, 0)","v":0},{"$f":"IF('Cow Housing'!G76>0, 'Cow Housing'!G76, 0)","v":0},{"$f":"IF('Cow Housing'!H76>0, 'Cow Housing'!H76, 0)","v":0},{"$f":"IF('Cow Housing'!G77>0, 'Cow Housing'!G77, 0)","v":0},{"$f":"IF('Cow Housing'!H77>0, 'Cow Housing'!H77, 0)","v":0},{"$f":"IF('Cow Housing'!G78>0, 'Cow Housing'!G78, 0)","v":0},{"$f":"IF('Cow Housing'!H78>0, 'Cow Housing'!H78, 0)","v":0},{"$f":"IF('Cow Housing'!G79>0, 'Cow Housing'!G79, 0)","v":0},{"$f":"IF('Cow Housing'!H79>0, 'Cow Housing'!H79, 0)","v":0},{"$f":"IF('Cow Housing'!G80>0, 'Cow Housing'!G80, 0)","v":0},{"$f":"IF('Cow Housing'!H80>0, 'Cow Housing'!H80, 0)","v":0},{"$f":"IF('Cow Housing'!$G81>0, 'Cow Housing'!$G81, 0)","v":0},{"$f":"IF('Cow Housing'!$H81>0, 'Cow Housing'!$H81, 0)","v":0},{"$f":"IF('Cow Housing'!$G82>0, 'Cow Housing'!$G82, 0)","v":0},{"$f":"IF('Cow Housing'!$H82>0, 'Cow Housing'!$H82, 0)","v":0},{"$f":"IF('Cow Housing'!$G83>0, 'Cow Housing'!$G83, 0)","v":0},{"$f":"IF('Cow Housing'!$H83>0, 'Cow Housing'!$H83, 0)","v":0}]
[]
["References:"]
["* Emission factors are derived from a worst case composite of 1997 San Joaquin Valley soil profiles listed in EPA's speciation program."]
["**Hexavalent chromium is assumed to be 5% of chromium."]
["Pollutants required for toxic reporting. Current as of update date."]
[]
["Compounds Tested for but not detected","CAS#"]
[]
[]
[]
["Cadmium",7440439]
["Cobalt",7440484]

{"sheet":"Dairy Miscellaneous","index":6,"n_rows":56,"n_cols":43,"rows_kept":56,"cut":false,"hidden":false,"merged":[[54,0,54,2],[55,0,55,2],[3,1,3,2],[0,0,0,2],[1,0,1,2],[52,0,52,2],[53,0,53,2],[8,0,8,2],[2,1,2,2],[7,0,7,2],[11,41,13,41],[11,42,13,42],[11,35,13,35],[11,36,13,36],[11,37,13,37],[11,38,13,38],[11,39,13,39],[11,40,13,40],[11,34,13,34],[11,23,13,23],[11,24,13,24],[11,25,13,25],[11,26,13,26],[11,27,13,27],[11,28,13,28],[11,29,13,29],[11,30,13,30],[11,31,13,31],[11,32,13,32],[11,33,13,33],[11,22,13,22],[11,11,13,11],[11,12,13,12],[11,13,13,13],[11,14,13,14],[11,15,13,15],[11,16,13,16],[11,17,13,17],[11,18,13,18],[11,19,13,19],[11,20,13,20],[11,21,13,21],[11,10,13,10],[10,0,10,2],[11,0,13,0],[11,1,13,1],[11,2,13,2],[11,3,13,3],[11,4,13,4],[11,5,13,5],[11,6,13,6],[11,7,13,7],[11,8,13,8],[11,9,13,9],[7,41,8,42],[7,29,8,30],[7,31,8,32],[7,33,8,34],[7,35,8,36],[7,37,8,38],[7,39,8,40],[7,3,8,4],[7,27,8,28],[7,5,8,6],[7,7,8,8],[7,9,8,10],[7,11,8,12],[7,13,8,14],[7,15,8,16],[7,17,8,18],[7,19,8,20],[7,21,8,22],[7,23,8,24],[7,25,8,26]]}
["Agricultural Miscellaneous Emissions from Dairy Operations (Cow Housing)  "]
["Use this spreadsheet to characterize the miscellanous emissions from Dairy sources when VOC rates are known. VOC emission rates linked to Cow Housing worksheet. No entries required on this worksheet. Zero and null entries will be highlighted in red after entry."]
["Author or updater","Matthew Cegielski"]
["Last Update","2025-09-29"]
["Facility:",{"$f":"'Cow Housing'!C4","v":"Happy Cows"}]
["ID#:",{"$f":"'Cow Housing'!C5","v":"C-7777"}]
["Project #:",{"$f":"'Cow Housing'!C6","v":"C-3333"}]
["Formula ",null,null,{"$f":"'Cow Housing'!$B$9","v":0},null,{"$f":"'Cow Housing'!$B$10","v":0},null,{"$f":"'Cow Housing'!$B$11","v":0},null,{"$f":"'Cow Housing'!$B$12","v":0},null,{"$f":"'Cow Housing'!$B$13","v":0},null,{"$f":"'Cow Housing'!$B$14","v":0},null,{"$f":"'Cow Housing'!$B$15","v":0},null,{"$f":"'Cow Housing'!$B$16","v":0},null,{"$f":"'Cow Housing'!$B$17","v":0},null,{"$f":"'Cow Housing'!$B$18","v":0},null,{"$f":"'Cow Housing'!$B$19","v":0},null,{"$f":"'Cow Housing'!$B$20","v":0},null,{"$f":"'Cow Housing'!$B$21","v":0},null,{"$f":"'Cow Housing'!$B$22","v":0},null,{"$f":"'Cow Housing'!$B$23","v":0},null,{"$f":"'Cow Housing'!$B$24","v":0},null,{"$f":"'Cow Housing'!$B$25","v":0},null,{"$f":"'Cow Housing'!$B$26","v":0},null,{"$f":"'Cow Housing'!$B$27","v":0},null,{"$f":"'Cow Housing'!$B$28","v":0}]
["Emissions are calculated by the multiplication of the VOC Rates, and Emission Factors. "]
[null,null,null,"lb/hr","lb/yr","lb/hr","lb/yr","lb/hr","lb/yr","lb/hr","lb/yr","lb/hr","lb/yr","lb/hr","lb/yr","lb/hr","lb/yr","lb/hr","lb/yr","lb/hr","lb/yr","lb/hr","lb/yr","lb/hr","lb/yr","lb/hr","lb/yr","lb/hr","lb/yr","lb/hr","lb/yr","lb/hr","lb/yr","lb/hr","lb/yr","lb/hr","lb/yr","lb/hr","lb/yr","lb/hr","lb/yr","lb/hr","lb/yr"]
["VOC Emission Rates",null,null,{"$f":"IF('Cow Housing'!E9>0,'Cow Housing'!E9,0)","v":0},{"$f":"IF('Cow Housing'!F9>0,'Cow Housing'!F9,0)","v":0},{"$f":"IF('Cow Housing'!E10>0,'Cow Housing'!E10,0)","v":0},{"$f":"IF('Cow Housing'!F10>0,'Cow Housing'!F10,0)","v":0},{"$f":"IF('Cow Housing'!E11>0,'Cow Housing'!E11,0)","v":0},{"$f":"IF('Cow Housing'!F11>0,'Cow Housing'!F11,0)","v":0},{"$f":"IF('Cow Housing'!E12>0,'Cow Housing'!E12,0)","v":0},{"$f":"IF('Cow Housing'!F12>0,'Cow Housing'!F12,0)","v":0},{"$f":"IF('Cow Housing'!E13>0,'Cow Housing'!E13,0)","v":0},{"$f":"IF('Cow Housing'!F13>0,'Cow Housing'!F13,0)","v":0},{"$f":"IF('Cow Housing'!E14>0,'Cow Housing'!E14,0)","v":0},{"$f":"IF('Cow Housing'!F14>0,'Cow Housing'!F14,0)","v":0},{"$f":"IF('Cow Housing'!E15>0,'Cow Housing'!E15,0)","v":0},{"$f":"IF('Cow Housing'!F15>0,'Cow Housing'!F15,0)","v":0},{"$f":"IF('Cow Housing'!E16>0,'Cow Housing'!E16,0)","v":0},{"$f":"IF('Cow Housing'!F16>0,'Cow Housing'!F16,0)","v":0},{"$f":"IF('Cow Housing'!E17>0,'Cow Housing'!E17,0)","v":0},{"$f":"IF('Cow Housing'!F17>0,'Cow Housing'!F17,0)","v":0},{"$f":"IF('Cow Housing'!E18>0,'Cow Housing'!E18,0)","v":0},{"$f":"IF('Cow Housing'!F18>0,'Cow Housing'!F18,0)","v":0},{"$f":"IF('Cow Housing'!E19>0,'Cow Housing'!E19,0)","v":0},{"$f":"IF('Cow Housing'!F19>0,'Cow Housing'!F19,0)","v":0},{"$f":"IF('Cow Housing'!E20>0,'Cow Housing'!E20,0)","v":0},{"$f":"IF('Cow Housing'!F20>0,'Cow Housing'!F20,0)","v":0},{"$f":"IF('Cow Housing'!E21>0,'Cow Housing'!E21,0)","v":0},{"$f":"IF('Cow Housing'!F21>0,'Cow Housing'!F21,0)","v":0},{"$f":"IF('Cow Housing'!E22>0,'Cow Housing'!E22,0)","v":0},{"$f":"IF('Cow Housing'!F22>0,'Cow Housing'!F22,0)","v":0},{"$f":"IF('Cow Housing'!E23>0,'Cow Housing'!E23,0)","v":0},{"$f":"IF('Cow Housing'!F23>0,'Cow Housing'!F23,0)","v":0},{"$f":"IF('Cow Housing'!E24>0,'Cow Housing'!E24,0)","v":0},{"$f":"IF('Cow Housing'!F24>0,'Cow Housing'!F24,0)","v":0},{"$f":"IF('Cow Housing'!E25>0,'Cow Housing'!E25,0)","v":0},{"$f":"IF('Cow Housing'!F25>0,'Cow Housing'!F25,0)","v":0},{"$f":"IF('Cow Housing'!E26>0,'Cow Housing'!E26,0)","v":0},{"$f":"IF('Cow Housing'!F26>0,'Cow Housing'!F26,0)","v":0},{"$f":"IF('Cow Housing'!E27>0,'Cow Housing'!E27,0)","v":0},{"$f":"IF('Cow Housing'!F27>0,'Cow Housing'!F27,0)","v":0},{"$f":"IF('Cow Housing'!E28>0,'Cow Housing'!E28,0)","v":0},{"$f":"IF('Cow Housing'!F28>0,'Cow Housing'!F28,0)","v":0}]
["Substances","CAS#"," Volatiles (lb/lb VOC)*","LB/HR","LB/YR","LB/HR","LB/YR","LB/HR","LB/YR","LB/HR","LB/YR","LB/HR","LB/YR","LB/HR","LB/YR","LB/HR","LB/YR","LB/HR","LB/YR","LB/HR","LB/YR","LB/HR","LB/YR","LB/HR","LB/YR","LB/HR","LB/YR","LB/HR","LB/YR","LB/HR","LB/YR","LB/HR","LB/YR","LB/HR","LB/YR","LB/HR","LB/YR","LB/HR","LB/YR","LB/HR","LB/YR","LB/HR","LB/YR"]
[]
[]
["1,1,2,2-Tetrachloroethane",79345,8.7299999999999994E-6,{"$f":"$D$11*C15","v":0},{"$f":"$E$11*C15","v":0},{"$f":"$F$11*C15","v":0},{"$f":"$G$11*C15","v":0},{"$f":"$H$11*C15","v":0},{"$f":"$I$11*C15","v":0},{"$f":"$J$11*C15","v":0},{"$f":"$K$11*C15","v":0},{"$f":"$L$11*C15","v":0},{"$f":"$M$11*C15","v":0},{"$f":"$N$11*C15","v":0},{"$f":"$O$11*C15","v":0},{"$f":"$P$11*C15","v":0},{"$f":"$Q$11*C15","v":0},{"$f":"$R$11*C15","v":0},{"$f":"$S$11*C15","v":0},{"$f":"$T$11*C15","v":0},{"$f":"$U$11*C15","v":0},{"$f":"$V$11*C15","v":0},{"$f":"$W$11*C15","v":0},{"$f":"$X$11*C15","v":0},{"$f":"$Y$11*C15","v":0},{"$f":"$Z$11*C15","v":0},{"$f":"$AA$11*C15","v":0},{"$f":"$AB$11*C15","v":0},{"$f":"$AC$11*C15","v":0},{"$f":"$AD$11*C15","v":0},{"$f":"$AE$11*C15","v":0},{"$f":"$AF$11*C15","v":0},{"$f":"$AG$11*C15","v":0},{"$f":"$AH$11*C15","v":0},{"$f":"$AI$11*C15","v":0},{"$f":"$AJ$11*C15","v":0},{"$f":"$AK$11*C15","v":0},{"$f":"$AL$11*C15","v":0},{"$f":"$AM$11*C15","v":0},{"$f":"$AN$11*C15","v":0},{"$f":"$AO$11*C15","v":0},{"$f":"$AP$11*C15","v":0},{"$f":"$AQ$11*C15","v":0}]
["1,1,2-Trichloroethane",79005,2.2599999999999999E-4,{"$f":"$D$11*C16","v":0},{"$f":"$E$11*C16","v":0},{"$f":"$F$11*C16","v":0},{"$f":"$G$11*C16","v":0},{"$f":"$H$11*C16","v":0},{"$f":"$I$11*C16","v":0},{"$f":"$J$11*C16","v":0},{"$f":"$K$11*C16","v":0},{"$f":"$L$11*C16","v":0},{"$f":"$M$11*C16","v":0},{"$f":"$N$11*C16","v":0},{"$f":"$O$11*C16","v":0},{"$f":"$P$11*C16","v":0},{"$f":"$Q$11*C16","v":0},{"$f":"$R$11*C16","v":0},{"$f":"$S$11*C16","v":0},{"$f":"$T$11*C16","v":0},{"$f":"$U$11*C16","v":0},{"$f":"$V$11*C16","v":0},{"$f":"$W$11*C16","v":0},{"$f":"$X$11*C16","v":0},{"$f":"$Y$11*C16","v":0},{"$f":"$Z$11*C16","v":0},{"$f":"$AA$11*C16","v":0},{"$f":"$AB$11*C16","v":0},{"$f":"$AC$11*C16","v":0},{"$f":"$AD$11*C16","v":0},{"$f":"$AE$11*C16","v":0},{"$f":"$AF$11*C16","v":0},{"$f":"$AG$11*C16","v":0},{"$f":"$AH$11*C16","v":0},{"$f":"$AI$11*C16","v":0},{"$f":"$AJ$11*C16","v":0},{"$f":"$AK$11*C16","v":0},{"$f":"$AL$11*C16","v":0},{"$f":"$AM$11*C16","v":0},{"$f":"$AN$11*C16","v":0},{"$f":"$AO$11*C16","v":0},{"$f":"$AP$11*C16","v":0},{"$f":"$AQ$11*C16","v":0}]
["1,2,3-Trichloropropane",96184,2.7599999999999999E-4,0,0,0,0,0,0,0,0,0,0,0,0,0,0,0,0,0,0,0,0,0,0,0,0,0,0,0,0,0,0,{"$f":"$AH$11*C17","v":0},{"$f":"$AI$11*C17","v":0},0,0,0,0,0,0,0,0]
["1,2,4-Trichlorobenzene",120821,7.7899999999999996E-4,0,0,0,0,0,0,0,0,0,0,0,0,0,0,0,0,0,0,0,0,0,0,0,0,0,0,0,0,0,0,0,0,0,0,0,0,0,0,0,0]
["1,2-Dibromo-3-chloropropane",96128,4.9400000000000001E-5,0,0,0,0,0,0,0,0,0,0,0,0,0,0,0,0,0,0,0,0,0,0,0,0,0,0,0,0,0,0,0,0,0,0,0,0,0,0,0,0]
["1,2-Dichlorobenzene",95501,5.4799999999999998E-4,0,0,0,0,0,0,0,0,0,0,0,0,0,0,0,0,0,0,0,0,0,0,0,0,0,0,0,0,0,0,0,0,0,0,0,0,0,0,0,0]
["1,3-Dichlorobenzene",541731,4.8999999999999998E-4,0,0,0,0,0,0,0,0,0,0,0,0,0,0,0,0,0,0,0,0,0,0,0,0,0,0,0,0,0,0,0,0,0,0,0,0,0,0,0,0]
["1,4 Dioxane",123911,1.41E-3,0,0,0,0,0,0,0,0,0,0,0,0,0,0,0,0,0,0,0,0,0,0,0,0,0,0,0,0,0,0,0,0,0,0,0,0,0,0,0,0]
["1,4-Dichlorobenzene",106467,5.1900000000000004E-4,0,0,0,0,0,0,0,0,0,0,0,0,0,0,0,0,0,0,0,0,0,0,0,0,0,0,0,0,0,0,0,0,0,0,0,0,0,0,0,0]
["Acetaldehyde",75070,2.4099999999999998E-3,0,0,0,0,0,0,0,0,0,0,0,0,0,0,0,0,0,0,0,0,0,0,0,0,0,0,0,0,0,0,0,0,0,0,0,0,0,0,0,0]
["Acrylonitrile",107131,2.43E-4,0,0,0,0,0,0,0,0,0,0,0,0,0,0,0,0,0,0,0,0,0,0,0,0,0,0,0,0,0,0,0,0,0,0,0,0,0,0,0,0]
["Benzene",71432,3.19E-4,0,0,0,0,0,0,0,0,0,0,0,0,0,0,0,0,0,0,0,0,0,0,0,0,0,0,0,0,0,0,0,0,0,0,0,0,0,0,0,0]
["Benzyl chloride",100447,2.8899999999999998E-4,0,0,0,0,0,0,0,0,0,0,0,0,0,0,0,0,0,0,0,0,0,0,0,0,0,0,0,0,0,0,0,0,0,0,0,0,0,0,0,0]
["Butyraldehyde",123728,1.1400000000000001E-4,0,0,0,0,0,0,0,0,0,0,0,0,0,0,0,0,0,0,0,0,0,0,0,0,0,0,0,0,0,0,0,0,0,0,0,0,0,0,0,0]
["Carbon Disulfide",75150,2.49E-3,0,0,0,0,0,0,0,0,0,0,0,0,0,0,0,0,0,0,0,0,0,0,0,0,0,0,0,0,0,0,0,0,0,0,0,0,0,0,0,0]
["Carbon tetrachloride",56235,5.8699999999999997E-5,0,0,0,0,0,0,0,0,0,0,0,0,0,0,0,0,0,0,0,0,0,0,0,0,0,0,0,0,0,0,0,0,0,0,0,0,0,0,0,0]
["Chlorobenzene",108907,2.72E-4,0,0,0,0,0,0,0,0,0,0,0,0,0,0,0,0,0,0,0,0,0,0,0,0,0,0,0,0,0,0,0,0,0,0,0,0,0,0,0,0]
["Chloroform",67663,1.3100000000000001E-4,0,0,0,0,0,0,0,0,0,0,0,0,0,0,0,0,0,0,0,0,0,0,0,0,0,0,0,0,0,0,0,0,0,0,0,0,0,0,0,0]
["Chloromethane",74873,7.9299999999999998E-4,0,0,0,0,0,0,0,0,0,0,0,0,0,0,0,0,0,0,0,0,0,0,0,0,0,0,0,0,0,0,0,0,0,0,0,0,0,0,0,0]
["Crotonaldehyde",4170303,1.4100000000000001E-4,0,0,0,0,0,0,0,0,0,0,0,0,0,0,0,0,0,0,0,0,0,0,0,0,0,0,0,0,0,0,0,0,0,0,0,0,0,0,0,0]
["Cyclohexane",110827,6.8300000000000001E-3,0,0,0,0,0,0,0,0,0,0,0,0,0,0,0,0,0,0,0,0,0,0,0,0,0,0,0,0,0,0,0,0,0,0,0,0,0,0,0,0]
["Ethyl Chloride",75003,2.3900000000000001E-4,0,0,0,0,0,0,0,0,0,0,0,0,0,0,0,0,0,0,0,0,0,0,0,0,0,0,0,0,0,0,0,0,0,0,0,0,0,0,0,0]
["Ethylbenzene",100414,3.4699999999999998E-4,0,0,0,0,0,0,0,0,0,0,0,0,0,0,0,0,0,0,0,0,0,0,0,0,0,0,0,0,0,0,0,0,0,0,0,0,0,0,0,0]
["Ethylene Dibromide (EDB)",106934,3.0600000000000001E-4,0,0,0,0,0,0,0,0,0,0,0,0,0,0,0,0,0,0,0,0,0,0,0,0,0,0,0,0,0,0,0,0,0,0,0,0,0,0,0,0]
["Ethylene Dichloride (EDC)",107062,5.8900000000000002E-5,0,0,0,0,0,0,0,0,0,0,0,0,0,0,0,0,0,0,0,0,0,0,0,0,0,0,0,0,0,0,0,0,0,0,0,0,0,0,0,0]
["Formaldehyde",50000,3.9800000000000002E-4,0,0,0,0,0,0,0,0,0,0,0,0,0,0,0,0,0,0,0,0,0,0,0,0,0,0,0,0,0,0,0,0,0,0,0,0,0,0,0,0]
["Hexane",110543,8.12E-4,0,0,0,0,0,0,0,0,0,0,0,0,0,0,0,0,0,0,0,0,0,0,0,0,0,0,0,0,0,0,0,0,0,0,0,0,0,0,0,0]
["Isopropyl Alchol",67630,1.6199999999999999E-3,0,0,0,0,0,0,0,0,0,0,0,0,0,0,0,0,0,0,0,0,0,0,0,0,0,0,0,0,0,0,0,0,0,0,0,0,0,0,0,0]
["Isopropylbenzene (Cumene)",98828,5.6100000000000002E-5,0,0,0,0,0,0,0,0,0,0,0,0,0,0,0,0,0,0,0,0,0,0,0,0,0,0,0,0,0,0,0,0,0,0,0,0,0,0,0,0]
["Methyl Ethyl Ketone (2-butanone)",78933,1.46E-2,0,0,0,0,0,0,0,0,0,0,0,0,0,0,0,0,0,0,0,0,0,0,0,0,0,0,0,0,0,0,0,0,0,0,0,0,0,0,0,0]
["Methyl Isobutyl Ketone",108101,7.0899999999999999E-4,0,0,0,0,0,0,0,0,0,0,0,0,0,0,0,0,0,0,0,0,0,0,0,0,0,0,0,0,0,0,0,0,0,0,0,0,0,0,0,0]
["Styrene",100425,3.59E-4,0,0,0,0,0,0,0,0,0,0,0,0,0,0,0,0,0,0,0,0,0,0,0,0,0,0,0,0,0,0,0,0,0,0,0,0,0,0,0,0]
["t-1,4-Dichloro-2-butene",764410,8.92E-4,0,0,0,0,0,0,0,0,0,0,0,0,0,0,0,0,0,0,0,0,0,0,0,0,0,0,0,0,0,0,0,0,0,0,0,0,0,0,0,0]
["Toluene",108883,1.07E-3,0,0,0,0,0,0,0,0,0,0,0,0,0,0,0,0,0,0,0,0,0,0,0,0,0,0,0,0,0,0,0,0,0,0,0,0,0,0,0,0]
["Trichlorofluoromethane*",75694,1.08E-7,0,0,0,0,0,0,0,0,0,0,0,0,0,0,0,0,0,0,0,0,0,0,0,0,0,0,0,0,0,0,0,0,0,0,0,0,0,0,0,0]
["Vinyl acetate",108054,1.97E-3,0,0,0,0,0,0,0,0,0,0,0,0,0,0,0,0,0,0,0,0,0,0,0,0,0,0,0,0,0,0,0,0,0,0,0,0,0,0,0,0]
["Xylenes",1330207,1.8E-3,0,0,0,0,0,0,0,0,0,0,0,0,0,0,0,0,0,0,0,0,0,0,0,0,0,0,0,0,0,0,0,0,0,0,0,0,0,0,0,0]
[]
["References:"]
["*Emission factors are derived from the District's evaluation of dairy research studies conducted by California colleges and universities."]
["Pollutants required for toxic reporting. Current as of update date."]
["(Does not include emissions from Lagoons or enteric emissions from cows)"]

{"sheet":"Dairy Miscellaneous 2","index":7,"n_rows":57,"n_cols":43,"rows_kept":57,"cut":false,"hidden":false,"merged":[[53,0,53,2],[54,0,54,2],[55,0,55,2],[56,0,56,2],[11,37,13,37],[11,31,13,31],[11,32,13,32],[11,33,13,33],[11,34,13,34],[11,35,13,35],[11,36,13,36],[11,25,13,25],[11,26,13,26],[11,27,13,27],[11,28,13,28],[11,29,13,29],[11,38,13,38],[11,39,13,39],[11,40,13,40],[11,41,13,41],[11,42,13,42],[11,30,13,30],[11,19,13,19],[11,20,13,20],[11,21,13,21],[11,22,13,22],[11,23,13,23],[11,24,13,24],[11,18,13,18],[11,7,13,7],[11,8,13,8],[11,9,13,9],[11,10,13,10],[11,11,13,11],[11,12,13,12],[11,13,13,13],[11,14,13,14],[11,15,13,15],[11,16,13,16],[11,17,13,17],[11,3,13,3],[11,4,13,4],[11,5,13,5],[11,6,13,6],[10,0,10,2],[11,0,13,0],[11,1,13,1],[11,2,13,2],[7,37,8,38],[7,39,8,40],[7,41,8,42],[8,0,8,2],[7,25,8,26],[7,27,8,28],[7,29,8,30],[7,31,8,32],[7,33,8,34],[7,35,8,36],[7,13,8,14],[7,15,8,16],[7,17,8,18],[7,19,8,20],[7,21,8,22],[7,23,8,24],[7,3,8,4],[7,5,8,6],[7,7,8,8],[7,9,8,10],[7,11,8,12],[0,0,0,2],[1,0,1,2],[2,1,2,2],[3,1,3,2],[7,0,7,2]]}
["Agricultural Miscellaneous Emissions from Dairy Operations (Cow Housing)  "]
["Use this spreadsheet to characterize the miscellanous emissions from Dairy sources when VOC rates are known. VOC emission rates linked to Cow Housing worksheet. No entries required on this worksheet. Zero and null entries will be highlighted in red after entry."]
["Author or updater","Matthew Cegielski"]
["Last Update","2025-09-29"]
["Facility:",{"$f":"'Cow Housing'!C4","v":"Happy Cows"}]
["ID#:",{"$f":"'Cow Housing'!C5","v":"C-7777"}]
["Project #:",{"$f":"'Cow Housing'!C6","v":"C-3333"}]
["Formula ",null,null,{"$f":"'Cow Housing'!$B$29","v":0},null,{"$f":"'Cow Housing'!$B$30","v":0},null,{"$f":"'Cow Housing'!$B$31","v":0},null,{"$f":"'Cow Housing'!$B$32","v":0},null,{"$f":"'Cow Housing'!$B$33","v":0},null,{"$f":"'Cow Housing'!$B$34","v":0},null,{"$f":"'Cow Housing'!$B$35","v":0},null,{"$f":"'Cow Housing'!$B$36","v":0},null,{"$f":"'Cow Housing'!$B$37","v":0},null,{"$f":"'Cow Housing'!$B$38","v":0},null,{"$f":"'Cow Housing'!$B$39","v":0},null,{"$f":"'Cow Housing'!$B$40","v":0},null,{"$f":"'Cow Housing'!$B$41","v":0},null,{"$f":"'Cow Housing'!$B$42","v":0},null,{"$f":"'Cow Housing'!$B$43","v":0},null,{"$f":"'Cow Housing'!$B$44","v":0},null,{"$f":"'Cow Housing'!$B$45","v":0},null,{"$f":"'Cow Housing'!$B$46","v":0},null,{"$f":"'Cow Housing'!$B$47","v":0},null,{"$f":"'Cow Housing'!$B$48","v":0}]
["Emissions are calculated by the multiplication of the VOC Rates, and Emission Factors. "]
[null,null,null,"lb/hr","lb/yr","lb/hr","lb/yr","lb/hr","lb/yr","lb/hr","lb/yr","lb/hr","lb/yr","lb/hr","lb/yr","lb/hr","lb/yr","lb/hr","lb/yr","lb/hr","lb/yr","lb/hr","lb/yr","lb/hr","lb/yr","lb/hr","lb/yr","lb/hr","lb/yr","lb/hr","lb/yr","lb/hr","lb/yr","lb/hr","lb/yr","lb/hr","lb/yr","lb/hr","lb/yr","lb/hr","lb/yr","lb/hr","lb/yr"]
["VOC Emission Rates",null,null,{"$f":"IF('Cow Housing'!E29>0,'Cow Housing'!E29,0)","v":0},{"$f":"IF('Cow Housing'!F29>0,'Cow Housing'!F29,0)","v":0},{"$f":"IF('Cow Housing'!E30>0,'Cow Housing'!E30,0)","v":0},{"$f":"IF('Cow Housing'!F30>0,'Cow Housing'!F30,0)","v":0},{"$f":"IF('Cow Housing'!E31>0,'Cow Housing'!E31,0)","v":0},{"$f":"IF('Cow Housing'!F31>0,'Cow Housing'!F31,0)","v":0},{"$f":"IF('Cow Housing'!E32>0,'Cow Housing'!E32,0)","v":0},{"$f":"IF('Cow Housing'!F32>0,'Cow Housing'!F32,0)","v":0},{"$f":"IF('Cow Housing'!E33>0,'Cow Housing'!E33,0)","v":0},{"$f":"IF('Cow Housing'!F33>0,'Cow Housing'!F33,0)","v":0},{"$f":"IF('Cow Housing'!E34>0,'Cow Housing'!E34,0)","v":0},{"$f":"IF('Cow Housing'!F34>0,'Cow Housing'!F34,0)","v":0},{"$f":"IF('Cow Housing'!E35>0,'Cow Housing'!E35,0)","v":0},{"$f":"IF('Cow Housing'!F35>0,'Cow Housing'!F35,0)","v":0},{"$f":"IF('Cow Housing'!E36>0,'Cow Housing'!E36,0)","v":0},{"$f":"IF('Cow Housing'!F36>0,'Cow Housing'!F36,0)","v":0},{"$f":"IF('Cow Housing'!E37>0,'Cow Housing'!E37,0)","v":0},{"$f":"IF('Cow Housing'!F37>0,'Cow Housing'!F37,0)","v":0},{"$f":"IF('Cow Housing'!E38>0,'Cow Housing'!E38,0)","v":0},{"$f":"IF('Cow Housing'!F38>0,'Cow Housing'!F38,0)","v":0},{"$f":"IF('Cow Housing'!E39>0,'Cow Housing'!E39,0)","v":0},{"$f":"IF('Cow Housing'!F39>0,'Cow Housing'!F39,0)","v":0},{"$f":"IF('Cow Housing'!E40>0,'Cow Housing'!E40,0)","v":0},{"$f":"IF('Cow Housing'!F40>0,'Cow Housing'!F40,0)","v":0},{"$f":"IF('Cow Housing'!E41>0,'Cow Housing'!E41,0)","v":0},{"$f":"IF('Cow Housing'!F41>0,'Cow Housing'!F41,0)","v":0},{"$f":"IF('Cow Housing'!E42>0,'Cow Housing'!E42,0)","v":0},{"$f":"IF('Cow Housing'!F42>0,'Cow Housing'!F42,0)","v":0},{"$f":"IF('Cow Housing'!E43>0,'Cow Housing'!E43,0)","v":0},{"$f":"IF('Cow Housing'!F43>0,'Cow Housing'!F43,0)","v":0},{"$f":"IF('Cow Housing'!E44>0,'Cow Housing'!E44,0)","v":0},{"$f":"IF('Cow Housing'!F44>0,'Cow Housing'!F44,0)","v":0},{"$f":"IF('Cow Housing'!E45>0,'Cow Housing'!E45,0)","v":0},{"$f":"IF('Cow Housing'!F45>0,'Cow Housing'!F45,0)","v":0},{"$f":"IF('Cow Housing'!E46>0,'Cow Housing'!E46,0)","v":0},{"$f":"IF('Cow Housing'!F46>0,'Cow Housing'!F46,0)","v":0},{"$f":"IF('Cow Housing'!E47>0,'Cow Housing'!E47,0)","v":0},{"$f":"IF('Cow Housing'!F47>0,'Cow Housing'!F47,0)","v":0},{"$f":"IF('Cow Housing'!E48>0,'Cow Housing'!E48,0)","v":0},{"$f":"IF('Cow Housing'!F48>0,'Cow Housing'!F48,0)","v":0}]
["Substances","CAS#"," Volatiles (lb/lb VOC)*","LB/HR","LB/YR","LB/HR","LB/YR","LB/HR","LB/YR","LB/HR","LB/YR","LB/HR","LB/YR","LB/HR","LB/YR","LB/HR","LB/YR","LB/HR","LB/YR","LB/HR","LB/YR","LB/HR","LB/YR","LB/HR","LB/YR","LB/HR","LB/YR","LB/HR","LB/YR","LB/HR","LB/YR","LB/HR","LB/YR","LB/HR","LB/YR","LB/HR","LB/YR","LB/HR","LB/YR","LB/HR","LB/YR","LB/HR","LB/YR"]
[]
[]
["1,1,2,2-Tetrachloroethane",79345,8.7299999999999994E-6,{"$f":"$D$11*C15","v":0},{"$f":"$E$11*C15","v":0},{"$f":"$F$11*C15","v":0},{"$f":"$G$11*C15","v":0},{"$f":"$H$11*C15","v":0},{"$f":"$I$11*C15","v":0},{"$f":"$J$11*C15","v":0},{"$f":"$K$11*C15","v":0},{"$f":"$L$11*C15","v":0},{"$f":"$M$11*C15","v":0},{"$f":"$N$11*C15","v":0},{"$f":"$O$11*C15","v":0},{"$f":"$P$11*C15","v":0},{"$f":"$Q$11*C15","v":0},{"$f":"$R$11*C15","v":0},{"$f":"$S$11*C15","v":0},{"$f":"$T$11*C15","v":0},{"$f":"$U$11*C15","v":0},{"$f":"$V$11*C15","v":0},{"$f":"$W$11*C15","v":0},{"$f":"$X$11*C15","v":0},{"$f":"$Y$11*C15","v":0},{"$f":"$Z$11*C15","v":0},{"$f":"$AA$11*C15","v":0},{"$f":"$AB$11*C15","v":0},{"$f":"$AC$11*C15","v":0},{"$f":"$AD$11*C15","v":0},{"$f":"$AE$11*C15","v":0},{"$f":"$AF$11*C15","v":0},{"$f":"$AG$11*C15","v":0},{"$f":"$AH$11*C15","v":0},{"$f":"$AI$11*C15","v":0},{"$f":"$AJ$11*C15","v":0},{"$f":"$AK$11*C15","v":0},{"$f":"$AL$11*C15","v":0},{"$f":"$AM$11*C15","v":0},{"$f":"$AN$11*C15","v":0},{"$f":"$AO$11*C15","v":0},{"$f":"$AP$11*C15","v":0},{"$f":"$AQ$11*C15","v":0}]
["1,1,2-Trichloroethane",79005,2.2599999999999999E-4,{"$f":"$D$11*C16","v":0},{"$f":"$E$11*C16","v":0},{"$f":"$F$11*C16","v":0},{"$f":"$G$11*C16","v":0},{"$f":"$H$11*C16","v":0},{"$f":"$I$11*C16","v":0},{"$f":"$J$11*C16","v":0},{"$f":"$K$11*C16","v":0},{"$f":"$L$11*C16","v":0},{"$f":"$M$11*C16","v":0},{"$f":"$N$11*C16","v":0},{"$f":"$O$11*C16","v":0},{"$f":"$P$11*C16","v":0},{"$f":"$Q$11*C16","v":0},{"$f":"$R$11*C16","v":0},{"$f":"$S$11*C16","v":0},{"$f":"$T$11*C16","v":0},{"$f":"$U$11*C16","v":0},{"$f":"$V$11*C16","v":0},{"$f":"$W$11*C16","v":0},{"$f":"$X$11*C16","v":0},{"$f":"$Y$11*C16","v":0},{"$f":"$Z$11*C16","v":0},{"$f":"$AA$11*C16","v":0},{"$f":"$AB$11*C16","v":0},{"$f":"$AC$11*C16","v":0},{"$f":"$AD$11*C16","v":0},{"$f":"$AE$11*C16","v":0},{"$f":"$AF$11*C16","v":0},{"$f":"$AG$11*C16","v":0},{"$f":"$AH$11*C16","v":0},{"$f":"$AI$11*C16","v":0},{"$f":"$AJ$11*C16","v":0},{"$f":"$AK$11*C16","v":0},{"$f":"$AL$11*C16","v":0},{"$f":"$AM$11*C16","v":0},{"$f":"$AN$11*C16","v":0},{"$f":"$AO$11*C16","v":0},{"$f":"$AP$11*C16","v":0},{"$f":"$AQ$11*C16","v":0}]
["1,2,3-Trichloropropane",96184,2.7599999999999999E-4,0,0,0,0,0,0,0,0,0,0,0,0,0,0,0,0,0,0,0,0,0,0,0,0,0,0,0,0,0,0,0,0,0,0,0,0,0,0,0,0]
["1,2,4-Trichlorobenzene",120821,7.7899999999999996E-4,0,0,0,0,0,0,0,0,0,0,0,0,0,0,0,0,0,0,0,0,0,0,0,0,0,0,0,0,0,0,0,0,0,0,0,0,0,0,0,0]
["1,2-Dibromo-3-chloropropane",96128,4.9400000000000001E-5,0,0,0,0,0,0,0,0,0,0,0,0,0,0,0,0,0,0,0,0,0,0,0,0,0,0,0,0,0,0,0,0,0,0,0,0,0,0,0,0]
["1,2-Dichlorobenzene",95501,5.4799999999999998E-4,0,0,0,0,0,0,0,0,0,0,0,0,0,0,0,0,0,0,0,0,0,0,0,0,0,0,0,0,0,0,0,0,0,0,0,0,0,0,0,0]
["1,3-Dichlorobenzene",541731,4.8999999999999998E-4,0,0,0,0,0,0,0,0,0,0,0,0,0,0,0,0,0,0,0,0,0,0,0,0,0,0,0,0,0,0,0,0,0,0,0,0,0,0,0,0]
["1,4 Dioxane",123911,1.41E-3,0,0,0,0,0,0,0,0,0,0,0,0,0,0,0,0,0,0,0,0,0,0,0,0,0,0,0,0,0,0,0,0,0,0,0,0,0,0,0,0]
["1,4-Dichlorobenzene",106467,5.1900000000000004E-4,0,0,0,0,0,0,0,0,0,0,0,0,0,0,0,0,0,0,0,0,0,0,0,0,0,0,0,0,0,0,0,0,0,0,0,0,0,0,0,0]
["Acetaldehyde",75070,2.4099999999999998E-3,0,0,0,0,0,0,0,0,0,0,0,0,0,0,0,0,0,0,0,0,0,0,0,0,0,0,0,0,0,0,0,0,0,0,0,0,0,0,0,0]
["Acrylonitrile",107131,2.43E-4,0,0,0,0,0,0,0,0,0,0,0,0,0,0,0,0,0,0,0,0,0,0,0,0,0,0,0,0,0,0,0,0,0,0,0,0,0,0,0,0]
["Benzene",71432,3.19E-4,0,0,0,0,0,0,0,0,0,0,0,0,0,0,0,0,0,0,0,0,0,0,0,0,0,0,0,0,0,0,0,0,0,0,0,0,0,0,0,0]
["Benzyl chloride",100447,2.8899999999999998E-4,0,0,0,0,0,0,0,0,0,0,0,0,0,0,0,0,0,0,0,0,0,0,0,0,0,0,0,0,0,0,0,0,0,0,0,0,0,0,0,0]
["Butyraldehyde",123728,1.1400000000000001E-4,0,0,0,0,0,0,0,0,0,0,0,0,0,0,0,0,0,0,0,0,0,0,0,0,0,0,0,0,0,0,0,0,0,0,0,0,0,0,0,0]
["Carbon Disulfide",75150,2.49E-3,0,0,0,0,0,0,0,0,0,0,0,0,0,0,0,0,0,0,0,0,0,0,0,0,0,0,0,0,0,0,0,0,0,0,0,0,0,0,0,0]
["Carbon tetrachloride",56235,5.8699999999999997E-5,0,0,0,0,0,0,0,0,0,0,0,0,0,0,0,0,0,0,0,0,0,0,0,0,0,0,0,0,0,0,0,0,0,0,0,0,0,0,0,0]
["Chlorobenzene",108907,2.72E-4,0,0,0,0,0,0,0,0,0,0,0,0,0,0,0,0,0,0,0,0,0,0,0,0,0,0,0,0,0,0,0,0,0,0,0,0,0,0,0,0]
["Chloroform",67663,1.3100000000000001E-4,0,0,0,0,0,0,0,0,0,0,0,0,0,0,0,0,0,0,0,0,0,0,0,0,0,0,0,0,0,0,0,0,0,0,0,0,0,0,0,0]
["Chloromethane",74873,7.9299999999999998E-4,0,0,0,0,0,0,0,0,0,0,0,0,0,0,0,0,0,0,0,0,0,0,0,0,0,0,0,0,0,0,0,0,0,0,0,0,0,0,0,0]
["Crotonaldehyde",4170303,1.4100000000000001E-4,0,0,0,0,0,0,0,0,0,0,0,0,0,0,0,0,0,0,0,0,0,0,0,0,0,0,0,0,0,0,0,0,0,0,0,0,0,0,0,0]
["Cyclohexane",110827,6.8300000000000001E-3,0,0,0,0,0,0,0,0,0,0,0,0,0,0,0,0,0,0,0,0,0,0,0,0,0,0,0,0,0,0,0,0,0,0,0,0,0,0,0,0]
["Ethyl Chloride",75003,2.3900000000000001E-4,0,0,0,0,0,0,0,0,0,0,0,0,0,0,0,0,0,0,0,0,0,0,0,0,0,0,0,0,0,0,0,0,0,0,0,0,0,0,0,0]
["Ethylbenzene",100414,3.4699999999999998E-4,0,0,0,0,0,0,0,0,0,0,0,0,0,0,0,0,0,0,0,0,0,0,0,0,0,0,0,0,0,0,0,0,0,0,0,0,0,0,0,0]
["Ethylene Dibromide (EDB)",106934,3.0600000000000001E-4,0,0,0,0,0,0,0,0,0,0,0,0,0,0,0,0,0,0,0,0,0,0,0,0,0,0,0,0,0,0,0,0,0,0,0,0,0,0,0,0]
["Ethylene Dichloride (EDC)",107062,5.8900000000000002E-5,0,0,0,0,0,0,0,0,0,0,0,0,0,0,0,0,0,0,0,0,0,0,0,0,0,0,0,0,0,0,0,0,0,0,0,0,0,0,0,0]
["Formaldehyde",50000,3.9800000000000002E-4,0,0,0,0,0,0,0,0,0,0,0,0,0,0,0,0,0,0,0,0,0,0,0,0,0,0,0,0,0,0,0,0,0,0,0,0,0,0,0,0]
["Hexane",110543,8.12E-4,0,0,0,0,0,0,0,0,0,0,0,0,0,0,0,0,0,0,0,0,0,0,0,0,0,0,0,0,0,0,0,0,0,0,0,0,0,0,0,0]
["Isopropyl Alchol",67630,1.6199999999999999E-3,0,0,0,0,0,0,0,0,0,0,0,0,0,0,0,0,0,0,0,0,0,0,0,0,0,0,0,0,0,0,0,0,0,0,0,0,0,0,0,0]
["Isopropylbenzene (Cumene)",98828,5.6100000000000002E-5,0,0,0,0,0,0,0,0,0,0,0,0,0,0,0,0,0,0,0,0,0,0,0,0,0,0,0,0,0,0,0,0,0,0,0,0,0,0,0,0]
["Methyl Ethyl Ketone (2-butanone)",78933,1.46E-2,0,0,0,0,0,0,0,0,0,0,0,0,0,0,0,0,0,0,0,0,0,0,0,0,0,0,0,0,0,0,0,0,0,0,0,0,0,0,0,0]
["Methyl Isobutyl Ketone",108101,7.0899999999999999E-4,0,0,0,0,0,0,0,0,0,0,0,0,0,0,0,0,0,0,0,0,0,0,0,0,0,0,0,0,0,0,0,0,0,0,0,0,0,0,0,0]
["Styrene",100425,3.59E-4,0,0,0,0,0,0,0,0,0,0,0,0,0,0,0,0,0,0,0,0,0,0,0,0,0,0,0,0,0,0,0,0,0,0,0,0,0,0,0,0]
["t-1,4-Dichloro-2-butene",764410,8.92E-4,0,0,0,0,0,0,0,0,0,0,0,0,0,0,0,0,0,0,0,0,0,0,0,0,0,0,0,0,0,0,0,0,0,0,0,0,0,0,0,0]
["Toluene",108883,1.07E-3,0,0,0,0,0,0,0,0,0,0,0,0,0,0,0,0,0,0,0,0,0,0,0,0,0,0,0,0,0,0,0,0,0,0,0,0,0,0,0,0]
["Trichlorofluoromethane*",75694,1.08E-7,0,0,0,0,0,0,0,0,0,0,0,0,0,0,0,0,0,0,0,0,0,0,0,0,0,0,0,0,0,0,0,0,0,0,0,0,0,0,0,0]
["Vinyl acetate",108054,1.97E-3,0,0,0,0,0,0,0,0,0,0,0,0,0,0,0,0,0,0,0,0,0,0,0,0,0,0,0,0,0,0,0,0,0,0,0,0,0,0,0,0]
["Xylenes",1330207,1.8E-3,0,0,0,0,0,0,0,0,0,0,0,0,0,0,0,0,0,0,0,0,0,0,0,0,0,0,0,0,0,0,0,0,0,0,0,0,0,0,0,0]
[]
[]
["References:"]
["*Emission factors are derived from the District's evaluation of dairy research studies conducted by California colleges and universities."]
["Pollutants required for toxic reporting. Current as of update date."]
["(Does not include emissions from Lagoons or enteric emissions from cows)"]

{"sheet":"Dairy Miscellaneous 3","index":8,"n_rows":57,"n_cols":43,"rows_kept":57,"cut":false,"hidden":false,"merged":[[53,0,53,2],[54,0,54,2],[55,0,55,2],[56,0,56,2],[11,37,13,37],[11,31,13,31],[11,32,13,32],[11,33,13,33],[11,34,13,34],[11,35,13,35],[11,36,13,36],[11,25,13,25],[11,26,13,26],[11,27,13,27],[11,28,13,28],[11,29,13,29],[11,38,13,38],[11,39,13,39],[11,40,13,40],[11,41,13,41],[11,42,13,42],[11,30,13,30],[11,19,13,19],[11,20,13,20],[11,21,13,21],[11,22,13,22],[11,23,13,23],[11,24,13,24],[11,18,13,18],[11,7,13,7],[11,8,13,8],[11,9,13,9],[11,10,13,10],[11,11,13,11],[11,12,13,12],[11,13,13,13],[11,14,13,14],[11,15,13,15],[11,16,13,16],[11,17,13,17],[7,41,8,42],[8,0,8,2],[10,0,10,2],[11,0,13,0],[11,1,13,1],[11,2,13,2],[11,3,13,3],[11,4,13,4],[11,5,13,5],[11,6,13,6],[7,29,8,30],[7,31,8,32],[7,33,8,34],[7,35,8,36],[7,37,8,38],[7,39,8,40],[7,27,8,28],[7,5,8,6],[7,7,8,8],[7,9,8,10],[7,11,8,12],[7,13,8,14],[7,15,8,16],[7,17,8,18],[7,19,8,20],[7,21,8,22],[7,23,8,24],[7,25,8,26],[7,3,8,4],[0,0,0,2],[1,0,1,2],[2,1,2,2],[3,1,3,2],[7,0,7,2]]}
["Agricultural Miscellaneous Emissions from Dairy Operations (Cow Housing)  "]
["Use this spreadsheet to characterize the miscellanous emissions from Dairy sources when VOC rates are known. VOC emission rates linked to Cow Housing worksheet. No entries required on this worksheet. Zero and null entries will be highlighted in red after entry."]
["Author or updater","Matthew Cegielski"]
["Last Update","2025-09-29"]
["Facility:",{"$f":"'Cow Housing'!C4","v":"Happy Cows"}]
["ID#:",{"$f":"'Cow Housing'!C5","v":"C-7777"}]
["Project #:",{"$f":"'Cow Housing'!C6","v":"C-3333"}]
["Formula ",null,null,{"$f":"'Cow Housing'!$B$49","v":0},null,{"$f":"'Cow Housing'!$B50","v":0},null,{"$f":"'Cow Housing'!$B51","v":0},null,{"$f":"'Cow Housing'!$B$52","v":0},null,{"$f":"'Cow Housing'!$B$53","v":0},null,{"$f":"'Cow Housing'!$B$54","v":0},null,{"$f":"'Cow Housing'!$B$55","v":0},null,{"$f":"'Cow Housing'!$B$56","v":0},null,{"$f":"'Cow Housing'!$B$57","v":0},null,{"$f":"'Cow Housing'!$B$58","v":0},null,{"$f":"'Cow Housing'!$B$59","v":0},null,{"$f":"'Cow Housing'!$B$60","v":0},null,{"$f":"'Cow Housing'!$B$61","v":0},null,{"$f":"'Cow Housing'!$B$62","v":0},null,{"$f":"'Cow Housing'!$B$63","v":0},null,{"$f":"'Cow Housing'!$B$64","v":0},null,{"$f":"'Cow Housing'!$B$65","v":0},null,{"$f":"'Cow Housing'!$B$66","v":0},null,{"$f":"'Cow Housing'!$B$67","v":0},null,{"$f":"'Cow Housing'!$B$68","v":0}]
["Emissions are calculated by the multiplication of the VOC Rates, and Emission Factors. "]
[null,null,null,"lb/hr","lb/yr","lb/hr","lb/yr","lb/hr","lb/yr","lb/hr","lb/yr","lb/hr","lb/yr","lb/hr","lb/yr","lb/hr","lb/yr","lb/hr","lb/yr","lb/hr","lb/yr","lb/hr","lb/yr","lb/hr","lb/yr","lb/hr","lb/yr","lb/hr","lb/yr","lb/hr","lb/yr","lb/hr","lb/yr","lb/hr","lb/yr","lb/hr","lb/yr","lb/hr","lb/yr","lb/hr","lb/yr","lb/hr","lb/yr"]
["VOC Emission Rates",null,null,{"$f":"IF('Cow Housing'!E49>0,'Cow Housing'!E49,0)","v":0},{"$f":"IF('Cow Housing'!F49>0,'Cow Housing'!F49,0)","v":0},{"$f":"IF('Cow Housing'!E50>0,'Cow Housing'!E50,0)","v":0},{"$f":"IF('Cow Housing'!F50>0,'Cow Housing'!F50,0)","v":0},{"$f":"IF('Cow Housing'!E51>0,'Cow Housing'!E51,0)","v":0},{"$f":"IF('Cow Housing'!F51>0,'Cow Housing'!F51,0)","v":0},{"$f":"IF('Cow Housing'!E52>0,'Cow Housing'!E52,0)","v":0},{"$f":"IF('Cow Housing'!F52>0,'Cow Housing'!F52,0)","v":0},{"$f":"IF('Cow Housing'!E53>0,'Cow Housing'!E53,0)","v":0},{"$f":"IF('Cow Housing'!F53>0,'Cow Housing'!F53,0)","v":0},{"$f":"IF('Cow Housing'!E54>0,'Cow Housing'!E54,0)","v":0},{"$f":"IF('Cow Housing'!F54>0,'Cow Housing'!F54,0)","v":0},{"$f":"IF('Cow Housing'!E55>0,'Cow Housing'!E55,0)","v":0},{"$f":"IF('Cow Housing'!F55>0,'Cow Housing'!F55,0)","v":0},{"$f":"IF('Cow Housing'!E56>0,'Cow Housing'!E56,0)","v":0},{"$f":"IF('Cow Housing'!F56>0,'Cow Housing'!F56,0)","v":0},{"$f":"IF('Cow Housing'!E57>0,'Cow Housing'!E57,0)","v":0},{"$f":"IF('Cow Housing'!F57>0,'Cow Housing'!F57,0)","v":0},{"$f":"IF('Cow Housing'!E58>0,'Cow Housing'!E58,0)","v":0},{"$f":"IF('Cow Housing'!F58>0,'Cow Housing'!F58,0)","v":0},{"$f":"IF('Cow Housing'!E59>0,'Cow Housing'!E59,0)","v":0},{"$f":"IF('Cow Housing'!F59>0,'Cow Housing'!F59,0)","v":0},{"$f":"IF('Cow Housing'!E60>0,'Cow Housing'!E60,0)","v":0},{"$f":"IF('Cow Housing'!F60>0,'Cow Housing'!F60,0)","v":0},{"$f":"IF('Cow Housing'!E61>0,'Cow Housing'!E61,0)","v":0},{"$f":"IF('Cow Housing'!F61>0,'Cow Housing'!F61,0)","v":0},{"$f":"IF('Cow Housing'!E62>0,'Cow Housing'!E62,0)","v":0},{"$f":"IF('Cow Housing'!F62>0,'Cow Housing'!F62,0)","v":0},{"$f":"IF('Cow Housing'!E63>0,'Cow Housing'!E63,0)","v":0},{"$f":"IF('Cow Housing'!F63>0,'Cow Housing'!F63,0)","v":0},{"$f":"IF('Cow Housing'!E64>0,'Cow Housing'!E64,0)","v":0},{"$f":"IF('Cow Housing'!F64>0,'Cow Housing'!F64,0)","v":0},{"$f":"IF('Cow Housing'!E65>0,'Cow Housing'!E65,0)","v":0},{"$f":"IF('Cow Housing'!F65>0,'Cow Housing'!F65,0)","v":0},{"$f":"IF('Cow Housing'!E66>0,'Cow Housing'!E66,0)","v":0},{"$f":"IF('Cow Housing'!F66>0,'Cow Housing'!F66,0)","v":0},{"$f":"IF('Cow Housing'!E67>0,'Cow Housing'!E67,0)","v":0},{"$f":"IF('Cow Housing'!F67>0,'Cow Housing'!F67,0)","v":0},{"$f":"IF('Cow Housing'!E68>0,'Cow Housing'!E68,0)","v":0},{"$f":"IF('Cow Housing'!F68>0,'Cow Housing'!F68,0)","v":0}]
["Substances","CAS#"," Volatiles (lb/lb VOC)*","LB/HR","LB/YR","LB/HR","LB/YR","LB/HR","LB/YR","LB/HR","LB/YR","LB/HR","LB/YR","LB/HR","LB/YR","LB/HR","LB/YR","LB/HR","LB/YR","LB/HR","LB/YR","LB/HR","LB/YR","LB/HR","LB/YR","LB/HR","LB/YR","LB/HR","LB/YR","LB/HR","LB/YR","LB/HR","LB/YR","LB/HR","LB/YR","LB/HR","LB/YR","LB/HR","LB/YR","LB/HR","LB/YR","LB/HR","LB/YR"]
[]
[]
["1,1,2,2-Tetrachloroethane",79345,8.7299999999999994E-6,{"$f":"$D$11*C15","v":0},{"$f":"$E$11*C15","v":0},{"$f":"$F$11*C15","v":0},{"$f":"$G$11*C15","v":0},{"$f":"$H$11*C15","v":0},{"$f":"$I$11*C15","v":0},{"$f":"$J$11*C15","v":0},{"$f":"$K$11*C15","v":0},{"$f":"$L$11*C15","v":0},{"$f":"$M$11*C15","v":0},{"$f":"$N$11*C15","v":0},{"$f":"$O$11*C15","v":0},{"$f":"$P$11*C15","v":0},{"$f":"$Q$11*C15","v":0},{"$f":"$R$11*C15","v":0},{"$f":"$S$11*C15","v":0},{"$f":"$T$11*C15","v":0},{"$f":"$U$11*C15","v":0},{"$f":"$V$11*C15","v":0},{"$f":"$W$11*C15","v":0},{"$f":"$X$11*C15","v":0},{"$f":"$Y$11*C15","v":0},{"$f":"$Z$11*C15","v":0},{"$f":"$AA$11*C15","v":0},{"$f":"$AB$11*C15","v":0},{"$f":"$AC$11*C15","v":0},{"$f":"$AD$11*C15","v":0},{"$f":"$AE$11*C15","v":0},{"$f":"$AF$11*C15","v":0},{"$f":"$AG$11*C15","v":0},{"$f":"$AH$11*C15","v":0},{"$f":"$AI$11*C15","v":0},{"$f":"$AJ$11*C15","v":0},{"$f":"$AK$11*C15","v":0},{"$f":"$AL$11*C15","v":0},{"$f":"$AM$11*C15","v":0},{"$f":"$AN$11*C15","v":0},{"$f":"$AO$11*C15","v":0},{"$f":"$AP$11*C15","v":0},{"$f":"$AQ$11*C15","v":0}]
["1,1,2-Trichloroethane",79005,2.2599999999999999E-4,{"$f":"$D$11*C16","v":0},{"$f":"$E$11*C16","v":0},{"$f":"$F$11*C16","v":0},{"$f":"$G$11*C16","v":0},{"$f":"$H$11*C16","v":0},{"$f":"$I$11*C16","v":0},{"$f":"$J$11*C16","v":0},{"$f":"$K$11*C16","v":0},{"$f":"$L$11*C16","v":0},{"$f":"$M$11*C16","v":0},{"$f":"$N$11*C16","v":0},{"$f":"$O$11*C16","v":0},{"$f":"$P$11*C16","v":0},{"$f":"$Q$11*C16","v":0},{"$f":"$R$11*C16","v":0},{"$f":"$S$11*C16","v":0},{"$f":"$T$11*C16","v":0},{"$f":"$U$11*C16","v":0},{"$f":"$V$11*C16","v":0},{"$f":"$W$11*C16","v":0},{"$f":"$X$11*C16","v":0},{"$f":"$Y$11*C16","v":0},{"$f":"$Z$11*C16","v":0},{"$f":"$AA$11*C16","v":0},{"$f":"$AB$11*C16","v":0},{"$f":"$AC$11*C16","v":0},{"$f":"$AD$11*C16","v":0},{"$f":"$AE$11*C16","v":0},{"$f":"$AF$11*C16","v":0},{"$f":"$AG$11*C16","v":0},{"$f":"$AH$11*C16","v":0},{"$f":"$AI$11*C16","v":0},{"$f":"$AJ$11*C16","v":0},{"$f":"$AK$11*C16","v":0},{"$f":"$AL$11*C16","v":0},{"$f":"$AM$11*C16","v":0},{"$f":"$AN$11*C16","v":0},{"$f":"$AO$11*C16","v":0},{"$f":"$AP$11*C16","v":0},{"$f":"$AQ$11*C16","v":0}]
["1,2,3-Trichloropropane",96184,2.7599999999999999E-4,0,0,0,0,0,0,0,0,0,0,0,0,0,0,0,0,0,0,0,0,0,0,0,0,0,0,0,0,0,0,0,0,0,0,0,0,0,0,0,0]
["1,2,4-Trichlorobenzene",120821,7.7899999999999996E-4,0,0,0,0,0,0,0,0,0,0,0,0,0,0,0,0,0,0,0,0,0,0,0,0,0,0,0,0,0,0,0,0,0,0,0,0,0,0,0,0]
["1,2-Dibromo-3-chloropropane",96128,4.9400000000000001E-5,0,0,0,0,0,0,0,0,0,0,0,0,0,0,0,0,0,0,0,0,0,0,0,0,0,0,0,0,0,0,0,0,0,0,0,0,0,0,0,0]
["1,2-Dichlorobenzene",95501,5.4799999999999998E-4,0,0,0,0,0,0,0,0,0,0,0,0,0,0,0,0,0,0,0,0,0,0,0,0,0,0,0,0,0,0,0,0,0,0,0,0,0,0,0,0]
["1,3-Dichlorobenzene",541731,4.8999999999999998E-4,0,0,0,0,0,0,0,0,0,0,0,0,0,0,0,0,0,0,0,0,0,0,0,0,0,0,0,0,0,0,0,0,0,0,0,0,0,0,0,0]
["1,4 Dioxane",123911,1.41E-3,0,0,0,0,0,0,0,0,0,0,0,0,0,0,0,0,0,0,0,0,0,0,0,0,0,0,0,0,0,0,0,0,0,0,0,0,0,0,0,0]
["1,4-Dichlorobenzene",106467,5.1900000000000004E-4,0,0,0,0,0,0,0,0,0,0,0,0,0,0,0,0,0,0,0,0,0,0,0,0,0,0,0,0,0,0,0,0,0,0,0,0,0,0,0,0]
["Acetaldehyde",75070,2.4099999999999998E-3,0,0,0,0,0,0,0,0,0,0,0,0,0,0,0,0,0,0,0,0,0,0,0,0,0,0,0,0,0,0,0,0,0,0,0,0,0,0,0,0]
["Acrylonitrile",107131,2.43E-4,0,0,0,0,0,0,0,0,0,0,0,0,0,0,0,0,0,0,0,0,0,0,0,0,0,0,0,0,0,0,0,0,0,0,0,0,0,0,0,0]
["Benzene",71432,3.19E-4,0,0,0,0,0,0,0,0,0,0,0,0,0,0,0,0,0,0,0,0,0,0,0,0,0,0,0,0,0,0,0,0,0,0,0,0,0,0,0,0]
["Benzyl chloride",100447,2.8899999999999998E-4,0,0,0,0,0,0,0,0,0,0,0,0,0,0,0,0,0,0,0,0,0,0,0,0,0,0,0,0,0,0,0,0,0,0,0,0,0,0,0,0]
["Butyraldehyde",123728,1.1400000000000001E-4,0,0,0,0,0,0,0,0,0,0,0,0,0,0,0,0,0,0,0,0,0,0,0,0,0,0,0,0,0,0,0,0,0,0,0,0,0,0,0,0]
["Carbon Disulfide",75150,2.49E-3,0,0,0,0,0,0,0,0,0,0,0,0,0,0,0,0,0,0,0,0,0,0,0,0,0,0,0,0,0,0,0,0,0,0,0,0,0,0,0,0]
["Carbon tetrachloride",56235,5.8699999999999997E-5,0,0,0,0,0,0,0,0,0,0,0,0,0,0,0,0,0,0,0,0,0,0,0,0,0,0,0,0,0,0,0,0,0,0,0,0,0,0,0,0]
["Chlorobenzene",108907,2.72E-4,0,0,0,0,0,0,0,0,0,0,0,0,0,0,0,0,0,0,0,0,0,0,0,0,0,0,0,0,0,0,0,0,0,0,0,0,0,0,0,0]
["Chloroform",67663,1.3100000000000001E-4,0,0,0,0,0,0,0,0,0,0,0,0,0,0,0,0,0,0,0,0,0,0,0,0,0,0,0,0,0,0,0,0,0,0,0,0,0,0,0,0]
["Chloromethane",74873,7.9299999999999998E-4,0,0,0,0,0,0,0,0,0,0,0,0,0,0,0,0,0,0,0,0,0,0,0,0,0,0,0,0,0,0,0,0,0,0,0,0,0,0,0,0]
["Crotonaldehyde",4170303,1.4100000000000001E-4,0,0,0,0,0,0,0,0,0,0,0,0,0,0,0,0,0,0,0,0,0,0,0,0,0,0,0,0,0,0,0,0,0,0,0,0,0,0,0,0]
["Cyclohexane",110827,6.8300000000000001E-3,0,0,0,0,0,0,0,0,0,0,0,0,0,0,0,0,0,0,0,0,0,0,0,0,0,0,0,0,0,0,0,0,0,0,0,0,0,0,0,0]
["Ethyl Chloride",75003,2.3900000000000001E-4,0,0,0,0,0,0,0,0,0,0,0,0,0,0,0,0,0,0,0,0,0,0,0,0,0,0,0,0,0,0,0,0,0,0,0,0,0,0,0,0]
["Ethylbenzene",100414,3.4699999999999998E-4,0,0,0,0,0,0,0,0,0,0,0,0,0,0,0,0,0,0,0,0,0,0,0,0,0,0,0,0,0,0,0,0,0,0,0,0,0,0,0,0]
["Ethylene Dibromide (EDB)",106934,3.0600000000000001E-4,0,0,0,0,0,0,0,0,0,0,0,0,0,0,0,0,0,0,0,0,0,0,0,0,0,0,0,0,0,0,0,0,0,0,0,0,0,0,0,0]
["Ethylene Dichloride (EDC)",107062,5.8900000000000002E-5,0,0,0,0,0,0,0,0,0,0,0,0,0,0,0,0,0,0,0,0,0,0,0,0,0,0,0,0,0,0,0,0,0,0,0,0,0,0,0,0]
["Formaldehyde",50000,3.9800000000000002E-4,0,0,0,0,0,0,0,0,0,0,0,0,0,0,0,0,0,0,0,0,0,0,0,0,0,0,0,0,0,0,0,0,0,0,0,0,0,0,0,0]
["Hexane",110543,8.12E-4,0,0,0,0,0,0,0,0,0,0,0,0,0,0,0,0,0,0,0,0,0,0,0,0,0,0,0,0,0,0,0,0,0,0,0,0,0,0,0,0]
["Isopropyl Alchol",67630,1.6199999999999999E-3,0,0,0,0,0,0,0,0,0,0,0,0,0,0,0,0,0,0,0,0,0,0,0,0,0,0,0,0,0,0,0,0,0,0,0,0,0,0,0,0]
["Isopropylbenzene (Cumene)",98828,5.6100000000000002E-5,0,0,0,0,0,0,0,0,0,0,0,0,0,0,0,0,0,0,0,0,0,0,0,0,0,0,0,0,0,0,0,0,0,0,0,0,0,0,0,0]
["Methyl Ethyl Ketone (2-butanone)",78933,1.46E-2,0,0,0,0,0,0,0,0,0,0,0,0,0,0,0,0,0,0,0,0,0,0,0,0,0,0,0,0,0,0,0,0,0,0,0,0,0,0,0,0]
["Methyl Isobutyl Ketone",108101,7.0899999999999999E-4,0,0,0,0,0,0,0,0,0,0,0,0,0,0,0,0,0,0,0,0,0,0,0,0,0,0,0,0,0,0,0,0,0,0,0,0,0,0,0,0]
["Styrene",100425,3.59E-4,0,0,0,0,0,0,0,0,0,0,0,0,0,0,0,0,0,0,0,0,0,0,0,0,0,0,0,0,0,0,0,0,0,0,0,0,0,0,0,0]
["t-1,4-Dichloro-2-butene",764410,8.92E-4,0,0,0,0,0,0,0,0,0,0,0,0,0,0,0,0,0,0,0,0,0,0,0,0,0,0,0,0,0,0,0,0,0,0,0,0,0,0,0,0]
["Toluene",108883,1.07E-3,0,0,0,0,0,0,0,0,0,0,0,0,0,0,0,0,0,0,0,0,0,0,0,0,0,0,0,0,0,0,0,0,0,0,0,0,0,0,0,0]
["Trichlorofluoromethane*",75694,1.08E-7,0,0,0,0,0,0,0,0,0,0,0,0,0,0,0,0,0,0,0,0,0,0,0,0,0,0,0,0,0,0,0,0,0,0,0,0,0,0,0,0]
["Vinyl acetate",108054,1.97E-3,0,0,0,0,0,0,0,0,0,0,0,0,0,0,0,0,0,0,0,0,0,0,0,0,0,0,0,0,0,0,0,0,0,0,0,0,0,0,0,0]
["Xylenes",1330207,1.8E-3,0,0,0,0,0,0,0,0,0,0,0,0,0,0,0,0,0,0,0,0,0,0,0,0,0,0,0,0,0,0,0,0,0,0,0,0,0,0,0,0]
[]
[]
["References:"]
["*Emission factors are derived from the District's evaluation of dairy research studies conducted by California colleges and universities."]
["Pollutants required for toxic reporting. Current as of update date."]
["(Does not include emissions from Lagoons or enteric emissions from cows)"]

{"sheet":"Dairy Miscellaneous 4","index":9,"n_rows":57,"n_cols":33,"rows_kept":57,"cut":false,"hidden":false,"merged":[[0,0,0,2],[1,0,1,2],[2,1,2,2],[3,1,3,2],[7,0,7,2],[7,31,8,32],[7,17,8,18],[7,19,8,20],[7,21,8,22],[7,23,8,24],[7,25,8,26],[7,27,8,28],[11,3,13,3],[11,4,13,4],[11,5,13,5],[11,6,13,6],[7,29,8,30],[7,5,8,6],[7,7,8,8],[7,9,8,10],[7,11,8,12],[7,13,8,14],[7,15,8,16],[7,3,8,4],[11,18,13,18],[11,7,13,7],[11,8,13,8],[11,9,13,9],[8,0,8,2],[10,0,10,2],[11,0,13,0],[11,1,13,1],[11,2,13,2],[11,10,13,10],[11,11,13,11],[11,12,13,12],[11,32,13,32],[11,25,13,25],[11,26,13,26],[11,27,13,27],[11,28,13,28],[11,29,13,29],[11,30,13,30],[53,0,53,2],[54,0,54,2],[55,0,55,2],[56,0,56,2],[11,31,13,31],[11,19,13,19],[11,20,13,20],[11,21,13,21],[11,22,13,22],[11,23,13,23],[11,24,13,24],[11,13,13,13],[11,14,13,14],[11,15,13,15],[11,16,13,16],[11,17,13,17]]}
["Agricultural Miscellaneous Emissions from Dairy Operations (Cow Housing)  "]
["Use this spreadsheet to characterize the miscellanous emissions from Dairy sources when VOC rates are known. VOC emission rates linked to Cow Housing worksheet. No entries required on this worksheet. Zero and null entries will be highlighted in red after entry."]
["Author or updater","Matthew Cegielski"]
["Last Update","2025-09-29"]
["Facility:",{"$f":"'Cow Housing'!C4","v":"Happy Cows"}]
["ID#:",{"$f":"'Cow Housing'!C5","v":"C-7777"}]
["Project #:",{"$f":"'Cow Housing'!C6","v":"C-3333"}]
["Formula ",null,null,{"$f":"'Cow Housing'!$B$69","v":0},null,{"$f":"'Cow Housing'!$B70","v":0},null,{"$f":"'Cow Housing'!$B71","v":0},null,{"$f":"'Cow Housing'!$B$72","v":0},null,{"$f":"'Cow Housing'!$B$73","v":0},null,{"$f":"'Cow Housing'!$B$74","v":0},null,{"$f":"'Cow Housing'!$B$75","v":0},null,{"$f":"'Cow Housing'!$B$76","v":0},null,{"$f":"'Cow Housing'!$B$77","v":0},null,{"$f":"'Cow Housing'!$B$78","v":0},null,{"$f":"'Cow Housing'!$B$79","v":0},null,{"$f":"'Cow Housing'!$B$80","v":0},null,{"$f":"'Cow Housing'!$B$81","v":0},null,{"$f":"'Cow Housing'!$B$82","v":0},null,{"$f":"'Cow Housing'!$B$83","v":0}]
["Emissions are calculated by the multiplication of the VOC Rates, and Emission Factors. "]
[null,null,null,"lb/hr","lb/yr","lb/hr","lb/yr","lb/hr","lb/yr","lb/hr","lb/yr","lb/hr","lb/yr","lb/hr","lb/yr","lb/hr","lb/yr","lb/hr","lb/yr","lb/hr","lb/yr","lb/hr","lb/yr","lb/hr","lb/yr","lb/hr","lb/yr","lb/hr","lb/yr","lb/hr","lb/yr","lb/hr","lb/yr"]
["VOC Emission Rates",null,null,{"$f":"IF('Cow Housing'!E69>0,'Cow Housing'!E69,0)","v":0},{"$f":"IF('Cow Housing'!F69>0,'Cow Housing'!F69,0)","v":0},{"$f":"IF('Cow Housing'!E70>0,'Cow Housing'!E70,0)","v":0},{"$f":"IF('Cow Housing'!F70>0,'Cow Housing'!F70,0)","v":0},{"$f":"IF('Cow Housing'!E71>0,'Cow Housing'!E71,0)","v":0},{"$f":"IF('Cow Housing'!F71>0,'Cow Housing'!F71,0)","v":0},{"$f":"IF('Cow Housing'!E72>0,'Cow Housing'!E72,0)","v":0},{"$f":"IF('Cow Housing'!F72>0,'Cow Housing'!F72,0)","v":0},{"$f":"IF('Cow Housing'!E73>0,'Cow Housing'!E73,0)","v":0},{"$f":"IF('Cow Housing'!F73>0,'Cow Housing'!F73,0)","v":0},{"$f":"IF('Cow Housing'!E74>0,'Cow Housing'!E74,0)","v":0},{"$f":"IF('Cow Housing'!F74>0,'Cow Housing'!F74,0)","v":0},{"$f":"IF('Cow Housing'!E75>0,'Cow Housing'!E75,0)","v":0},{"$f":"IF('Cow Housing'!F75>0,'Cow Housing'!F75,0)","v":0},{"$f":"IF('Cow Housing'!E76>0,'Cow Housing'!E76,0)","v":0},{"$f":"IF('Cow Housing'!F76>0,'Cow Housing'!F76,0)","v":0},{"$f":"IF('Cow Housing'!E77>0,'Cow Housing'!E77,0)","v":0},{"$f":"IF('Cow Housing'!F77>0,'Cow Housing'!F77,0)","v":0},{"$f":"IF('Cow Housing'!E78>0,'Cow Housing'!E78,0)","v":0},{"$f":"IF('Cow Housing'!F78>0,'Cow Housing'!F78,0)","v":0},{"$f":"IF('Cow Housing'!E79>0,'Cow Housing'!E79,0)","v":0},{"$f":"IF('Cow Housing'!F79>0,'Cow Housing'!F79,0)","v":0},{"$f":"IF('Cow Housing'!E80>0,'Cow Housing'!E80,0)","v":0},{"$f":"IF('Cow Housing'!F80>0,'Cow Housing'!F80,0)","v":0},{"$f":"IF('Cow Housing'!E81>0,'Cow Housing'!E81,0)","v":0},{"$f":"IF('Cow Housing'!F81>0,'Cow Housing'!F81,0)","v":0},{"$f":"IF('Cow Housing'!E82>0,'Cow Housing'!E82,0)","v":0},{"$f":"IF('Cow Housing'!F82>0,'Cow Housing'!F82,0)","v":0},{"$f":"IF('Cow Housing'!E83>0,'Cow Housing'!E83,0)","v":0},{"$f":"IF('Cow Housing'!F83>0,'Cow Housing'!F83,0)","v":0}]
["Substances","CAS#"," Volatiles (lb/lb VOC)*","LB/HR","LB/YR","LB/HR","LB/YR","LB/HR","LB/YR","LB/HR","LB/YR","LB/HR","LB/YR","LB/HR","LB/YR","LB/HR","LB/YR","LB/HR","LB/YR","LB/HR","LB/YR","LB/HR","LB/YR","LB/HR","LB/YR","LB/HR","LB/YR","LB/HR","LB/YR","LB/HR","LB/YR","LB/HR","LB/YR"]
[]
[]
["1,1,2,2-Tetrachloroethane",79345,8.7299999999999994E-6,{"$f":"$D$11*C15","v":0},{"$f":"$E$11*C15","v":0},{"$f":"$F$11*C15","v":0},{"$f":"$G$11*C15","v":0},{"$f":"$H$11*C15","v":0},{"$f":"$I$11*C15","v":0},{"$f":"$J$11*C15","v":0},{"$f":"$K$11*C15","v":0},{"$f":"$L$11*C15","v":0},{"$f":"$M$11*C15","v":0},{"$f":"$N$11*C15","v":0},{"$f":"$O$11*C15","v":0},{"$f":"$P$11*C15","v":0},{"$f":"$Q$11*C15","v":0},{"$f":"$R$11*C15","v":0},{"$f":"$S$11*C15","v":0},{"$f":"$T$11*C15","v":0},{"$f":"$U$11*C15","v":0},{"$f":"$V$11*C15","v":0},{"$f":"$W$11*C15","v":0},{"$f":"$X$11*C15","v":0},{"$f":"$Y$11*C15","v":0},{"$f":"$Z$11*C15","v":0},{"$f":"$AA$11*C15","v":0},{"$f":"$AB$11*C15","v":0},{"$f":"$AC$11*C15","v":0},{"$f":"$AD$11*C15","v":0},{"$f":"$AE$11*C15","v":0},{"$f":"$AF$11*C15","v":0},{"$f":"$AG$11*C15","v":0}]
["1,1,2-Trichloroethane",79005,2.2599999999999999E-4,{"$f":"$D$11*C16","v":0},{"$f":"$E$11*C16","v":0},{"$f":"$F$11*C16","v":0},{"$f":"$G$11*C16","v":0},{"$f":"$H$11*C16","v":0},{"$f":"$I$11*C16","v":0},{"$f":"$J$11*C16","v":0},{"$f":"$K$11*C16","v":0},{"$f":"$L$11*C16","v":0},{"$f":"$M$11*C16","v":0},{"$f":"$N$11*C16","v":0},{"$f":"$O$11*C16","v":0},{"$f":"$P$11*C16","v":0},{"$f":"$Q$11*C16","v":0},{"$f":"$R$11*C16","v":0},{"$f":"$S$11*C16","v":0},{"$f":"$T$11*C16","v":0},{"$f":"$U$11*C16","v":0},{"$f":"$V$11*C16","v":0},{"$f":"$W$11*C16","v":0},{"$f":"$X$11*C16","v":0},{"$f":"$Y$11*C16","v":0},{"$f":"$Z$11*C16","v":0},{"$f":"$AA$11*C16","v":0},{"$f":"$AB$11*C16","v":0},{"$f":"$AC$11*C16","v":0},{"$f":"$AD$11*C16","v":0},{"$f":"$AE$11*C16","v":0},{"$f":"$AF$11*C16","v":0},{"$f":"$AG$11*C16","v":0}]
["1,2,3-Trichloropropane",96184,2.7599999999999999E-4,0,0,0,0,0,0,0,0,0,0,0,0,0,0,0,0,0,0,0,0,0,0,0,0,0,0,0,0,0,0]
["1,2,4-Trichlorobenzene",120821,7.7899999999999996E-4,0,0,0,0,0,0,0,0,0,0,0,0,0,0,0,0,0,0,0,0,0,0,0,0,0,0,0,0,0,0]
["1,2-Dibromo-3-chloropropane",96128,4.9400000000000001E-5,0,0,0,0,0,0,0,0,0,0,0,0,0,0,0,0,0,0,0,0,0,0,0,0,0,0,0,0,0,0]
["1,2-Dichlorobenzene",95501,5.4799999999999998E-4,0,0,0,0,0,0,0,0,0,0,0,0,0,0,0,0,0,0,0,0,0,0,0,0,0,0,0,0,0,0]
["1,3-Dichlorobenzene",541731,4.8999999999999998E-4,0,0,0,0,0,0,0,0,0,0,0,0,0,0,0,0,0,0,0,0,0,0,0,0,0,0,0,0,0,0]
["1,4 Dioxane",123911,1.41E-3,0,0,0,0,0,0,0,0,0,0,0,0,0,0,0,0,0,0,0,0,0,0,0,0,0,0,0,0,0,0]
["1,4-Dichlorobenzene",106467,5.1900000000000004E-4,0,0,0,0,0,0,0,0,0,0,0,0,0,0,0,0,0,0,0,0,0,0,0,0,0,0,0,0,0,0]
["Acetaldehyde",75070,2.4099999999999998E-3,0,0,0,0,0,0,0,0,0,0,0,0,0,0,0,0,0,0,0,0,0,0,0,0,0,0,0,0,0,0]
["Acrylonitrile",107131,2.43E-4,0,0,0,0,0,0,0,0,0,0,0,0,0,0,0,0,0,0,0,0,0,0,0,0,0,0,0,0,0,0]
["Benzene",71432,3.19E-4,0,0,0,0,0,0,0,0,0,0,0,0,0,0,0,0,0,0,0,0,0,0,0,0,0,0,0,0,0,0]
["Benzyl chloride",100447,2.8899999999999998E-4,0,0,0,0,0,0,0,0,0,0,0,0,0,0,0,0,0,0,0,0,0,0,0,0,0,0,0,0,0,0]
["Butyraldehyde",123728,1.1400000000000001E-4,0,0,0,0,0,0,0,0,0,0,0,0,0,0,0,0,0,0,0,0,0,0,0,0,0,0,0,0,0,0]
["Carbon Disulfide",75150,2.49E-3,0,0,0,0,0,0,0,0,0,0,0,0,0,0,0,0,0,0,0,0,0,0,0,0,0,0,0,0,0,0]
["Carbon tetrachloride",56235,5.8699999999999997E-5,0,0,0,0,0,0,0,0,0,0,0,0,0,0,0,0,0,0,0,0,0,0,0,0,0,0,0,0,0,0]
["Chlorobenzene",108907,2.72E-4,0,0,0,0,0,0,0,0,0,0,0,0,0,0,0,0,0,0,0,0,0,0,0,0,0,0,0,0,0,0]
["Chloroform",67663,1.3100000000000001E-4,0,0,0,0,0,0,0,0,0,0,0,0,0,0,0,0,0,0,0,0,0,0,0,0,0,0,0,0,0,0]
["Chloromethane",74873,7.9299999999999998E-4,0,0,0,0,0,0,0,0,0,0,0,0,0,0,0,0,0,0,0,0,0,0,0,0,0,0,0,0,0,0]
["Crotonaldehyde",4170303,1.4100000000000001E-4,0,0,0,0,0,0,0,0,0,0,0,0,0,0,0,0,0,0,0,0,0,0,0,0,0,0,0,0,0,0]
["Cyclohexane",110827,6.8300000000000001E-3,0,0,0,0,0,0,0,0,0,0,0,0,0,0,0,0,0,0,0,0,0,0,0,0,0,0,0,0,0,0]
["Ethyl Chloride",75003,2.3900000000000001E-4,0,0,0,0,0,0,0,0,0,0,0,0,0,0,0,0,0,0,0,0,0,0,0,0,0,0,0,0,0,0]
["Ethylbenzene",100414,3.4699999999999998E-4,0,0,0,0,0,0,0,0,0,0,0,0,0,0,0,0,0,0,0,0,0,0,0,0,0,0,0,0,0,0]
["Ethylene Dibromide (EDB)",106934,3.0600000000000001E-4,0,0,0,0,0,0,0,0,0,0,0,0,0,0,0,0,0,0,0,0,0,0,0,0,0,0,0,0,0,0]
["Ethylene Dichloride (EDC)",107062,5.8900000000000002E-5,0,0,0,0,0,0,0,0,0,0,0,0,0,0,0,0,0,0,0,0,0,0,0,0,0,0,0,0,0,0]
["Formaldehyde",50000,3.9800000000000002E-4,0,0,0,0,0,0,0,0,0,0,0,0,0,0,0,0,0,0,0,0,0,0,0,0,0,0,0,0,0,0]
["Hexane",110543,8.12E-4,0,0,0,0,0,0,0,0,0,0,0,0,0,0,0,0,0,0,0,0,0,0,0,0,0,0,0,0,0,0]
["Isopropyl Alchol",67630,1.6199999999999999E-3,0,0,0,0,0,0,0,0,0,0,0,0,0,0,0,0,0,0,0,0,0,0,0,0,0,0,0,0,0,0]
["Isopropylbenzene (Cumene)",98828,5.6100000000000002E-5,0,0,0,0,0,0,0,0,0,0,0,0,0,0,0,0,0,0,0,0,0,0,0,0,0,0,0,0,0,0]
["Methyl Ethyl Ketone (2-butanone)",78933,1.46E-2,0,0,0,0,0,0,0,0,0,0,0,0,0,0,0,0,0,0,0,0,0,0,0,0,0,0,0,0,0,0]
["Methyl Isobutyl Ketone",108101,7.0899999999999999E-4,0,0,0,0,0,0,0,0,0,0,0,0,0,0,0,0,0,0,0,0,0,0,0,0,0,0,0,0,0,0]
["Styrene",100425,3.59E-4,{"$f":"$D$11*C46","v":0},{"$f":"$E$11*C46","v":0},{"$f":"$F$11*C46","v":0},{"$f":"$G$11*C46","v":0},{"$f":"$H$11*C46","v":0},{"$f":"$I$11*C46","v":0},{"$f":"$J$11*C46","v":0},{"$f":"$K$11*C46","v":0},{"$f":"$L$11*C46","v":0},{"$f":"$M$11*C46","v":0},{"$f":"$N$11*C46","v":0},{"$f":"$O$11*C46","v":0},{"$f":"$P$11*C46","v":0},{"$f":"$Q$11*C46","v":0},{"$f":"$R$11*C46","v":0},{"$f":"$S$11*C46","v":0},{"$f":"$T$11*C46","v":0},{"$f":"$U$11*C46","v":0},{"$f":"$V$11*C46","v":0},{"$f":"$W$11*C46","v":0},{"$f":"$X$11*C46","v":0},{"$f":"$Y$11*C46","v":0},{"$f":"$Z$11*C46","v":0},{"$f":"$AA$11*C46","v":0},{"$f":"$AB$11*C46","v":0},{"$f":"$AC$11*C46","v":0},{"$f":"$AD$11*C46","v":0},{"$f":"$AE$11*C46","v":0},{"$f":"$AF$11*C46","v":0},{"$f":"$AG$11*C46","v":0}]
["t-1,4-Dichloro-2-butene",764410,8.92E-4,0,0,0,0,0,0,0,0,0,0,0,0,0,0,0,0,0,0,0,0,0,0,0,0,0,0,0,0,0,0]
["Toluene",108883,1.07E-3,0,0,0,0,0,0,0,0,0,0,0,0,0,0,0,0,0,0,0,0,0,0,0,0,0,0,0,0,0,0]
["Trichlorofluoromethane*",75694,1.08E-7,0,0,0,0,0,0,0,0,0,0,0,0,0,0,0,0,0,0,0,0,0,0,0,0,0,0,0,0,0,0]
["Vinyl acetate",108054,1.97E-3,0,0,0,0,0,0,0,0,0,0,0,0,0,0,0,0,0,0,0,0,0,0,0,0,0,0,0,0,0,0]
["Xylenes",1330207,1.8E-3,0,0,0,0,0,0,0,0,0,0,0,0,0,0,0,0,0,0,0,0,0,0,0,0,0,0,0,0,0,0]
[]
[]
["References:"]
["*Emission factors are derived from the District's evaluation of dairy research studies conducted by California colleges and universities."]
["Pollutants required for toxic reporting. Current as of update date."]
["(Does not include emissions from Lagoons or enteric emissions from cows)"]

{"sheet":"Milk Parlor","index":10,"n_rows":62,"n_cols":7,"rows_kept":62,"cut":false,"hidden":false,"merged":[[54,0,54,8],[55,0,55,8],[11,0,13,0],[11,1,13,1],[11,2,13,2],[11,3,13,3],[11,4,13,4],[11,5,13,5],[11,6,13,6],[2,1,2,2],[2,4,2,5],[0,1,0,12],[1,1,1,12],[10,0,10,2],[7,3,8,6],[6,3,6,6]]}
["Name","Agricultural Miscellaneous Emissions from Dairy Operations (Milk Parlors)"]
["Applicability","Use this spreadsheet to characterize the miscellanous emissions from Dairy sources when VOC rates are known. VOC emission rates linked to RMR worksheet. Enter VOC and NH3 rates if there is more than one Milk Parlor."]
["Author or updater","Matthew Cegielski",null,"Last Update","2025-09-29"]
["Facility:",{"$f":"'Cow Housing'!C4","v":"Happy Cows"}]
["ID#:",{"$f":"'Cow Housing'!C5","v":"C-7777"}]
["Project #:",{"$f":"'Cow Housing'!C6","v":"C-3333"}]
["More than one Milk Parlor?","Y",null,"Formula "]
["Inputs","VOC               lb/yr","NH3              lb/yr","Select N or Y from the dropdown. If there is more than one Milk Parlor, enter VOC and NH3 rates. Toxic emissions are calculated by the multiplication of the VOC Rates and Emission Factors. "]
["Milk Parlor 1",25,5]
["Milk Parlor 2",50,40,"lb/hr","lb/yr","lb/hr","lb/yr"]
["VOC Emission Rates",null,null,{"$f":"E11/8760","v":2.8538812785388126E-3},{"$f":"MAX(IF(B7=\"N\",RMR!F11,B9),0)","v":25},{"$f":"G11/8760","v":5.7077625570776253E-3},{"$f":"MAX(IF(B7=\"N\",0,$B$10),0)","v":50}]
["Substances","CAS#"," Toxic EF's  (lb/lb VOC)*","LB/HR","LB/YR","LB/HR","LB/YR"]
[]
[]
["1,1,2,2-Tetrachloroethane",79345,8.7299999999999994E-6,{"$f":"$D$11*C15","v":2.4914383561643834E-8},{"$f":"$E$11*C15","v":2.1824999999999999E-4},{"$f":"$F$11*C15","v":4.9828767123287668E-8},{"$f":"$G$11*C15","v":4.3649999999999998E-4}]
["1,1,2-Trichloroethane",79005,2.2599999999999999E-4,{"$f":"$D$11*C16","v":6.4497716894977163E-7},{"$f":"$E$11*C16","v":5.6499999999999996E-3},{"$f":"$F$11*C16","v":1.2899543378995433E-6},{"$f":"$G$11*C16","v":1.1299999999999999E-2}]
["1,2,3-Trichloropropane",96184,2.7599999999999999E-4,7.8767123287671227E-7,6.8999999999999999E-3,1.5753424657534245E-6,1.38E-2]
["1,2,4-Trichlorobenzene",120821,7.7899999999999996E-4,2.2231735159817348E-6,1.9474999999999999E-2,4.4463470319634696E-6,3.8949999999999999E-2]
["1,2-Dibromo-3-chloropropane",96128,4.9400000000000001E-5,1.4098173515981736E-7,1.235E-3,2.8196347031963472E-7,2.47E-3]
["1,2-Dichlorobenzene",95501,5.4799999999999998E-4,1.5639269406392692E-6,1.37E-2,3.1278538812785384E-6,2.7400000000000001E-2]
["1,3-Dichlorobenzene",541731,4.8999999999999998E-4,1.3984018264840182E-6,1.225E-2,2.7968036529680364E-6,2.4500000000000001E-2]
["1,4 Dioxane",123911,1.41E-3,4.023972602739726E-6,3.5250000000000004E-2,8.047945205479452E-6,7.0500000000000007E-2]
["1,4-Dichlorobenzene",106467,5.1900000000000004E-4,1.4811643835616438E-6,1.2975E-2,2.9623287671232876E-6,2.5950000000000001E-2]
["Acetaldehyde",75070,2.4099999999999998E-3,6.877853881278538E-6,6.0249999999999998E-2,1.3755707762557076E-5,0.1205]
["Acrylonitrile",107131,2.43E-4,6.9349315068493142E-7,6.0749999999999997E-3,1.3869863013698628E-6,1.2149999999999999E-2]
["Benzene",71432,3.19E-4,9.1038812785388123E-7,7.9749999999999995E-3,1.8207762557077625E-6,1.5949999999999999E-2]
["Benzyl chloride",100447,2.8899999999999998E-4,8.247716894977168E-7,7.2249999999999997E-3,1.6495433789954336E-6,1.4449999999999999E-2]
["Butyraldehyde",123728,1.1400000000000001E-4,3.2534246575342466E-7,2.8500000000000001E-3,6.5068493150684932E-7,5.7000000000000002E-3]
["Carbon Disulfide",75150,2.49E-3,7.1061643835616437E-6,6.225E-2,1.4212328767123287E-5,0.1245]
["Carbon tetrachloride",56235,5.8699999999999997E-5,1.6752283105022829E-7,1.4674999999999998E-3,3.3504566210045658E-7,2.9349999999999997E-3]
["Chlorobenzene",108907,2.72E-4,7.7625570776255701E-7,6.7999999999999996E-3,1.552511415525114E-6,1.3599999999999999E-2]
["Chloroform",67663,1.3100000000000001E-4,3.738584474885845E-7,3.2750000000000001E-3,7.4771689497716901E-7,6.5500000000000003E-3]
["Chloromethane",74873,7.9299999999999998E-4,2.2631278538812782E-6,1.9824999999999999E-2,4.5262557077625564E-6,3.9649999999999998E-2]
["Crotonaldehyde",4170303,1.4100000000000001E-4,4.0239726027397261E-7,3.5250000000000004E-3,8.0479452054794522E-7,7.0500000000000007E-3]
["Cyclohexane",110827,6.8300000000000001E-3,1.949200913242009E-5,0.17075000000000001,3.898401826484018E-5,0.34150000000000003]
["Ethyl Chloride",75003,2.3900000000000001E-4,6.8207762557077627E-7,5.9750000000000003E-3,1.3641552511415525E-6,1.1950000000000001E-2]
["Ethylbenzene",100414,3.4699999999999998E-4,9.9029680365296797E-7,8.6749999999999987E-3,1.9805936073059359E-6,1.7349999999999997E-2]
["Ethylene Dibromide (EDB)",106934,3.0600000000000001E-4,8.732876712328767E-7,7.6500000000000005E-3,1.7465753424657534E-6,1.5300000000000001E-2]
["Ethylene Dichloride (EDC)",107062,5.8900000000000002E-5,1.6809360730593607E-7,1.4725000000000001E-3,3.3618721461187214E-7,2.9450000000000001E-3]
["Formaldehyde",50000,3.9800000000000002E-4,1.1358447488584475E-6,9.9500000000000005E-3,2.2716894977168949E-6,1.9900000000000001E-2]
["Hexane",110543,8.12E-4,2.317351598173516E-6,2.0299999999999999E-2,4.634703196347032E-6,4.0599999999999997E-2]
["Isopropyl Alchol",67630,1.6199999999999999E-3,4.6232876712328766E-6,4.0499999999999994E-2,9.2465753424657532E-6,8.0999999999999989E-2]
["Isopropylbenzene (Cumene)",98828,5.6100000000000002E-5,1.601027397260274E-7,1.4025000000000001E-3,3.2020547945205481E-7,2.8050000000000002E-3]
["Methyl Ethyl Ketone (2-butanone)",78933,1.46E-2,4.1666666666666665E-5,0.36499999999999999,8.3333333333333331E-5,0.73]
["Methyl Isobutyl Ketone",108101,7.0899999999999999E-4,2.023401826484018E-6,1.7725000000000001E-2,4.0468036529680359E-6,3.5450000000000002E-2]
["Styrene",100425,3.59E-4,1.0245433789954337E-6,8.9750000000000003E-3,2.0490867579908673E-6,1.7950000000000001E-2]
["t-1,4-Dichloro-2-butene",764410,8.92E-4,2.5456621004566208E-6,2.23E-2,5.0913242009132417E-6,4.4600000000000001E-2]
["Toluene",108883,1.07E-3,3.0536529680365293E-6,2.6749999999999999E-2,6.1073059360730586E-6,5.3499999999999999E-2]
["Trichlorofluoromethane*",75694,1.08E-7,3.0821917808219174E-10,2.7E-6,6.1643835616438348E-10,5.4E-6]
["Vinyl acetate",108054,1.97E-3,5.6221461187214609E-6,4.9250000000000002E-2,1.1244292237442922E-5,9.8500000000000004E-2]
["Xylenes",1330207,1.8E-3,5.1369863013698623E-6,4.4999999999999998E-2,1.0273972602739725E-5,0.09]
["Ammonia",7664417,null,{"$f":"IF(B7=\"N\",RMR!G11,C9/8760)","v":5.7077625570776253E-4},{"$f":"IF(B7=\"N\",RMR!H11,C9)","v":5},{"$f":"G52/8760","v":4.5662100456621002E-3},{"$f":"IF(B7=\"N\",0,$C$10)","v":40}]
[]
["References:"]
["*Emission factors are derived from the District's evaluation of dairy research studies conducted by California colleges and universities."]
["Pollutants required for toxic reporting. Current as of update date."]
[]
[]
[]
[null,"Milk Parlor"]
[null,"N"]
[null,"Y"]

{"sheet":"Dairy Lagoon","index":11,"n_rows":49,"n_cols":16,"rows_kept":49,"cut":false,"hidden":false,"merged":[[9,10,11,10],[8,5,8,6],[8,9,8,10],[8,7,8,8],[8,3,8,4],[9,3,11,3],[6,3,6,6],[7,3,7,6],[0,1,0,12],[1,1,1,12],[2,1,2,2],[2,4,2,5],[47,0,47,9],[48,0,48,9],[9,7,11,7],[9,8,11,8],[9,9,11,9],[9,0,11,0],[9,1,11,1],[9,2,11,2],[9,5,11,5],[9,6,11,6],[46,0,46,9],[9,4,11,4],[43,3,43,4],[44,3,44,4]]}
["Name","Agricultural Lagoon Emissions from Dairy Operations  ",null,null,null,null,null,null,null,null,null,null,null,null,"Lagoon Area m2","Lagoon Fraction"]
["Applicability","Use this spreadsheet when the emissions are from a Dairy Lagoon sources and the VOC rates are known. The VOC rates are linked to the RMR worksheet cells VOC rates in 'Lagoon/Storage Pond row'. Enter values into the Lagoon area calculator on the right to determine area fraction(s). Total ammonia value is linked  to the RMR worksheet cells, 'Lagoon/Storage Pond'. Individual Lagoon values are calculated by multiplying the total lagoon ammonia by their area fraction. Entries required in yellow areas, output in gray areas.",null,null,null,null,null,null,null,null,null,null,null,null,500,{"$f":"O2/$O$5","v":0.5}]
["Author or updater","Matthew Cegielski",null,"Last Update","2025-09-29",null,null,null,null,null,null,null,null,null,250,{"$f":"O3/$O$5","v":0.25}]
["Facility:",{"$f":"'Cow Housing'!C4","v":"Happy Cows"},null,null,null,null,null,null,null,null,null,null,null,null,250,{"$f":"O4/$O$5","v":0.25}]
["ID#:",{"$f":"'Cow Housing'!C5","v":"C-7777"},null,null,null,null,null,null,null,null,null,null,null,"Totals",{"$f":"SUM(O2:O4)","v":1000},{"$f":"SUM(P2:P4)","v":1}]
["Project #:",{"$f":"'Cow Housing'!C6","v":"C-3333"},null,null,null,null,null,null,null,null,null,null,null,null,"lb/hr","lb/yr"]
["Inputs","lb/hr","lb/yr","Formula ",null,null,null,null,null,null,null,null,null,"Lagoon NH3",{"$f":"RMR!G16","v":0},{"$f":"RMR!H16","v":0}]
["VOC Rate",{"$f":"IF(RMR!E16<0,0,RMR!E16)","v":0},{"$f":"IF(RMR!F16<0,0,RMR!F16)","v":0},"Emissions are calculated by the multiplication of the VOC rates, area fracton, and emission factors. "]
[null,null,null,"Lagoon Area Fraction",null,{"$f":"P2","v":0.5},null,{"$f":"P3","v":0.25},null,{"$f":"P4","v":0.25}]
["Substances","CAS#"," Emissions Factors  lb/VOC*","LB/HR","LB/YR","Lagoon LB/HR","Lagoon LB/YR","Lagoon 2 LB/HR","Lagoon 2 LB/YR","Lagoon 3 LB/HR","Lagoon 3 LB/YR"]
[]
[]
["1,1,2,2-Tetrachloroethane",79345,3.4375000000000003E-2,{"$f":"$B$8*C13","v":0},{"$f":"$C$8*C13","v":0},{"$f":"D13*$F$9","v":0},{"$f":"E13*$F$9","v":0},{"$f":"D13*$H$9","v":0},{"$f":"E13*$H$9","v":0},{"$f":"D13*$J$9","v":0},{"$f":"E13*$J$9","v":0}]
["1,1,2-Trichloroethane",79005,7.9375000000000001E-3,{"$f":"$B$8*C14","v":0},{"$f":"$C$8*C14","v":0},{"$f":"D14*$F$9","v":0},0,0,0,0,0]
["1,2,4-Trimethylbenzene",95636,2.9375000000000005E-2,0,0,0,0,0,0,0,0]
["1,2-Dichlorobenzene",95501,6.25E-2,0,0,0,0,0,0,0,0]
["1,3-Dichlorobenzene",541731,4.9375000000000009E-2,0,0,0,0,0,0,0,0]
["1,3-Dichloropropene",542756,7.4374999999999988E-3,0,0,0,0,0,0,0,0]
["1,4 Dioxane",123911,2.4999999999999998E-2,0,0,0,0,0,0,0,0]
["1,4-Dichloro-2-butene",764410,6.8750000000000006E-2,0,0,0,0,0,0,0,0]
["1,4-Dichlorobenzene",106467,5.1875000000000004E-2,0,0,0,0,0,0,0,0]
["Acetaldehyde",75070,1.5625E-2,0,0,0,0,0,0,0,0]
["Acrylonitrile",107131,7.3125000000000013E-3,0,0,0,0,0,0,0,0]
["Benzene",71432,2.875E-3,0,0,0,0,0,0,0,0]
["Benzyl chloride",100447,3.125E-2,0,0,0,0,0,0,0,0]
["Carbon disulfide",75150,3.9375E-2,0,0,{"$f":"D26*$F$9","v":0},0,0,0,0,0]
["Chlorobenzene",108907,1.3125000000000001E-2,0,0,0,0,0,0,0,0]
["Cumene",98828,1.9375E-2,0,0,0,0,0,0,0,0]
["Cyclohexane",110827,8.1875000000000003E-3,0,0,0,0,0,0,0,0]
["Ethyl Chloride",75003,4.6249999999999998E-3,0,0,0,0,0,0,0,0]
["Ethylbenzene",100414,1.0000000000000002E-2,0,0,0,0,0,0,0,0]
["Ethylene Dibromide (EDB)",106934,1.4374999999999999E-2,0,0,0,0,0,0,0,0]
["Ethylene Dichloride (EDC)",107062,4.0625000000000001E-3,0,0,0,0,0,0,0,0]
["Formaldehyde",50000,8.1250000000000003E-3,0,0,0,0,0,0,0,0]
["Hexane",110543,4.3124999999999995E-3,0,0,0,0,0,0,0,0]
["Isopropyl Alchol",67630,7.499999999999998E-3,0,0,0,0,0,0,0,0]
["Methyl Ethyl Ketone",78933,1.375E-2,0,0,0,0,0,0,0,0]
["Methyl Isobutyl Ketone",108101,1.13125E-2,0,0,0,0,0,0,0,0]
["Styrene",100425,1.6250000000000001E-2,0,0,0,0,0,0,0,0]
["Toluene",108883,1.2499999999999999E-2,0,0,0,0,0,0,0,0]
["Trichloroethylene",79016,1.1187500000000001E-2,0,0,0,0,0,0,0,0]
["Xylenes",1330207,1.8749999999999996E-2,0,0,0,0,0,0,0,0]
["Ammonia",7664417,null,null,null,{"$f":"O7*F9","v":0},{"$f":"P7*F9","v":0},{"$f":"O7*H9","v":0},{"$f":"P7*H9","v":0},{"$f":"O7*J9","v":0},{"$f":"P7*J9","v":0}]
[]
[]
["References:"]
["*Emission factors are derived from data used to establish the District’s volatile organic compound (VOC) emission factor for dairies"]
["Pollutants required for toxic reporting. Current as of update date."]
["(Does not include emissions from Miscellaneous Processes or enteric emissions from cows)"]

{"sheet":"SHARP ","index":12,"n_rows":4395,"n_cols":14,"rows_kept":4395,"cut":false,"hidden":false,"merged":[]}
["Project ID","Device Name","DEV","PROID"]
[]
[{"$f":"'Cow Housing'!$C$6","v":"C-3333"},"Soild Pile Storage",4,1,null,null,null,null,null,null,null,null,"Solid Pile Area m2","Pile Fraction"]
[{"$f":"'Cow Housing'!$C$6","v":"C-3333"},"Soild Pile Storage",4,2,null,null,null,null,null,null,null,null,null,{"$f":"M4/$M$7","v":{"$error":"#DIV/0!"}}]
[{"$f":"'Cow Housing'!$C$6","v":"C-3333"},"Soild Pile Storage",4,3,null,null,null,null,null,null,null,null,null,{"$f":"M5/$M$7","v":{"$error":"#DIV/0!"}}]
[{"$f":"'Cow Housing'!$C$6","v":"C-3333"},"Land App Solid",4,4,null,null,null,null,null,null,null,null,null,{"$f":"M6/$M$7","v":{"$error":"#DIV/0!"}}]
[{"$f":"'Cow Housing'!$C$6","v":"C-3333"},"Land App Solid",4,5,null,null,null,null,null,null,null,"Totals",{"$f":"SUM(M4:M6)","v":0},{"$f":"SUM(N4:N6)","v":{"$error":"#DIV/0!"}}]
[{"$f":"'Cow Housing'!$C$6","v":"C-3333"},"Land App Solid",4,6,null,null,null,null,null,null,null,null,"lb/hr","lb/yr"]
[{"$f":"'Cow Housing'!$C$6","v":"C-3333"},"Land App Liquid",3,4,null,null,null,null,null,null,null,"Solid NH3",{"$f":"RMR!G19","v":0},{"$f":"RMR!H19","v":0}]
[{"$f":"'Cow Housing'!$C$6","v":"C-3333"},"Land App Liquid",3,5]
[{"$f":"'Cow Housing'!$C$6","v":"C-3333"},"Land App Liquid",3,6]
[{"$f":"'Cow Housing'!$C$6","v":"C-3333"},"Lagoon 1",3,1,null,null,null,null,null,null,null,null,"Land App Area m2","Land App Fraction"]
[{"$f":"'Cow Housing'!$C$6","v":"C-3333"},"Lagoon 2",3,2,null,null,null,null,null,null,null,null,null,{"$f":"M13/$M$16","v":{"$error":"#DIV/0!"}}]
[{"$f":"'Cow Housing'!$C$6","v":"C-3333"},"Lagoon 3",3,3,null,null,null,null,null,null,null,null,null,{"$f":"M14/$M$16","v":{"$error":"#DIV/0!"}}]
[{"$f":"'Cow Housing'!$C$6","v":"C-3333"},"Milk Parlor 1",1,1,null,null,null,null,null,null,null,null,null,{"$f":"M15/$M$16","v":{"$error":"#DIV/0!"}}]
[{"$f":"'Cow Housing'!$C$6","v":"C-3333"},"Milk Parlor 2",1,2,null,null,null,null,null,null,null,"Totals",{"$f":"SUM(M13:M15)","v":0},{"$f":"SUM(N13:N15)","v":{"$error":"#DIV/0!"}}]
[{"$f":"'Cow Housing'!$C$6","v":"C-3333"},{"$f":"'Cow Housing'!B9","v":0},2,1,null,null,null,null,null,null,null,null,"lb/hr","lb/yr"]
[{"$f":"'Cow Housing'!$C$6","v":"C-3333"},{"$f":"'Cow Housing'!B10","v":0},2,2,null,null,null,null,null,null,null,"Land App Soild NH3",{"$f":"RMR!G18","v":0},{"$f":"RMR!H18","v":0}]
[{"$f":"'Cow Housing'!$C$6","v":"C-3333"},{"$f":"'Cow Housing'!B11","v":0},2,3,null,null,null,null,null,null,null,"Land App Liquid NH3",{"$f":"RMR!G17","v":0},{"$f":"RMR!H17","v":0}]
[{"$f":"'Cow Housing'!$C$6","v":"C-3333"},{"$f":"'Cow Housing'!B12","v":0},2,4]
[{"$f":"'Cow Housing'!$C$6","v":"C-3333"},{"$f":"'Cow Housing'!B13","v":0},2,5]
[{"$f":"'Cow Housing'!$C$6","v":"C-3333"},{"$f":"'Cow Housing'!B14","v":0},2,6]
[{"$f":"'Cow Housing'!$C$6","v":"C-3333"},{"$f":"'Cow Housing'!B15","v":0},2,7]
[{"$f":"'Cow Housing'!$C$6","v":"C-3333"},{"$f":"'Cow Housing'!B16","v":0},2,8]
[{"$f":"'Cow Housing'!$C$6","v":"C-3333"},{"$f":"'Cow Housing'!B17","v":0},2,9]
[{"$f":"'Cow Housing'!$C$6","v":"C-3333"},{"$f":"'Cow Housing'!B18","v":0},2,10]
[{"$f":"'Cow Housing'!$C$6","v":"C-3333"},{"$f":"'Cow Housing'!B19","v":0},2,11]
[{"$f":"'Cow Housing'!$C$6","v":"C-3333"},{"$f":"'Cow Housing'!B20","v":0},2,12]
[{"$f":"'Cow Housing'!$C$6","v":"C-3333"},{"$f":"'Cow Housing'!B21","v":0},2,13]
[{"$f":"'Cow Housing'!$C$6","v":"C-3333"},{"$f":"'Cow Housing'!B22","v":0},2,14]
[{"$f":"'Cow Housing'!$C$6","v":"C-3333"},{"$f":"'Cow Housing'!B23","v":0},2,15]
[{"$f":"'Cow Housing'!$C$6","v":"C-3333"},{"$f":"'Cow Housing'!B24","v":0},2,16]
[{"$f":"'Cow Housing'!$C$6","v":"C-3333"},{"$f":"'Cow Housing'!B25","v":0},2,17]
[{"$f":"'Cow Housing'!$C$6","v":"C-3333"},{"$f":"'Cow Housing'!B26","v":0},2,18]
[{"$f":"'Cow Housing'!$C$6","v":"C-3333"},{"$f":"'Cow Housing'!B27","v":0},2,19]
[{"$f":"'Cow Housing'!$C$6","v":"C-3333"},{"$f":"'Cow Housing'!B28","v":0},2,20]
[{"$f":"'Cow Housing'!$C$6","v":"C-3333"},{"$f":"'Cow Housing'!B29","v":0},2,21]
[{"$f":"'Cow Housing'!$C$6","v":"C-3333"},{"$f":"'Cow Housing'!B30","v":0},2,22]
[{"$f":"'Cow Housing'!$C$6","v":"C-3333"},{"$f":"'Cow Housing'!B31","v":0},2,23]
[{"$f":"'Cow Housing'!$C$6","v":"C-3333"},{"$f":"'Cow Housing'!B32","v":0},2,24]
[{"$f":"'Cow Housing'!$C$6","v":"C-3333"},{"$f":"'Cow Housing'!B33","v":0},2,25]
[{"$f":"'Cow Housing'!$C$6","v":"C-3333"},{"$f":"'Cow Housing'!B34","v":0},2,26]
[{"$f":"'Cow Housing'!$C$6","v":"C-3333"},{"$f":"'Cow Housing'!B35","v":0},2,27]
[{"$f":"'Cow Housing'!$C$6","v":"C-3333"},{"$f":"'Cow Housing'!B36","v":0},2,28]
[{"$f":"'Cow Housing'!$C$6","v":"C-3333"},{"$f":"'Cow Housing'!B37","v":0},2,29]
[{"$f":"'Cow Housing'!$C$6","v":"C-3333"},{"$f":"'Cow Housing'!B38","v":0},2,30]
[{"$f":"'Cow Housing'!$C$6","v":"C-3333"},{"$f":"'Cow Housing'!B39","v":0},2,31]
[{"$f":"'Cow Housing'!$C$6","v":"C-3333"},{"$f":"'Cow Housing'!B40","v":0},2,32]
[{"$f":"'Cow Housing'!$C$6","v":"C-3333"},{"$f":"'Cow Housing'!B41","v":0},2,33]
[{"$f":"'Cow Housing'!$C$6","v":"C-3333"},{"$f":"'Cow Housing'!B42","v":0},2,34]
[{"$f":"'Cow Housing'!$C$6","v":"C-3333"},{"$f":"'Cow Housing'!B43","v":0},2,35]
[{"$f":"'Cow Housing'!$C$6","v":"C-3333"},{"$f":"'Cow Housing'!B44","v":0},2,36]
[{"$f":"'Cow Housing'!$C$6","v":"C-3333"},{"$f":"'Cow Housing'!B45","v":0},2,37]
[{"$f":"'Cow Housing'!$C$6","v":"C-3333"},{"$f":"'Cow Housing'!B46","v":0},2,38]
[{"$f":"'Cow Housing'!$C$6","v":"C-3333"},{"$f":"'Cow Housing'!B47","v":0},2,39]
[{"$f":"'Cow Housing'!$C$6","v":"C-3333"},{"$f":"'Cow Housing'!B48","v":0},2,40]
[{"$f":"'Cow Housing'!$C$6","v":"C-3333"},{"$f":"'Cow Housing'!B49","v":0},2,41]
[{"$f":"'Cow Housing'!$C$6","v":"C-3333"},{"$f":"'Cow Housing'!B50","v":0},2,42]
[{"$f":"'Cow Housing'!$C$6","v":"C-3333"},{"$f":"'Cow Housing'!B51","v":0},2,43]
[{"$f":"'Cow Housing'!$C$6","v":"C-3333"},{"$f":"'Cow Housing'!B52","v":0},2,44]
[{"$f":"'Cow Housing'!$C$6","v":"C-3333"},{"$f":"'Cow Housing'!B53","v":0},2,45]
[{"$f":"'Cow Housing'!$C$6","v":"C-3333"},{"$f":"'Cow Housing'!B54","v":0},2,46]
[{"$f":"'Cow Housing'!$C$6","v":"C-3333"},{"$f":"'Cow Housing'!B55","v":0},2,47]
[{"$f":"'Cow Housing'!$C$6","v":"C-3333"},{"$f":"'Cow Housing'!B56","v":0},2,48]
[{"$f":"'Cow Housing'!$C$6","v":"C-3333"},{"$f":"'Cow Housing'!B57","v":0},2,49]
[{"$f":"'Cow Housing'!$C$6","v":"C-3333"},{"$f":"'Cow Housing'!B58","v":0},2,50]
[{"$f":"'Cow Housing'!$C$6","v":"C-3333"},{"$f":"'Cow Housing'!B59","v":0},2,51]
[{"$f":"'Cow Housing'!$C$6","v":"C-3333"},{"$f":"'Cow Housing'!B60","v":0},2,52]
[{"$f":"'Cow Housing'!$C$6","v":"C-3333"},{"$f":"'Cow Housing'!B61","v":0},2,53]
[{"$f":"'Cow Housing'!$C$6","v":"C-3333"},{"$f":"'Cow Housing'!B62","v":0},2,54]
[{"$f":"'Cow Housing'!$C$6","v":"C-3333"},{"$f":"'Cow Housing'!B63","v":0},2,55]
[{"$f":"'Cow Housing'!$C$6","v":"C-3333"},{"$f":"'Cow Housing'!B64","v":0},2,56]
[{"$f":"'Cow Housing'!$C$6","v":"C-3333"},{"$f":"'Cow Housing'!B65","v":0},2,57]
[{"$f":"'Cow Housing'!$C$6","v":"C-3333"},{"$f":"'Cow Housing'!B66","v":0},2,58]
[{"$f":"'Cow Housing'!$C$6","v":"C-3333"},{"$f":"'Cow Housing'!B67","v":0},2,59]
[{"$f":"'Cow Housing'!$C$6","v":"C-3333"},{"$f":"'Cow Housing'!B68","v":0},2,60]
[{"$f":"'Cow Housing'!$C$6","v":"C-3333"},{"$f":"'Cow Housing'!B69","v":0},2,61]
[{"$f":"'Cow Housing'!$C$6","v":"C-3333"},{"$f":"'Cow Housing'!B70","v":0},2,62]
[{"$f":"'Cow Housing'!$C$6","v":"C-3333"},{"$f":"'Cow Housing'!B71","v":0},2,63]
[{"$f":"'Cow Housing'!$C$6","v":"C-3333"},{"$f":"'Cow Housing'!B72","v":0},2,64]
[{"$f":"'Cow Housing'!$C$6","v":"C-3333"},{"$f":"'Cow Housing'!B73","v":0},2,65]
[{"$f":"'Cow Housing'!$C$6","v":"C-3333"},{"$f":"'Cow Housing'!B74","v":0},2,66]
[{"$f":"'Cow Housing'!$C$6","v":"C-3333"},{"$f":"'Cow Housing'!B75","v":0},2,67]
[{"$f":"'Cow Housing'!$C$6","v":"C-3333"},{"$f":"'Cow Housing'!B76","v":0},2,68]
[{"$f":"'Cow Housing'!$C$6","v":"C-3333"},{"$f":"'Cow Housing'!B77","v":0},2,69]
[{"$f":"'Cow Housing'!$C$6","v":"C-3333"},{"$f":"'Cow Housing'!B78","v":0},2,70]
[{"$f":"'Cow Housing'!$C$6","v":"C-3333"},{"$f":"'Cow Housing'!B79","v":0},2,71]
[{"$f":"'Cow Housing'!$C$6","v":"C-3333"},{"$f":"'Cow Housing'!B80","v":0},2,72]
[{"$f":"'Cow Housing'!$C$6","v":"C-3333"},{"$f":"'Cow Housing'!B81","v":0},2,73]
[{"$f":"'Cow Housing'!$C$6","v":"C-3333"},{"$f":"'Cow Housing'!B82","v":0},2,74]
[{"$f":"'Cow Housing'!$C$6","v":"C-3333"},{"$f":"'Cow Housing'!B83","v":0},2,75]
["Project ID","Device Name","DEV","PROID","POL","Cas Name","HR","EMS"]
[{"$f":"'Cow Housing'!$C$6","v":"C-3333"},{"$f":"$B$15","v":"Milk Parlor 1"},{"$f":"$C$15","v":1},{"$f":"$D$15","v":1},50000,null,{"$f":"'Milk Parlor'!D40","v":1.1358447488584475E-6},{"$f":"'Milk Parlor'!E40","v":9.9500000000000005E-3}]
[{"$f":"'Cow Housing'!$C$6","v":"C-3333"},{"$f":"$B$15","v":"Milk Parlor 1"},{"$f":"$C$15","v":1},{"$f":"$D$15","v":1},56235,null,{"$f":"'Milk Parlor'!D30","v":1.6752283105022829E-7},{"$f":"'Milk Parlor'!E30","v":1.4674999999999998E-3}]
[{"$f":"'Cow Housing'!$C$6","v":"C-3333"},{"$f":"$B$15","v":"Milk Parlor 1"},{"$f":"$C$15","v":1},{"$f":"$D$15","v":1},67630,null,{"$f":"'Milk Parlor'!D42","v":4.6232876712328766E-6},{"$f":"'Milk Parlor'!E42","v":4.0499999999999994E-2}]
[{"$f":"'Cow Housing'!$C$6","v":"C-3333"},{"$f":"$B$15","v":"Milk Parlor 1"},{"$f":"$C$15","v":1},{"$f":"$D$15","v":1},67663,null,{"$f":"'Milk Parlor'!D32","v":3.738584474885845E-7},{"$f":"'Milk Parlor'!E32","v":3.2750000000000001E-3}]
[{"$f":"'Cow Housing'!$C$6","v":"C-3333"},{"$f":"$B$15","v":"Milk Parlor 1"},{"$f":"$C$15","v":1},{"$f":"$D$15","v":1},71432,null,{"$f":"'Milk Parlor'!D26","v":9.1038812785388123E-7},{"$f":"'Milk Parlor'!E26","v":7.9749999999999995E-3}]
[{"$f":"'Cow Housing'!$C$6","v":"C-3333"},{"$f":"$B$15","v":"Milk Parlor 1"},{"$f":"$C$15","v":1},{"$f":"$D$15","v":1},74873,null,{"$f":"'Milk Parlor'!D33","v":2.2631278538812782E-6},{"$f":"'Milk Parlor'!E33","v":1.9824999999999999E-2}]
[{"$f":"'Cow Housing'!$C$6","v":"C-3333"},{"$f":"$B$15","v":"Milk Parlor 1"},{"$f":"$C$15","v":1},{"$f":"$D$15","v":1},75003,null,{"$f":"'Milk Parlor'!D36","v":6.8207762557077627E-7},{"$f":"'Milk Parlor'!E36","v":5.9750000000000003E-3}]
[{"$f":"'Cow Housing'!$C$6","v":"C-3333"},{"$f":"$B$15","v":"Milk Parlor 1"},{"$f":"$C$15","v":1},{"$f":"$D$15","v":1},75070,null,{"$f":"'Milk Parlor'!D24","v":6.877853881278538E-6},{"$f":"'Milk Parlor'!E24","v":6.0249999999999998E-2}]
[{"$f":"'Cow Housing'!$C$6","v":"C-3333"},{"$f":"$B$15","v":"Milk Parlor 1"},{"$f":"$C$15","v":1},{"$f":"$D$15","v":1},75150,null,{"$f":"'Milk Parlor'!D29","v":7.1061643835616437E-6},{"$f":"'Milk Parlor'!E29","v":6.225E-2}]
[{"$f":"'Cow Housing'!$C$6","v":"C-3333"},{"$f":"$B$15","v":"Milk Parlor 1"},{"$f":"$C$15","v":1},{"$f":"$D$15","v":1},75694,null,{"$f":"'Milk Parlor'!D49","v":3.0821917808219174E-10},{"$f":"'Milk Parlor'!E49","v":2.7E-6}]
[{"$f":"'Cow Housing'!$C$6","v":"C-3333"},{"$f":"$B$15","v":"Milk Parlor 1"},{"$f":"$C$15","v":1},{"$f":"$D$15","v":1},78933,null,{"$f":"'Milk Parlor'!D44","v":4.1666666666666665E-5},{"$f":"'Milk Parlor'!E44","v":0.36499999999999999}]
[{"$f":"'Cow Housing'!$C$6","v":"C-3333"},{"$f":"$B$15","v":"Milk Parlor 1"},{"$f":"$C$15","v":1},{"$f":"$D$15","v":1},79005,null,{"$f":"'Milk Parlor'!D16","v":6.4497716894977163E-7},{"$f":"'Milk Parlor'!E16","v":5.6499999999999996E-3}]
[{"$f":"'Cow Housing'!$C$6","v":"C-3333"},{"$f":"$B$15","v":"Milk Parlor 1"},{"$f":"$C$15","v":1},{"$f":"$D$15","v":1},79345,null,{"$f":"'Milk Parlor'!D15","v":2.4914383561643834E-8},{"$f":"'Milk Parlor'!E15","v":2.1824999999999999E-4}]
[{"$f":"'Cow Housing'!$C$6","v":"C-3333"},{"$f":"$B$15","v":"Milk Parlor 1"},{"$f":"$C$15","v":1},{"$f":"$D$15","v":1},95501,null,{"$f":"'Milk Parlor'!D20","v":1.5639269406392692E-6},{"$f":"'Milk Parlor'!E20","v":1.37E-2}]
[{"$f":"'Cow Housing'!$C$6","v":"C-3333"},{"$f":"$B$15","v":"Milk Parlor 1"},{"$f":"$C$15","v":1},{"$f":"$D$15","v":1},96128,null,{"$f":"'Milk Parlor'!D19","v":1.4098173515981736E-7},{"$f":"'Milk Parlor'!E19","v":1.235E-3}]
[{"$f":"'Cow Housing'!$C$6","v":"C-3333"},{"$f":"$B$15","v":"Milk Parlor 1"},{"$f":"$C$15","v":1},{"$f":"$D$15","v":1},96184,null,{"$f":"'Milk Parlor'!D17","v":7.8767123287671227E-7},{"$f":"'Milk Parlor'!E17","v":6.8999999999999999E-3}]
[{"$f":"'Cow Housing'!$C$6","v":"C-3333"},{"$f":"$B$15","v":"Milk Parlor 1"},{"$f":"$C$15","v":1},{"$f":"$D$15","v":1},98828,null,{"$f":"'Milk Parlor'!D43","v":1.601027397260274E-7},{"$f":"'Milk Parlor'!E43","v":1.4025000000000001E-3}]
[{"$f":"'Cow Housing'!$C$6","v":"C-3333"},{"$f":"$B$15","v":"Milk Parlor 1"},{"$f":"$C$15","v":1},{"$f":"$D$15","v":1},100414,null,{"$f":"'Milk Parlor'!D37","v":9.9029680365296797E-7},{"$f":"'Milk Parlor'!E37","v":8.6749999999999987E-3}]
[{"$f":"'Cow Housing'!$C$6","v":"C-3333"},{"$f":"$B$15","v":"Milk Parlor 1"},{"$f":"$C$15","v":1},{"$f":"$D$15","v":1},100425,null,{"$f":"'Milk Parlor'!D46","v":1.0245433789954337E-6},{"$f":"'Milk Parlor'!E46","v":8.9750000000000003E-3}]
[{"$f":"'Cow Housing'!$C$6","v":"C-3333"},{"$f":"$B$15","v":"Milk Parlor 1"},{"$f":"$C$15","v":1},{"$f":"$D$15","v":1},100447,null,{"$f":"'Milk Parlor'!D27","v":8.247716894977168E-7},{"$f":"'Milk Parlor'!E27","v":7.2249999999999997E-3}]
[{"$f":"'Cow Housing'!$C$6","v":"C-3333"},{"$f":"$B$15","v":"Milk Parlor 1"},{"$f":"$C$15","v":1},{"$f":"$D$15","v":1},106467,null,{"$f":"'Milk Parlor'!D23","v":1.4811643835616438E-6},{"$f":"'Milk Parlor'!E23","v":1.2975E-2}]
[{"$f":"'Cow Housing'!$C$6","v":"C-3333"},{"$f":"$B$15","v":"Milk Parlor 1"},{"$f":"$C$15","v":1},{"$f":"$D$15","v":1},106934,null,{"$f":"'Milk Parlor'!D38","v":8.732876712328767E-7},{"$f":"'Milk Parlor'!E38","v":7.6500000000000005E-3}]
[{"$f":"'Cow Housing'!$C$6","v":"C-3333"},{"$f":"$B$15","v":"Milk Parlor 1"},{"$f":"$C$15","v":1},{"$f":"$D$15","v":1},107062,null,{"$f":"'Milk Parlor'!D39","v":1.6809360730593607E-7},{"$f":"'Milk Parlor'!E39","v":1.4725000000000001E-3}]
[{"$f":"'Cow Housing'!$C$6","v":"C-3333"},{"$f":"$B$15","v":"Milk Parlor 1"},{"$f":"$C$15","v":1},{"$f":"$D$15","v":1},107131,null,{"$f":"'Milk Parlor'!D25","v":6.9349315068493142E-7},{"$f":"'Milk Parlor'!E25","v":6.0749999999999997E-3}]
[{"$f":"'Cow Housing'!$C$6","v":"C-3333"},{"$f":"$B$15","v":"Milk Parlor 1"},{"$f":"$C$15","v":1},{"$f":"$D$15","v":1},108054,null,{"$f":"'Milk Parlor'!D50","v":5.6221461187214609E-6},{"$f":"'Milk Parlor'!E50","v":4.9250000000000002E-2}]
[{"$f":"'Cow Housing'!$C$6","v":"C-3333"},{"$f":"$B$15","v":"Milk Parlor 1"},{"$f":"$C$15","v":1},{"$f":"$D$15","v":1},108101,null,{"$f":"'Milk Parlor'!D45","v":2.023401826484018E-6},{"$f":"'Milk Parlor'!E45","v":1.7725000000000001E-2}]
[{"$f":"'Cow Housing'!$C$6","v":"C-3333"},{"$f":"$B$15","v":"Milk Parlor 1"},{"$f":"$C$15","v":1},{"$f":"$D$15","v":1},108883,null,{"$f":"'Milk Parlor'!D48","v":3.0536529680365293E-6},{"$f":"'Milk Parlor'!E48","v":2.6749999999999999E-2}]
[{"$f":"'Cow Housing'!$C$6","v":"C-3333"},{"$f":"$B$15","v":"Milk Parlor 1"},{"$f":"$C$15","v":1},{"$f":"$D$15","v":1},108907,null,{"$f":"'Milk Parlor'!D31","v":7.7625570776255701E-7},{"$f":"'Milk Parlor'!E31","v":6.7999999999999996E-3}]
[{"$f":"'Cow Housing'!$C$6","v":"C-3333"},{"$f":"$B$15","v":"Milk Parlor 1"},{"$f":"$C$15","v":1},{"$f":"$D$15","v":1},110543,null,{"$f":"'Milk Parlor'!D41","v":2.317351598173516E-6},{"$f":"'Milk Parlor'!E41","v":2.0299999999999999E-2}]
[{"$f":"'Cow Housing'!$C$6","v":"C-3333"},{"$f":"$B$15","v":"Milk Parlor 1"},{"$f":"$C$15","v":1},{"$f":"$D$15","v":1},110827,null,{"$f":"'Milk Parlor'!D35","v":1.949200913242009E-5},{"$f":"'Milk Parlor'!E35","v":0.17075000000000001}]
[{"$f":"'Cow Housing'!$C$6","v":"C-3333"},{"$f":"$B$15","v":"Milk Parlor 1"},{"$f":"$C$15","v":1},{"$f":"$D$15","v":1},120821,null,{"$f":"'Milk Parlor'!D18","v":2.2231735159817348E-6},{"$f":"'Milk Parlor'!E18","v":1.9474999999999999E-2}]
[{"$f":"'Cow Housing'!$C$6","v":"C-3333"},{"$f":"$B$15","v":"Milk Parlor 1"},{"$f":"$C$15","v":1},{"$f":"$D$15","v":1},123728,null,{"$f":"'Milk Parlor'!D28","v":3.2534246575342466E-7},{"$f":"'Milk Parlor'!E28","v":2.8500000000000001E-3}]
[{"$f":"'Cow Housing'!$C$6","v":"C-3333"},{"$f":"$B$15","v":"Milk Parlor 1"},{"$f":"$C$15","v":1},{"$f":"$D$15","v":1},123911,null,{"$f":"'Milk Parlor'!D22","v":4.023972602739726E-6},{"$f":"'Milk Parlor'!E22","v":3.5250000000000004E-2}]
[{"$f":"'Cow Housing'!$C$6","v":"C-3333"},{"$f":"$B$15","v":"Milk Parlor 1"},{"$f":"$C$15","v":1},{"$f":"$D$15","v":1},541731,null,{"$f":"'Milk Parlor'!D21","v":1.3984018264840182E-6},{"$f":"'Milk Parlor'!E21","v":1.225E-2}]
[{"$f":"'Cow Housing'!$C$6","v":"C-3333"},{"$f":"$B$15","v":"Milk Parlor 1"},{"$f":"$C$15","v":1},{"$f":"$D$15","v":1},764410,null,{"$f":"'Milk Parlor'!D47","v":2.5456621004566208E-6},{"$f":"'Milk Parlor'!E47","v":2.23E-2}]
[{"$f":"'Cow Housing'!$C$6","v":"C-3333"},{"$f":"$B$15","v":"Milk Parlor 1"},{"$f":"$C$15","v":1},{"$f":"$D$15","v":1},1330207,null,{"$f":"'Milk Parlor'!D51","v":5.1369863013698623E-6},{"$f":"'Milk Parlor'!E51","v":4.4999999999999998E-2}]
[{"$f":"'Cow Housing'!$C$6","v":"C-3333"},{"$f":"$B$15","v":"Milk Parlor 1"},{"$f":"$C$15","v":1},{"$f":"$D$15","v":1},4170303,null,{"$f":"'Milk Parlor'!D34","v":4.0239726027397261E-7},{"$f":"'Milk Parlor'!E34","v":3.5250000000000004E-3}]
[{"$f":"'Cow Housing'!$C$6","v":"C-3333"},{"$f":"$B$15","v":"Milk Parlor 1"},{"$f":"$C$15","v":1},{"$f":"$D$15","v":1},7664417,null,{"$f":"'Milk Parlor'!D52","v":5.7077625570776253E-4},{"$f":"'Milk Parlor'!E52","v":5}]
[{"$f":"'Cow Housing'!$C$6","v":"C-3333"},{"$f":"$B$16","v":"Milk Parlor 2"},{"$f":"$C$16","v":1},{"$f":"$D$16","v":2},50000,null,{"$f":"'Milk Parlor'!F40","v":2.2716894977168949E-6},{"$f":"'Milk Parlor'!G40","v":1.9900000000000001E-2}]
[{"$f":"'Cow Housing'!$C$6","v":"C-3333"},{"$f":"$B$16","v":"Milk Parlor 2"},{"$f":"$C$16","v":1},{"$f":"$D$16","v":2},56235,null,{"$f":"'Milk Parlor'!F30","v":3.3504566210045658E-7},{"$f":"'Milk Parlor'!G30","v":2.9349999999999997E-3}]
[{"$f":"'Cow Housing'!$C$6","v":"C-3333"},{"$f":"$B$16","v":"Milk Parlor 2"},{"$f":"$C$16","v":1},{"$f":"$D$16","v":2},67630,null,{"$f":"'Milk Parlor'!F42","v":9.2465753424657532E-6},{"$f":"'Milk Parlor'!G42","v":8.0999999999999989E-2}]
[{"$f":"'Cow Housing'!$C$6","v":"C-3333"},{"$f":"$B$16","v":"Milk Parlor 2"},{"$f":"$C$16","v":1},{"$f":"$D$16","v":2},67663,null,{"$f":"'Milk Parlor'!F32","v":7.4771689497716901E-7},{"$f":"'Milk Parlor'!G32","v":6.5500000000000003E-3}]
[{"$f":"'Cow Housing'!$C$6","v":"C-3333"},{"$f":"$B$16","v":"Milk Parlor 2"},{"$f":"$C$16","v":1},{"$f":"$D$16","v":2},71432,null,{"$f":"'Milk Parlor'!F26","v":1.8207762557077625E-6},{"$f":"'Milk Parlor'!G26","v":1.5949999999999999E-2}]
[{"$f":"'Cow Housing'!$C$6","v":"C-3333"},{"$f":"$B$16","v":"Milk Parlor 2"},{"$f":"$C$16","v":1},{"$f":"$D$16","v":2},74873,null,{"$f":"'Milk Parlor'!F33","v":4.5262557077625564E-6},{"$f":"'Milk Parlor'!G33","v":3.9649999999999998E-2}]
[{"$f":"'Cow Housing'!$C$6","v":"C-3333"},{"$f":"$B$16","v":"Milk Parlor 2"},{"$f":"$C$16","v":1},{"$f":"$D$16","v":2},75003,null,{"$f":"'Milk Parlor'!F36","v":1.3641552511415525E-6},{"$f":"'Milk Parlor'!G36","v":1.1950000000000001E-2}]
[{"$f":"'Cow Housing'!$C$6","v":"C-3333"},{"$f":"$B$16","v":"Milk Parlor 2"},{"$f":"$C$16","v":1},{"$f":"$D$16","v":2},75070,null,{"$f":"'Milk Parlor'!F24","v":1.3755707762557076E-5},{"$f":"'Milk Parlor'!G24","v":0.1205}]
[{"$f":"'Cow Housing'!$C$6","v":"C-3333"},{"$f":"$B$16","v":"Milk Parlor 2"},{"$f":"$C$16","v":1},{"$f":"$D$16","v":2},75150,null,{"$f":"'Milk Parlor'!F29","v":1.4212328767123287E-5},{"$f":"'Milk Parlor'!G29","v":0.1245}]
[{"$f":"'Cow Housing'!$C$6","v":"C-3333"},{"$f":"$B$16","v":"Milk Parlor 2"},{"$f":"$C$16","v":1},{"$f":"$D$16","v":2},75694,null,{"$f":"'Milk Parlor'!F49","v":6.1643835616438348E-10},{"$f":"'Milk Parlor'!G49","v":5.4E-6}]
[{"$f":"'Cow Housing'!$C$6","v":"C-3333"},{"$f":"$B$16","v":"Milk Parlor 2"},{"$f":"$C$16","v":1},{"$f":"$D$16","v":2},78933,null,{"$f":"'Milk Parlor'!F44","v":8.3333333333333331E-5},{"$f":"'Milk Parlor'!G44","v":0.73}]
[{"$f":"'Cow Housing'!$C$6","v":"C-3333"},{"$f":"$B$16","v":"Milk Parlor 2"},{"$f":"$C$16","v":1},{"$f":"$D$16","v":2},79005,null,{"$f":"'Milk Parlor'!F16","v":1.2899543378995433E-6},{"$f":"'Milk Parlor'!G16","v":1.1299999999999999E-2}]
[{"$f":"'Cow Housing'!$C$6","v":"C-3333"},{"$f":"$B$16","v":"Milk Parlor 2"},{"$f":"$C$16","v":1},{"$f":"$D$16","v":2},79345,null,{"$f":"'Milk Parlor'!F15","v":4.9828767123287668E-8},{"$f":"'Milk Parlor'!G15","v":4.3649999999999998E-4}]
[{"$f":"'Cow Housing'!$C$6","v":"C-3333"},{"$f":"$B$16","v":"Milk Parlor 2"},{"$f":"$C$16","v":1},{"$f":"$D$16","v":2},95501,null,{"$f":"'Milk Parlor'!F20","v":3.1278538812785384E-6},{"$f":"'Milk Parlor'!G20","v":2.7400000000000001E-2}]
[{"$f":"'Cow Housing'!$C$6","v":"C-3333"},{"$f":"$B$16","v":"Milk Parlor 2"},{"$f":"$C$16","v":1},{"$f":"$D$16","v":2},96128,null,{"$f":"'Milk Parlor'!F19","v":2.8196347031963472E-7},{"$f":"'Milk Parlor'!G19","v":2.47E-3}]
[{"$f":"'Cow Housing'!$C$6","v":"C-3333"},{"$f":"$B$16","v":"Milk Parlor 2"},{"$f":"$C$16","v":1},{"$f":"$D$16","v":2},96184,null,{"$f":"'Milk Parlor'!F17","v":1.5753424657534245E-6},{"$f":"'Milk Parlor'!G17","v":1.38E-2}]
[{"$f":"'Cow Housing'!$C$6","v":"C-3333"},{"$f":"$B$16","v":"Milk Parlor 2"},{"$f":"$C$16","v":1},{"$f":"$D$16","v":2},98828,null,{"$f":"'Milk Parlor'!F43","v":3.2020547945205481E-7},{"$f":"'Milk Parlor'!G43","v":2.8050000000000002E-3}]
[{"$f":"'Cow Housing'!$C$6","v":"C-3333"},{"$f":"$B$16","v":"Milk Parlor 2"},{"$f":"$C$16","v":1},{"$f":"$D$16","v":2},100414,null,{"$f":"'Milk Parlor'!F37","v":1.9805936073059359E-6},{"$f":"'Milk Parlor'!G37","v":1.7349999999999997E-2}]
[{"$f":"'Cow Housing'!$C$6","v":"C-3333"},{"$f":"$B$16","v":"Milk Parlor 2"},{"$f":"$C$16","v":1},{"$f":"$D$16","v":2},100425,null,{"$f":"'Milk Parlor'!F46","v":2.0490867579908673E-6},{"$f":"'Milk Parlor'!G46","v":1.7950000000000001E-2}]
[{"$f":"'Cow Housing'!$C$6","v":"C-3333"},{"$f":"$B$16","v":"Milk Parlor 2"},{"$f":"$C$16","v":1},{"$f":"$D$16","v":2},100447,null,{"$f":"'Milk Parlor'!F27","v":1.6495433789954336E-6},{"$f":"'Milk Parlor'!G27","v":1.4449999999999999E-2}]
[{"$f":"'Cow Housing'!$C$6","v":"C-3333"},{"$f":"$B$16","v":"Milk Parlor 2"},{"$f":"$C$16","v":1},{"$f":"$D$16","v":2},106467,null,{"$f":"'Milk Parlor'!F23","v":2.9623287671232876E-6},{"$f":"'Milk Parlor'!G23","v":2.5950000000000001E-2}]
[{"$f":"'Cow Housing'!$C$6","v":"C-3333"},{"$f":"$B$16","v":"Milk Parlor 2"},{"$f":"$C$16","v":1},{"$f":"$D$16","v":2},106934,null,{"$f":"'Milk Parlor'!F38","v":1.7465753424657534E-6},{"$f":"'Milk Parlor'!G38","v":1.5300000000000001E-2}]
[{"$f":"'Cow Housing'!$C$6","v":"C-3333"},{"$f":"$B$16","v":"Milk Parlor 2"},{"$f":"$C$16","v":1},{"$f":"$D$16","v":2},107062,null,{"$f":"'Milk Parlor'!F39","v":3.3618721461187214E-7},{"$f":"'Milk Parlor'!G39","v":2.9450000000000001E-3}]
[{"$f":"'Cow Housing'!$C$6","v":"C-3333"},{"$f":"$B$16","v":"Milk Parlor 2"},{"$f":"$C$16","v":1},{"$f":"$D$16","v":2},107131,null,{"$f":"'Milk Parlor'!F25","v":1.3869863013698628E-6},{"$f":"'Milk Parlor'!G25","v":1.2149999999999999E-2}]
[{"$f":"'Cow Housing'!$C$6","v":"C-3333"},{"$f":"$B$16","v":"Milk Parlor 2"},{"$f":"$C$16","v":1},{"$f":"$D$16","v":2},108054,null,{"$f":"'Milk Parlor'!F50","v":1.1244292237442922E-5},{"$f":"'Milk Parlor'!G50","v":9.8500000000000004E-2}]
[{"$f":"'Cow Housing'!$C$6","v":"C-3333"},{"$f":"$B$16","v":"Milk Parlor 2"},{"$f":"$C$16","v":1},{"$f":"$D$16","v":2},108101,null,{"$f":"'Milk Parlor'!F45","v":4.0468036529680359E-6},{"$f":"'Milk Parlor'!G45","v":3.5450000000000002E-2}]
[{"$f":"'Cow Housing'!$C$6","v":"C-3333"},{"$f":"$B$16","v":"Milk Parlor 2"},{"$f":"$C$16","v":1},{"$f":"$D$16","v":2},108883,null,{"$f":"'Milk Parlor'!F48","v":6.1073059360730586E-6},{"$f":"'Milk Parlor'!G48","v":5.3499999999999999E-2}]
[{"$f":"'Cow Housing'!$C$6","v":"C-3333"},{"$f":"$B$16","v":"Milk Parlor 2"},{"$f":"$C$16","v":1},{"$f":"$D$16","v":2},108907,null,{"$f":"'Milk Parlor'!F31","v":1.552511415525114E-6},{"$f":"'Milk Parlor'!G31","v":1.3599999999999999E-2}]
[{"$f":"'Cow Housing'!$C$6","v":"C-3333"},{"$f":"$B$16","v":"Milk Parlor 2"},{"$f":"$C$16","v":1},{"$f":"$D$16","v":2},110543,null,{"$f":"'Milk Parlor'!F41","v":4.634703196347032E-6},{"$f":"'Milk Parlor'!G41","v":4.0599999999999997E-2}]
[{"$f":"'Cow Housing'!$C$6","v":"C-3333"},{"$f":"$B$16","v":"Milk Parlor 2"},{"$f":"$C$16","v":1},{"$f":"$D$16","v":2},110827,null,{"$f":"'Milk Parlor'!F35","v":3.898401826484018E-5},{"$f":"'Milk Parlor'!G35","v":0.34150000000000003}]
[{"$f":"'Cow Housing'!$C$6","v":"C-3333"},{"$f":"$B$16","v":"Milk Parlor 2"},{"$f":"$C$16","v":1},{"$f":"$D$16","v":2},120821,null,{"$f":"'Milk Parlor'!F18","v":4.4463470319634696E-6},{"$f":"'Milk Parlor'!G18","v":3.8949999999999999E-2}]
[{"$f":"'Cow Housing'!$C$6","v":"C-3333"},{"$f":"$B$16","v":"Milk Parlor 2"},{"$f":"$C$16","v":1},{"$f":"$D$16","v":2},123728,null,{"$f":"'Milk Parlor'!F28","v":6.5068493150684932E-7},{"$f":"'Milk Parlor'!G28","v":5.7000000000000002E-3}]
[{"$f":"'Cow Housing'!$C$6","v":"C-3333"},{"$f":"$B$16","v":"Milk Parlor 2"},{"$f":"$C$16","v":1},{"$f":"$D$16","v":2},123911,null,{"$f":"'Milk Parlor'!F22","v":8.047945205479452E-6},{"$f":"'Milk Parlor'!G22","v":7.0500000000000007E-2}]
[{"$f":"'Cow Housing'!$C$6","v":"C-3333"},{"$f":"$B$16","v":"Milk Parlor 2"},{"$f":"$C$16","v":1},{"$f":"$D$16","v":2},541731,null,{"$f":"'Milk Parlor'!F21","v":2.7968036529680364E-6},{"$f":"'Milk Parlor'!G21","v":2.4500000000000001E-2}]
[{"$f":"'Cow Housing'!$C$6","v":"C-3333"},{"$f":"$B$16","v":"Milk Parlor 2"},{"$f":"$C$16","v":1},{"$f":"$D$16","v":2},764410,null,{"$f":"'Milk Parlor'!F47","v":5.0913242009132417E-6},{"$f":"'Milk Parlor'!G47","v":4.4600000000000001E-2}]
[{"$f":"'Cow Housing'!$C$6","v":"C-3333"},{"$f":"$B$16","v":"Milk Parlor 2"},{"$f":"$C$16","v":1},{"$f":"$D$16","v":2},1330207,null,{"$f":"'Milk Parlor'!F51","v":1.0273972602739725E-5},{"$f":"'Milk Parlor'!G51","v":0.09}]
[{"$f":"'Cow Housing'!$C$6","v":"C-3333"},{"$f":"$B$16","v":"Milk Parlor 2"},{"$f":"$C$16","v":1},{"$f":"$D$16","v":2},4170303,null,{"$f":"'Milk Parlor'!F34","v":8.0479452054794522E-7},{"$f":"'Milk Parlor'!G34","v":7.0500000000000007E-3}]
[{"$f":"'Cow Housing'!$C$6","v":"C-3333"},{"$f":"$B$16","v":"Milk Parlor 2"},{"$f":"$C$16","v":1},{"$f":"$D$16","v":2},7664417,null,{"$f":"'Milk Parlor'!F52","v":4.5662100456621002E-3},{"$f":"'Milk Parlor'!G52","v":40}]
[{"$f":"'Cow Housing'!$C$6","v":"C-3333"},{"$f":"$B$17","v":0},{"$f":"$C$17","v":2},{"$f":"$D$17","v":1},9960,null,{"$f":"'Livestock PM10'!D28","v":0},{"$f":"'Livestock PM10'!E28","v":0}]
[{"$f":"'Cow Housing'!$C$6","v":"C-3333"},{"$f":"$B$17","v":0},{"$f":"$C$17","v":2},{"$f":"$D$17","v":1},50000,null,{"$f":"'Dairy Miscellaneous'!D40","v":0},{"$f":"'Dairy Miscellaneous'!E40","v":0}]
[{"$f":"'Cow Housing'!$C$6","v":"C-3333"},{"$f":"$B$17","v":0},{"$f":"$C$17","v":2},{"$f":"$D$17","v":1},56235,null,{"$f":"'Dairy Miscellaneous'!D30","v":0},{"$f":"'Dairy Miscellaneous'!E30","v":0}]
[{"$f":"'Cow Housing'!$C$6","v":"C-3333"},{"$f":"$B$17","v":0},{"$f":"$C$17","v":2},{"$f":"$D$17","v":1},67630,null,{"$f":"'Dairy Miscellaneous'!D42","v":0},{"$f":"'Dairy Miscellaneous'!E42","v":0}]
[{"$f":"'Cow Housing'!$C$6","v":"C-3333"},{"$f":"$B$17","v":0},{"$f":"$C$17","v":2},{"$f":"$D$17","v":1},67663,null,{"$f":"'Dairy Miscellaneous'!D32","v":0},{"$f":"'Dairy Miscellaneous'!E32","v":0}]
[{"$f":"'Cow Housing'!$C$6","v":"C-3333"},{"$f":"$B$17","v":0},{"$f":"$C$17","v":2},{"$f":"$D$17","v":1},71432,null,{"$f":"'Dairy Miscellaneous'!D26","v":0},{"$f":"'Dairy Miscellaneous'!E26","v":0}]
[{"$f":"'Cow Housing'!$C$6","v":"C-3333"},{"$f":"$B$17","v":0},{"$f":"$C$17","v":2},{"$f":"$D$17","v":1},74873,null,{"$f":"'Dairy Miscellaneous'!D33","v":0},{"$f":"'Dairy Miscellaneous'!E33","v":0}]
[{"$f":"'Cow Housing'!$C$6","v":"C-3333"},{"$f":"$B$17","v":0},{"$f":"$C$17","v":2},{"$f":"$D$17","v":1},75003,null,{"$f":"'Dairy Miscellaneous'!D36","v":0},{"$f":"'Dairy Miscellaneous'!E36","v":0}]
[{"$f":"'Cow Housing'!$C$6","v":"C-3333"},{"$f":"$B$17","v":0},{"$f":"$C$17","v":2},{"$f":"$D$17","v":1},75070,null,{"$f":"'Dairy Miscellaneous'!D24","v":0},{"$f":"'Dairy Miscellaneous'!E24","v":0}]
[{"$f":"'Cow Housing'!$C$6","v":"C-3333"},{"$f":"$B$17","v":0},{"$f":"$C$17","v":2},{"$f":"$D$17","v":1},75150,null,{"$f":"'Dairy Miscellaneous'!D29","v":0},{"$f":"'Dairy Miscellaneous'!E29","v":0}]
[{"$f":"'Cow Housing'!$C$6","v":"C-3333"},{"$f":"$B$17","v":0},{"$f":"$C$17","v":2},{"$f":"$D$17","v":1},75694,null,{"$f":"'Dairy Miscellaneous'!D49","v":0},{"$f":"'Dairy Miscellaneous'!E49","v":0}]
[{"$f":"'Cow Housing'!$C$6","v":"C-3333"},{"$f":"$B$17","v":0},{"$f":"$C$17","v":2},{"$f":"$D$17","v":1},78933,null,{"$f":"'Dairy Miscellaneous'!D44","v":0},{"$f":"'Dairy Miscellaneous'!E44","v":0}]
[{"$f":"'Cow Housing'!$C$6","v":"C-3333"},{"$f":"$B$17","v":0},{"$f":"$C$17","v":2},{"$f":"$D$17","v":1},79005,null,{"$f":"'Dairy Miscellaneous'!D16","v":0},{"$f":"'Dairy Miscellaneous'!E16","v":0}]
[{"$f":"'Cow Housing'!$C$6","v":"C-3333"},{"$f":"$B$17","v":0},{"$f":"$C$17","v":2},{"$f":"$D$17","v":1},79345,null,{"$f":"'Dairy Miscellaneous'!D15","v":0},{"$f":"'Dairy Miscellaneous'!E15","v":0}]
[{"$f":"'Cow Housing'!$C$6","v":"C-3333"},{"$f":"$B$17","v":0},{"$f":"$C$17","v":2},{"$f":"$D$17","v":1},95501,null,{"$f":"'Dairy Miscellaneous'!D20","v":0},{"$f":"'Dairy Miscellaneous'!E20","v":0}]
[{"$f":"'Cow Housing'!$C$6","v":"C-3333"},{"$f":"$B$17","v":0},{"$f":"$C$17","v":2},{"$f":"$D$17","v":1},96128,null,{"$f":"'Dairy Miscellaneous'!D19","v":0},{"$f":"'Dairy Miscellaneous'!E19","v":0}]
[{"$f":"'Cow Housing'!$C$6","v":"C-3333"},{"$f":"$B$17","v":0},{"$f":"$C$17","v":2},{"$f":"$D$17","v":1},96184,null,{"$f":"'Dairy Miscellaneous'!D17","v":0},{"$f":"'Dairy Miscellaneous'!E17","v":0}]
[{"$f":"'Cow Housing'!$C$6","v":"C-3333"},{"$f":"$B$17","v":0},{"$f":"$C$17","v":2},{"$f":"$D$17","v":1},98828,null,{"$f":"'Dairy Miscellaneous'!D43","v":0},{"$f":"'Dairy Miscellaneous'!E43","v":0}]
[{"$f":"'Cow Housing'!$C$6","v":"C-3333"},{"$f":"$B$17","v":0},{"$f":"$C$17","v":2},{"$f":"$D$17","v":1},100414,null,{"$f":"'Dairy Miscellaneous'!D37","v":0},{"$f":"'Dairy Miscellaneous'!E37","v":0}]
[{"$f":"'Cow Housing'!$C$6","v":"C-3333"},{"$f":"$B$17","v":0},{"$f":"$C$17","v":2},{"$f":"$D$17","v":1},100425,null,{"$f":"'Dairy Miscellaneous'!D46","v":0},{"$f":"'Dairy Miscellaneous'!E46","v":0}]
[{"$f":"'Cow Housing'!$C$6","v":"C-3333"},{"$f":"$B$17","v":0},{"$f":"$C$17","v":2},{"$f":"$D$17","v":1},100447,null,{"$f":"'Dairy Miscellaneous'!D27","v":0},{"$f":"'Dairy Miscellaneous'!E27","v":0}]
[{"$f":"'Cow Housing'!$C$6","v":"C-3333"},{"$f":"$B$17","v":0},{"$f":"$C$17","v":2},{"$f":"$D$17","v":1},106467,null,{"$f":"'Dairy Miscellaneous'!D23","v":0},{"$f":"'Dairy Miscellaneous'!E23","v":0}]
[{"$f":"'Cow Housing'!$C$6","v":"C-3333"},{"$f":"$B$17","v":0},{"$f":"$C$17","v":2},{"$f":"$D$17","v":1},106934,null,{"$f":"'Dairy Miscellaneous'!D38","v":0},{"$f":"'Dairy Miscellaneous'!E38","v":0}]
[{"$f":"'Cow Housing'!$C$6","v":"C-3333"},{"$f":"$B$17","v":0},{"$f":"$C$17","v":2},{"$f":"$D$17","v":1},107062,null,{"$f":"'Dairy Miscellaneous'!D39","v":0},{"$f":"'Dairy Miscellaneous'!E39","v":0}]
[{"$f":"'Cow Housing'!$C$6","v":"C-3333"},{"$f":"$B$17","v":0},{"$f":"$C$17","v":2},{"$f":"$D$17","v":1},107131,null,{"$f":"'Dairy Miscellaneous'!D25","v":0},{"$f":"'Dairy Miscellaneous'!E25","v":0}]
[{"$f":"'Cow Housing'!$C$6","v":"C-3333"},{"$f":"$B$17","v":0},{"$f":"$C$17","v":2},{"$f":"$D$17","v":1},108054,null,{"$f":"'Dairy Miscellaneous'!D50","v":0},{"$f":"'Dairy Miscellaneous'!E50","v":0}]
[{"$f":"'Cow Housing'!$C$6","v":"C-3333"},{"$f":"$B$17","v":0},{"$f":"$C$17","v":2},{"$f":"$D$17","v":1},108101,null,{"$f":"'Dairy Miscellaneous'!D45","v":0},{"$f":"'Dairy Miscellaneous'!E45","v":0}]
[{"$f":"'Cow Housing'!$C$6","v":"C-3333"},{"$f":"$B$17","v":0},{"$f":"$C$17","v":2},{"$f":"$D$17","v":1},108883,null,{"$f":"'Dairy Miscellaneous'!D48","v":0},{"$f":"'Dairy Miscellaneous'!E48","v":0}]
[{"$f":"'Cow Housing'!$C$6","v":"C-3333"},{"$f":"$B$17","v":0},{"$f":"$C$17","v":2},{"$f":"$D$17","v":1},108907,null,{"$f":"'Dairy Miscellaneous'!D31","v":0},{"$f":"'Dairy Miscellaneous'!E31","v":0}]
[{"$f":"'Cow Housing'!$C$6","v":"C-3333"},{"$f":"$B$17","v":0},{"$f":"$C$17","v":2},{"$f":"$D$17","v":1},110543,null,{"$f":"'Dairy Miscellaneous'!D41","v":0},{"$f":"'Dairy Miscellaneous'!E41","v":0}]
[{"$f":"'Cow Housing'!$C$6","v":"C-3333"},{"$f":"$B$17","v":0},{"$f":"$C$17","v":2},{"$f":"$D$17","v":1},110827,null,{"$f":"'Dairy Miscellaneous'!D35","v":0},{"$f":"'Dairy Miscellaneous'!E35","v":0}]
[{"$f":"'Cow Housing'!$C$6","v":"C-3333"},{"$f":"$B$17","v":0},{"$f":"$C$17","v":2},{"$f":"$D$17","v":1},120821,null,{"$f":"'Dairy Miscellaneous'!D18","v":0},{"$f":"'Dairy Miscellaneous'!E18","v":0}]
[{"$f":"'Cow Housing'!$C$6","v":"C-3333"},{"$f":"$B$17","v":0},{"$f":"$C$17","v":2},{"$f":"$D$17","v":1},123728,null,{"$f":"'Dairy Miscellaneous'!D28","v":0},{"$f":"'Dairy Miscellaneous'!E28","v":0}]
[{"$f":"'Cow Housing'!$C$6","v":"C-3333"},{"$f":"$B$17","v":0},{"$f":"$C$17","v":2},{"$f":"$D$17","v":1},123911,null,{"$f":"'Dairy Miscellaneous'!D22","v":0},{"$f":"'Dairy Miscellaneous'!E22","v":0}]
[{"$f":"'Cow Housing'!$C$6","v":"C-3333"},{"$f":"$B$17","v":0},{"$f":"$C$17","v":2},{"$f":"$D$17","v":1},541731,null,{"$f":"'Dairy Miscellaneous'!D21","v":0},{"$f":"'Dairy Miscellaneous'!E21","v":0}]
[{"$f":"'Cow Housing'!$C$6","v":"C-3333"},{"$f":"$B$17","v":0},{"$f":"$C$17","v":2},{"$f":"$D$17","v":1},764410,null,{"$f":"'Dairy Miscellaneous'!D47","v":0},{"$f":"'Dairy Miscellaneous'!E47","v":0}]
[{"$f":"'Cow Housing'!$C$6","v":"C-3333"},{"$f":"$B$17","v":0},{"$f":"$C$17","v":2},{"$f":"$D$17","v":1},1330207,null,{"$f":"'Dairy Miscellaneous'!D51","v":0},{"$f":"'Dairy Miscellaneous'!E51","v":0}]
[{"$f":"'Cow Housing'!$C$6","v":"C-3333"},{"$f":"$B$17","v":0},{"$f":"$C$17","v":2},{"$f":"$D$17","v":1},4170303,null,{"$f":"'Dairy Miscellaneous'!D34","v":0},{"$f":"'Dairy Miscellaneous'!E34","v":0}]
[{"$f":"'Cow Housing'!$C$6","v":"C-3333"},{"$f":"$B$17","v":0},{"$f":"$C$17","v":2},{"$f":"$D$17","v":1},7429905,null,{"$f":"'Livestock PM10'!D14","v":0},{"$f":"'Livestock PM10'!E14","v":0}]
[{"$f":"'Cow Housing'!$C$6","v":"C-3333"},{"$f":"$B$17","v":0},{"$f":"$C$17","v":2},{"$f":"$D$17","v":1},7439921,null,{"$f":"'Livestock PM10'!D22","v":0},{"$f":"'Livestock PM10'!E22","v":0}]
[{"$f":"'Cow Housing'!$C$6","v":"C-3333"},{"$f":"$B$17","v":0},{"$f":"$C$17","v":2},{"$f":"$D$17","v":1},7439965,null,{"$f":"'Livestock PM10'!D23","v":0},{"$f":"'Livestock PM10'!E23","v":0}]
[{"$f":"'Cow Housing'!$C$6","v":"C-3333"},{"$f":"$B$17","v":0},{"$f":"$C$17","v":2},{"$f":"$D$17","v":1},7439976,null,{"$f":"'Livestock PM10'!D24","v":0},{"$f":"'Livestock PM10'!E24","v":0}]
[{"$f":"'Cow Housing'!$C$6","v":"C-3333"},{"$f":"$B$17","v":0},{"$f":"$C$17","v":2},{"$f":"$D$17","v":1},7440020,null,{"$f":"'Livestock PM10'!D25","v":0},{"$f":"'Livestock PM10'!E25","v":0}]
[{"$f":"'Cow Housing'!$C$6","v":"C-3333"},{"$f":"$B$17","v":0},{"$f":"$C$17","v":2},{"$f":"$D$17","v":1},7440360,null,{"$f":"'Livestock PM10'!D15","v":0},{"$f":"'Livestock PM10'!E15","v":0}]
[{"$f":"'Cow Housing'!$C$6","v":"C-3333"},{"$f":"$B$17","v":0},{"$f":"$C$17","v":2},{"$f":"$D$17","v":1},7440382,null,{"$f":"'Livestock PM10'!D16","v":0},{"$f":"'Livestock PM10'!E16","v":0}]
[{"$f":"'Cow Housing'!$C$6","v":"C-3333"},{"$f":"$B$17","v":0},{"$f":"$C$17","v":2},{"$f":"$D$17","v":1},7440393,null,{"$f":"'Livestock PM10'!D17","v":0},{"$f":"'Livestock PM10'!E17","v":0}]
[{"$f":"'Cow Housing'!$C$6","v":"C-3333"},{"$f":"$B$17","v":0},{"$f":"$C$17","v":2},{"$f":"$D$17","v":1},7440473,null,{"$f":"'Livestock PM10'!D19","v":0},{"$f":"'Livestock PM10'!E19","v":0}]
[{"$f":"'Cow Housing'!$C$6","v":"C-3333"},{"$f":"$B$17","v":0},{"$f":"$C$17","v":2},{"$f":"$D$17","v":1},7440508,null,{"$f":"'Livestock PM10'!D20","v":0},{"$f":"'Livestock PM10'!E20","v":0}]
[{"$f":"'Cow Housing'!$C$6","v":"C-3333"},{"$f":"$B$17","v":0},{"$f":"$C$17","v":2},{"$f":"$D$17","v":1},7440622,null,{"$f":"'Livestock PM10'!D29","v":0},{"$f":"'Livestock PM10'!E29","v":0}]
[{"$f":"'Cow Housing'!$C$6","v":"C-3333"},{"$f":"$B$17","v":0},{"$f":"$C$17","v":2},{"$f":"$D$17","v":1},7440666,null,{"$f":"'Livestock PM10'!D30","v":0},{"$f":"'Livestock PM10'!E30","v":0}]
[{"$f":"'Cow Housing'!$C$6","v":"C-3333"},{"$f":"$B$17","v":0},{"$f":"$C$17","v":2},{"$f":"$D$17","v":1},7664417,null,{"$f":"'Livestock PM10'!D31","v":0},{"$f":"'Livestock PM10'!E31","v":0}]
[{"$f":"'Cow Housing'!$C$6","v":"C-3333"},{"$f":"$B$17","v":0},{"$f":"$C$17","v":2},{"$f":"$D$17","v":1},7723140,null,{"$f":"'Livestock PM10'!D26","v":0},{"$f":"'Livestock PM10'!E26","v":0}]
[{"$f":"'Cow Housing'!$C$6","v":"C-3333"},{"$f":"$B$17","v":0},{"$f":"$C$17","v":2},{"$f":"$D$17","v":1},7726956,null,{"$f":"'Livestock PM10'!D18","v":0},{"$f":"'Livestock PM10'!E18","v":0}]
[{"$f":"'Cow Housing'!$C$6","v":"C-3333"},{"$f":"$B$17","v":0},{"$f":"$C$17","v":2},{"$f":"$D$17","v":1},7782492,null,{"$f":"'Livestock PM10'!D27","v":0},{"$f":"'Livestock PM10'!E27","v":0}]
[{"$f":"'Cow Housing'!$C$6","v":"C-3333"},{"$f":"$B$17","v":0},{"$f":"$C$17","v":2},{"$f":"$D$17","v":1},18540299,null,{"$f":"'Livestock PM10'!D21","v":0},{"$f":"'Livestock PM10'!E21","v":0}]
[{"$f":"'Cow Housing'!$C$6","v":"C-3333"},{"$f":"$B$18","v":0},{"$f":"$C$18","v":2},{"$f":"$D$18","v":2},9960,null,{"$f":"'Livestock PM10'!F28","v":0},{"$f":"'Livestock PM10'!G28","v":0}]
[{"$f":"'Cow Housing'!$C$6","v":"C-3333"},{"$f":"$B$18","v":0},{"$f":"$C$18","v":2},{"$f":"$D$18","v":2},50000,null,{"$f":"'Dairy Miscellaneous'!F40","v":0},{"$f":"'Dairy Miscellaneous'!G40","v":0}]
[{"$f":"'Cow Housing'!$C$6","v":"C-3333"},{"$f":"$B$18","v":0},{"$f":"$C$18","v":2},{"$f":"$D$18","v":2},56235,null,{"$f":"'Dairy Miscellaneous'!F30","v":0},{"$f":"'Dairy Miscellaneous'!G30","v":0}]
[{"$f":"'Cow Housing'!$C$6","v":"C-3333"},{"$f":"$B$18","v":0},{"$f":"$C$18","v":2},{"$f":"$D$18","v":2},67630,null,{"$f":"'Dairy Miscellaneous'!F42","v":0},{"$f":"'Dairy Miscellaneous'!G42","v":0}]
[{"$f":"'Cow Housing'!$C$6","v":"C-3333"},{"$f":"$B$18","v":0},{"$f":"$C$18","v":2},{"$f":"$D$18","v":2},67663,null,{"$f":"'Dairy Miscellaneous'!F32","v":0},{"$f":"'Dairy Miscellaneous'!G32","v":0}]
[{"$f":"'Cow Housing'!$C$6","v":"C-3333"},{"$f":"$B$18","v":0},{"$f":"$C$18","v":2},{"$f":"$D$18","v":2},71432,null,{"$f":"'Dairy Miscellaneous'!F26","v":0},{"$f":"'Dairy Miscellaneous'!G26","v":0}]
[{"$f":"'Cow Housing'!$C$6","v":"C-3333"},{"$f":"$B$18","v":0},{"$f":"$C$18","v":2},{"$f":"$D$18","v":2},74873,null,{"$f":"'Dairy Miscellaneous'!F33","v":0},{"$f":"'Dairy Miscellaneous'!G33","v":0}]
[{"$f":"'Cow Housing'!$C$6","v":"C-3333"},{"$f":"$B$18","v":0},{"$f":"$C$18","v":2},{"$f":"$D$18","v":2},75003,null,{"$f":"'Dairy Miscellaneous'!F36","v":0},{"$f":"'Dairy Miscellaneous'!G36","v":0}]
[{"$f":"'Cow Housing'!$C$6","v":"C-3333"},{"$f":"$B$18","v":0},{"$f":"$C$18","v":2},{"$f":"$D$18","v":2},75070,null,{"$f":"'Dairy Miscellaneous'!F24","v":0},{"$f":"'Dairy Miscellaneous'!G24","v":0}]
[{"$f":"'Cow Housing'!$C$6","v":"C-3333"},{"$f":"$B$18","v":0},{"$f":"$C$18","v":2},{"$f":"$D$18","v":2},75150,null,{"$f":"'Dairy Miscellaneous'!F29","v":0},{"$f":"'Dairy Miscellaneous'!G29","v":0}]
[{"$f":"'Cow Housing'!$C$6","v":"C-3333"},{"$f":"$B$18","v":0},{"$f":"$C$18","v":2},{"$f":"$D$18","v":2},75694,null,{"$f":"'Dairy Miscellaneous'!F49","v":0},{"$f":"'Dairy Miscellaneous'!G49","v":0}]
[{"$f":"'Cow Housing'!$C$6","v":"C-3333"},{"$f":"$B$18","v":0},{"$f":"$C$18","v":2},{"$f":"$D$18","v":2},78933,null,{"$f":"'Dairy Miscellaneous'!F44","v":0},{"$f":"'Dairy Miscellaneous'!G44","v":0}]
[{"$f":"'Cow Housing'!$C$6","v":"C-3333"},{"$f":"$B$18","v":0},{"$f":"$C$18","v":2},{"$f":"$D$18","v":2},79005,null,{"$f":"'Dairy Miscellaneous'!F16","v":0},{"$f":"'Dairy Miscellaneous'!G16","v":0}]
[{"$f":"'Cow Housing'!$C$6","v":"C-3333"},{"$f":"$B$18","v":0},{"$f":"$C$18","v":2},{"$f":"$D$18","v":2},79345,null,{"$f":"'Dairy Miscellaneous'!F15","v":0},{"$f":"'Dairy Miscellaneous'!G15","v":0}]
[{"$f":"'Cow Housing'!$C$6","v":"C-3333"},{"$f":"$B$18","v":0},{"$f":"$C$18","v":2},{"$f":"$D$18","v":2},95501,null,{"$f":"'Dairy Miscellaneous'!F20","v":0},{"$f":"'Dairy Miscellaneous'!G20","v":0}]
[{"$f":"'Cow Housing'!$C$6","v":"C-3333"},{"$f":"$B$18","v":0},{"$f":"$C$18","v":2},{"$f":"$D$18","v":2},96128,null,{"$f":"'Dairy Miscellaneous'!F19","v":0},{"$f":"'Dairy Miscellaneous'!G19","v":0}]
[{"$f":"'Cow Housing'!$C$6","v":"C-3333"},{"$f":"$B$18","v":0},{"$f":"$C$18","v":2},{"$f":"$D$18","v":2},96184,null,{"$f":"'Dairy Miscellaneous'!F17","v":0},{"$f":"'Dairy Miscellaneous'!G17","v":0}]
[{"$f":"'Cow Housing'!$C$6","v":"C-3333"},{"$f":"$B$18","v":0},{"$f":"$C$18","v":2},{"$f":"$D$18","v":2},98828,null,{"$f":"'Dairy Miscellaneous'!F43","v":0},{"$f":"'Dairy Miscellaneous'!G43","v":0}]
[{"$f":"'Cow Housing'!$C$6","v":"C-3333"},{"$f":"$B$18","v":0},{"$f":"$C$18","v":2},{"$f":"$D$18","v":2},100414,null,{"$f":"'Dairy Miscellaneous'!F37","v":0},{"$f":"'Dairy Miscellaneous'!G37","v":0}]
[{"$f":"'Cow Housing'!$C$6","v":"C-3333"},{"$f":"$B$18","v":0},{"$f":"$C$18","v":2},{"$f":"$D$18","v":2},100425,null,{"$f":"'Dairy Miscellaneous'!F46","v":0},{"$f":"'Dairy Miscellaneous'!G46","v":0}]
[{"$f":"'Cow Housing'!$C$6","v":"C-3333"},{"$f":"$B$18","v":0},{"$f":"$C$18","v":2},{"$f":"$D$18","v":2},100447,null,{"$f":"'Dairy Miscellaneous'!F27","v":0},{"$f":"'Dairy Miscellaneous'!G27","v":0}]
[{"$f":"'Cow Housing'!$C$6","v":"C-3333"},{"$f":"$B$18","v":0},{"$f":"$C$18","v":2},{"$f":"$D$18","v":2},106467,null,{"$f":"'Dairy Miscellaneous'!F23","v":0},{"$f":"'Dairy Miscellaneous'!G23","v":0}]
[{"$f":"'Cow Housing'!$C$6","v":"C-3333"},{"$f":"$B$18","v":0},{"$f":"$C$18","v":2},{"$f":"$D$18","v":2},106934,null,{"$f":"'Dairy Miscellaneous'!F38","v":0},{"$f":"'Dairy Miscellaneous'!G38","v":0}]
[{"$f":"'Cow Housing'!$C$6","v":"C-3333"},{"$f":"$B$18","v":0},{"$f":"$C$18","v":2},{"$f":"$D$18","v":2},107062,null,{"$f":"'Dairy Miscellaneous'!F39","v":0},{"$f":"'Dairy Miscellaneous'!G39","v":0}]
[{"$f":"'Cow Housing'!$C$6","v":"C-3333"},{"$f":"$B$18","v":0},{"$f":"$C$18","v":2},{"$f":"$D$18","v":2},107131,null,{"$f":"'Dairy Miscellaneous'!F25","v":0},{"$f":"'Dairy Miscellaneous'!G25","v":0}]
[{"$f":"'Cow Housing'!$C$6","v":"C-3333"},{"$f":"$B$18","v":0},{"$f":"$C$18","v":2},{"$f":"$D$18","v":2},108054,null,{"$f":"'Dairy Miscellaneous'!F50","v":0},{"$f":"'Dairy Miscellaneous'!G50","v":0}]
[{"$f":"'Cow Housing'!$C$6","v":"C-3333"},{"$f":"$B$18","v":0},{"$f":"$C$18","v":2},{"$f":"$D$18","v":2},108101,null,{"$f":"'Dairy Miscellaneous'!F45","v":0},{"$f":"'Dairy Miscellaneous'!G45","v":0}]
[{"$f":"'Cow Housing'!$C$6","v":"C-3333"},{"$f":"$B$18","v":0},{"$f":"$C$18","v":2},{"$f":"$D$18","v":2},108883,null,{"$f":"'Dairy Miscellaneous'!F48","v":0},{"$f":"'Dairy Miscellaneous'!G48","v":0}]
[{"$f":"'Cow Housing'!$C$6","v":"C-3333"},{"$f":"$B$18","v":0},{"$f":"$C$18","v":2},{"$f":"$D$18","v":2},108907,null,{"$f":"'Dairy Miscellaneous'!F31","v":0},{"$f":"'Dairy Miscellaneous'!G31","v":0}]
[{"$f":"'Cow Housing'!$C$6","v":"C-3333"},{"$f":"$B$18","v":0},{"$f":"$C$18","v":2},{"$f":"$D$18","v":2},110543,null,{"$f":"'Dairy Miscellaneous'!F41","v":0},{"$f":"'Dairy Miscellaneous'!G41","v":0}]
[{"$f":"'Cow Housing'!$C$6","v":"C-3333"},{"$f":"$B$18","v":0},{"$f":"$C$18","v":2},{"$f":"$D$18","v":2},110827,null,{"$f":"'Dairy Miscellaneous'!F35","v":0},{"$f":"'Dairy Miscellaneous'!G35","v":0}]
[{"$f":"'Cow Housing'!$C$6","v":"C-3333"},{"$f":"$B$18","v":0},{"$f":"$C$18","v":2},{"$f":"$D$18","v":2},120821,null,{"$f":"'Dairy Miscellaneous'!F18","v":0},{"$f":"'Dairy Miscellaneous'!G18","v":0}]
[{"$f":"'Cow Housing'!$C$6","v":"C-3333"},{"$f":"$B$18","v":0},{"$f":"$C$18","v":2},{"$f":"$D$18","v":2},123728,null,{"$f":"'Dairy Miscellaneous'!F28","v":0},{"$f":"'Dairy Miscellaneous'!G28","v":0}]
[{"$f":"'Cow Housing'!$C$6","v":"C-3333"},{"$f":"$B$18","v":0},{"$f":"$C$18","v":2},{"$f":"$D$18","v":2},123911,null,{"$f":"'Dairy Miscellaneous'!F22","v":0},{"$f":"'Dairy Miscellaneous'!G22","v":0}]
[{"$f":"'Cow Housing'!$C$6","v":"C-3333"},{"$f":"$B$18","v":0},{"$f":"$C$18","v":2},{"$f":"$D$18","v":2},541731,null,{"$f":"'Dairy Miscellaneous'!F21","v":0},{"$f":"'Dairy Miscellaneous'!G21","v":0}]
[{"$f":"'Cow Housing'!$C$6","v":"C-3333"},{"$f":"$B$18","v":0},{"$f":"$C$18","v":2},{"$f":"$D$18","v":2},764410,null,{"$f":"'Dairy Miscellaneous'!F47","v":0},{"$f":"'Dairy Miscellaneous'!G47","v":0}]
[{"$f":"'Cow Housing'!$C$6","v":"C-3333"},{"$f":"$B$18","v":0},{"$f":"$C$18","v":2},{"$f":"$D$18","v":2},1330207,null,{"$f":"'Dairy Miscellaneous'!F51","v":0},{"$f":"'Dairy Miscellaneous'!G51","v":0}]
[{"$f":"'Cow Housing'!$C$6","v":"C-3333"},{"$f":"$B$18","v":0},{"$f":"$C$18","v":2},{"$f":"$D$18","v":2},4170303,null,{"$f":"'Dairy Miscellaneous'!F34","v":0},{"$f":"'Dairy Miscellaneous'!G34","v":0}]
[{"$f":"'Cow Housing'!$C$6","v":"C-3333"},{"$f":"$B$18","v":0},{"$f":"$C$18","v":2},{"$f":"$D$18","v":2},7429905,null,{"$f":"'Livestock PM10'!F14","v":0},{"$f":"'Livestock PM10'!G14","v":0}]
[{"$f":"'Cow Housing'!$C$6","v":"C-3333"},{"$f":"$B$18","v":0},{"$f":"$C$18","v":2},{"$f":"$D$18","v":2},7439921,null,{"$f":"'Livestock PM10'!F22","v":0},{"$f":"'Livestock PM10'!G22","v":0}]
[{"$f":"'Cow Housing'!$C$6","v":"C-3333"},{"$f":"$B$18","v":0},{"$f":"$C$18","v":2},{"$f":"$D$18","v":2},7439965,null,{"$f":"'Livestock PM10'!F23","v":0},{"$f":"'Livestock PM10'!G23","v":0}]
[{"$f":"'Cow Housing'!$C$6","v":"C-3333"},{"$f":"$B$18","v":0},{"$f":"$C$18","v":2},{"$f":"$D$18","v":2},7439976,null,{"$f":"'Livestock PM10'!F24","v":0},{"$f":"'Livestock PM10'!G24","v":0}]
[{"$f":"'Cow Housing'!$C$6","v":"C-3333"},{"$f":"$B$18","v":0},{"$f":"$C$18","v":2},{"$f":"$D$18","v":2},7440020,null,{"$f":"'Livestock PM10'!F25","v":0},{"$f":"'Livestock PM10'!G25","v":0}]
[{"$f":"'Cow Housing'!$C$6","v":"C-3333"},{"$f":"$B$18","v":0},{"$f":"$C$18","v":2},{"$f":"$D$18","v":2},7440360,null,{"$f":"'Livestock PM10'!F15","v":0},{"$f":"'Livestock PM10'!G15","v":0}]
[{"$f":"'Cow Housing'!$C$6","v":"C-3333"},{"$f":"$B$18","v":0},{"$f":"$C$18","v":2},{"$f":"$D$18","v":2},7440382,null,{"$f":"'Livestock PM10'!F16","v":0},{"$f":"'Livestock PM10'!G16","v":0}]
[{"$f":"'Cow Housing'!$C$6","v":"C-3333"},{"$f":"$B$18","v":0},{"$f":"$C$18","v":2},{"$f":"$D$18","v":2},7440393,null,{"$f":"'Livestock PM10'!F17","v":0},{"$f":"'Livestock PM10'!G17","v":0}]
[{"$f":"'Cow Housing'!$C$6","v":"C-3333"},{"$f":"$B$18","v":0},{"$f":"$C$18","v":2},{"$f":"$D$18","v":2},7440473,null,{"$f":"'Livestock PM10'!F19","v":0},{"$f":"'Livestock PM10'!G19","v":0}]
[{"$f":"'Cow Housing'!$C$6","v":"C-3333"},{"$f":"$B$18","v":0},{"$f":"$C$18","v":2},{"$f":"$D$18","v":2},7440508,null,{"$f":"'Livestock PM10'!F20","v":0},{"$f":"'Livestock PM10'!G20","v":0}]
[{"$f":"'Cow Housing'!$C$6","v":"C-3333"},{"$f":"$B$18","v":0},{"$f":"$C$18","v":2},{"$f":"$D$18","v":2},7440622,null,{"$f":"'Livestock PM10'!F29","v":0},{"$f":"'Livestock PM10'!G29","v":0}]
[{"$f":"'Cow Housing'!$C$6","v":"C-3333"},{"$f":"$B$18","v":0},{"$f":"$C$18","v":2},{"$f":"$D$18","v":2},7440666,null,{"$f":"'Livestock PM10'!F30","v":0},{"$f":"'Livestock PM10'!G30","v":0}]
[{"$f":"'Cow Housing'!$C$6","v":"C-3333"},{"$f":"$B$18","v":0},{"$f":"$C$18","v":2},{"$f":"$D$18","v":2},7664417,null,{"$f":"'Livestock PM10'!F31","v":0},{"$f":"'Livestock PM10'!G31","v":0}]
[{"$f":"'Cow Housing'!$C$6","v":"C-3333"},{"$f":"$B$18","v":0},{"$f":"$C$18","v":2},{"$f":"$D$18","v":2},7723140,null,{"$f":"'Livestock PM10'!F26","v":0},{"$f":"'Livestock PM10'!G26","v":0}]
[{"$f":"'Cow Housing'!$C$6","v":"C-3333"},{"$f":"$B$18","v":0},{"$f":"$C$18","v":2},{"$f":"$D$18","v":2},7726956,null,{"$f":"'Livestock PM10'!F18","v":0},{"$f":"'Livestock PM10'!G18","v":0}]
[{"$f":"'Cow Housing'!$C$6","v":"C-3333"},{"$f":"$B$18","v":0},{"$f":"$C$18","v":2},{"$f":"$D$18","v":2},7782492,null,{"$f":"'Livestock PM10'!F27","v":0},{"$f":"'Livestock PM10'!G27","v":0}]
[{"$f":"'Cow Housing'!$C$6","v":"C-3333"},{"$f":"$B$18","v":0},{"$f":"$C$18","v":2},{"$f":"$D$18","v":2},18540299,null,{"$f":"'Livestock PM10'!F21","v":0},{"$f":"'Livestock PM10'!G21","v":0}]
[{"$f":"'Cow Housing'!$C$6","v":"C-3333"},{"$f":"$B$19","v":0},{"$f":"$C$19","v":2},{"$f":"$D$19","v":3},9960,null,{"$f":"'Livestock PM10'!H28","v":0},{"$f":"'Livestock PM10'!I28","v":0}]
[{"$f":"'Cow Housing'!$C$6","v":"C-3333"},{"$f":"$B$19","v":0},{"$f":"$C$19","v":2},{"$f":"$D$19","v":3},50000,null,{"$f":"'Dairy Miscellaneous'!H40","v":0},{"$f":"'Dairy Miscellaneous'!I40","v":0}]
[{"$f":"'Cow Housing'!$C$6","v":"C-3333"},{"$f":"$B$19","v":0},{"$f":"$C$19","v":2},{"$f":"$D$19","v":3},56235,null,{"$f":"'Dairy Miscellaneous'!H30","v":0},{"$f":"'Dairy Miscellaneous'!I30","v":0}]
[{"$f":"'Cow Housing'!$C$6","v":"C-3333"},{"$f":"$B$19","v":0},{"$f":"$C$19","v":2},{"$f":"$D$19","v":3},67630,null,{"$f":"'Dairy Miscellaneous'!H42","v":0},{"$f":"'Dairy Miscellaneous'!I42","v":0}]
[{"$f":"'Cow Housing'!$C$6","v":"C-3333"},{"$f":"$B$19","v":0},{"$f":"$C$19","v":2},{"$f":"$D$19","v":3},67663,null,{"$f":"'Dairy Miscellaneous'!H32","v":0},{"$f":"'Dairy Miscellaneous'!I32","v":0}]
[{"$f":"'Cow Housing'!$C$6","v":"C-3333"},{"$f":"$B$19","v":0},{"$f":"$C$19","v":2},{"$f":"$D$19","v":3},71432,null,{"$f":"'Dairy Miscellaneous'!H26","v":0},{"$f":"'Dairy Miscellaneous'!I26","v":0}]
[{"$f":"'Cow Housing'!$C$6","v":"C-3333"},{"$f":"$B$19","v":0},{"$f":"$C$19","v":2},{"$f":"$D$19","v":3},74873,null,{"$f":"'Dairy Miscellaneous'!H33","v":0},{"$f":"'Dairy Miscellaneous'!I33","v":0}]
[{"$f":"'Cow Housing'!$C$6","v":"C-3333"},{"$f":"$B$19","v":0},{"$f":"$C$19","v":2},{"$f":"$D$19","v":3},75003,null,{"$f":"'Dairy Miscellaneous'!H36","v":0},{"$f":"'Dairy Miscellaneous'!I36","v":0}]
[{"$f":"'Cow Housing'!$C$6","v":"C-3333"},{"$f":"$B$19","v":0},{"$f":"$C$19","v":2},{"$f":"$D$19","v":3},75070,null,{"$f":"'Dairy Miscellaneous'!H24","v":0},{"$f":"'Dairy Miscellaneous'!I24","v":0}]
[{"$f":"'Cow Housing'!$C$6","v":"C-3333"},{"$f":"$B$19","v":0},{"$f":"$C$19","v":2},{"$f":"$D$19","v":3},75150,null,{"$f":"'Dairy Miscellaneous'!H29","v":0},{"$f":"'Dairy Miscellaneous'!I29","v":0}]
[{"$f":"'Cow Housing'!$C$6","v":"C-3333"},{"$f":"$B$19","v":0},{"$f":"$C$19","v":2},{"$f":"$D$19","v":3},75694,null,{"$f":"'Dairy Miscellaneous'!H49","v":0},{"$f":"'Dairy Miscellaneous'!I49","v":0}]
[{"$f":"'Cow Housing'!$C$6","v":"C-3333"},{"$f":"$B$19","v":0},{"$f":"$C$19","v":2},{"$f":"$D$19","v":3},78933,null,{"$f":"'Dairy Miscellaneous'!H44","v":0},{"$f":"'Dairy Miscellaneous'!I44","v":0}]
[{"$f":"'Cow Housing'!$C$6","v":"C-3333"},{"$f":"$B$19","v":0},{"$f":"$C$19","v":2},{"$f":"$D$19","v":3},79005,null,{"$f":"'Dairy Miscellaneous'!H16","v":0},{"$f":"'Dairy Miscellaneous'!I16","v":0}]
[{"$f":"'Cow Housing'!$C$6","v":"C-3333"},{"$f":"$B$19","v":0},{"$f":"$C$19","v":2},{"$f":"$D$19","v":3},79345,null,{"$f":"'Dairy Miscellaneous'!H15","v":0},{"$f":"'Dairy Miscellaneous'!I15","v":0}]
[{"$f":"'Cow Housing'!$C$6","v":"C-3333"},{"$f":"$B$19","v":0},{"$f":"$C$19","v":2},{"$f":"$D$19","v":3},95501,null,{"$f":"'Dairy Miscellaneous'!H20","v":0},{"$f":"'Dairy Miscellaneous'!I20","v":0}]
[{"$f":"'Cow Housing'!$C$6","v":"C-3333"},{"$f":"$B$19","v":0},{"$f":"$C$19","v":2},{"$f":"$D$19","v":3},96128,null,{"$f":"'Dairy Miscellaneous'!H19","v":0},{"$f":"'Dairy Miscellaneous'!I19","v":0}]
[{"$f":"'Cow Housing'!$C$6","v":"C-3333"},{"$f":"$B$19","v":0},{"$f":"$C$19","v":2},{"$f":"$D$19","v":3},96184,null,{"$f":"'Dairy Miscellaneous'!H17","v":0},{"$f":"'Dairy Miscellaneous'!I17","v":0}]
[{"$f":"'Cow Housing'!$C$6","v":"C-3333"},{"$f":"$B$19","v":0},{"$f":"$C$19","v":2},{"$f":"$D$19","v":3},98828,null,{"$f":"'Dairy Miscellaneous'!H43","v":0},{"$f":"'Dairy Miscellaneous'!I43","v":0}]
[{"$f":"'Cow Housing'!$C$6","v":"C-3333"},{"$f":"$B$19","v":0},{"$f":"$C$19","v":2},{"$f":"$D$19","v":3},100414,null,{"$f":"'Dairy Miscellaneous'!H37","v":0},{"$f":"'Dairy Miscellaneous'!I37","v":0}]
[{"$f":"'Cow Housing'!$C$6","v":"C-3333"},{"$f":"$B$19","v":0},{"$f":"$C$19","v":2},{"$f":"$D$19","v":3},100425,null,{"$f":"'Dairy Miscellaneous'!H46","v":0},{"$f":"'Dairy Miscellaneous'!I46","v":0}]
[{"$f":"'Cow Housing'!$C$6","v":"C-3333"},{"$f":"$B$19","v":0},{"$f":"$C$19","v":2},{"$f":"$D$19","v":3},100447,null,{"$f":"'Dairy Miscellaneous'!H27","v":0},{"$f":"'Dairy Miscellaneous'!I27","v":0}]
[{"$f":"'Cow Housing'!$C$6","v":"C-3333"},{"$f":"$B$19","v":0},{"$f":"$C$19","v":2},{"$f":"$D$19","v":3},106467,null,{"$f":"'Dairy Miscellaneous'!H23","v":0},{"$f":"'Dairy Miscellaneous'!I23","v":0}]
[{"$f":"'Cow Housing'!$C$6","v":"C-3333"},{"$f":"$B$19","v":0},{"$f":"$C$19","v":2},{"$f":"$D$19","v":3},106934,null,{"$f":"'Dairy Miscellaneous'!H38","v":0},{"$f":"'Dairy Miscellaneous'!I38","v":0}]
[{"$f":"'Cow Housing'!$C$6","v":"C-3333"},{"$f":"$B$19","v":0},{"$f":"$C$19","v":2},{"$f":"$D$19","v":3},107062,null,{"$f":"'Dairy Miscellaneous'!H39","v":0},{"$f":"'Dairy Miscellaneous'!I39","v":0}]
[{"$f":"'Cow Housing'!$C$6","v":"C-3333"},{"$f":"$B$19","v":0},{"$f":"$C$19","v":2},{"$f":"$D$19","v":3},107131,null,{"$f":"'Dairy Miscellaneous'!H25","v":0},{"$f":"'Dairy Miscellaneous'!I25","v":0}]
[{"$f":"'Cow Housing'!$C$6","v":"C-3333"},{"$f":"$B$19","v":0},{"$f":"$C$19","v":2},{"$f":"$D$19","v":3},108054,null,{"$f":"'Dairy Miscellaneous'!H50","v":0},{"$f":"'Dairy Miscellaneous'!I50","v":0}]
[{"$f":"'Cow Housing'!$C$6","v":"C-3333"},{"$f":"$B$19","v":0},{"$f":"$C$19","v":2},{"$f":"$D$19","v":3},108101,null,{"$f":"'Dairy Miscellaneous'!H45","v":0},{"$f":"'Dairy Miscellaneous'!I45","v":0}]
[{"$f":"'Cow Housing'!$C$6","v":"C-3333"},{"$f":"$B$19","v":0},{"$f":"$C$19","v":2},{"$f":"$D$19","v":3},108883,null,{"$f":"'Dairy Miscellaneous'!H48","v":0},{"$f":"'Dairy Miscellaneous'!I48","v":0}]
[{"$f":"'Cow Housing'!$C$6","v":"C-3333"},{"$f":"$B$19","v":0},{"$f":"$C$19","v":2},{"$f":"$D$19","v":3},108907,null,{"$f":"'Dairy Miscellaneous'!H31","v":0},{"$f":"'Dairy Miscellaneous'!I31","v":0}]
[{"$f":"'Cow Housing'!$C$6","v":"C-3333"},{"$f":"$B$19","v":0},{"$f":"$C$19","v":2},{"$f":"$D$19","v":3},110543,null,{"$f":"'Dairy Miscellaneous'!H41","v":0},{"$f":"'Dairy Miscellaneous'!I41","v":0}]
[{"$f":"'Cow Housing'!$C$6","v":"C-3333"},{"$f":"$B$19","v":0},{"$f":"$C$19","v":2},{"$f":"$D$19","v":3},110827,null,{"$f":"'Dairy Miscellaneous'!H35","v":0},{"$f":"'Dairy Miscellaneous'!I35","v":0}]
[{"$f":"'Cow Housing'!$C$6","v":"C-3333"},{"$f":"$B$19","v":0},{"$f":"$C$19","v":2},{"$f":"$D$19","v":3},120821,null,{"$f":"'Dairy Miscellaneous'!H18","v":0},{"$f":"'Dairy Miscellaneous'!I18","v":0}]
[{"$f":"'Cow Housing'!$C$6","v":"C-3333"},{"$f":"$B$19","v":0},{"$f":"$C$19","v":2},{"$f":"$D$19","v":3},123728,null,{"$f":"'Dairy Miscellaneous'!H28","v":0},{"$f":"'Dairy Miscellaneous'!I28","v":0}]
[{"$f":"'Cow Housing'!$C$6","v":"C-3333"},{"$f":"$B$19","v":0},{"$f":"$C$19","v":2},{"$f":"$D$19","v":3},123911,null,{"$f":"'Dairy Miscellaneous'!H22","v":0},{"$f":"'Dairy Miscellaneous'!I22","v":0}]
[{"$f":"'Cow Housing'!$C$6","v":"C-3333"},{"$f":"$B$19","v":0},{"$f":"$C$19","v":2},{"$f":"$D$19","v":3},541731,null,{"$f":"'Dairy Miscellaneous'!H21","v":0},{"$f":"'Dairy Miscellaneous'!I21","v":0}]
[{"$f":"'Cow Housing'!$C$6","v":"C-3333"},{"$f":"$B$19","v":0},{"$f":"$C$19","v":2},{"$f":"$D$19","v":3},764410,null,{"$f":"'Dairy Miscellaneous'!H47","v":0},{"$f":"'Dairy Miscellaneous'!I47","v":0}]
[{"$f":"'Cow Housing'!$C$6","v":"C-3333"},{"$f":"$B$19","v":0},{"$f":"$C$19","v":2},{"$f":"$D$19","v":3},1330207,null,{"$f":"'Dairy Miscellaneous'!H51","v":0},{"$f":"'Dairy Miscellaneous'!I51","v":0}]
[{"$f":"'Cow Housing'!$C$6","v":"C-3333"},{"$f":"$B$19","v":0},{"$f":"$C$19","v":2},{"$f":"$D$19","v":3},4170303,null,{"$f":"'Dairy Miscellaneous'!H34","v":0},{"$f":"'Dairy Miscellaneous'!I34","v":0}]
[{"$f":"'Cow Housing'!$C$6","v":"C-3333"},{"$f":"$B$19","v":0},{"$f":"$C$19","v":2},{"$f":"$D$19","v":3},7429905,null,{"$f":"'Livestock PM10'!H14","v":0},{"$f":"'Livestock PM10'!I14","v":0}]
[{"$f":"'Cow Housing'!$C$6","v":"C-3333"},{"$f":"$B$19","v":0},{"$f":"$C$19","v":2},{"$f":"$D$19","v":3},7439921,null,{"$f":"'Livestock PM10'!H22","v":0},{"$f":"'Livestock PM10'!I22","v":0}]
[{"$f":"'Cow Housing'!$C$6","v":"C-3333"},{"$f":"$B$19","v":0},{"$f":"$C$19","v":2},{"$f":"$D$19","v":3},7439965,null,{"$f":"'Livestock PM10'!H23","v":0},{"$f":"'Livestock PM10'!I23","v":0}]
[{"$f":"'Cow Housing'!$C$6","v":"C-3333"},{"$f":"$B$19","v":0},{"$f":"$C$19","v":2},{"$f":"$D$19","v":3},7439976,null,{"$f":"'Livestock PM10'!H24","v":0},{"$f":"'Livestock PM10'!I24","v":0}]
[{"$f":"'Cow Housing'!$C$6","v":"C-3333"},{"$f":"$B$19","v":0},{"$f":"$C$19","v":2},{"$f":"$D$19","v":3},7440020,null,{"$f":"'Livestock PM10'!H25","v":0},{"$f":"'Livestock PM10'!I25","v":0}]
[{"$f":"'Cow Housing'!$C$6","v":"C-3333"},{"$f":"$B$19","v":0},{"$f":"$C$19","v":2},{"$f":"$D$19","v":3},7440360,null,{"$f":"'Livestock PM10'!H15","v":0},{"$f":"'Livestock PM10'!I15","v":0}]
[{"$f":"'Cow Housing'!$C$6","v":"C-3333"},{"$f":"$B$19","v":0},{"$f":"$C$19","v":2},{"$f":"$D$19","v":3},7440382,null,{"$f":"'Livestock PM10'!H16","v":0},{"$f":"'Livestock PM10'!I16","v":0}]
[{"$f":"'Cow Housing'!$C$6","v":"C-3333"},{"$f":"$B$19","v":0},{"$f":"$C$19","v":2},{"$f":"$D$19","v":3},7440393,null,{"$f":"'Livestock PM10'!H17","v":0},{"$f":"'Livestock PM10'!I17","v":0}]
[{"$f":"'Cow Housing'!$C$6","v":"C-3333"},{"$f":"$B$19","v":0},{"$f":"$C$19","v":2},{"$f":"$D$19","v":3},7440473,null,{"$f":"'Livestock PM10'!H19","v":0},{"$f":"'Livestock PM10'!I19","v":0}]
[{"$f":"'Cow Housing'!$C$6","v":"C-3333"},{"$f":"$B$19","v":0},{"$f":"$C$19","v":2},{"$f":"$D$19","v":3},7440508,null,{"$f":"'Livestock PM10'!H20","v":0},{"$f":"'Livestock PM10'!I20","v":0}]
[{"$f":"'Cow Housing'!$C$6","v":"C-3333"},{"$f":"$B$19","v":0},{"$f":"$C$19","v":2},{"$f":"$D$19","v":3},7440622,null,{"$f":"'Livestock PM10'!H29","v":0},{"$f":"'Livestock PM10'!I29","v":0}]
[{"$f":"'Cow Housing'!$C$6","v":"C-3333"},{"$f":"$B$19","v":0},{"$f":"$C$19","v":2},{"$f":"$D$19","v":3},7440666,null,{"$f":"'Livestock PM10'!H30","v":0},{"$f":"'Livestock PM10'!I30","v":0}]
[{"$f":"'Cow Housing'!$C$6","v":"C-3333"},{"$f":"$B$19","v":0},{"$f":"$C$19","v":2},{"$f":"$D$19","v":3},7664417,null,{"$f":"'Livestock PM10'!H31","v":0},{"$f":"'Livestock PM10'!I31","v":0}]
[{"$f":"'Cow Housing'!$C$6","v":"C-3333"},{"$f":"$B$19","v":0},{"$f":"$C$19","v":2},{"$f":"$D$19","v":3},7723140,null,{"$f":"'Livestock PM10'!H26","v":0},{"$f":"'Livestock PM10'!I26","v":0}]
[{"$f":"'Cow Housing'!$C$6","v":"C-3333"},{"$f":"$B$19","v":0},{"$f":"$C$19","v":2},{"$f":"$D$19","v":3},7726956,null,{"$f":"'Livestock PM10'!H18","v":0},{"$f":"'Livestock PM10'!I18","v":0}]
[{"$f":"'Cow Housing'!$C$6","v":"C-3333"},{"$f":"$B$19","v":0},{"$f":"$C$19","v":2},{"$f":"$D$19","v":3},7782492,null,{"$f":"'Livestock PM10'!H27","v":0},{"$f":"'Livestock PM10'!I27","v":0}]
[{"$f":"'Cow Housing'!$C$6","v":"C-3333"},{"$f":"$B$19","v":0},{"$f":"$C$19","v":2},{"$f":"$D$19","v":3},18540299,null,{"$f":"'Livestock PM10'!H21","v":0},{"$f":"'Livestock PM10'!I21","v":0}]
[{"$f":"'Cow Housing'!$C$6","v":"C-3333"},{"$f":"$B$20","v":0},{"$f":"$C$20","v":2},{"$f":"$D$20","v":4},9960,null,{"$f":"'Livestock PM10'!J28","v":0},{"$f":"'Livestock PM10'!K28","v":0}]
[{"$f":"'Cow Housing'!$C$6","v":"C-3333"},{"$f":"$B$20","v":0},{"$f":"$C$20","v":2},{"$f":"$D$20","v":4},50000,null,{"$f":"'Dairy Miscellaneous'!J40","v":0},{"$f":"'Dairy Miscellaneous'!K40","v":0}]
[{"$f":"'Cow Housing'!$C$6","v":"C-3333"},{"$f":"$B$20","v":0},{"$f":"$C$20","v":2},{"$f":"$D$20","v":4},56235,null,{"$f":"'Dairy Miscellaneous'!J30","v":0},{"$f":"'Dairy Miscellaneous'!K30","v":0}]
[{"$f":"'Cow Housing'!$C$6","v":"C-3333"},{"$f":"$B$20","v":0},{"$f":"$C$20","v":2},{"$f":"$D$20","v":4},67630,null,{"$f":"'Dairy Miscellaneous'!J42","v":0},{"$f":"'Dairy Miscellaneous'!K42","v":0}]
[{"$f":"'Cow Housing'!$C$6","v":"C-3333"},{"$f":"$B$20","v":0},{"$f":"$C$20","v":2},{"$f":"$D$20","v":4},67663,null,{"$f":"'Dairy Miscellaneous'!J32","v":0},{"$f":"'Dairy Miscellaneous'!K32","v":0}]
[{"$f":"'Cow Housing'!$C$6","v":"C-3333"},{"$f":"$B$20","v":0},{"$f":"$C$20","v":2},{"$f":"$D$20","v":4},71432,null,{"$f":"'Dairy Miscellaneous'!J26","v":0},{"$f":"'Dairy Miscellaneous'!K26","v":0}]
[{"$f":"'Cow Housing'!$C$6","v":"C-3333"},{"$f":"$B$20","v":0},{"$f":"$C$20","v":2},{"$f":"$D$20","v":4},74873,null,{"$f":"'Dairy Miscellaneous'!J33","v":0},{"$f":"'Dairy Miscellaneous'!K33","v":0}]
[{"$f":"'Cow Housing'!$C$6","v":"C-3333"},{"$f":"$B$20","v":0},{"$f":"$C$20","v":2},{"$f":"$D$20","v":4},75003,null,{"$f":"'Dairy Miscellaneous'!J36","v":0},{"$f":"'Dairy Miscellaneous'!K36","v":0}]
[{"$f":"'Cow Housing'!$C$6","v":"C-3333"},{"$f":"$B$20","v":0},{"$f":"$C$20","v":2},{"$f":"$D$20","v":4},75070,null,{"$f":"'Dairy Miscellaneous'!J24","v":0},{"$f":"'Dairy Miscellaneous'!K24","v":0}]
[{"$f":"'Cow Housing'!$C$6","v":"C-3333"},{"$f":"$B$20","v":0},{"$f":"$C$20","v":2},{"$f":"$D$20","v":4},75150,null,{"$f":"'Dairy Miscellaneous'!J29","v":0},{"$f":"'Dairy Miscellaneous'!K29","v":0}]
[{"$f":"'Cow Housing'!$C$6","v":"C-3333"},{"$f":"$B$20","v":0},{"$f":"$C$20","v":2},{"$f":"$D$20","v":4},75694,null,{"$f":"'Dairy Miscellaneous'!J49","v":0},{"$f":"'Dairy Miscellaneous'!K49","v":0}]
[{"$f":"'Cow Housing'!$C$6","v":"C-3333"},{"$f":"$B$20","v":0},{"$f":"$C$20","v":2},{"$f":"$D$20","v":4},78933,null,{"$f":"'Dairy Miscellaneous'!J44","v":0},{"$f":"'Dairy Miscellaneous'!K44","v":0}]
[{"$f":"'Cow Housing'!$C$6","v":"C-3333"},{"$f":"$B$20","v":0},{"$f":"$C$20","v":2},{"$f":"$D$20","v":4},79005,null,{"$f":"'Dairy Miscellaneous'!J16","v":0},{"$f":"'Dairy Miscellaneous'!K16","v":0}]
[{"$f":"'Cow Housing'!$C$6","v":"C-3333"},{"$f":"$B$20","v":0},{"$f":"$C$20","v":2},{"$f":"$D$20","v":4},79345,null,{"$f":"'Dairy Miscellaneous'!J15","v":0},{"$f":"'Dairy Miscellaneous'!K15","v":0}]
[{"$f":"'Cow Housing'!$C$6","v":"C-3333"},{"$f":"$B$20","v":0},{"$f":"$C$20","v":2},{"$f":"$D$20","v":4},95501,null,{"$f":"'Dairy Miscellaneous'!J20","v":0},{"$f":"'Dairy Miscellaneous'!K20","v":0}]
[{"$f":"'Cow Housing'!$C$6","v":"C-3333"},{"$f":"$B$20","v":0},{"$f":"$C$20","v":2},{"$f":"$D$20","v":4},96128,null,{"$f":"'Dairy Miscellaneous'!J19","v":0},{"$f":"'Dairy Miscellaneous'!K19","v":0}]
[{"$f":"'Cow Housing'!$C$6","v":"C-3333"},{"$f":"$B$20","v":0},{"$f":"$C$20","v":2},{"$f":"$D$20","v":4},96184,null,{"$f":"'Dairy Miscellaneous'!J17","v":0},{"$f":"'Dairy Miscellaneous'!K17","v":0}]
[{"$f":"'Cow Housing'!$C$6","v":"C-3333"},{"$f":"$B$20","v":0},{"$f":"$C$20","v":2},{"$f":"$D$20","v":4},98828,null,{"$f":"'Dairy Miscellaneous'!J43","v":0},{"$f":"'Dairy Miscellaneous'!K43","v":0}]
[{"$f":"'Cow Housing'!$C$6","v":"C-3333"},{"$f":"$B$20","v":0},{"$f":"$C$20","v":2},{"$f":"$D$20","v":4},100414,null,{"$f":"'Dairy Miscellaneous'!J37","v":0},{"$f":"'Dairy Miscellaneous'!K37","v":0}]
[{"$f":"'Cow Housing'!$C$6","v":"C-3333"},{"$f":"$B$20","v":0},{"$f":"$C$20","v":2},{"$f":"$D$20","v":4},100425,null,{"$f":"'Dairy Miscellaneous'!J46","v":0},{"$f":"'Dairy Miscellaneous'!K46","v":0}]
[{"$f":"'Cow Housing'!$C$6","v":"C-3333"},{"$f":"$B$20","v":0},{"$f":"$C$20","v":2},{"$f":"$D$20","v":4},100447,null,{"$f":"'Dairy Miscellaneous'!J27","v":0},{"$f":"'Dairy Miscellaneous'!K27","v":0}]
[{"$f":"'Cow Housing'!$C$6","v":"C-3333"},{"$f":"$B$20","v":0},{"$f":"$C$20","v":2},{"$f":"$D$20","v":4},106467,null,{"$f":"'Dairy Miscellaneous'!J23","v":0},{"$f":"'Dairy Miscellaneous'!K23","v":0}]
[{"$f":"'Cow Housing'!$C$6","v":"C-3333"},{"$f":"$B$20","v":0},{"$f":"$C$20","v":2},{"$f":"$D$20","v":4},106934,null,{"$f":"'Dairy Miscellaneous'!J38","v":0},{"$f":"'Dairy Miscellaneous'!K38","v":0}]
[{"$f":"'Cow Housing'!$C$6","v":"C-3333"},{"$f":"$B$20","v":0},{"$f":"$C$20","v":2},{"$f":"$D$20","v":4},107062,null,{"$f":"'Dairy Miscellaneous'!J39","v":0},{"$f":"'Dairy Miscellaneous'!K39","v":0}]
[{"$f":"'Cow Housing'!$C$6","v":"C-3333"},{"$f":"$B$20","v":0},{"$f":"$C$20","v":2},{"$f":"$D$20","v":4},107131,null,{"$f":"'Dairy Miscellaneous'!J25","v":0},{"$f":"'Dairy Miscellaneous'!K25","v":0}]
[{"$f":"'Cow Housing'!$C$6","v":"C-3333"},{"$f":"$B$20","v":0},{"$f":"$C$20","v":2},{"$f":"$D$20","v":4},108054,null,{"$f":"'Dairy Miscellaneous'!J50","v":0},{"$f":"'Dairy Miscellaneous'!K50","v":0}]
[{"$f":"'Cow Housing'!$C$6","v":"C-3333"},{"$f":"$B$20","v":0},{"$f":"$C$20","v":2},{"$f":"$D$20","v":4},108101,null,{"$f":"'Dairy Miscellaneous'!J45","v":0},{"$f":"'Dairy Miscellaneous'!K45","v":0}]
[{"$f":"'Cow Housing'!$C$6","v":"C-3333"},{"$f":"$B$20","v":0},{"$f":"$C$20","v":2},{"$f":"$D$20","v":4},108883,null,{"$f":"'Dairy Miscellaneous'!J48","v":0},{"$f":"'Dairy Miscellaneous'!K48","v":0}]
[{"$f":"'Cow Housing'!$C$6","v":"C-3333"},{"$f":"$B$20","v":0},{"$f":"$C$20","v":2},{"$f":"$D$20","v":4},108907,null,{"$f":"'Dairy Miscellaneous'!J31","v":0},{"$f":"'Dairy Miscellaneous'!K31","v":0}]
[{"$f":"'Cow Housing'!$C$6","v":"C-3333"},{"$f":"$B$20","v":0},{"$f":"$C$20","v":2},{"$f":"$D$20","v":4},110543,null,{"$f":"'Dairy Miscellaneous'!J41","v":0},{"$f":"'Dairy Miscellaneous'!K41","v":0}]
[{"$f":"'Cow Housing'!$C$6","v":"C-3333"},{"$f":"$B$20","v":0},{"$f":"$C$20","v":2},{"$f":"$D$20","v":4},110827,null,{"$f":"'Dairy Miscellaneous'!J35","v":0},{"$f":"'Dairy Miscellaneous'!K35","v":0}]
[{"$f":"'Cow Housing'!$C$6","v":"C-3333"},{"$f":"$B$20","v":0},{"$f":"$C$20","v":2},{"$f":"$D$20","v":4},120821,null,{"$f":"'Dairy Miscellaneous'!J18","v":0},{"$f":"'Dairy Miscellaneous'!K18","v":0}]
[{"$f":"'Cow Housing'!$C$6","v":"C-3333"},{"$f":"$B$20","v":0},{"$f":"$C$20","v":2},{"$f":"$D$20","v":4},123728,null,{"$f":"'Dairy Miscellaneous'!J28","v":0},{"$f":"'Dairy Miscellaneous'!K28","v":0}]
[{"$f":"'Cow Housing'!$C$6","v":"C-3333"},{"$f":"$B$20","v":0},{"$f":"$C$20","v":2},{"$f":"$D$20","v":4},123911,null,{"$f":"'Dairy Miscellaneous'!J22","v":0},{"$f":"'Dairy Miscellaneous'!K22","v":0}]
[{"$f":"'Cow Housing'!$C$6","v":"C-3333"},{"$f":"$B$20","v":0},{"$f":"$C$20","v":2},{"$f":"$D$20","v":4},541731,null,{"$f":"'Dairy Miscellaneous'!J21","v":0},{"$f":"'Dairy Miscellaneous'!K21","v":0}]
[{"$f":"'Cow Housing'!$C$6","v":"C-3333"},{"$f":"$B$20","v":0},{"$f":"$C$20","v":2},{"$f":"$D$20","v":4},764410,null,{"$f":"'Dairy Miscellaneous'!J47","v":0},{"$f":"'Dairy Miscellaneous'!K47","v":0}]
[{"$f":"'Cow Housing'!$C$6","v":"C-3333"},{"$f":"$B$20","v":0},{"$f":"$C$20","v":2},{"$f":"$D$20","v":4},1330207,null,{"$f":"'Dairy Miscellaneous'!J51","v":0},{"$f":"'Dairy Miscellaneous'!K51","v":0}]
[{"$f":"'Cow Housing'!$C$6","v":"C-3333"},{"$f":"$B$20","v":0},{"$f":"$C$20","v":2},{"$f":"$D$20","v":4},4170303,null,{"$f":"'Dairy Miscellaneous'!J34","v":0},{"$f":"'Dairy Miscellaneous'!K34","v":0}]
[{"$f":"'Cow Housing'!$C$6","v":"C-3333"},{"$f":"$B$20","v":0},{"$f":"$C$20","v":2},{"$f":"$D$20","v":4},7429905,null,{"$f":"'Livestock PM10'!J14","v":0},{"$f":"'Livestock PM10'!K14","v":0}]
[{"$f":"'Cow Housing'!$C$6","v":"C-3333"},{"$f":"$B$20","v":0},{"$f":"$C$20","v":2},{"$f":"$D$20","v":4},7439921,null,{"$f":"'Livestock PM10'!J22","v":0},{"$f":"'Livestock PM10'!K22","v":0}]
[{"$f":"'Cow Housing'!$C$6","v":"C-3333"},{"$f":"$B$20","v":0},{"$f":"$C$20","v":2},{"$f":"$D$20","v":4},7439965,null,{"$f":"'Livestock PM10'!J23","v":0},{"$f":"'Livestock PM10'!K23","v":0}]
[{"$f":"'Cow Housing'!$C$6","v":"C-3333"},{"$f":"$B$20","v":0},{"$f":"$C$20","v":2},{"$f":"$D$20","v":4},7439976,null,{"$f":"'Livestock PM10'!J24","v":0},{"$f":"'Livestock PM10'!K24","v":0}]
[{"$f":"'Cow Housing'!$C$6","v":"C-3333"},{"$f":"$B$20","v":0},{"$f":"$C$20","v":2},{"$f":"$D$20","v":4},7440020,null,{"$f":"'Livestock PM10'!J25","v":0},{"$f":"'Livestock PM10'!K25","v":0}]
[{"$f":"'Cow Housing'!$C$6","v":"C-3333"},{"$f":"$B$20","v":0},{"$f":"$C$20","v":2},{"$f":"$D$20","v":4},7440360,null,{"$f":"'Livestock PM10'!J15","v":0},{"$f":"'Livestock PM10'!K15","v":0}]
[{"$f":"'Cow Housing'!$C$6","v":"C-3333"},{"$f":"$B$20","v":0},{"$f":"$C$20","v":2},{"$f":"$D$20","v":4},7440382,null,{"$f":"'Livestock PM10'!J16","v":0},{"$f":"'Livestock PM10'!K16","v":0}]
[{"$f":"'Cow Housing'!$C$6","v":"C-3333"},{"$f":"$B$20","v":0},{"$f":"$C$20","v":2},{"$f":"$D$20","v":4},7440393,null,{"$f":"'Livestock PM10'!J17","v":0},{"$f":"'Livestock PM10'!K17","v":0}]
[{"$f":"'Cow Housing'!$C$6","v":"C-3333"},{"$f":"$B$20","v":0},{"$f":"$C$20","v":2},{"$f":"$D$20","v":4},7440473,null,{"$f":"'Livestock PM10'!J19","v":0},{"$f":"'Livestock PM10'!K19","v":0}]
[{"$f":"'Cow Housing'!$C$6","v":"C-3333"},{"$f":"$B$20","v":0},{"$f":"$C$20","v":2},{"$f":"$D$20","v":4},7440508,null,{"$f":"'Livestock PM10'!J20","v":0},{"$f":"'Livestock PM10'!K20","v":0}]
[{"$f":"'Cow Housing'!$C$6","v":"C-3333"},{"$f":"$B$20","v":0},{"$f":"$C$20","v":2},{"$f":"$D$20","v":4},7440622,null,{"$f":"'Livestock PM10'!J29","v":0},{"$f":"'Livestock PM10'!K29","v":0}]
[{"$f":"'Cow Housing'!$C$6","v":"C-3333"},{"$f":"$B$20","v":0},{"$f":"$C$20","v":2},{"$f":"$D$20","v":4},7440666,null,{"$f":"'Livestock PM10'!J30","v":0},{"$f":"'Livestock PM10'!K30","v":0}]
[{"$f":"'Cow Housing'!$C$6","v":"C-3333"},{"$f":"$B$20","v":0},{"$f":"$C$20","v":2},{"$f":"$D$20","v":4},7664417,null,{"$f":"'Livestock PM10'!J31","v":0},{"$f":"'Livestock PM10'!K31","v":0}]
[{"$f":"'Cow Housing'!$C$6","v":"C-3333"},{"$f":"$B$20","v":0},{"$f":"$C$20","v":2},{"$f":"$D$20","v":4},7723140,null,{"$f":"'Livestock PM10'!J26","v":0},{"$f":"'Livestock PM10'!K26","v":0}]
[{"$f":"'Cow Housing'!$C$6","v":"C-3333"},{"$f":"$B$20","v":0},{"$f":"$C$20","v":2},{"$f":"$D$20","v":4},7726956,null,{"$f":"'Livestock PM10'!J18","v":0},{"$f":"'Livestock PM10'!K18","v":0}]
[{"$f":"'Cow Housing'!$C$6","v":"C-3333"},{"$f":"$B$20","v":0},{"$f":"$C$20","v":2},{"$f":"$D$20","v":4},7782492,null,{"$f":"'Livestock PM10'!J27","v":0},{"$f":"'Livestock PM10'!K27","v":0}]
[{"$f":"'Cow Housing'!$C$6","v":"C-3333"},{"$f":"$B$20","v":0},{"$f":"$C$20","v":2},{"$f":"$D$20","v":4},18540299,null,{"$f":"'Livestock PM10'!J21","v":0},{"$f":"'Livestock PM10'!K21","v":0}]
[{"$f":"'Cow Housing'!$C$6","v":"C-3333"},{"$f":"$B$21","v":0},{"$f":"$C$21","v":2},{"$f":"$D$21","v":5},9960,null,{"$f":"'Livestock PM10'!L28","v":0},{"$f":"'Livestock PM10'!M28","v":0}]
[{"$f":"'Cow Housing'!$C$6","v":"C-3333"},{"$f":"$B$21","v":0},{"$f":"$C$21","v":2},{"$f":"$D$21","v":5},50000,null,{"$f":"'Dairy Miscellaneous'!L40","v":0},{"$f":"'Dairy Miscellaneous'!M40","v":0}]
[{"$f":"'Cow Housing'!$C$6","v":"C-3333"},{"$f":"$B$21","v":0},{"$f":"$C$21","v":2},{"$f":"$D$21","v":5},56235,null,{"$f":"'Dairy Miscellaneous'!L30","v":0},{"$f":"'Dairy Miscellaneous'!M30","v":0}]
[{"$f":"'Cow Housing'!$C$6","v":"C-3333"},{"$f":"$B$21","v":0},{"$f":"$C$21","v":2},{"$f":"$D$21","v":5},67630,null,{"$f":"'Dairy Miscellaneous'!L42","v":0},{"$f":"'Dairy Miscellaneous'!M42","v":0}]
[{"$f":"'Cow Housing'!$C$6","v":"C-3333"},{"$f":"$B$21","v":0},{"$f":"$C$21","v":2},{"$f":"$D$21","v":5},67663,null,{"$f":"'Dairy Miscellaneous'!L32","v":0},{"$f":"'Dairy Miscellaneous'!M32","v":0}]
[{"$f":"'Cow Housing'!$C$6","v":"C-3333"},{"$f":"$B$21","v":0},{"$f":"$C$21","v":2},{"$f":"$D$21","v":5},71432,null,{"$f":"'Dairy Miscellaneous'!L26","v":0},{"$f":"'Dairy Miscellaneous'!M26","v":0}]
[{"$f":"'Cow Housing'!$C$6","v":"C-3333"},{"$f":"$B$21","v":0},{"$f":"$C$21","v":2},{"$f":"$D$21","v":5},74873,null,{"$f":"'Dairy Miscellaneous'!L33","v":0},{"$f":"'Dairy Miscellaneous'!M33","v":0}]
[{"$f":"'Cow Housing'!$C$6","v":"C-3333"},{"$f":"$B$21","v":0},{"$f":"$C$21","v":2},{"$f":"$D$21","v":5},75003,null,{"$f":"'Dairy Miscellaneous'!L36","v":0},{"$f":"'Dairy Miscellaneous'!M36","v":0}]
[{"$f":"'Cow Housing'!$C$6","v":"C-3333"},{"$f":"$B$21","v":0},{"$f":"$C$21","v":2},{"$f":"$D$21","v":5},75070,null,{"$f":"'Dairy Miscellaneous'!L24","v":0},{"$f":"'Dairy Miscellaneous'!M24","v":0}]
[{"$f":"'Cow Housing'!$C$6","v":"C-3333"},{"$f":"$B$21","v":0},{"$f":"$C$21","v":2},{"$f":"$D$21","v":5},75150,null,{"$f":"'Dairy Miscellaneous'!L29","v":0},{"$f":"'Dairy Miscellaneous'!M29","v":0}]
[{"$f":"'Cow Housing'!$C$6","v":"C-3333"},{"$f":"$B$21","v":0},{"$f":"$C$21","v":2},{"$f":"$D$21","v":5},75694,null,{"$f":"'Dairy Miscellaneous'!L49","v":0},{"$f":"'Dairy Miscellaneous'!M49","v":0}]
[{"$f":"'Cow Housing'!$C$6","v":"C-3333"},{"$f":"$B$21","v":0},{"$f":"$C$21","v":2},{"$f":"$D$21","v":5},78933,null,{"$f":"'Dairy Miscellaneous'!L44","v":0},{"$f":"'Dairy Miscellaneous'!M44","v":0}]
[{"$f":"'Cow Housing'!$C$6","v":"C-3333"},{"$f":"$B$21","v":0},{"$f":"$C$21","v":2},{"$f":"$D$21","v":5},79005,null,{"$f":"'Dairy Miscellaneous'!L16","v":0},{"$f":"'Dairy Miscellaneous'!M16","v":0}]
[{"$f":"'Cow Housing'!$C$6","v":"C-3333"},{"$f":"$B$21","v":0},{"$f":"$C$21","v":2},{"$f":"$D$21","v":5},79345,null,{"$f":"'Dairy Miscellaneous'!L15","v":0},{"$f":"'Dairy Miscellaneous'!M15","v":0}]
[{"$f":"'Cow Housing'!$C$6","v":"C-3333"},{"$f":"$B$21","v":0},{"$f":"$C$21","v":2},{"$f":"$D$21","v":5},95501,null,{"$f":"'Dairy Miscellaneous'!L20","v":0},{"$f":"'Dairy Miscellaneous'!M20","v":0}]
[{"$f":"'Cow Housing'!$C$6","v":"C-3333"},{"$f":"$B$21","v":0},{"$f":"$C$21","v":2},{"$f":"$D$21","v":5},96128,null,{"$f":"'Dairy Miscellaneous'!L19","v":0},{"$f":"'Dairy Miscellaneous'!M19","v":0}]
[{"$f":"'Cow Housing'!$C$6","v":"C-3333"},{"$f":"$B$21","v":0},{"$f":"$C$21","v":2},{"$f":"$D$21","v":5},96184,null,{"$f":"'Dairy Miscellaneous'!L17","v":0},{"$f":"'Dairy Miscellaneous'!M17","v":0}]
[{"$f":"'Cow Housing'!$C$6","v":"C-3333"},{"$f":"$B$21","v":0},{"$f":"$C$21","v":2},{"$f":"$D$21","v":5},98828,null,{"$f":"'Dairy Miscellaneous'!L43","v":0},{"$f":"'Dairy Miscellaneous'!M43","v":0}]
[{"$f":"'Cow Housing'!$C$6","v":"C-3333"},{"$f":"$B$21","v":0},{"$f":"$C$21","v":2},{"$f":"$D$21","v":5},100414,null,{"$f":"'Dairy Miscellaneous'!L37","v":0},{"$f":"'Dairy Miscellaneous'!M37","v":0}]
[{"$f":"'Cow Housing'!$C$6","v":"C-3333"},{"$f":"$B$21","v":0},{"$f":"$C$21","v":2},{"$f":"$D$21","v":5},100425,null,{"$f":"'Dairy Miscellaneous'!L46","v":0},{"$f":"'Dairy Miscellaneous'!M46","v":0}]
[{"$f":"'Cow Housing'!$C$6","v":"C-3333"},{"$f":"$B$21","v":0},{"$f":"$C$21","v":2},{"$f":"$D$21","v":5},100447,null,{"$f":"'Dairy Miscellaneous'!L27","v":0},{"$f":"'Dairy Miscellaneous'!M27","v":0}]
[{"$f":"'Cow Housing'!$C$6","v":"C-3333"},{"$f":"$B$21","v":0},{"$f":"$C$21","v":2},{"$f":"$D$21","v":5},106467,null,{"$f":"'Dairy Miscellaneous'!L23","v":0},{"$f":"'Dairy Miscellaneous'!M23","v":0}]
[{"$f":"'Cow Housing'!$C$6","v":"C-3333"},{"$f":"$B$21","v":0},{"$f":"$C$21","v":2},{"$f":"$D$21","v":5},106934,null,{"$f":"'Dairy Miscellaneous'!L38","v":0},{"$f":"'Dairy Miscellaneous'!M38","v":0}]
[{"$f":"'Cow Housing'!$C$6","v":"C-3333"},{"$f":"$B$21","v":0},{"$f":"$C$21","v":2},{"$f":"$D$21","v":5},107062,null,{"$f":"'Dairy Miscellaneous'!L39","v":0},{"$f":"'Dairy Miscellaneous'!M39","v":0}]
[{"$f":"'Cow Housing'!$C$6","v":"C-3333"},{"$f":"$B$21","v":0},{"$f":"$C$21","v":2},{"$f":"$D$21","v":5},107131,null,{"$f":"'Dairy Miscellaneous'!L25","v":0},{"$f":"'Dairy Miscellaneous'!M25","v":0}]
[{"$f":"'Cow Housing'!$C$6","v":"C-3333"},{"$f":"$B$21","v":0},{"$f":"$C$21","v":2},{"$f":"$D$21","v":5},108054,null,{"$f":"'Dairy Miscellaneous'!L50","v":0},{"$f":"'Dairy Miscellaneous'!M50","v":0}]
[{"$f":"'Cow Housing'!$C$6","v":"C-3333"},{"$f":"$B$21","v":0},{"$f":"$C$21","v":2},{"$f":"$D$21","v":5},108101,null,{"$f":"'Dairy Miscellaneous'!L45","v":0},{"$f":"'Dairy Miscellaneous'!M45","v":0}]
[{"$f":"'Cow Housing'!$C$6","v":"C-3333"},{"$f":"$B$21","v":0},{"$f":"$C$21","v":2},{"$f":"$D$21","v":5},108883,null,{"$f":"'Dairy Miscellaneous'!L48","v":0},{"$f":"'Dairy Miscellaneous'!M48","v":0}]
[{"$f":"'Cow Housing'!$C$6","v":"C-3333"},{"$f":"$B$21","v":0},{"$f":"$C$21","v":2},{"$f":"$D$21","v":5},108907,null,{"$f":"'Dairy Miscellaneous'!L31","v":0},{"$f":"'Dairy Miscellaneous'!M31","v":0}]
[{"$f":"'Cow Housing'!$C$6","v":"C-3333"},{"$f":"$B$21","v":0},{"$f":"$C$21","v":2},{"$f":"$D$21","v":5},110543,null,{"$f":"'Dairy Miscellaneous'!L41","v":0},{"$f":"'Dairy Miscellaneous'!M41","v":0}]
[{"$f":"'Cow Housing'!$C$6","v":"C-3333"},{"$f":"$B$21","v":0},{"$f":"$C$21","v":2},{"$f":"$D$21","v":5},110827,null,{"$f":"'Dairy Miscellaneous'!L35","v":0},{"$f":"'Dairy Miscellaneous'!M35","v":0}]
[{"$f":"'Cow Housing'!$C$6","v":"C-3333"},{"$f":"$B$21","v":0},{"$f":"$C$21","v":2},{"$f":"$D$21","v":5},120821,null,{"$f":"'Dairy Miscellaneous'!L18","v":0},{"$f":"'Dairy Miscellaneous'!M18","v":0}]
[{"$f":"'Cow Housing'!$C$6","v":"C-3333"},{"$f":"$B$21","v":0},{"$f":"$C$21","v":2},{"$f":"$D$21","v":5},123728,null,{"$f":"'Dairy Miscellaneous'!L28","v":0},{"$f":"'Dairy Miscellaneous'!M28","v":0}]
[{"$f":"'Cow Housing'!$C$6","v":"C-3333"},{"$f":"$B$21","v":0},{"$f":"$C$21","v":2},{"$f":"$D$21","v":5},123911,null,{"$f":"'Dairy Miscellaneous'!L22","v":0},{"$f":"'Dairy Miscellaneous'!M22","v":0}]
[{"$f":"'Cow Housing'!$C$6","v":"C-3333"},{"$f":"$B$21","v":0},{"$f":"$C$21","v":2},{"$f":"$D$21","v":5},541731,null,{"$f":"'Dairy Miscellaneous'!L21","v":0},{"$f":"'Dairy Miscellaneous'!M21","v":0}]
[{"$f":"'Cow Housing'!$C$6","v":"C-3333"},{"$f":"$B$21","v":0},{"$f":"$C$21","v":2},{"$f":"$D$21","v":5},764410,null,{"$f":"'Dairy Miscellaneous'!L47","v":0},{"$f":"'Dairy Miscellaneous'!M47","v":0}]
[{"$f":"'Cow Housing'!$C$6","v":"C-3333"},{"$f":"$B$21","v":0},{"$f":"$C$21","v":2},{"$f":"$D$21","v":5},1330207,null,{"$f":"'Dairy Miscellaneous'!L51","v":0},{"$f":"'Dairy Miscellaneous'!M51","v":0}]
[{"$f":"'Cow Housing'!$C$6","v":"C-3333"},{"$f":"$B$21","v":0},{"$f":"$C$21","v":2},{"$f":"$D$21","v":5},4170303,null,{"$f":"'Dairy Miscellaneous'!L34","v":0},{"$f":"'Dairy Miscellaneous'!M34","v":0}]
[{"$f":"'Cow Housing'!$C$6","v":"C-3333"},{"$f":"$B$21","v":0},{"$f":"$C$21","v":2},{"$f":"$D$21","v":5},7429905,null,{"$f":"'Livestock PM10'!L14","v":0},{"$f":"'Livestock PM10'!M14","v":0}]
[{"$f":"'Cow Housing'!$C$6","v":"C-3333"},{"$f":"$B$21","v":0},{"$f":"$C$21","v":2},{"$f":"$D$21","v":5},7439921,null,{"$f":"'Livestock PM10'!L22","v":0},{"$f":"'Livestock PM10'!M22","v":0}]
[{"$f":"'Cow Housing'!$C$6","v":"C-3333"},{"$f":"$B$21","v":0},{"$f":"$C$21","v":2},{"$f":"$D$21","v":5},7439965,null,{"$f":"'Livestock PM10'!L23","v":0},{"$f":"'Livestock PM10'!M23","v":0}]
[{"$f":"'Cow Housing'!$C$6","v":"C-3333"},{"$f":"$B$21","v":0},{"$f":"$C$21","v":2},{"$f":"$D$21","v":5},7439976,null,{"$f":"'Livestock PM10'!L24","v":0},{"$f":"'Livestock PM10'!M24","v":0}]
[{"$f":"'Cow Housing'!$C$6","v":"C-3333"},{"$f":"$B$21","v":0},{"$f":"$C$21","v":2},{"$f":"$D$21","v":5},7440020,null,{"$f":"'Livestock PM10'!L25","v":0},{"$f":"'Livestock PM10'!M25","v":0}]
[{"$f":"'Cow Housing'!$C$6","v":"C-3333"},{"$f":"$B$21","v":0},{"$f":"$C$21","v":2},{"$f":"$D$21","v":5},7440360,null,{"$f":"'Livestock PM10'!L15","v":0},{"$f":"'Livestock PM10'!M15","v":0}]
[{"$f":"'Cow Housing'!$C$6","v":"C-3333"},{"$f":"$B$21","v":0},{"$f":"$C$21","v":2},{"$f":"$D$21","v":5},7440382,null,{"$f":"'Livestock PM10'!L16","v":0},{"$f":"'Livestock PM10'!M16","v":0}]
[{"$f":"'Cow Housing'!$C$6","v":"C-3333"},{"$f":"$B$21","v":0},{"$f":"$C$21","v":2},{"$f":"$D$21","v":5},7440393,null,{"$f":"'Livestock PM10'!L17","v":0},{"$f":"'Livestock PM10'!M17","v":0}]
[{"$f":"'Cow Housing'!$C$6","v":"C-3333"},{"$f":"$B$21","v":0},{"$f":"$C$21","v":2},{"$f":"$D$21","v":5},7440473,null,{"$f":"'Livestock PM10'!L19","v":0},{"$f":"'Livestock PM10'!M19","v":0}]
[{"$f":"'Cow Housing'!$C$6","v":"C-3333"},{"$f":"$B$21","v":0},{"$f":"$C$21","v":2},{"$f":"$D$21","v":5},7440508,null,{"$f":"'Livestock PM10'!L20","v":0},{"$f":"'Livestock PM10'!M20","v":0}]
[{"$f":"'Cow Housing'!$C$6","v":"C-3333"},{"$f":"$B$21","v":0},{"$f":"$C$21","v":2},{"$f":"$D$21","v":5},7440622,null,{"$f":"'Livestock PM10'!L29","v":0},{"$f":"'Livestock PM10'!M29","v":0}]
[{"$f":"'Cow Housing'!$C$6","v":"C-3333"},{"$f":"$B$21","v":0},{"$f":"$C$21","v":2},{"$f":"$D$21","v":5},7440666,null,{"$f":"'Livestock PM10'!L30","v":0},{"$f":"'Livestock PM10'!M30","v":0}]
[{"$f":"'Cow Housing'!$C$6","v":"C-3333"},{"$f":"$B$21","v":0},{"$f":"$C$21","v":2},{"$f":"$D$21","v":5},7664417,null,{"$f":"'Livestock PM10'!L31","v":0},{"$f":"'Livestock PM10'!M31","v":0}]
[{"$f":"'Cow Housing'!$C$6","v":"C-3333"},{"$f":"$B$21","v":0},{"$f":"$C$21","v":2},{"$f":"$D$21","v":5},7723140,null,{"$f":"'Livestock PM10'!L26","v":0},{"$f":"'Livestock PM10'!M26","v":0}]
[{"$f":"'Cow Housing'!$C$6","v":"C-3333"},{"$f":"$B$21","v":0},{"$f":"$C$21","v":2},{"$f":"$D$21","v":5},7726956,null,{"$f":"'Livestock PM10'!L18","v":0},{"$f":"'Livestock PM10'!M18","v":0}]
[{"$f":"'Cow Housing'!$C$6","v":"C-3333"},{"$f":"$B$21","v":0},{"$f":"$C$21","v":2},{"$f":"$D$21","v":5},7782492,null,{"$f":"'Livestock PM10'!L27","v":0},{"$f":"'Livestock PM10'!M27","v":0}]
[{"$f":"'Cow Housing'!$C$6","v":"C-3333"},{"$f":"$B$21","v":0},{"$f":"$C$21","v":2},{"$f":"$D$21","v":5},18540299,null,{"$f":"'Livestock PM10'!L21","v":0},{"$f":"'Livestock PM10'!M21","v":0}]
[{"$f":"'Cow Housing'!$C$6","v":"C-3333"},{"$f":"$B$22","v":0},{"$f":"$C$22","v":2},{"$f":"$D$22","v":6},9960,null,{"$f":"'Livestock PM10'!N28","v":0},{"$f":"'Livestock PM10'!O28","v":0}]
[{"$f":"'Cow Housing'!$C$6","v":"C-3333"},{"$f":"$B$22","v":0},{"$f":"$C$22","v":2},{"$f":"$D$22","v":6},50000,null,{"$f":"'Dairy Miscellaneous'!N40","v":0},{"$f":"'Dairy Miscellaneous'!O40","v":0}]
[{"$f":"'Cow Housing'!$C$6","v":"C-3333"},{"$f":"$B$22","v":0},{"$f":"$C$22","v":2},{"$f":"$D$22","v":6},56235,null,{"$f":"'Dairy Miscellaneous'!N30","v":0},{"$f":"'Dairy Miscellaneous'!O30","v":0}]
[{"$f":"'Cow Housing'!$C$6","v":"C-3333"},{"$f":"$B$22","v":0},{"$f":"$C$22","v":2},{"$f":"$D$22","v":6},67630,null,{"$f":"'Dairy Miscellaneous'!N42","v":0},{"$f":"'Dairy Miscellaneous'!O42","v":0}]
[{"$f":"'Cow Housing'!$C$6","v":"C-3333"},{"$f":"$B$22","v":0},{"$f":"$C$22","v":2},{"$f":"$D$22","v":6},67663,null,{"$f":"'Dairy Miscellaneous'!N32","v":0},{"$f":"'Dairy Miscellaneous'!O32","v":0}]
[{"$f":"'Cow Housing'!$C$6","v":"C-3333"},{"$f":"$B$22","v":0},{"$f":"$C$22","v":2},{"$f":"$D$22","v":6},71432,null,{"$f":"'Dairy Miscellaneous'!N26","v":0},{"$f":"'Dairy Miscellaneous'!O26","v":0}]
[{"$f":"'Cow Housing'!$C$6","v":"C-3333"},{"$f":"$B$22","v":0},{"$f":"$C$22","v":2},{"$f":"$D$22","v":6},74873,null,{"$f":"'Dairy Miscellaneous'!N33","v":0},{"$f":"'Dairy Miscellaneous'!O33","v":0}]
[{"$f":"'Cow Housing'!$C$6","v":"C-3333"},{"$f":"$B$22","v":0},{"$f":"$C$22","v":2},{"$f":"$D$22","v":6},75003,null,{"$f":"'Dairy Miscellaneous'!N36","v":0},{"$f":"'Dairy Miscellaneous'!O36","v":0}]
[{"$f":"'Cow Housing'!$C$6","v":"C-3333"},{"$f":"$B$22","v":0},{"$f":"$C$22","v":2},{"$f":"$D$22","v":6},75070,null,{"$f":"'Dairy Miscellaneous'!N24","v":0},{"$f":"'Dairy Miscellaneous'!O24","v":0}]
[{"$f":"'Cow Housing'!$C$6","v":"C-3333"},{"$f":"$B$22","v":0},{"$f":"$C$22","v":2},{"$f":"$D$22","v":6},75150,null,{"$f":"'Dairy Miscellaneous'!N29","v":0},{"$f":"'Dairy Miscellaneous'!O29","v":0}]
[{"$f":"'Cow Housing'!$C$6","v":"C-3333"},{"$f":"$B$22","v":0},{"$f":"$C$22","v":2},{"$f":"$D$22","v":6},75694,null,{"$f":"'Dairy Miscellaneous'!N49","v":0},{"$f":"'Dairy Miscellaneous'!O49","v":0}]
[{"$f":"'Cow Housing'!$C$6","v":"C-3333"},{"$f":"$B$22","v":0},{"$f":"$C$22","v":2},{"$f":"$D$22","v":6},78933,null,{"$f":"'Dairy Miscellaneous'!N44","v":0},{"$f":"'Dairy Miscellaneous'!O44","v":0}]
[{"$f":"'Cow Housing'!$C$6","v":"C-3333"},{"$f":"$B$22","v":0},{"$f":"$C$22","v":2},{"$f":"$D$22","v":6},79005,null,{"$f":"'Dairy Miscellaneous'!N16","v":0},{"$f":"'Dairy Miscellaneous'!O16","v":0}]
[{"$f":"'Cow Housing'!$C$6","v":"C-3333"},{"$f":"$B$22","v":0},{"$f":"$C$22","v":2},{"$f":"$D$22","v":6},79345,null,{"$f":"'Dairy Miscellaneous'!N15","v":0},{"$f":"'Dairy Miscellaneous'!O15","v":0}]
[{"$f":"'Cow Housing'!$C$6","v":"C-3333"},{"$f":"$B$22","v":0},{"$f":"$C$22","v":2},{"$f":"$D$22","v":6},95501,null,{"$f":"'Dairy Miscellaneous'!N20","v":0},{"$f":"'Dairy Miscellaneous'!O20","v":0}]
[{"$f":"'Cow Housing'!$C$6","v":"C-3333"},{"$f":"$B$22","v":0},{"$f":"$C$22","v":2},{"$f":"$D$22","v":6},96128,null,{"$f":"'Dairy Miscellaneous'!N19","v":0},{"$f":"'Dairy Miscellaneous'!O19","v":0}]
[{"$f":"'Cow Housing'!$C$6","v":"C-3333"},{"$f":"$B$22","v":0},{"$f":"$C$22","v":2},{"$f":"$D$22","v":6},96184,null,{"$f":"'Dairy Miscellaneous'!N17","v":0},{"$f":"'Dairy Miscellaneous'!O17","v":0}]
[{"$f":"'Cow Housing'!$C$6","v":"C-3333"},{"$f":"$B$22","v":0},{"$f":"$C$22","v":2},{"$f":"$D$22","v":6},98828,null,{"$f":"'Dairy Miscellaneous'!N43","v":0},{"$f":"'Dairy Miscellaneous'!O43","v":0}]
[{"$f":"'Cow Housing'!$C$6","v":"C-3333"},{"$f":"$B$22","v":0},{"$f":"$C$22","v":2},{"$f":"$D$22","v":6},100414,null,{"$f":"'Dairy Miscellaneous'!N37","v":0},{"$f":"'Dairy Miscellaneous'!O37","v":0}]
[{"$f":"'Cow Housing'!$C$6","v":"C-3333"},{"$f":"$B$22","v":0},{"$f":"$C$22","v":2},{"$f":"$D$22","v":6},100425,null,{"$f":"'Dairy Miscellaneous'!N46","v":0},{"$f":"'Dairy Miscellaneous'!O46","v":0}]
[{"$f":"'Cow Housing'!$C$6","v":"C-3333"},{"$f":"$B$22","v":0},{"$f":"$C$22","v":2},{"$f":"$D$22","v":6},100447,null,{"$f":"'Dairy Miscellaneous'!N27","v":0},{"$f":"'Dairy Miscellaneous'!O27","v":0}]
[{"$f":"'Cow Housing'!$C$6","v":"C-3333"},{"$f":"$B$22","v":0},{"$f":"$C$22","v":2},{"$f":"$D$22","v":6},106467,null,{"$f":"'Dairy Miscellaneous'!N23","v":0},{"$f":"'Dairy Miscellaneous'!O23","v":0}]
[{"$f":"'Cow Housing'!$C$6","v":"C-3333"},{"$f":"$B$22","v":0},{"$f":"$C$22","v":2},{"$f":"$D$22","v":6},106934,null,{"$f":"'Dairy Miscellaneous'!N38","v":0},{"$f":"'Dairy Miscellaneous'!O38","v":0}]
[{"$f":"'Cow Housing'!$C$6","v":"C-3333"},{"$f":"$B$22","v":0},{"$f":"$C$22","v":2},{"$f":"$D$22","v":6},107062,null,{"$f":"'Dairy Miscellaneous'!N39","v":0},{"$f":"'Dairy Miscellaneous'!O39","v":0}]
[{"$f":"'Cow Housing'!$C$6","v":"C-3333"},{"$f":"$B$22","v":0},{"$f":"$C$22","v":2},{"$f":"$D$22","v":6},107131,null,{"$f":"'Dairy Miscellaneous'!N25","v":0},{"$f":"'Dairy Miscellaneous'!O25","v":0}]
[{"$f":"'Cow Housing'!$C$6","v":"C-3333"},{"$f":"$B$22","v":0},{"$f":"$C$22","v":2},{"$f":"$D$22","v":6},108054,null,{"$f":"'Dairy Miscellaneous'!N50","v":0},{"$f":"'Dairy Miscellaneous'!O50","v":0}]
[{"$f":"'Cow Housing'!$C$6","v":"C-3333"},{"$f":"$B$22","v":0},{"$f":"$C$22","v":2},{"$f":"$D$22","v":6},108101,null,{"$f":"'Dairy Miscellaneous'!N45","v":0},{"$f":"'Dairy Miscellaneous'!O45","v":0}]
[{"$f":"'Cow Housing'!$C$6","v":"C-3333"},{"$f":"$B$22","v":0},{"$f":"$C$22","v":2},{"$f":"$D$22","v":6},108883,null,{"$f":"'Dairy Miscellaneous'!N48","v":0},{"$f":"'Dairy Miscellaneous'!O48","v":0}]
[{"$f":"'Cow Housing'!$C$6","v":"C-3333"},{"$f":"$B$22","v":0},{"$f":"$C$22","v":2},{"$f":"$D$22","v":6},108907,null,{"$f":"'Dairy Miscellaneous'!N31","v":0},{"$f":"'Dairy Miscellaneous'!O31","v":0}]
[{"$f":"'Cow Housing'!$C$6","v":"C-3333"},{"$f":"$B$22","v":0},{"$f":"$C$22","v":2},{"$f":"$D$22","v":6},110543,null,{"$f":"'Dairy Miscellaneous'!N41","v":0},{"$f":"'Dairy Miscellaneous'!O41","v":0}]
[{"$f":"'Cow Housing'!$C$6","v":"C-3333"},{"$f":"$B$22","v":0},{"$f":"$C$22","v":2},{"$f":"$D$22","v":6},110827,null,{"$f":"'Dairy Miscellaneous'!N35","v":0},{"$f":"'Dairy Miscellaneous'!O35","v":0}]
[{"$f":"'Cow Housing'!$C$6","v":"C-3333"},{"$f":"$B$22","v":0},{"$f":"$C$22","v":2},{"$f":"$D$22","v":6},120821,null,{"$f":"'Dairy Miscellaneous'!N18","v":0},{"$f":"'Dairy Miscellaneous'!O18","v":0}]
[{"$f":"'Cow Housing'!$C$6","v":"C-3333"},{"$f":"$B$22","v":0},{"$f":"$C$22","v":2},{"$f":"$D$22","v":6},123728,null,{"$f":"'Dairy Miscellaneous'!N28","v":0},{"$f":"'Dairy Miscellaneous'!O28","v":0}]
[{"$f":"'Cow Housing'!$C$6","v":"C-3333"},{"$f":"$B$22","v":0},{"$f":"$C$22","v":2},{"$f":"$D$22","v":6},123911,null,{"$f":"'Dairy Miscellaneous'!N22","v":0},{"$f":"'Dairy Miscellaneous'!O22","v":0}]
[{"$f":"'Cow Housing'!$C$6","v":"C-3333"},{"$f":"$B$22","v":0},{"$f":"$C$22","v":2},{"$f":"$D$22","v":6},541731,null,{"$f":"'Dairy Miscellaneous'!N21","v":0},{"$f":"'Dairy Miscellaneous'!O21","v":0}]
[{"$f":"'Cow Housing'!$C$6","v":"C-3333"},{"$f":"$B$22","v":0},{"$f":"$C$22","v":2},{"$f":"$D$22","v":6},764410,null,{"$f":"'Dairy Miscellaneous'!N47","v":0},{"$f":"'Dairy Miscellaneous'!O47","v":0}]
[{"$f":"'Cow Housing'!$C$6","v":"C-3333"},{"$f":"$B$22","v":0},{"$f":"$C$22","v":2},{"$f":"$D$22","v":6},1330207,null,{"$f":"'Dairy Miscellaneous'!N51","v":0},{"$f":"'Dairy Miscellaneous'!O51","v":0}]
[{"$f":"'Cow Housing'!$C$6","v":"C-3333"},{"$f":"$B$22","v":0},{"$f":"$C$22","v":2},{"$f":"$D$22","v":6},4170303,null,{"$f":"'Dairy Miscellaneous'!N34","v":0},{"$f":"'Dairy Miscellaneous'!O34","v":0}]
[{"$f":"'Cow Housing'!$C$6","v":"C-3333"},{"$f":"$B$22","v":0},{"$f":"$C$22","v":2},{"$f":"$D$22","v":6},7429905,null,{"$f":"'Livestock PM10'!N14","v":0},{"$f":"'Livestock PM10'!O14","v":0}]
[{"$f":"'Cow Housing'!$C$6","v":"C-3333"},{"$f":"$B$22","v":0},{"$f":"$C$22","v":2},{"$f":"$D$22","v":6},7439921,null,{"$f":"'Livestock PM10'!N22","v":0},{"$f":"'Livestock PM10'!O22","v":0}]
[{"$f":"'Cow Housing'!$C$6","v":"C-3333"},{"$f":"$B$22","v":0},{"$f":"$C$22","v":2},{"$f":"$D$22","v":6},7439965,null,{"$f":"'Livestock PM10'!N23","v":0},{"$f":"'Livestock PM10'!O23","v":0}]
[{"$f":"'Cow Housing'!$C$6","v":"C-3333"},{"$f":"$B$22","v":0},{"$f":"$C$22","v":2},{"$f":"$D$22","v":6},7439976,null,{"$f":"'Livestock PM10'!N24","v":0},{"$f":"'Livestock PM10'!O24","v":0}]
[{"$f":"'Cow Housing'!$C$6","v":"C-3333"},{"$f":"$B$22","v":0},{"$f":"$C$22","v":2},{"$f":"$D$22","v":6},7440020,null,{"$f":"'Livestock PM10'!N25","v":0},{"$f":"'Livestock PM10'!O25","v":0}]
[{"$f":"'Cow Housing'!$C$6","v":"C-3333"},{"$f":"$B$22","v":0},{"$f":"$C$22","v":2},{"$f":"$D$22","v":6},7440360,null,{"$f":"'Livestock PM10'!N15","v":0},{"$f":"'Livestock PM10'!O15","v":0}]
[{"$f":"'Cow Housing'!$C$6","v":"C-3333"},{"$f":"$B$22","v":0},{"$f":"$C$22","v":2},{"$f":"$D$22","v":6},7440382,null,{"$f":"'Livestock PM10'!N16","v":0},{"$f":"'Livestock PM10'!O16","v":0}]
[{"$f":"'Cow Housing'!$C$6","v":"C-3333"},{"$f":"$B$22","v":0},{"$f":"$C$22","v":2},{"$f":"$D$22","v":6},7440393,null,{"$f":"'Livestock PM10'!N17","v":0},{"$f":"'Livestock PM10'!O17","v":0}]
[{"$f":"'Cow Housing'!$C$6","v":"C-3333"},{"$f":"$B$22","v":0},{"$f":"$C$22","v":2},{"$f":"$D$22","v":6},7440473,null,{"$f":"'Livestock PM10'!N19","v":0},{"$f":"'Livestock PM10'!O19","v":0}]
[{"$f":"'Cow Housing'!$C$6","v":"C-3333"},{"$f":"$B$22","v":0},{"$f":"$C$22","v":2},{"$f":"$D$22","v":6},7440508,null,{"$f":"'Livestock PM10'!N20","v":0},{"$f":"'Livestock PM10'!O20","v":0}]
[{"$f":"'Cow Housing'!$C$6","v":"C-3333"},{"$f":"$B$22","v":0},{"$f":"$C$22","v":2},{"$f":"$D$22","v":6},7440622,null,{"$f":"'Livestock PM10'!N29","v":0},{"$f":"'Livestock PM10'!O29","v":0}]
[{"$f":"'Cow Housing'!$C$6","v":"C-3333"},{"$f":"$B$22","v":0},{"$f":"$C$22","v":2},{"$f":"$D$22","v":6},7440666,null,{"$f":"'Livestock PM10'!N30","v":0},{"$f":"'Livestock PM10'!O30","v":0}]
[{"$f":"'Cow Housing'!$C$6","v":"C-3333"},{"$f":"$B$22","v":0},{"$f":"$C$22","v":2},{"$f":"$D$22","v":6},7664417,null,{"$f":"'Livestock PM10'!N31","v":0},{"$f":"'Livestock PM10'!O31","v":0}]
[{"$f":"'Cow Housing'!$C$6","v":"C-3333"},{"$f":"$B$22","v":0},{"$f":"$C$22","v":2},{"$f":"$D$22","v":6},7723140,null,{"$f":"'Livestock PM10'!N26","v":0},{"$f":"'Livestock PM10'!O26","v":0}]
[{"$f":"'Cow Housing'!$C$6","v":"C-3333"},{"$f":"$B$22","v":0},{"$f":"$C$22","v":2},{"$f":"$D$22","v":6},7726956,null,{"$f":"'Livestock PM10'!N18","v":0},{"$f":"'Livestock PM10'!O18","v":0}]
[{"$f":"'Cow Housing'!$C$6","v":"C-3333"},{"$f":"$B$22","v":0},{"$f":"$C$22","v":2},{"$f":"$D$22","v":6},7782492,null,{"$f":"'Livestock PM10'!N27","v":0},{"$f":"'Livestock PM10'!O27","v":0}]
[{"$f":"'Cow Housing'!$C$6","v":"C-3333"},{"$f":"$B$22","v":0},{"$f":"$C$22","v":2},{"$f":"$D$22","v":6},18540299,null,{"$f":"'Livestock PM10'!N21","v":0},{"$f":"'Livestock PM10'!O21","v":0}]
[{"$f":"'Cow Housing'!$C$6","v":"C-3333"},{"$f":"$B$23","v":0},{"$f":"$C$23","v":2},{"$f":"$D$23","v":7},9960,null,{"$f":"'Livestock PM10'!P28","v":0},{"$f":"'Livestock PM10'!Q28","v":0}]
[{"$f":"'Cow Housing'!$C$6","v":"C-3333"},{"$f":"$B$23","v":0},{"$f":"$C$23","v":2},{"$f":"$D$23","v":7},50000,null,{"$f":"'Dairy Miscellaneous'!P40","v":0},{"$f":"'Dairy Miscellaneous'!Q40","v":0}]
[{"$f":"'Cow Housing'!$C$6","v":"C-3333"},{"$f":"$B$23","v":0},{"$f":"$C$23","v":2},{"$f":"$D$23","v":7},56235,null,{"$f":"'Dairy Miscellaneous'!P30","v":0},{"$f":"'Dairy Miscellaneous'!Q30","v":0}]
[{"$f":"'Cow Housing'!$C$6","v":"C-3333"},{"$f":"$B$23","v":0},{"$f":"$C$23","v":2},{"$f":"$D$23","v":7},67630,null,{"$f":"'Dairy Miscellaneous'!P42","v":0},{"$f":"'Dairy Miscellaneous'!Q42","v":0}]
[{"$f":"'Cow Housing'!$C$6","v":"C-3333"},{"$f":"$B$23","v":0},{"$f":"$C$23","v":2},{"$f":"$D$23","v":7},67663,null,{"$f":"'Dairy Miscellaneous'!P32","v":0},{"$f":"'Dairy Miscellaneous'!Q32","v":0}]
[{"$f":"'Cow Housing'!$C$6","v":"C-3333"},{"$f":"$B$23","v":0},{"$f":"$C$23","v":2},{"$f":"$D$23","v":7},71432,null,{"$f":"'Dairy Miscellaneous'!P26","v":0},{"$f":"'Dairy Miscellaneous'!Q26","v":0}]
[{"$f":"'Cow Housing'!$C$6","v":"C-3333"},{"$f":"$B$23","v":0},{"$f":"$C$23","v":2},{"$f":"$D$23","v":7},74873,null,{"$f":"'Dairy Miscellaneous'!P33","v":0},{"$f":"'Dairy Miscellaneous'!Q33","v":0}]
[{"$f":"'Cow Housing'!$C$6","v":"C-3333"},{"$f":"$B$23","v":0},{"$f":"$C$23","v":2},{"$f":"$D$23","v":7},75003,null,{"$f":"'Dairy Miscellaneous'!P36","v":0},{"$f":"'Dairy Miscellaneous'!Q36","v":0}]
[{"$f":"'Cow Housing'!$C$6","v":"C-3333"},{"$f":"$B$23","v":0},{"$f":"$C$23","v":2},{"$f":"$D$23","v":7},75070,null,{"$f":"'Dairy Miscellaneous'!P24","v":0},{"$f":"'Dairy Miscellaneous'!Q24","v":0}]
[{"$f":"'Cow Housing'!$C$6","v":"C-3333"},{"$f":"$B$23","v":0},{"$f":"$C$23","v":2},{"$f":"$D$23","v":7},75150,null,{"$f":"'Dairy Miscellaneous'!P29","v":0},{"$f":"'Dairy Miscellaneous'!Q29","v":0}]
[{"$f":"'Cow Housing'!$C$6","v":"C-3333"},{"$f":"$B$23","v":0},{"$f":"$C$23","v":2},{"$f":"$D$23","v":7},75694,null,{"$f":"'Dairy Miscellaneous'!P49","v":0},{"$f":"'Dairy Miscellaneous'!Q49","v":0}]
[{"$f":"'Cow Housing'!$C$6","v":"C-3333"},{"$f":"$B$23","v":0},{"$f":"$C$23","v":2},{"$f":"$D$23","v":7},78933,null,{"$f":"'Dairy Miscellaneous'!P44","v":0},{"$f":"'Dairy Miscellaneous'!Q44","v":0}]
[{"$f":"'Cow Housing'!$C$6","v":"C-3333"},{"$f":"$B$23","v":0},{"$f":"$C$23","v":2},{"$f":"$D$23","v":7},79005,null,{"$f":"'Dairy Miscellaneous'!P16","v":0},{"$f":"'Dairy Miscellaneous'!Q16","v":0}]
[{"$f":"'Cow Housing'!$C$6","v":"C-3333"},{"$f":"$B$23","v":0},{"$f":"$C$23","v":2},{"$f":"$D$23","v":7},79345,null,{"$f":"'Dairy Miscellaneous'!P15","v":0},{"$f":"'Dairy Miscellaneous'!Q15","v":0}]
[{"$f":"'Cow Housing'!$C$6","v":"C-3333"},{"$f":"$B$23","v":0},{"$f":"$C$23","v":2},{"$f":"$D$23","v":7},95501,null,{"$f":"'Dairy Miscellaneous'!P20","v":0},{"$f":"'Dairy Miscellaneous'!Q20","v":0}]
[{"$f":"'Cow Housing'!$C$6","v":"C-3333"},{"$f":"$B$23","v":0},{"$f":"$C$23","v":2},{"$f":"$D$23","v":7},96128,null,{"$f":"'Dairy Miscellaneous'!P19","v":0},{"$f":"'Dairy Miscellaneous'!Q19","v":0}]
[{"$f":"'Cow Housing'!$C$6","v":"C-3333"},{"$f":"$B$23","v":0},{"$f":"$C$23","v":2},{"$f":"$D$23","v":7},96184,null,{"$f":"'Dairy Miscellaneous'!P17","v":0},{"$f":"'Dairy Miscellaneous'!Q17","v":0}]
[{"$f":"'Cow Housing'!$C$6","v":"C-3333"},{"$f":"$B$23","v":0},{"$f":"$C$23","v":2},{"$f":"$D$23","v":7},98828,null,{"$f":"'Dairy Miscellaneous'!P43","v":0},{"$f":"'Dairy Miscellaneous'!Q43","v":0}]
[{"$f":"'Cow Housing'!$C$6","v":"C-3333"},{"$f":"$B$23","v":0},{"$f":"$C$23","v":2},{"$f":"$D$23","v":7},100414,null,{"$f":"'Dairy Miscellaneous'!P37","v":0},{"$f":"'Dairy Miscellaneous'!Q37","v":0}]
[{"$f":"'Cow Housing'!$C$6","v":"C-3333"},{"$f":"$B$23","v":0},{"$f":"$C$23","v":2},{"$f":"$D$23","v":7},100425,null,{"$f":"'Dairy Miscellaneous'!P46","v":0},{"$f":"'Dairy Miscellaneous'!Q46","v":0}]
[{"$f":"'Cow Housing'!$C$6","v":"C-3333"},{"$f":"$B$23","v":0},{"$f":"$C$23","v":2},{"$f":"$D$23","v":7},100447,null,{"$f":"'Dairy Miscellaneous'!P27","v":0},{"$f":"'Dairy Miscellaneous'!Q27","v":0}]
[{"$f":"'Cow Housing'!$C$6","v":"C-3333"},{"$f":"$B$23","v":0},{"$f":"$C$23","v":2},{"$f":"$D$23","v":7},106467,null,{"$f":"'Dairy Miscellaneous'!P23","v":0},{"$f":"'Dairy Miscellaneous'!Q23","v":0}]
[{"$f":"'Cow Housing'!$C$6","v":"C-3333"},{"$f":"$B$23","v":0},{"$f":"$C$23","v":2},{"$f":"$D$23","v":7},106934,null,{"$f":"'Dairy Miscellaneous'!P38","v":0},{"$f":"'Dairy Miscellaneous'!Q38","v":0}]
[{"$f":"'Cow Housing'!$C$6","v":"C-3333"},{"$f":"$B$23","v":0},{"$f":"$C$23","v":2},{"$f":"$D$23","v":7},107062,null,{"$f":"'Dairy Miscellaneous'!P39","v":0},{"$f":"'Dairy Miscellaneous'!Q39","v":0}]
[{"$f":"'Cow Housing'!$C$6","v":"C-3333"},{"$f":"$B$23","v":0},{"$f":"$C$23","v":2},{"$f":"$D$23","v":7},107131,null,{"$f":"'Dairy Miscellaneous'!P25","v":0},{"$f":"'Dairy Miscellaneous'!Q25","v":0}]
[{"$f":"'Cow Housing'!$C$6","v":"C-3333"},{"$f":"$B$23","v":0},{"$f":"$C$23","v":2},{"$f":"$D$23","v":7},108054,null,{"$f":"'Dairy Miscellaneous'!P50","v":0},{"$f":"'Dairy Miscellaneous'!Q50","v":0}]
[{"$f":"'Cow Housing'!$C$6","v":"C-3333"},{"$f":"$B$23","v":0},{"$f":"$C$23","v":2},{"$f":"$D$23","v":7},108101,null,{"$f":"'Dairy Miscellaneous'!P45","v":0},{"$f":"'Dairy Miscellaneous'!Q45","v":0}]
[{"$f":"'Cow Housing'!$C$6","v":"C-3333"},{"$f":"$B$23","v":0},{"$f":"$C$23","v":2},{"$f":"$D$23","v":7},108883,null,{"$f":"'Dairy Miscellaneous'!P48","v":0},{"$f":"'Dairy Miscellaneous'!Q48","v":0}]
[{"$f":"'Cow Housing'!$C$6","v":"C-3333"},{"$f":"$B$23","v":0},{"$f":"$C$23","v":2},{"$f":"$D$23","v":7},108907,null,{"$f":"'Dairy Miscellaneous'!P31","v":0},{"$f":"'Dairy Miscellaneous'!Q31","v":0}]
[{"$f":"'Cow Housing'!$C$6","v":"C-3333"},{"$f":"$B$23","v":0},{"$f":"$C$23","v":2},{"$f":"$D$23","v":7},110543,null,{"$f":"'Dairy Miscellaneous'!P41","v":0},{"$f":"'Dairy Miscellaneous'!Q41","v":0}]
[{"$f":"'Cow Housing'!$C$6","v":"C-3333"},{"$f":"$B$23","v":0},{"$f":"$C$23","v":2},{"$f":"$D$23","v":7},110827,null,{"$f":"'Dairy Miscellaneous'!P35","v":0},{"$f":"'Dairy Miscellaneous'!Q35","v":0}]
[{"$f":"'Cow Housing'!$C$6","v":"C-3333"},{"$f":"$B$23","v":0},{"$f":"$C$23","v":2},{"$f":"$D$23","v":7},120821,null,{"$f":"'Dairy Miscellaneous'!P18","v":0},{"$f":"'Dairy Miscellaneous'!Q18","v":0}]
[{"$f":"'Cow Housing'!$C$6","v":"C-3333"},{"$f":"$B$23","v":0},{"$f":"$C$23","v":2},{"$f":"$D$23","v":7},123728,null,{"$f":"'Dairy Miscellaneous'!P28","v":0},{"$f":"'Dairy Miscellaneous'!Q28","v":0}]
[{"$f":"'Cow Housing'!$C$6","v":"C-3333"},{"$f":"$B$23","v":0},{"$f":"$C$23","v":2},{"$f":"$D$23","v":7},123911,null,{"$f":"'Dairy Miscellaneous'!P22","v":0},{"$f":"'Dairy Miscellaneous'!Q22","v":0}]
[{"$f":"'Cow Housing'!$C$6","v":"C-3333"},{"$f":"$B$23","v":0},{"$f":"$C$23","v":2},{"$f":"$D$23","v":7},541731,null,{"$f":"'Dairy Miscellaneous'!P21","v":0},{"$f":"'Dairy Miscellaneous'!Q21","v":0}]
[{"$f":"'Cow Housing'!$C$6","v":"C-3333"},{"$f":"$B$23","v":0},{"$f":"$C$23","v":2},{"$f":"$D$23","v":7},764410,null,{"$f":"'Dairy Miscellaneous'!P47","v":0},{"$f":"'Dairy Miscellaneous'!Q47","v":0}]
[{"$f":"'Cow Housing'!$C$6","v":"C-3333"},{"$f":"$B$23","v":0},{"$f":"$C$23","v":2},{"$f":"$D$23","v":7},1330207,null,{"$f":"'Dairy Miscellaneous'!P51","v":0},{"$f":"'Dairy Miscellaneous'!Q51","v":0}]
[{"$f":"'Cow Housing'!$C$6","v":"C-3333"},{"$f":"$B$23","v":0},{"$f":"$C$23","v":2},{"$f":"$D$23","v":7},4170303,null,{"$f":"'Dairy Miscellaneous'!P34","v":0},{"$f":"'Dairy Miscellaneous'!Q34","v":0}]
[{"$f":"'Cow Housing'!$C$6","v":"C-3333"},{"$f":"$B$23","v":0},{"$f":"$C$23","v":2},{"$f":"$D$23","v":7},7429905,null,{"$f":"'Livestock PM10'!P14","v":0},{"$f":"'Livestock PM10'!Q14","v":0}]
[{"$f":"'Cow Housing'!$C$6","v":"C-3333"},{"$f":"$B$23","v":0},{"$f":"$C$23","v":2},{"$f":"$D$23","v":7},7439921,null,{"$f":"'Livestock PM10'!P22","v":0},{"$f":"'Livestock PM10'!Q22","v":0}]
[{"$f":"'Cow Housing'!$C$6","v":"C-3333"},{"$f":"$B$23","v":0},{"$f":"$C$23","v":2},{"$f":"$D$23","v":7},7439965,null,{"$f":"'Livestock PM10'!P23","v":0},{"$f":"'Livestock PM10'!Q23","v":0}]
[{"$f":"'Cow Housing'!$C$6","v":"C-3333"},{"$f":"$B$23","v":0},{"$f":"$C$23","v":2},{"$f":"$D$23","v":7},7439976,null,{"$f":"'Livestock PM10'!P24","v":0},{"$f":"'Livestock PM10'!Q24","v":0}]
[{"$f":"'Cow Housing'!$C$6","v":"C-3333"},{"$f":"$B$23","v":0},{"$f":"$C$23","v":2},{"$f":"$D$23","v":7},7440020,null,{"$f":"'Livestock PM10'!P25","v":0},{"$f":"'Livestock PM10'!Q25","v":0}]
[{"$f":"'Cow Housing'!$C$6","v":"C-3333"},{"$f":"$B$23","v":0},{"$f":"$C$23","v":2},{"$f":"$D$23","v":7},7440360,null,{"$f":"'Livestock PM10'!P15","v":0},{"$f":"'Livestock PM10'!Q15","v":0}]
[{"$f":"'Cow Housing'!$C$6","v":"C-3333"},{"$f":"$B$23","v":0},{"$f":"$C$23","v":2},{"$f":"$D$23","v":7},7440382,null,{"$f":"'Livestock PM10'!P16","v":0},{"$f":"'Livestock PM10'!Q16","v":0}]
[{"$f":"'Cow Housing'!$C$6","v":"C-3333"},{"$f":"$B$23","v":0},{"$f":"$C$23","v":2},{"$f":"$D$23","v":7},7440393,null,{"$f":"'Livestock PM10'!P17","v":0},{"$f":"'Livestock PM10'!Q17","v":0}]
[{"$f":"'Cow Housing'!$C$6","v":"C-3333"},{"$f":"$B$23","v":0},{"$f":"$C$23","v":2},{"$f":"$D$23","v":7},7440473,null,{"$f":"'Livestock PM10'!P19","v":0},{"$f":"'Livestock PM10'!Q19","v":0}]
[{"$f":"'Cow Housing'!$C$6","v":"C-3333"},{"$f":"$B$23","v":0},{"$f":"$C$23","v":2},{"$f":"$D$23","v":7},7440508,null,{"$f":"'Livestock PM10'!P20","v":0},{"$f":"'Livestock PM10'!Q20","v":0}]
[{"$f":"'Cow Housing'!$C$6","v":"C-3333"},{"$f":"$B$23","v":0},{"$f":"$C$23","v":2},{"$f":"$D$23","v":7},7440622,null,{"$f":"'Livestock PM10'!P29","v":0},{"$f":"'Livestock PM10'!Q29","v":0}]
[{"$f":"'Cow Housing'!$C$6","v":"C-3333"},{"$f":"$B$23","v":0},{"$f":"$C$23","v":2},{"$f":"$D$23","v":7},7440666,null,{"$f":"'Livestock PM10'!P30","v":0},{"$f":"'Livestock PM10'!Q30","v":0}]
[{"$f":"'Cow Housing'!$C$6","v":"C-3333"},{"$f":"$B$23","v":0},{"$f":"$C$23","v":2},{"$f":"$D$23","v":7},7664417,null,{"$f":"'Livestock PM10'!P31","v":0},{"$f":"'Livestock PM10'!Q31","v":0}]
[{"$f":"'Cow Housing'!$C$6","v":"C-3333"},{"$f":"$B$23","v":0},{"$f":"$C$23","v":2},{"$f":"$D$23","v":7},7723140,null,{"$f":"'Livestock PM10'!P26","v":0},{"$f":"'Livestock PM10'!Q26","v":0}]
[{"$f":"'Cow Housing'!$C$6","v":"C-3333"},{"$f":"$B$23","v":0},{"$f":"$C$23","v":2},{"$f":"$D$23","v":7},7726956,null,{"$f":"'Livestock PM10'!P18","v":0},{"$f":"'Livestock PM10'!Q18","v":0}]
[{"$f":"'Cow Housing'!$C$6","v":"C-3333"},{"$f":"$B$23","v":0},{"$f":"$C$23","v":2},{"$f":"$D$23","v":7},7782492,null,{"$f":"'Livestock PM10'!P27","v":0},{"$f":"'Livestock PM10'!Q27","v":0}]
[{"$f":"'Cow Housing'!$C$6","v":"C-3333"},{"$f":"$B$23","v":0},{"$f":"$C$23","v":2},{"$f":"$D$23","v":7},18540299,null,{"$f":"'Livestock PM10'!P21","v":0},{"$f":"'Livestock PM10'!Q21","v":0}]
[{"$f":"'Cow Housing'!$C$6","v":"C-3333"},{"$f":"$B$24","v":0},{"$f":"$C$24","v":2},{"$f":"$D$24","v":8},9960,null,{"$f":"'Livestock PM10'!R28","v":0},{"$f":"'Livestock PM10'!S28","v":0}]
[{"$f":"'Cow Housing'!$C$6","v":"C-3333"},{"$f":"$B$24","v":0},{"$f":"$C$24","v":2},{"$f":"$D$24","v":8},50000,null,{"$f":"'Dairy Miscellaneous'!R40","v":0},{"$f":"'Dairy Miscellaneous'!S40","v":0}]
[{"$f":"'Cow Housing'!$C$6","v":"C-3333"},{"$f":"$B$24","v":0},{"$f":"$C$24","v":2},{"$f":"$D$24","v":8},56235,null,{"$f":"'Dairy Miscellaneous'!R30","v":0},{"$f":"'Dairy Miscellaneous'!S30","v":0}]
[{"$f":"'Cow Housing'!$C$6","v":"C-3333"},{"$f":"$B$24","v":0},{"$f":"$C$24","v":2},{"$f":"$D$24","v":8},67630,null,{"$f":"'Dairy Miscellaneous'!R42","v":0},{"$f":"'Dairy Miscellaneous'!S42","v":0}]
[{"$f":"'Cow Housing'!$C$6","v":"C-3333"},{"$f":"$B$24","v":0},{"$f":"$C$24","v":2},{"$f":"$D$24","v":8},67663,null,{"$f":"'Dairy Miscellaneous'!R32","v":0},{"$f":"'Dairy Miscellaneous'!S32","v":0}]
[{"$f":"'Cow Housing'!$C$6","v":"C-3333"},{"$f":"$B$24","v":0},{"$f":"$C$24","v":2},{"$f":"$D$24","v":8},71432,null,{"$f":"'Dairy Miscellaneous'!R26","v":0},{"$f":"'Dairy Miscellaneous'!S26","v":0}]
[{"$f":"'Cow Housing'!$C$6","v":"C-3333"},{"$f":"$B$24","v":0},{"$f":"$C$24","v":2},{"$f":"$D$24","v":8},74873,null,{"$f":"'Dairy Miscellaneous'!R33","v":0},{"$f":"'Dairy Miscellaneous'!S33","v":0}]
[{"$f":"'Cow Housing'!$C$6","v":"C-3333"},{"$f":"$B$24","v":0},{"$f":"$C$24","v":2},{"$f":"$D$24","v":8},75003,null,{"$f":"'Dairy Miscellaneous'!R36","v":0},{"$f":"'Dairy Miscellaneous'!S36","v":0}]
[{"$f":"'Cow Housing'!$C$6","v":"C-3333"},{"$f":"$B$24","v":0},{"$f":"$C$24","v":2},{"$f":"$D$24","v":8},75070,null,{"$f":"'Dairy Miscellaneous'!R24","v":0},{"$f":"'Dairy Miscellaneous'!S24","v":0}]
[{"$f":"'Cow Housing'!$C$6","v":"C-3333"},{"$f":"$B$24","v":0},{"$f":"$C$24","v":2},{"$f":"$D$24","v":8},75150,null,{"$f":"'Dairy Miscellaneous'!R29","v":0},{"$f":"'Dairy Miscellaneous'!S29","v":0}]
[{"$f":"'Cow Housing'!$C$6","v":"C-3333"},{"$f":"$B$24","v":0},{"$f":"$C$24","v":2},{"$f":"$D$24","v":8},75694,null,{"$f":"'Dairy Miscellaneous'!R49","v":0},{"$f":"'Dairy Miscellaneous'!S49","v":0}]
[{"$f":"'Cow Housing'!$C$6","v":"C-3333"},{"$f":"$B$24","v":0},{"$f":"$C$24","v":2},{"$f":"$D$24","v":8},78933,null,{"$f":"'Dairy Miscellaneous'!R44","v":0},{"$f":"'Dairy Miscellaneous'!S44","v":0}]
[{"$f":"'Cow Housing'!$C$6","v":"C-3333"},{"$f":"$B$24","v":0},{"$f":"$C$24","v":2},{"$f":"$D$24","v":8},79005,null,{"$f":"'Dairy Miscellaneous'!R16","v":0},{"$f":"'Dairy Miscellaneous'!S16","v":0}]
[{"$f":"'Cow Housing'!$C$6","v":"C-3333"},{"$f":"$B$24","v":0},{"$f":"$C$24","v":2},{"$f":"$D$24","v":8},79345,null,{"$f":"'Dairy Miscellaneous'!R15","v":0},{"$f":"'Dairy Miscellaneous'!S15","v":0}]
[{"$f":"'Cow Housing'!$C$6","v":"C-3333"},{"$f":"$B$24","v":0},{"$f":"$C$24","v":2},{"$f":"$D$24","v":8},95501,null,{"$f":"'Dairy Miscellaneous'!R20","v":0},{"$f":"'Dairy Miscellaneous'!S20","v":0}]
[{"$f":"'Cow Housing'!$C$6","v":"C-3333"},{"$f":"$B$24","v":0},{"$f":"$C$24","v":2},{"$f":"$D$24","v":8},96128,null,{"$f":"'Dairy Miscellaneous'!R19","v":0},{"$f":"'Dairy Miscellaneous'!S19","v":0}]
[{"$f":"'Cow Housing'!$C$6","v":"C-3333"},{"$f":"$B$24","v":0},{"$f":"$C$24","v":2},{"$f":"$D$24","v":8},96184,null,{"$f":"'Dairy Miscellaneous'!R17","v":0},{"$f":"'Dairy Miscellaneous'!S17","v":0}]
[{"$f":"'Cow Housing'!$C$6","v":"C-3333"},{"$f":"$B$24","v":0},{"$f":"$C$24","v":2},{"$f":"$D$24","v":8},98828,null,{"$f":"'Dairy Miscellaneous'!R43","v":0},{"$f":"'Dairy Miscellaneous'!S43","v":0}]
[{"$f":"'Cow Housing'!$C$6","v":"C-3333"},{"$f":"$B$24","v":0},{"$f":"$C$24","v":2},{"$f":"$D$24","v":8},100414,null,{"$f":"'Dairy Miscellaneous'!R37","v":0},{"$f":"'Dairy Miscellaneous'!S37","v":0}]
[{"$f":"'Cow Housing'!$C$6","v":"C-3333"},{"$f":"$B$24","v":0},{"$f":"$C$24","v":2},{"$f":"$D$24","v":8},100425,null,{"$f":"'Dairy Miscellaneous'!R46","v":0},{"$f":"'Dairy Miscellaneous'!S46","v":0}]
[{"$f":"'Cow Housing'!$C$6","v":"C-3333"},{"$f":"$B$24","v":0},{"$f":"$C$24","v":2},{"$f":"$D$24","v":8},100447,null,{"$f":"'Dairy Miscellaneous'!R27","v":0},{"$f":"'Dairy Miscellaneous'!S27","v":0}]
[{"$f":"'Cow Housing'!$C$6","v":"C-3333"},{"$f":"$B$24","v":0},{"$f":"$C$24","v":2},{"$f":"$D$24","v":8},106467,null,{"$f":"'Dairy Miscellaneous'!R23","v":0},{"$f":"'Dairy Miscellaneous'!S23","v":0}]
[{"$f":"'Cow Housing'!$C$6","v":"C-3333"},{"$f":"$B$24","v":0},{"$f":"$C$24","v":2},{"$f":"$D$24","v":8},106934,null,{"$f":"'Dairy Miscellaneous'!R38","v":0},{"$f":"'Dairy Miscellaneous'!S38","v":0}]
[{"$f":"'Cow Housing'!$C$6","v":"C-3333"},{"$f":"$B$24","v":0},{"$f":"$C$24","v":2},{"$f":"$D$24","v":8},107062,null,{"$f":"'Dairy Miscellaneous'!R39","v":0},{"$f":"'Dairy Miscellaneous'!S39","v":0}]
[{"$f":"'Cow Housing'!$C$6","v":"C-3333"},{"$f":"$B$24","v":0},{"$f":"$C$24","v":2},{"$f":"$D$24","v":8},107131,null,{"$f":"'Dairy Miscellaneous'!R25","v":0},{"$f":"'Dairy Miscellaneous'!S25","v":0}]
[{"$f":"'Cow Housing'!$C$6","v":"C-3333"},{"$f":"$B$24","v":0},{"$f":"$C$24","v":2},{"$f":"$D$24","v":8},108054,null,{"$f":"'Dairy Miscellaneous'!R50","v":0},{"$f":"'Dairy Miscellaneous'!S50","v":0}]
[{"$f":"'Cow Housing'!$C$6","v":"C-3333"},{"$f":"$B$24","v":0},{"$f":"$C$24","v":2},{"$f":"$D$24","v":8},108101,null,{"$f":"'Dairy Miscellaneous'!R45","v":0},{"$f":"'Dairy Miscellaneous'!S45","v":0}]
[{"$f":"'Cow Housing'!$C$6","v":"C-3333"},{"$f":"$B$24","v":0},{"$f":"$C$24","v":2},{"$f":"$D$24","v":8},108883,null,{"$f":"'Dairy Miscellaneous'!R48","v":0},{"$f":"'Dairy Miscellaneous'!S48","v":0}]
[{"$f":"'Cow Housing'!$C$6","v":"C-3333"},{"$f":"$B$24","v":0},{"$f":"$C$24","v":2},{"$f":"$D$24","v":8},108907,null,{"$f":"'Dairy Miscellaneous'!R31","v":0},{"$f":"'Dairy Miscellaneous'!S31","v":0}]
[{"$f":"'Cow Housing'!$C$6","v":"C-3333"},{"$f":"$B$24","v":0},{"$f":"$C$24","v":2},{"$f":"$D$24","v":8},110543,null,{"$f":"'Dairy Miscellaneous'!R41","v":0},{"$f":"'Dairy Miscellaneous'!S41","v":0}]
[{"$f":"'Cow Housing'!$C$6","v":"C-3333"},{"$f":"$B$24","v":0},{"$f":"$C$24","v":2},{"$f":"$D$24","v":8},110827,null,{"$f":"'Dairy Miscellaneous'!R35","v":0},{"$f":"'Dairy Miscellaneous'!S35","v":0}]
[{"$f":"'Cow Housing'!$C$6","v":"C-3333"},{"$f":"$B$24","v":0},{"$f":"$C$24","v":2},{"$f":"$D$24","v":8},120821,null,{"$f":"'Dairy Miscellaneous'!R18","v":0},{"$f":"'Dairy Miscellaneous'!S18","v":0}]
[{"$f":"'Cow Housing'!$C$6","v":"C-3333"},{"$f":"$B$24","v":0},{"$f":"$C$24","v":2},{"$f":"$D$24","v":8},123728,null,{"$f":"'Dairy Miscellaneous'!R28","v":0},{"$f":"'Dairy Miscellaneous'!S28","v":0}]
[{"$f":"'Cow Housing'!$C$6","v":"C-3333"},{"$f":"$B$24","v":0},{"$f":"$C$24","v":2},{"$f":"$D$24","v":8},123911,null,{"$f":"'Dairy Miscellaneous'!R22","v":0},{"$f":"'Dairy Miscellaneous'!S22","v":0}]
[{"$f":"'Cow Housing'!$C$6","v":"C-3333"},{"$f":"$B$24","v":0},{"$f":"$C$24","v":2},{"$f":"$D$24","v":8},541731,null,{"$f":"'Dairy Miscellaneous'!R21","v":0},{"$f":"'Dairy Miscellaneous'!S21","v":0}]
[{"$f":"'Cow Housing'!$C$6","v":"C-3333"},{"$f":"$B$24","v":0},{"$f":"$C$24","v":2},{"$f":"$D$24","v":8},764410,null,{"$f":"'Dairy Miscellaneous'!R47","v":0},{"$f":"'Dairy Miscellaneous'!S47","v":0}]
[{"$f":"'Cow Housing'!$C$6","v":"C-3333"},{"$f":"$B$24","v":0},{"$f":"$C$24","v":2},{"$f":"$D$24","v":8},1330207,null,{"$f":"'Dairy Miscellaneous'!R51","v":0},{"$f":"'Dairy Miscellaneous'!S51","v":0}]
[{"$f":"'Cow Housing'!$C$6","v":"C-3333"},{"$f":"$B$24","v":0},{"$f":"$C$24","v":2},{"$f":"$D$24","v":8},4170303,null,{"$f":"'Dairy Miscellaneous'!R34","v":0},{"$f":"'Dairy Miscellaneous'!S34","v":0}]
[{"$f":"'Cow Housing'!$C$6","v":"C-3333"},{"$f":"$B$24","v":0},{"$f":"$C$24","v":2},{"$f":"$D$24","v":8},7429905,null,{"$f":"'Livestock PM10'!R14","v":0},{"$f":"'Livestock PM10'!S14","v":0}]
[{"$f":"'Cow Housing'!$C$6","v":"C-3333"},{"$f":"$B$24","v":0},{"$f":"$C$24","v":2},{"$f":"$D$24","v":8},7439921,null,{"$f":"'Livestock PM10'!R22","v":0},{"$f":"'Livestock PM10'!S22","v":0}]
[{"$f":"'Cow Housing'!$C$6","v":"C-3333"},{"$f":"$B$24","v":0},{"$f":"$C$24","v":2},{"$f":"$D$24","v":8},7439965,null,{"$f":"'Livestock PM10'!R23","v":0},{"$f":"'Livestock PM10'!S23","v":0}]
[{"$f":"'Cow Housing'!$C$6","v":"C-3333"},{"$f":"$B$24","v":0},{"$f":"$C$24","v":2},{"$f":"$D$24","v":8},7439976,null,{"$f":"'Livestock PM10'!R24","v":0},{"$f":"'Livestock PM10'!S24","v":0}]
[{"$f":"'Cow Housing'!$C$6","v":"C-3333"},{"$f":"$B$24","v":0},{"$f":"$C$24","v":2},{"$f":"$D$24","v":8},7440020,null,{"$f":"'Livestock PM10'!R25","v":0},{"$f":"'Livestock PM10'!S25","v":0}]
[{"$f":"'Cow Housing'!$C$6","v":"C-3333"},{"$f":"$B$24","v":0},{"$f":"$C$24","v":2},{"$f":"$D$24","v":8},7440360,null,{"$f":"'Livestock PM10'!R15","v":0},{"$f":"'Livestock PM10'!S15","v":0}]
[{"$f":"'Cow Housing'!$C$6","v":"C-3333"},{"$f":"$B$24","v":0},{"$f":"$C$24","v":2},{"$f":"$D$24","v":8},7440382,null,{"$f":"'Livestock PM10'!R16","v":0},{"$f":"'Livestock PM10'!S16","v":0}]
[{"$f":"'Cow Housing'!$C$6","v":"C-3333"},{"$f":"$B$24","v":0},{"$f":"$C$24","v":2},{"$f":"$D$24","v":8},7440393,null,{"$f":"'Livestock PM10'!R17","v":0},{"$f":"'Livestock PM10'!S17","v":0}]
[{"$f":"'Cow Housing'!$C$6","v":"C-3333"},{"$f":"$B$24","v":0},{"$f":"$C$24","v":2},{"$f":"$D$24","v":8},7440473,null,{"$f":"'Livestock PM10'!R19","v":0},{"$f":"'Livestock PM10'!S19","v":0}]
[{"$f":"'Cow Housing'!$C$6","v":"C-3333"},{"$f":"$B$24","v":0},{"$f":"$C$24","v":2},{"$f":"$D$24","v":8},7440508,null,{"$f":"'Livestock PM10'!R20","v":0},{"$f":"'Livestock PM10'!S20","v":0}]
[{"$f":"'Cow Housing'!$C$6","v":"C-3333"},{"$f":"$B$24","v":0},{"$f":"$C$24","v":2},{"$f":"$D$24","v":8},7440622,null,{"$f":"'Livestock PM10'!R29","v":0},{"$f":"'Livestock PM10'!S29","v":0}]
[{"$f":"'Cow Housing'!$C$6","v":"C-3333"},{"$f":"$B$24","v":0},{"$f":"$C$24","v":2},{"$f":"$D$24","v":8},7440666,null,{"$f":"'Livestock PM10'!R30","v":0},{"$f":"'Livestock PM10'!S30","v":0}]
[{"$f":"'Cow Housing'!$C$6","v":"C-3333"},{"$f":"$B$24","v":0},{"$f":"$C$24","v":2},{"$f":"$D$24","v":8},7664417,null,{"$f":"'Livestock PM10'!R31","v":0},{"$f":"'Livestock PM10'!S31","v":0}]
[{"$f":"'Cow Housing'!$C$6","v":"C-3333"},{"$f":"$B$24","v":0},{"$f":"$C$24","v":2},{"$f":"$D$24","v":8},7723140,null,{"$f":"'Livestock PM10'!R26","v":0},{"$f":"'Livestock PM10'!S26","v":0}]
[{"$f":"'Cow Housing'!$C$6","v":"C-3333"},{"$f":"$B$24","v":0},{"$f":"$C$24","v":2},{"$f":"$D$24","v":8},7726956,null,{"$f":"'Livestock PM10'!R18","v":0},{"$f":"'Livestock PM10'!S18","v":0}]
[{"$f":"'Cow Housing'!$C$6","v":"C-3333"},{"$f":"$B$24","v":0},{"$f":"$C$24","v":2},{"$f":"$D$24","v":8},7782492,null,{"$f":"'Livestock PM10'!R27","v":0},{"$f":"'Livestock PM10'!S27","v":0}]
[{"$f":"'Cow Housing'!$C$6","v":"C-3333"},{"$f":"$B$24","v":0},{"$f":"$C$24","v":2},{"$f":"$D$24","v":8},18540299,null,{"$f":"'Livestock PM10'!R21","v":0},{"$f":"'Livestock PM10'!S21","v":0}]
[{"$f":"'Cow Housing'!$C$6","v":"C-3333"},{"$f":"$B$25","v":0},{"$f":"$C$25","v":2},{"$f":"$D$25","v":9},9960,null,{"$f":"'Livestock PM10'!T28","v":0},{"$f":"'Livestock PM10'!U28","v":0}]
[{"$f":"'Cow Housing'!$C$6","v":"C-3333"},{"$f":"$B$25","v":0},{"$f":"$C$25","v":2},{"$f":"$D$25","v":9},50000,null,{"$f":"'Dairy Miscellaneous'!T40","v":0},{"$f":"'Dairy Miscellaneous'!U40","v":0}]
[{"$f":"'Cow Housing'!$C$6","v":"C-3333"},{"$f":"$B$25","v":0},{"$f":"$C$25","v":2},{"$f":"$D$25","v":9},56235,null,{"$f":"'Dairy Miscellaneous'!T30","v":0},{"$f":"'Dairy Miscellaneous'!U30","v":0}]
[{"$f":"'Cow Housing'!$C$6","v":"C-3333"},{"$f":"$B$25","v":0},{"$f":"$C$25","v":2},{"$f":"$D$25","v":9},67630,null,{"$f":"'Dairy Miscellaneous'!T42","v":0},{"$f":"'Dairy Miscellaneous'!U42","v":0}]
[{"$f":"'Cow Housing'!$C$6","v":"C-3333"},{"$f":"$B$25","v":0},{"$f":"$C$25","v":2},{"$f":"$D$25","v":9},67663,null,{"$f":"'Dairy Miscellaneous'!T32","v":0},{"$f":"'Dairy Miscellaneous'!U32","v":0}]
[{"$f":"'Cow Housing'!$C$6","v":"C-3333"},{"$f":"$B$25","v":0},{"$f":"$C$25","v":2},{"$f":"$D$25","v":9},71432,null,{"$f":"'Dairy Miscellaneous'!T26","v":0},{"$f":"'Dairy Miscellaneous'!U26","v":0}]
[{"$f":"'Cow Housing'!$C$6","v":"C-3333"},{"$f":"$B$25","v":0},{"$f":"$C$25","v":2},{"$f":"$D$25","v":9},74873,null,{"$f":"'Dairy Miscellaneous'!T33","v":0},{"$f":"'Dairy Miscellaneous'!U33","v":0}]
[{"$f":"'Cow Housing'!$C$6","v":"C-3333"},{"$f":"$B$25","v":0},{"$f":"$C$25","v":2},{"$f":"$D$25","v":9},75003,null,{"$f":"'Dairy Miscellaneous'!T36","v":0},{"$f":"'Dairy Miscellaneous'!U36","v":0}]
[{"$f":"'Cow Housing'!$C$6","v":"C-3333"},{"$f":"$B$25","v":0},{"$f":"$C$25","v":2},{"$f":"$D$25","v":9},75070,null,{"$f":"'Dairy Miscellaneous'!T24","v":0},{"$f":"'Dairy Miscellaneous'!U24","v":0}]
[{"$f":"'Cow Housing'!$C$6","v":"C-3333"},{"$f":"$B$25","v":0},{"$f":"$C$25","v":2},{"$f":"$D$25","v":9},75150,null,{"$f":"'Dairy Miscellaneous'!T29","v":0},{"$f":"'Dairy Miscellaneous'!U29","v":0}]
[{"$f":"'Cow Housing'!$C$6","v":"C-3333"},{"$f":"$B$25","v":0},{"$f":"$C$25","v":2},{"$f":"$D$25","v":9},75694,null,{"$f":"'Dairy Miscellaneous'!T49","v":0},{"$f":"'Dairy Miscellaneous'!U49","v":0}]
[{"$f":"'Cow Housing'!$C$6","v":"C-3333"},{"$f":"$B$25","v":0},{"$f":"$C$25","v":2},{"$f":"$D$25","v":9},78933,null,{"$f":"'Dairy Miscellaneous'!T44","v":0},{"$f":"'Dairy Miscellaneous'!U44","v":0}]
[{"$f":"'Cow Housing'!$C$6","v":"C-3333"},{"$f":"$B$25","v":0},{"$f":"$C$25","v":2},{"$f":"$D$25","v":9},79005,null,{"$f":"'Dairy Miscellaneous'!T16","v":0},{"$f":"'Dairy Miscellaneous'!U16","v":0}]
[{"$f":"'Cow Housing'!$C$6","v":"C-3333"},{"$f":"$B$25","v":0},{"$f":"$C$25","v":2},{"$f":"$D$25","v":9},79345,null,{"$f":"'Dairy Miscellaneous'!T15","v":0},{"$f":"'Dairy Miscellaneous'!U15","v":0}]
[{"$f":"'Cow Housing'!$C$6","v":"C-3333"},{"$f":"$B$25","v":0},{"$f":"$C$25","v":2},{"$f":"$D$25","v":9},95501,null,{"$f":"'Dairy Miscellaneous'!T20","v":0},{"$f":"'Dairy Miscellaneous'!U20","v":0}]
[{"$f":"'Cow Housing'!$C$6","v":"C-3333"},{"$f":"$B$25","v":0},{"$f":"$C$25","v":2},{"$f":"$D$25","v":9},96128,null,{"$f":"'Dairy Miscellaneous'!T19","v":0},{"$f":"'Dairy Miscellaneous'!U19","v":0}]
[{"$f":"'Cow Housing'!$C$6","v":"C-3333"},{"$f":"$B$25","v":0},{"$f":"$C$25","v":2},{"$f":"$D$25","v":9},96184,null,{"$f":"'Dairy Miscellaneous'!T17","v":0},{"$f":"'Dairy Miscellaneous'!U17","v":0}]
[{"$f":"'Cow Housing'!$C$6","v":"C-3333"},{"$f":"$B$25","v":0},{"$f":"$C$25","v":2},{"$f":"$D$25","v":9},98828,null,{"$f":"'Dairy Miscellaneous'!T43","v":0},{"$f":"'Dairy Miscellaneous'!U43","v":0}]
[{"$f":"'Cow Housing'!$C$6","v":"C-3333"},{"$f":"$B$25","v":0},{"$f":"$C$25","v":2},{"$f":"$D$25","v":9},100414,null,{"$f":"'Dairy Miscellaneous'!T37","v":0},{"$f":"'Dairy Miscellaneous'!U37","v":0}]
[{"$f":"'Cow Housing'!$C$6","v":"C-3333"},{"$f":"$B$25","v":0},{"$f":"$C$25","v":2},{"$f":"$D$25","v":9},100425,null,{"$f":"'Dairy Miscellaneous'!T46","v":0},{"$f":"'Dairy Miscellaneous'!U46","v":0}]
[{"$f":"'Cow Housing'!$C$6","v":"C-3333"},{"$f":"$B$25","v":0},{"$f":"$C$25","v":2},{"$f":"$D$25","v":9},100447,null,{"$f":"'Dairy Miscellaneous'!T27","v":0},{"$f":"'Dairy Miscellaneous'!U27","v":0}]
[{"$f":"'Cow Housing'!$C$6","v":"C-3333"},{"$f":"$B$25","v":0},{"$f":"$C$25","v":2},{"$f":"$D$25","v":9},106467,null,{"$f":"'Dairy Miscellaneous'!T23","v":0},{"$f":"'Dairy Miscellaneous'!U23","v":0}]
[{"$f":"'Cow Housing'!$C$6","v":"C-3333"},{"$f":"$B$25","v":0},{"$f":"$C$25","v":2},{"$f":"$D$25","v":9},106934,null,{"$f":"'Dairy Miscellaneous'!T38","v":0},{"$f":"'Dairy Miscellaneous'!U38","v":0}]
[{"$f":"'Cow Housing'!$C$6","v":"C-3333"},{"$f":"$B$25","v":0},{"$f":"$C$25","v":2},{"$f":"$D$25","v":9},107062,null,{"$f":"'Dairy Miscellaneous'!T39","v":0},{"$f":"'Dairy Miscellaneous'!U39","v":0}]
[{"$f":"'Cow Housing'!$C$6","v":"C-3333"},{"$f":"$B$25","v":0},{"$f":"$C$25","v":2},{"$f":"$D$25","v":9},107131,null,{"$f":"'Dairy Miscellaneous'!T25","v":0},{"$f":"'Dairy Miscellaneous'!U25","v":0}]
[{"$f":"'Cow Housing'!$C$6","v":"C-3333"},{"$f":"$B$25","v":0},{"$f":"$C$25","v":2},{"$f":"$D$25","v":9},108054,null,{"$f":"'Dairy Miscellaneous'!T50","v":0},{"$f":"'Dairy Miscellaneous'!U50","v":0}]
[{"$f":"'Cow Housing'!$C$6","v":"C-3333"},{"$f":"$B$25","v":0},{"$f":"$C$25","v":2},{"$f":"$D$25","v":9},108101,null,{"$f":"'Dairy Miscellaneous'!T45","v":0},{"$f":"'Dairy Miscellaneous'!U45","v":0}]
[{"$f":"'Cow Housing'!$C$6","v":"C-3333"},{"$f":"$B$25","v":0},{"$f":"$C$25","v":2},{"$f":"$D$25","v":9},108883,null,{"$f":"'Dairy Miscellaneous'!T48","v":0},{"$f":"'Dairy Miscellaneous'!U48","v":0}]
[{"$f":"'Cow Housing'!$C$6","v":"C-3333"},{"$f":"$B$25","v":0},{"$f":"$C$25","v":2},{"$f":"$D$25","v":9},108907,null,{"$f":"'Dairy Miscellaneous'!T31","v":0},{"$f":"'Dairy Miscellaneous'!U31","v":0}]
[{"$f":"'Cow Housing'!$C$6","v":"C-3333"},{"$f":"$B$25","v":0},{"$f":"$C$25","v":2},{"$f":"$D$25","v":9},110543,null,{"$f":"'Dairy Miscellaneous'!T41","v":0},{"$f":"'Dairy Miscellaneous'!U41","v":0}]
[{"$f":"'Cow Housing'!$C$6","v":"C-3333"},{"$f":"$B$25","v":0},{"$f":"$C$25","v":2},{"$f":"$D$25","v":9},110827,null,{"$f":"'Dairy Miscellaneous'!T35","v":0},{"$f":"'Dairy Miscellaneous'!U35","v":0}]
[{"$f":"'Cow Housing'!$C$6","v":"C-3333"},{"$f":"$B$25","v":0},{"$f":"$C$25","v":2},{"$f":"$D$25","v":9},120821,null,{"$f":"'Dairy Miscellaneous'!T18","v":0},{"$f":"'Dairy Miscellaneous'!U18","v":0}]
[{"$f":"'Cow Housing'!$C$6","v":"C-3333"},{"$f":"$B$25","v":0},{"$f":"$C$25","v":2},{"$f":"$D$25","v":9},123728,null,{"$f":"'Dairy Miscellaneous'!T28","v":0},{"$f":"'Dairy Miscellaneous'!U28","v":0}]
[{"$f":"'Cow Housing'!$C$6","v":"C-3333"},{"$f":"$B$25","v":0},{"$f":"$C$25","v":2},{"$f":"$D$25","v":9},123911,null,{"$f":"'Dairy Miscellaneous'!T22","v":0},{"$f":"'Dairy Miscellaneous'!U22","v":0}]
[{"$f":"'Cow Housing'!$C$6","v":"C-3333"},{"$f":"$B$25","v":0},{"$f":"$C$25","v":2},{"$f":"$D$25","v":9},541731,null,{"$f":"'Dairy Miscellaneous'!T21","v":0},{"$f":"'Dairy Miscellaneous'!U21","v":0}]
[{"$f":"'Cow Housing'!$C$6","v":"C-3333"},{"$f":"$B$25","v":0},{"$f":"$C$25","v":2},{"$f":"$D$25","v":9},764410,null,{"$f":"'Dairy Miscellaneous'!T47","v":0},{"$f":"'Dairy Miscellaneous'!U47","v":0}]
[{"$f":"'Cow Housing'!$C$6","v":"C-3333"},{"$f":"$B$25","v":0},{"$f":"$C$25","v":2},{"$f":"$D$25","v":9},1330207,null,{"$f":"'Dairy Miscellaneous'!T51","v":0},{"$f":"'Dairy Miscellaneous'!U51","v":0}]
[{"$f":"'Cow Housing'!$C$6","v":"C-3333"},{"$f":"$B$25","v":0},{"$f":"$C$25","v":2},{"$f":"$D$25","v":9},4170303,null,{"$f":"'Dairy Miscellaneous'!T34","v":0},{"$f":"'Dairy Miscellaneous'!U34","v":0}]
[{"$f":"'Cow Housing'!$C$6","v":"C-3333"},{"$f":"$B$25","v":0},{"$f":"$C$25","v":2},{"$f":"$D$25","v":9},7429905,null,{"$f":"'Livestock PM10'!T14","v":0},{"$f":"'Livestock PM10'!U14","v":0}]
[{"$f":"'Cow Housing'!$C$6","v":"C-3333"},{"$f":"$B$25","v":0},{"$f":"$C$25","v":2},{"$f":"$D$25","v":9},7439921,null,{"$f":"'Livestock PM10'!T22","v":0},{"$f":"'Livestock PM10'!U22","v":0}]
[{"$f":"'Cow Housing'!$C$6","v":"C-3333"},{"$f":"$B$25","v":0},{"$f":"$C$25","v":2},{"$f":"$D$25","v":9},7439965,null,{"$f":"'Livestock PM10'!T23","v":0},{"$f":"'Livestock PM10'!U23","v":0}]
[{"$f":"'Cow Housing'!$C$6","v":"C-3333"},{"$f":"$B$25","v":0},{"$f":"$C$25","v":2},{"$f":"$D$25","v":9},7439976,null,{"$f":"'Livestock PM10'!T24","v":0},{"$f":"'Livestock PM10'!U24","v":0}]
[{"$f":"'Cow Housing'!$C$6","v":"C-3333"},{"$f":"$B$25","v":0},{"$f":"$C$25","v":2},{"$f":"$D$25","v":9},7440020,null,{"$f":"'Livestock PM10'!T25","v":0},{"$f":"'Livestock PM10'!U25","v":0}]
[{"$f":"'Cow Housing'!$C$6","v":"C-3333"},{"$f":"$B$25","v":0},{"$f":"$C$25","v":2},{"$f":"$D$25","v":9},7440360,null,{"$f":"'Livestock PM10'!T15","v":0},{"$f":"'Livestock PM10'!U15","v":0}]
[{"$f":"'Cow Housing'!$C$6","v":"C-3333"},{"$f":"$B$25","v":0},{"$f":"$C$25","v":2},{"$f":"$D$25","v":9},7440382,null,{"$f":"'Livestock PM10'!T16","v":0},{"$f":"'Livestock PM10'!U16","v":0}]
[{"$f":"'Cow Housing'!$C$6","v":"C-3333"},{"$f":"$B$25","v":0},{"$f":"$C$25","v":2},{"$f":"$D$25","v":9},7440393,null,{"$f":"'Livestock PM10'!T17","v":0},{"$f":"'Livestock PM10'!U17","v":0}]
[{"$f":"'Cow Housing'!$C$6","v":"C-3333"},{"$f":"$B$25","v":0},{"$f":"$C$25","v":2},{"$f":"$D$25","v":9},7440473,null,{"$f":"'Livestock PM10'!T19","v":0},{"$f":"'Livestock PM10'!U19","v":0}]
[{"$f":"'Cow Housing'!$C$6","v":"C-3333"},{"$f":"$B$25","v":0},{"$f":"$C$25","v":2},{"$f":"$D$25","v":9},7440508,null,{"$f":"'Livestock PM10'!T20","v":0},{"$f":"'Livestock PM10'!U20","v":0}]
[{"$f":"'Cow Housing'!$C$6","v":"C-3333"},{"$f":"$B$25","v":0},{"$f":"$C$25","v":2},{"$f":"$D$25","v":9},7440622,null,{"$f":"'Livestock PM10'!T29","v":0},{"$f":"'Livestock PM10'!U29","v":0}]
[{"$f":"'Cow Housing'!$C$6","v":"C-3333"},{"$f":"$B$25","v":0},{"$f":"$C$25","v":2},{"$f":"$D$25","v":9},7440666,null,{"$f":"'Livestock PM10'!T30","v":0},{"$f":"'Livestock PM10'!U30","v":0}]
[{"$f":"'Cow Housing'!$C$6","v":"C-3333"},{"$f":"$B$25","v":0},{"$f":"$C$25","v":2},{"$f":"$D$25","v":9},7664417,null,{"$f":"'Livestock PM10'!T31","v":0},{"$f":"'Livestock PM10'!U31","v":0}]
[{"$f":"'Cow Housing'!$C$6","v":"C-3333"},{"$f":"$B$25","v":0},{"$f":"$C$25","v":2},{"$f":"$D$25","v":9},7723140,null,{"$f":"'Livestock PM10'!T26","v":0},{"$f":"'Livestock PM10'!U26","v":0}]
[{"$f":"'Cow Housing'!$C$6","v":"C-3333"},{"$f":"$B$25","v":0},{"$f":"$C$25","v":2},{"$f":"$D$25","v":9},7726956,null,{"$f":"'Livestock PM10'!T18","v":0},{"$f":"'Livestock PM10'!U18","v":0}]
[{"$f":"'Cow Housing'!$C$6","v":"C-3333"},{"$f":"$B$25","v":0},{"$f":"$C$25","v":2},{"$f":"$D$25","v":9},7782492,null,{"$f":"'Livestock PM10'!T27","v":0},{"$f":"'Livestock PM10'!U27","v":0}]
[{"$f":"'Cow Housing'!$C$6","v":"C-3333"},{"$f":"$B$25","v":0},{"$f":"$C$25","v":2},{"$f":"$D$25","v":9},18540299,null,{"$f":"'Livestock PM10'!T21","v":0},{"$f":"'Livestock PM10'!U21","v":0}]
[{"$f":"'Cow Housing'!$C$6","v":"C-3333"},{"$f":"$B$26","v":0},{"$f":"$C$26","v":2},{"$f":"$D$26","v":10},9960,null,{"$f":"'Livestock PM10'!V28","v":0},{"$f":"'Livestock PM10'!W28","v":0}]
[{"$f":"'Cow Housing'!$C$6","v":"C-3333"},{"$f":"$B$26","v":0},{"$f":"$C$26","v":2},{"$f":"$D$26","v":10},50000,null,{"$f":"'Dairy Miscellaneous'!V40","v":0},{"$f":"'Dairy Miscellaneous'!W40","v":0}]
[{"$f":"'Cow Housing'!$C$6","v":"C-3333"},{"$f":"$B$26","v":0},{"$f":"$C$26","v":2},{"$f":"$D$26","v":10},56235,null,{"$f":"'Dairy Miscellaneous'!V30","v":0},{"$f":"'Dairy Miscellaneous'!W30","v":0}]
[{"$f":"'Cow Housing'!$C$6","v":"C-3333"},{"$f":"$B$26","v":0},{"$f":"$C$26","v":2},{"$f":"$D$26","v":10},67630,null,{"$f":"'Dairy Miscellaneous'!V42","v":0},{"$f":"'Dairy Miscellaneous'!W42","v":0}]
[{"$f":"'Cow Housing'!$C$6","v":"C-3333"},{"$f":"$B$26","v":0},{"$f":"$C$26","v":2},{"$f":"$D$26","v":10},67663,null,{"$f":"'Dairy Miscellaneous'!V32","v":0},{"$f":"'Dairy Miscellaneous'!W32","v":0}]
[{"$f":"'Cow Housing'!$C$6","v":"C-3333"},{"$f":"$B$26","v":0},{"$f":"$C$26","v":2},{"$f":"$D$26","v":10},71432,null,{"$f":"'Dairy Miscellaneous'!V26","v":0},{"$f":"'Dairy Miscellaneous'!W26","v":0}]
[{"$f":"'Cow Housing'!$C$6","v":"C-3333"},{"$f":"$B$26","v":0},{"$f":"$C$26","v":2},{"$f":"$D$26","v":10},74873,null,{"$f":"'Dairy Miscellaneous'!V33","v":0},{"$f":"'Dairy Miscellaneous'!W33","v":0}]
[{"$f":"'Cow Housing'!$C$6","v":"C-3333"},{"$f":"$B$26","v":0},{"$f":"$C$26","v":2},{"$f":"$D$26","v":10},75003,null,{"$f":"'Dairy Miscellaneous'!V36","v":0},{"$f":"'Dairy Miscellaneous'!W36","v":0}]
[{"$f":"'Cow Housing'!$C$6","v":"C-3333"},{"$f":"$B$26","v":0},{"$f":"$C$26","v":2},{"$f":"$D$26","v":10},75070,null,{"$f":"'Dairy Miscellaneous'!V24","v":0},{"$f":"'Dairy Miscellaneous'!W24","v":0}]
[{"$f":"'Cow Housing'!$C$6","v":"C-3333"},{"$f":"$B$26","v":0},{"$f":"$C$26","v":2},{"$f":"$D$26","v":10},75150,null,{"$f":"'Dairy Miscellaneous'!V29","v":0},{"$f":"'Dairy Miscellaneous'!W29","v":0}]
[{"$f":"'Cow Housing'!$C$6","v":"C-3333"},{"$f":"$B$26","v":0},{"$f":"$C$26","v":2},{"$f":"$D$26","v":10},75694,null,{"$f":"'Dairy Miscellaneous'!V49","v":0},{"$f":"'Dairy Miscellaneous'!W49","v":0}]
[{"$f":"'Cow Housing'!$C$6","v":"C-3333"},{"$f":"$B$26","v":0},{"$f":"$C$26","v":2},{"$f":"$D$26","v":10},78933,null,{"$f":"'Dairy Miscellaneous'!V44","v":0},{"$f":"'Dairy Miscellaneous'!W44","v":0}]
[{"$f":"'Cow Housing'!$C$6","v":"C-3333"},{"$f":"$B$26","v":0},{"$f":"$C$26","v":2},{"$f":"$D$26","v":10},79005,null,{"$f":"'Dairy Miscellaneous'!V16","v":0},{"$f":"'Dairy Miscellaneous'!W16","v":0}]
[{"$f":"'Cow Housing'!$C$6","v":"C-3333"},{"$f":"$B$26","v":0},{"$f":"$C$26","v":2},{"$f":"$D$26","v":10},79345,null,{"$f":"'Dairy Miscellaneous'!V15","v":0},{"$f":"'Dairy Miscellaneous'!W15","v":0}]
[{"$f":"'Cow Housing'!$C$6","v":"C-3333"},{"$f":"$B$26","v":0},{"$f":"$C$26","v":2},{"$f":"$D$26","v":10},95501,null,{"$f":"'Dairy Miscellaneous'!V20","v":0},{"$f":"'Dairy Miscellaneous'!W20","v":0}]
[{"$f":"'Cow Housing'!$C$6","v":"C-3333"},{"$f":"$B$26","v":0},{"$f":"$C$26","v":2},{"$f":"$D$26","v":10},96128,null,{"$f":"'Dairy Miscellaneous'!V19","v":0},{"$f":"'Dairy Miscellaneous'!W19","v":0}]
[{"$f":"'Cow Housing'!$C$6","v":"C-3333"},{"$f":"$B$26","v":0},{"$f":"$C$26","v":2},{"$f":"$D$26","v":10},96184,null,{"$f":"'Dairy Miscellaneous'!V17","v":0},{"$f":"'Dairy Miscellaneous'!W17","v":0}]
[{"$f":"'Cow Housing'!$C$6","v":"C-3333"},{"$f":"$B$26","v":0},{"$f":"$C$26","v":2},{"$f":"$D$26","v":10},98828,null,{"$f":"'Dairy Miscellaneous'!V43","v":0},{"$f":"'Dairy Miscellaneous'!W43","v":0}]
[{"$f":"'Cow Housing'!$C$6","v":"C-3333"},{"$f":"$B$26","v":0},{"$f":"$C$26","v":2},{"$f":"$D$26","v":10},100414,null,{"$f":"'Dairy Miscellaneous'!V37","v":0},{"$f":"'Dairy Miscellaneous'!W37","v":0}]
[{"$f":"'Cow Housing'!$C$6","v":"C-3333"},{"$f":"$B$26","v":0},{"$f":"$C$26","v":2},{"$f":"$D$26","v":10},100425,null,{"$f":"'Dairy Miscellaneous'!V46","v":0},{"$f":"'Dairy Miscellaneous'!W46","v":0}]
[{"$f":"'Cow Housing'!$C$6","v":"C-3333"},{"$f":"$B$26","v":0},{"$f":"$C$26","v":2},{"$f":"$D$26","v":10},100447,null,{"$f":"'Dairy Miscellaneous'!V27","v":0},{"$f":"'Dairy Miscellaneous'!W27","v":0}]
[{"$f":"'Cow Housing'!$C$6","v":"C-3333"},{"$f":"$B$26","v":0},{"$f":"$C$26","v":2},{"$f":"$D$26","v":10},106467,null,{"$f":"'Dairy Miscellaneous'!V23","v":0},{"$f":"'Dairy Miscellaneous'!W23","v":0}]
[{"$f":"'Cow Housing'!$C$6","v":"C-3333"},{"$f":"$B$26","v":0},{"$f":"$C$26","v":2},{"$f":"$D$26","v":10},106934,null,{"$f":"'Dairy Miscellaneous'!V38","v":0},{"$f":"'Dairy Miscellaneous'!W38","v":0}]
[{"$f":"'Cow Housing'!$C$6","v":"C-3333"},{"$f":"$B$26","v":0},{"$f":"$C$26","v":2},{"$f":"$D$26","v":10},107062,null,{"$f":"'Dairy Miscellaneous'!V39","v":0},{"$f":"'Dairy Miscellaneous'!W39","v":0}]
[{"$f":"'Cow Housing'!$C$6","v":"C-3333"},{"$f":"$B$26","v":0},{"$f":"$C$26","v":2},{"$f":"$D$26","v":10},107131,null,{"$f":"'Dairy Miscellaneous'!V25","v":0},{"$f":"'Dairy Miscellaneous'!W25","v":0}]
[{"$f":"'Cow Housing'!$C$6","v":"C-3333"},{"$f":"$B$26","v":0},{"$f":"$C$26","v":2},{"$f":"$D$26","v":10},108054,null,{"$f":"'Dairy Miscellaneous'!V50","v":0},{"$f":"'Dairy Miscellaneous'!W50","v":0}]
[{"$f":"'Cow Housing'!$C$6","v":"C-3333"},{"$f":"$B$26","v":0},{"$f":"$C$26","v":2},{"$f":"$D$26","v":10},108101,null,{"$f":"'Dairy Miscellaneous'!V45","v":0},{"$f":"'Dairy Miscellaneous'!W45","v":0}]
[{"$f":"'Cow Housing'!$C$6","v":"C-3333"},{"$f":"$B$26","v":0},{"$f":"$C$26","v":2},{"$f":"$D$26","v":10},108883,null,{"$f":"'Dairy Miscellaneous'!V48","v":0},{"$f":"'Dairy Miscellaneous'!W48","v":0}]
[{"$f":"'Cow Housing'!$C$6","v":"C-3333"},{"$f":"$B$26","v":0},{"$f":"$C$26","v":2},{"$f":"$D$26","v":10},108907,null,{"$f":"'Dairy Miscellaneous'!V31","v":0},{"$f":"'Dairy Miscellaneous'!W31","v":0}]
[{"$f":"'Cow Housing'!$C$6","v":"C-3333"},{"$f":"$B$26","v":0},{"$f":"$C$26","v":2},{"$f":"$D$26","v":10},110543,null,{"$f":"'Dairy Miscellaneous'!V41","v":0},{"$f":"'Dairy Miscellaneous'!W41","v":0}]
[{"$f":"'Cow Housing'!$C$6","v":"C-3333"},{"$f":"$B$26","v":0},{"$f":"$C$26","v":2},{"$f":"$D$26","v":10},110827,null,{"$f":"'Dairy Miscellaneous'!V35","v":0},{"$f":"'Dairy Miscellaneous'!W35","v":0}]
[{"$f":"'Cow Housing'!$C$6","v":"C-3333"},{"$f":"$B$26","v":0},{"$f":"$C$26","v":2},{"$f":"$D$26","v":10},120821,null,{"$f":"'Dairy Miscellaneous'!V18","v":0},{"$f":"'Dairy Miscellaneous'!W18","v":0}]
[{"$f":"'Cow Housing'!$C$6","v":"C-3333"},{"$f":"$B$26","v":0},{"$f":"$C$26","v":2},{"$f":"$D$26","v":10},123728,null,{"$f":"'Dairy Miscellaneous'!V28","v":0},{"$f":"'Dairy Miscellaneous'!W28","v":0}]
[{"$f":"'Cow Housing'!$C$6","v":"C-3333"},{"$f":"$B$26","v":0},{"$f":"$C$26","v":2},{"$f":"$D$26","v":10},123911,null,{"$f":"'Dairy Miscellaneous'!V22","v":0},{"$f":"'Dairy Miscellaneous'!W22","v":0}]
[{"$f":"'Cow Housing'!$C$6","v":"C-3333"},{"$f":"$B$26","v":0},{"$f":"$C$26","v":2},{"$f":"$D$26","v":10},541731,null,{"$f":"'Dairy Miscellaneous'!V21","v":0},{"$f":"'Dairy Miscellaneous'!W21","v":0}]
[{"$f":"'Cow Housing'!$C$6","v":"C-3333"},{"$f":"$B$26","v":0},{"$f":"$C$26","v":2},{"$f":"$D$26","v":10},764410,null,{"$f":"'Dairy Miscellaneous'!V47","v":0},{"$f":"'Dairy Miscellaneous'!W47","v":0}]
[{"$f":"'Cow Housing'!$C$6","v":"C-3333"},{"$f":"$B$26","v":0},{"$f":"$C$26","v":2},{"$f":"$D$26","v":10},1330207,null,{"$f":"'Dairy Miscellaneous'!V51","v":0},{"$f":"'Dairy Miscellaneous'!W51","v":0}]
[{"$f":"'Cow Housing'!$C$6","v":"C-3333"},{"$f":"$B$26","v":0},{"$f":"$C$26","v":2},{"$f":"$D$26","v":10},4170303,null,{"$f":"'Dairy Miscellaneous'!V34","v":0},{"$f":"'Dairy Miscellaneous'!W34","v":0}]
[{"$f":"'Cow Housing'!$C$6","v":"C-3333"},{"$f":"$B$26","v":0},{"$f":"$C$26","v":2},{"$f":"$D$26","v":10},7429905,null,{"$f":"'Livestock PM10'!V14","v":0},{"$f":"'Livestock PM10'!W14","v":0}]
[{"$f":"'Cow Housing'!$C$6","v":"C-3333"},{"$f":"$B$26","v":0},{"$f":"$C$26","v":2},{"$f":"$D$26","v":10},7439921,null,{"$f":"'Livestock PM10'!V22","v":0},{"$f":"'Livestock PM10'!W22","v":0}]
[{"$f":"'Cow Housing'!$C$6","v":"C-3333"},{"$f":"$B$26","v":0},{"$f":"$C$26","v":2},{"$f":"$D$26","v":10},7439965,null,{"$f":"'Livestock PM10'!V23","v":0},{"$f":"'Livestock PM10'!W23","v":0}]
[{"$f":"'Cow Housing'!$C$6","v":"C-3333"},{"$f":"$B$26","v":0},{"$f":"$C$26","v":2},{"$f":"$D$26","v":10},7439976,null,{"$f":"'Livestock PM10'!V24","v":0},{"$f":"'Livestock PM10'!W24","v":0}]
[{"$f":"'Cow Housing'!$C$6","v":"C-3333"},{"$f":"$B$26","v":0},{"$f":"$C$26","v":2},{"$f":"$D$26","v":10},7440020,null,{"$f":"'Livestock PM10'!V25","v":0},{"$f":"'Livestock PM10'!W25","v":0}]
[{"$f":"'Cow Housing'!$C$6","v":"C-3333"},{"$f":"$B$26","v":0},{"$f":"$C$26","v":2},{"$f":"$D$26","v":10},7440360,null,{"$f":"'Livestock PM10'!V15","v":0},{"$f":"'Livestock PM10'!W15","v":0}]
[{"$f":"'Cow Housing'!$C$6","v":"C-3333"},{"$f":"$B$26","v":0},{"$f":"$C$26","v":2},{"$f":"$D$26","v":10},7440382,null,{"$f":"'Livestock PM10'!V16","v":0},{"$f":"'Livestock PM10'!W16","v":0}]
[{"$f":"'Cow Housing'!$C$6","v":"C-3333"},{"$f":"$B$26","v":0},{"$f":"$C$26","v":2},{"$f":"$D$26","v":10},7440393,null,{"$f":"'Livestock PM10'!V17","v":0},{"$f":"'Livestock PM10'!W17","v":0}]
[{"$f":"'Cow Housing'!$C$6","v":"C-3333"},{"$f":"$B$26","v":0},{"$f":"$C$26","v":2},{"$f":"$D$26","v":10},7440473,null,{"$f":"'Livestock PM10'!V19","v":0},{"$f":"'Livestock PM10'!W19","v":0}]
[{"$f":"'Cow Housing'!$C$6","v":"C-3333"},{"$f":"$B$26","v":0},{"$f":"$C$26","v":2},{"$f":"$D$26","v":10},7440508,null,{"$f":"'Livestock PM10'!V20","v":0},{"$f":"'Livestock PM10'!W20","v":0}]
[{"$f":"'Cow Housing'!$C$6","v":"C-3333"},{"$f":"$B$26","v":0},{"$f":"$C$26","v":2},{"$f":"$D$26","v":10},7440622,null,{"$f":"'Livestock PM10'!V29","v":0},{"$f":"'Livestock PM10'!W29","v":0}]
[{"$f":"'Cow Housing'!$C$6","v":"C-3333"},{"$f":"$B$26","v":0},{"$f":"$C$26","v":2},{"$f":"$D$26","v":10},7440666,null,{"$f":"'Livestock PM10'!V30","v":0},{"$f":"'Livestock PM10'!W30","v":0}]
[{"$f":"'Cow Housing'!$C$6","v":"C-3333"},{"$f":"$B$26","v":0},{"$f":"$C$26","v":2},{"$f":"$D$26","v":10},7664417,null,{"$f":"'Livestock PM10'!V31","v":0},{"$f":"'Livestock PM10'!W31","v":0}]
[{"$f":"'Cow Housing'!$C$6","v":"C-3333"},{"$f":"$B$26","v":0},{"$f":"$C$26","v":2},{"$f":"$D$26","v":10},7723140,null,{"$f":"'Livestock PM10'!V26","v":0},{"$f":"'Livestock PM10'!W26","v":0}]
[{"$f":"'Cow Housing'!$C$6","v":"C-3333"},{"$f":"$B$26","v":0},{"$f":"$C$26","v":2},{"$f":"$D$26","v":10},7726956,null,{"$f":"'Livestock PM10'!V18","v":0},{"$f":"'Livestock PM10'!W18","v":0}]
[{"$f":"'Cow Housing'!$C$6","v":"C-3333"},{"$f":"$B$26","v":0},{"$f":"$C$26","v":2},{"$f":"$D$26","v":10},7782492,null,{"$f":"'Livestock PM10'!V27","v":0},{"$f":"'Livestock PM10'!W27","v":0}]
[{"$f":"'Cow Housing'!$C$6","v":"C-3333"},{"$f":"$B$26","v":0},{"$f":"$C$26","v":2},{"$f":"$D$26","v":10},18540299,null,{"$f":"'Livestock PM10'!V21","v":0},{"$f":"'Livestock PM10'!W21","v":0}]
[{"$f":"'Cow Housing'!$C$6","v":"C-3333"},{"$f":"$B$27","v":0},{"$f":"$C$27","v":2},{"$f":"$D$27","v":11},9960,null,{"$f":"'Livestock PM10'!X28","v":0},{"$f":"'Livestock PM10'!Y28","v":0}]
[{"$f":"'Cow Housing'!$C$6","v":"C-3333"},{"$f":"$B$27","v":0},{"$f":"$C$27","v":2},{"$f":"$D$27","v":11},50000,null,{"$f":"'Dairy Miscellaneous'!X40","v":0},{"$f":"'Dairy Miscellaneous'!Y40","v":0}]
[{"$f":"'Cow Housing'!$C$6","v":"C-3333"},{"$f":"$B$27","v":0},{"$f":"$C$27","v":2},{"$f":"$D$27","v":11},56235,null,{"$f":"'Dairy Miscellaneous'!X30","v":0},{"$f":"'Dairy Miscellaneous'!Y30","v":0}]
[{"$f":"'Cow Housing'!$C$6","v":"C-3333"},{"$f":"$B$27","v":0},{"$f":"$C$27","v":2},{"$f":"$D$27","v":11},67630,null,{"$f":"'Dairy Miscellaneous'!X42","v":0},{"$f":"'Dairy Miscellaneous'!Y42","v":0}]
[{"$f":"'Cow Housing'!$C$6","v":"C-3333"},{"$f":"$B$27","v":0},{"$f":"$C$27","v":2},{"$f":"$D$27","v":11},67663,null,{"$f":"'Dairy Miscellaneous'!X32","v":0},{"$f":"'Dairy Miscellaneous'!Y32","v":0}]
[{"$f":"'Cow Housing'!$C$6","v":"C-3333"},{"$f":"$B$27","v":0},{"$f":"$C$27","v":2},{"$f":"$D$27","v":11},71432,null,{"$f":"'Dairy Miscellaneous'!X26","v":0},{"$f":"'Dairy Miscellaneous'!Y26","v":0}]
[{"$f":"'Cow Housing'!$C$6","v":"C-3333"},{"$f":"$B$27","v":0},{"$f":"$C$27","v":2},{"$f":"$D$27","v":11},74873,null,{"$f":"'Dairy Miscellaneous'!X33","v":0},{"$f":"'Dairy Miscellaneous'!Y33","v":0}]
[{"$f":"'Cow Housing'!$C$6","v":"C-3333"},{"$f":"$B$27","v":0},{"$f":"$C$27","v":2},{"$f":"$D$27","v":11},75003,null,{"$f":"'Dairy Miscellaneous'!X36","v":0},{"$f":"'Dairy Miscellaneous'!Y36","v":0}]
[{"$f":"'Cow Housing'!$C$6","v":"C-3333"},{"$f":"$B$27","v":0},{"$f":"$C$27","v":2},{"$f":"$D$27","v":11},75070,null,{"$f":"'Dairy Miscellaneous'!X24","v":0},{"$f":"'Dairy Miscellaneous'!Y24","v":0}]
[{"$f":"'Cow Housing'!$C$6","v":"C-3333"},{"$f":"$B$27","v":0},{"$f":"$C$27","v":2},{"$f":"$D$27","v":11},75150,null,{"$f":"'Dairy Miscellaneous'!X29","v":0},{"$f":"'Dairy Miscellaneous'!Y29","v":0}]
[{"$f":"'Cow Housing'!$C$6","v":"C-3333"},{"$f":"$B$27","v":0},{"$f":"$C$27","v":2},{"$f":"$D$27","v":11},75694,null,{"$f":"'Dairy Miscellaneous'!X49","v":0},{"$f":"'Dairy Miscellaneous'!Y49","v":0}]
[{"$f":"'Cow Housing'!$C$6","v":"C-3333"},{"$f":"$B$27","v":0},{"$f":"$C$27","v":2},{"$f":"$D$27","v":11},78933,null,{"$f":"'Dairy Miscellaneous'!X44","v":0},{"$f":"'Dairy Miscellaneous'!Y44","v":0}]
[{"$f":"'Cow Housing'!$C$6","v":"C-3333"},{"$f":"$B$27","v":0},{"$f":"$C$27","v":2},{"$f":"$D$27","v":11},79005,null,{"$f":"'Dairy Miscellaneous'!X16","v":0},{"$f":"'Dairy Miscellaneous'!Y16","v":0}]
[{"$f":"'Cow Housing'!$C$6","v":"C-3333"},{"$f":"$B$27","v":0},{"$f":"$C$27","v":2},{"$f":"$D$27","v":11},79345,null,{"$f":"'Dairy Miscellaneous'!X15","v":0},{"$f":"'Dairy Miscellaneous'!Y15","v":0}]
[{"$f":"'Cow Housing'!$C$6","v":"C-3333"},{"$f":"$B$27","v":0},{"$f":"$C$27","v":2},{"$f":"$D$27","v":11},95501,null,{"$f":"'Dairy Miscellaneous'!X20","v":0},{"$f":"'Dairy Miscellaneous'!Y20","v":0}]
[{"$f":"'Cow Housing'!$C$6","v":"C-3333"},{"$f":"$B$27","v":0},{"$f":"$C$27","v":2},{"$f":"$D$27","v":11},96128,null,{"$f":"'Dairy Miscellaneous'!X19","v":0},{"$f":"'Dairy Miscellaneous'!Y19","v":0}]
[{"$f":"'Cow Housing'!$C$6","v":"C-3333"},{"$f":"$B$27","v":0},{"$f":"$C$27","v":2},{"$f":"$D$27","v":11},96184,null,{"$f":"'Dairy Miscellaneous'!X17","v":0},{"$f":"'Dairy Miscellaneous'!Y17","v":0}]
[{"$f":"'Cow Housing'!$C$6","v":"C-3333"},{"$f":"$B$27","v":0},{"$f":"$C$27","v":2},{"$f":"$D$27","v":11},98828,null,{"$f":"'Dairy Miscellaneous'!X43","v":0},{"$f":"'Dairy Miscellaneous'!Y43","v":0}]
[{"$f":"'Cow Housing'!$C$6","v":"C-3333"},{"$f":"$B$27","v":0},{"$f":"$C$27","v":2},{"$f":"$D$27","v":11},100414,null,{"$f":"'Dairy Miscellaneous'!X37","v":0},{"$f":"'Dairy Miscellaneous'!Y37","v":0}]
[{"$f":"'Cow Housing'!$C$6","v":"C-3333"},{"$f":"$B$27","v":0},{"$f":"$C$27","v":2},{"$f":"$D$27","v":11},100425,null,{"$f":"'Dairy Miscellaneous'!X46","v":0},{"$f":"'Dairy Miscellaneous'!Y46","v":0}]
[{"$f":"'Cow Housing'!$C$6","v":"C-3333"},{"$f":"$B$27","v":0},{"$f":"$C$27","v":2},{"$f":"$D$27","v":11},100447,null,{"$f":"'Dairy Miscellaneous'!X27","v":0},{"$f":"'Dairy Miscellaneous'!Y27","v":0}]
[{"$f":"'Cow Housing'!$C$6","v":"C-3333"},{"$f":"$B$27","v":0},{"$f":"$C$27","v":2},{"$f":"$D$27","v":11},106467,null,{"$f":"'Dairy Miscellaneous'!X23","v":0},{"$f":"'Dairy Miscellaneous'!Y23","v":0}]
[{"$f":"'Cow Housing'!$C$6","v":"C-3333"},{"$f":"$B$27","v":0},{"$f":"$C$27","v":2},{"$f":"$D$27","v":11},106934,null,{"$f":"'Dairy Miscellaneous'!X38","v":0},{"$f":"'Dairy Miscellaneous'!Y38","v":0}]
[{"$f":"'Cow Housing'!$C$6","v":"C-3333"},{"$f":"$B$27","v":0},{"$f":"$C$27","v":2},{"$f":"$D$27","v":11},107062,null,{"$f":"'Dairy Miscellaneous'!X39","v":0},{"$f":"'Dairy Miscellaneous'!Y39","v":0}]
[{"$f":"'Cow Housing'!$C$6","v":"C-3333"},{"$f":"$B$27","v":0},{"$f":"$C$27","v":2},{"$f":"$D$27","v":11},107131,null,{"$f":"'Dairy Miscellaneous'!X25","v":0},{"$f":"'Dairy Miscellaneous'!Y25","v":0}]
[{"$f":"'Cow Housing'!$C$6","v":"C-3333"},{"$f":"$B$27","v":0},{"$f":"$C$27","v":2},{"$f":"$D$27","v":11},108054,null,{"$f":"'Dairy Miscellaneous'!X50","v":0},{"$f":"'Dairy Miscellaneous'!Y50","v":0}]
[{"$f":"'Cow Housing'!$C$6","v":"C-3333"},{"$f":"$B$27","v":0},{"$f":"$C$27","v":2},{"$f":"$D$27","v":11},108101,null,{"$f":"'Dairy Miscellaneous'!X45","v":0},{"$f":"'Dairy Miscellaneous'!Y45","v":0}]
[{"$f":"'Cow Housing'!$C$6","v":"C-3333"},{"$f":"$B$27","v":0},{"$f":"$C$27","v":2},{"$f":"$D$27","v":11},108883,null,{"$f":"'Dairy Miscellaneous'!X48","v":0},{"$f":"'Dairy Miscellaneous'!Y48","v":0}]
[{"$f":"'Cow Housing'!$C$6","v":"C-3333"},{"$f":"$B$27","v":0},{"$f":"$C$27","v":2},{"$f":"$D$27","v":11},108907,null,{"$f":"'Dairy Miscellaneous'!X31","v":0},{"$f":"'Dairy Miscellaneous'!Y31","v":0}]
[{"$f":"'Cow Housing'!$C$6","v":"C-3333"},{"$f":"$B$27","v":0},{"$f":"$C$27","v":2},{"$f":"$D$27","v":11},110543,null,{"$f":"'Dairy Miscellaneous'!X41","v":0},{"$f":"'Dairy Miscellaneous'!Y41","v":0}]
[{"$f":"'Cow Housing'!$C$6","v":"C-3333"},{"$f":"$B$27","v":0},{"$f":"$C$27","v":2},{"$f":"$D$27","v":11},110827,null,{"$f":"'Dairy Miscellaneous'!X35","v":0},{"$f":"'Dairy Miscellaneous'!Y35","v":0}]
[{"$f":"'Cow Housing'!$C$6","v":"C-3333"},{"$f":"$B$27","v":0},{"$f":"$C$27","v":2},{"$f":"$D$27","v":11},120821,null,{"$f":"'Dairy Miscellaneous'!X18","v":0},{"$f":"'Dairy Miscellaneous'!Y18","v":0}]
[{"$f":"'Cow Housing'!$C$6","v":"C-3333"},{"$f":"$B$27","v":0},{"$f":"$C$27","v":2},{"$f":"$D$27","v":11},123728,null,{"$f":"'Dairy Miscellaneous'!X28","v":0},{"$f":"'Dairy Miscellaneous'!Y28","v":0}]
[{"$f":"'Cow Housing'!$C$6","v":"C-3333"},{"$f":"$B$27","v":0},{"$f":"$C$27","v":2},{"$f":"$D$27","v":11},123911,null,{"$f":"'Dairy Miscellaneous'!X22","v":0},{"$f":"'Dairy Miscellaneous'!Y22","v":0}]
[{"$f":"'Cow Housing'!$C$6","v":"C-3333"},{"$f":"$B$27","v":0},{"$f":"$C$27","v":2},{"$f":"$D$27","v":11},541731,null,{"$f":"'Dairy Miscellaneous'!X21","v":0},{"$f":"'Dairy Miscellaneous'!Y21","v":0}]
[{"$f":"'Cow Housing'!$C$6","v":"C-3333"},{"$f":"$B$27","v":0},{"$f":"$C$27","v":2},{"$f":"$D$27","v":11},764410,null,{"$f":"'Dairy Miscellaneous'!X47","v":0},{"$f":"'Dairy Miscellaneous'!Y47","v":0}]
[{"$f":"'Cow Housing'!$C$6","v":"C-3333"},{"$f":"$B$27","v":0},{"$f":"$C$27","v":2},{"$f":"$D$27","v":11},1330207,null,{"$f":"'Dairy Miscellaneous'!X51","v":0},{"$f":"'Dairy Miscellaneous'!Y51","v":0}]
[{"$f":"'Cow Housing'!$C$6","v":"C-3333"},{"$f":"$B$27","v":0},{"$f":"$C$27","v":2},{"$f":"$D$27","v":11},4170303,null,{"$f":"'Dairy Miscellaneous'!X34","v":0},{"$f":"'Dairy Miscellaneous'!Y34","v":0}]
[{"$f":"'Cow Housing'!$C$6","v":"C-3333"},{"$f":"$B$27","v":0},{"$f":"$C$27","v":2},{"$f":"$D$27","v":11},7429905,null,{"$f":"'Livestock PM10'!X14","v":0},{"$f":"'Livestock PM10'!Y14","v":0}]
[{"$f":"'Cow Housing'!$C$6","v":"C-3333"},{"$f":"$B$27","v":0},{"$f":"$C$27","v":2},{"$f":"$D$27","v":11},7439921,null,{"$f":"'Livestock PM10'!X22","v":0},{"$f":"'Livestock PM10'!Y22","v":0}]
[{"$f":"'Cow Housing'!$C$6","v":"C-3333"},{"$f":"$B$27","v":0},{"$f":"$C$27","v":2},{"$f":"$D$27","v":11},7439965,null,{"$f":"'Livestock PM10'!X23","v":0},{"$f":"'Livestock PM10'!Y23","v":0}]
[{"$f":"'Cow Housing'!$C$6","v":"C-3333"},{"$f":"$B$27","v":0},{"$f":"$C$27","v":2},{"$f":"$D$27","v":11},7439976,null,{"$f":"'Livestock PM10'!X24","v":0},{"$f":"'Livestock PM10'!Y24","v":0}]
[{"$f":"'Cow Housing'!$C$6","v":"C-3333"},{"$f":"$B$27","v":0},{"$f":"$C$27","v":2},{"$f":"$D$27","v":11},7440020,null,{"$f":"'Livestock PM10'!X25","v":0},{"$f":"'Livestock PM10'!Y25","v":0}]
[{"$f":"'Cow Housing'!$C$6","v":"C-3333"},{"$f":"$B$27","v":0},{"$f":"$C$27","v":2},{"$f":"$D$27","v":11},7440360,null,{"$f":"'Livestock PM10'!X15","v":0},{"$f":"'Livestock PM10'!Y15","v":0}]
[{"$f":"'Cow Housing'!$C$6","v":"C-3333"},{"$f":"$B$27","v":0},{"$f":"$C$27","v":2},{"$f":"$D$27","v":11},7440382,null,{"$f":"'Livestock PM10'!X16","v":0},{"$f":"'Livestock PM10'!Y16","v":0}]
[{"$f":"'Cow Housing'!$C$6","v":"C-3333"},{"$f":"$B$27","v":0},{"$f":"$C$27","v":2},{"$f":"$D$27","v":11},7440393,null,{"$f":"'Livestock PM10'!X17","v":0},{"$f":"'Livestock PM10'!Y17","v":0}]
[{"$f":"'Cow Housing'!$C$6","v":"C-3333"},{"$f":"$B$27","v":0},{"$f":"$C$27","v":2},{"$f":"$D$27","v":11},7440473,null,{"$f":"'Livestock PM10'!X19","v":0},{"$f":"'Livestock PM10'!Y19","v":0}]
[{"$f":"'Cow Housing'!$C$6","v":"C-3333"},{"$f":"$B$27","v":0},{"$f":"$C$27","v":2},{"$f":"$D$27","v":11},7440508,null,{"$f":"'Livestock PM10'!X20","v":0},{"$f":"'Livestock PM10'!Y20","v":0}]
[{"$f":"'Cow Housing'!$C$6","v":"C-3333"},{"$f":"$B$27","v":0},{"$f":"$C$27","v":2},{"$f":"$D$27","v":11},7440622,null,{"$f":"'Livestock PM10'!X29","v":0},{"$f":"'Livestock PM10'!Y29","v":0}]
[{"$f":"'Cow Housing'!$C$6","v":"C-3333"},{"$f":"$B$27","v":0},{"$f":"$C$27","v":2},{"$f":"$D$27","v":11},7440666,null,{"$f":"'Livestock PM10'!X30","v":0},{"$f":"'Livestock PM10'!Y30","v":0}]
[{"$f":"'Cow Housing'!$C$6","v":"C-3333"},{"$f":"$B$27","v":0},{"$f":"$C$27","v":2},{"$f":"$D$27","v":11},7664417,null,{"$f":"'Livestock PM10'!X31","v":0},{"$f":"'Livestock PM10'!Y31","v":0}]
[{"$f":"'Cow Housing'!$C$6","v":"C-3333"},{"$f":"$B$27","v":0},{"$f":"$C$27","v":2},{"$f":"$D$27","v":11},7723140,null,{"$f":"'Livestock PM10'!X26","v":0},{"$f":"'Livestock PM10'!Y26","v":0}]
[{"$f":"'Cow Housing'!$C$6","v":"C-3333"},{"$f":"$B$27","v":0},{"$f":"$C$27","v":2},{"$f":"$D$27","v":11},7726956,null,{"$f":"'Livestock PM10'!X18","v":0},{"$f":"'Livestock PM10'!Y18","v":0}]
[{"$f":"'Cow Housing'!$C$6","v":"C-3333"},{"$f":"$B$27","v":0},{"$f":"$C$27","v":2},{"$f":"$D$27","v":11},7782492,null,{"$f":"'Livestock PM10'!X27","v":0},{"$f":"'Livestock PM10'!Y27","v":0}]
[{"$f":"'Cow Housing'!$C$6","v":"C-3333"},{"$f":"$B$27","v":0},{"$f":"$C$27","v":2},{"$f":"$D$27","v":11},18540299,null,{"$f":"'Livestock PM10'!X21","v":0},{"$f":"'Livestock PM10'!Y21","v":0}]
[{"$f":"'Cow Housing'!$C$6","v":"C-3333"},{"$f":"$B$28","v":0},{"$f":"$C$28","v":2},{"$f":"$D$28","v":12},9960,null,{"$f":"'Livestock PM10'!Z28","v":0},{"$f":"'Livestock PM10'!AA28","v":0}]
[{"$f":"'Cow Housing'!$C$6","v":"C-3333"},{"$f":"$B$28","v":0},{"$f":"$C$28","v":2},{"$f":"$D$28","v":12},50000,null,{"$f":"'Dairy Miscellaneous'!Z40","v":0},{"$f":"'Dairy Miscellaneous'!AA40","v":0}]
[{"$f":"'Cow Housing'!$C$6","v":"C-3333"},{"$f":"$B$28","v":0},{"$f":"$C$28","v":2},{"$f":"$D$28","v":12},56235,null,{"$f":"'Dairy Miscellaneous'!Z30","v":0},{"$f":"'Dairy Miscellaneous'!AA30","v":0}]
[{"$f":"'Cow Housing'!$C$6","v":"C-3333"},{"$f":"$B$28","v":0},{"$f":"$C$28","v":2},{"$f":"$D$28","v":12},67630,null,{"$f":"'Dairy Miscellaneous'!Z42","v":0},{"$f":"'Dairy Miscellaneous'!AA42","v":0}]
[{"$f":"'Cow Housing'!$C$6","v":"C-3333"},{"$f":"$B$28","v":0},{"$f":"$C$28","v":2},{"$f":"$D$28","v":12},67663,null,{"$f":"'Dairy Miscellaneous'!Z32","v":0},{"$f":"'Dairy Miscellaneous'!AA32","v":0}]
[{"$f":"'Cow Housing'!$C$6","v":"C-3333"},{"$f":"$B$28","v":0},{"$f":"$C$28","v":2},{"$f":"$D$28","v":12},71432,null,{"$f":"'Dairy Miscellaneous'!Z26","v":0},{"$f":"'Dairy Miscellaneous'!AA26","v":0}]
[{"$f":"'Cow Housing'!$C$6","v":"C-3333"},{"$f":"$B$28","v":0},{"$f":"$C$28","v":2},{"$f":"$D$28","v":12},74873,null,{"$f":"'Dairy Miscellaneous'!Z33","v":0},{"$f":"'Dairy Miscellaneous'!AA33","v":0}]
[{"$f":"'Cow Housing'!$C$6","v":"C-3333"},{"$f":"$B$28","v":0},{"$f":"$C$28","v":2},{"$f":"$D$28","v":12},75003,null,{"$f":"'Dairy Miscellaneous'!Z36","v":0},{"$f":"'Dairy Miscellaneous'!AA36","v":0}]
[{"$f":"'Cow Housing'!$C$6","v":"C-3333"},{"$f":"$B$28","v":0},{"$f":"$C$28","v":2},{"$f":"$D$28","v":12},75070,null,{"$f":"'Dairy Miscellaneous'!Z24","v":0},{"$f":"'Dairy Miscellaneous'!AA24","v":0}]
[{"$f":"'Cow Housing'!$C$6","v":"C-3333"},{"$f":"$B$28","v":0},{"$f":"$C$28","v":2},{"$f":"$D$28","v":12},75150,null,{"$f":"'Dairy Miscellaneous'!Z29","v":0},{"$f":"'Dairy Miscellaneous'!AA29","v":0}]
[{"$f":"'Cow Housing'!$C$6","v":"C-3333"},{"$f":"$B$28","v":0},{"$f":"$C$28","v":2},{"$f":"$D$28","v":12},75694,null,{"$f":"'Dairy Miscellaneous'!Z49","v":0},{"$f":"'Dairy Miscellaneous'!AA49","v":0}]
[{"$f":"'Cow Housing'!$C$6","v":"C-3333"},{"$f":"$B$28","v":0},{"$f":"$C$28","v":2},{"$f":"$D$28","v":12},78933,null,{"$f":"'Dairy Miscellaneous'!Z44","v":0},{"$f":"'Dairy Miscellaneous'!AA44","v":0}]
[{"$f":"'Cow Housing'!$C$6","v":"C-3333"},{"$f":"$B$28","v":0},{"$f":"$C$28","v":2},{"$f":"$D$28","v":12},79005,null,{"$f":"'Dairy Miscellaneous'!Z16","v":0},{"$f":"'Dairy Miscellaneous'!AA16","v":0}]
[{"$f":"'Cow Housing'!$C$6","v":"C-3333"},{"$f":"$B$28","v":0},{"$f":"$C$28","v":2},{"$f":"$D$28","v":12},79345,null,{"$f":"'Dairy Miscellaneous'!Z15","v":0},{"$f":"'Dairy Miscellaneous'!AA15","v":0}]
[{"$f":"'Cow Housing'!$C$6","v":"C-3333"},{"$f":"$B$28","v":0},{"$f":"$C$28","v":2},{"$f":"$D$28","v":12},95501,null,{"$f":"'Dairy Miscellaneous'!Z20","v":0},{"$f":"'Dairy Miscellaneous'!AA20","v":0}]
[{"$f":"'Cow Housing'!$C$6","v":"C-3333"},{"$f":"$B$28","v":0},{"$f":"$C$28","v":2},{"$f":"$D$28","v":12},96128,null,{"$f":"'Dairy Miscellaneous'!Z19","v":0},{"$f":"'Dairy Miscellaneous'!AA19","v":0}]
[{"$f":"'Cow Housing'!$C$6","v":"C-3333"},{"$f":"$B$28","v":0},{"$f":"$C$28","v":2},{"$f":"$D$28","v":12},96184,null,{"$f":"'Dairy Miscellaneous'!Z17","v":0},{"$f":"'Dairy Miscellaneous'!AA17","v":0}]
[{"$f":"'Cow Housing'!$C$6","v":"C-3333"},{"$f":"$B$28","v":0},{"$f":"$C$28","v":2},{"$f":"$D$28","v":12},98828,null,{"$f":"'Dairy Miscellaneous'!Z43","v":0},{"$f":"'Dairy Miscellaneous'!AA43","v":0}]
[{"$f":"'Cow Housing'!$C$6","v":"C-3333"},{"$f":"$B$28","v":0},{"$f":"$C$28","v":2},{"$f":"$D$28","v":12},100414,null,{"$f":"'Dairy Miscellaneous'!Z37","v":0},{"$f":"'Dairy Miscellaneous'!AA37","v":0}]
[{"$f":"'Cow Housing'!$C$6","v":"C-3333"},{"$f":"$B$28","v":0},{"$f":"$C$28","v":2},{"$f":"$D$28","v":12},100425,null,{"$f":"'Dairy Miscellaneous'!Z46","v":0},{"$f":"'Dairy Miscellaneous'!AA46","v":0}]
[{"$f":"'Cow Housing'!$C$6","v":"C-3333"},{"$f":"$B$28","v":0},{"$f":"$C$28","v":2},{"$f":"$D$28","v":12},100447,null,{"$f":"'Dairy Miscellaneous'!Z27","v":0},{"$f":"'Dairy Miscellaneous'!AA27","v":0}]
[{"$f":"'Cow Housing'!$C$6","v":"C-3333"},{"$f":"$B$28","v":0},{"$f":"$C$28","v":2},{"$f":"$D$28","v":12},106467,null,{"$f":"'Dairy Miscellaneous'!Z23","v":0},{"$f":"'Dairy Miscellaneous'!AA23","v":0}]
[{"$f":"'Cow Housing'!$C$6","v":"C-3333"},{"$f":"$B$28","v":0},{"$f":"$C$28","v":2},{"$f":"$D$28","v":12},106934,null,{"$f":"'Dairy Miscellaneous'!Z38","v":0},{"$f":"'Dairy Miscellaneous'!AA38","v":0}]
[{"$f":"'Cow Housing'!$C$6","v":"C-3333"},{"$f":"$B$28","v":0},{"$f":"$C$28","v":2},{"$f":"$D$28","v":12},107062,null,{"$f":"'Dairy Miscellaneous'!Z39","v":0},{"$f":"'Dairy Miscellaneous'!AA39","v":0}]
[{"$f":"'Cow Housing'!$C$6","v":"C-3333"},{"$f":"$B$28","v":0},{"$f":"$C$28","v":2},{"$f":"$D$28","v":12},107131,null,{"$f":"'Dairy Miscellaneous'!Z25","v":0},{"$f":"'Dairy Miscellaneous'!AA25","v":0}]
[{"$f":"'Cow Housing'!$C$6","v":"C-3333"},{"$f":"$B$28","v":0},{"$f":"$C$28","v":2},{"$f":"$D$28","v":12},108054,null,{"$f":"'Dairy Miscellaneous'!Z50","v":0},{"$f":"'Dairy Miscellaneous'!AA50","v":0}]
[{"$f":"'Cow Housing'!$C$6","v":"C-3333"},{"$f":"$B$28","v":0},{"$f":"$C$28","v":2},{"$f":"$D$28","v":12},108101,null,{"$f":"'Dairy Miscellaneous'!Z45","v":0},{"$f":"'Dairy Miscellaneous'!AA45","v":0}]
[{"$f":"'Cow Housing'!$C$6","v":"C-3333"},{"$f":"$B$28","v":0},{"$f":"$C$28","v":2},{"$f":"$D$28","v":12},108883,null,{"$f":"'Dairy Miscellaneous'!Z48","v":0},{"$f":"'Dairy Miscellaneous'!AA48","v":0}]
[{"$f":"'Cow Housing'!$C$6","v":"C-3333"},{"$f":"$B$28","v":0},{"$f":"$C$28","v":2},{"$f":"$D$28","v":12},108907,null,{"$f":"'Dairy Miscellaneous'!Z31","v":0},{"$f":"'Dairy Miscellaneous'!AA31","v":0}]
[{"$f":"'Cow Housing'!$C$6","v":"C-3333"},{"$f":"$B$28","v":0},{"$f":"$C$28","v":2},{"$f":"$D$28","v":12},110543,null,{"$f":"'Dairy Miscellaneous'!Z41","v":0},{"$f":"'Dairy Miscellaneous'!AA41","v":0}]
[{"$f":"'Cow Housing'!$C$6","v":"C-3333"},{"$f":"$B$28","v":0},{"$f":"$C$28","v":2},{"$f":"$D$28","v":12},110827,null,{"$f":"'Dairy Miscellaneous'!Z35","v":0},{"$f":"'Dairy Miscellaneous'!AA35","v":0}]
[{"$f":"'Cow Housing'!$C$6","v":"C-3333"},{"$f":"$B$28","v":0},{"$f":"$C$28","v":2},{"$f":"$D$28","v":12},120821,null,{"$f":"'Dairy Miscellaneous'!Z18","v":0},{"$f":"'Dairy Miscellaneous'!AA18","v":0}]
[{"$f":"'Cow Housing'!$C$6","v":"C-3333"},{"$f":"$B$28","v":0},{"$f":"$C$28","v":2},{"$f":"$D$28","v":12},123728,null,{"$f":"'Dairy Miscellaneous'!Z28","v":0},{"$f":"'Dairy Miscellaneous'!AA28","v":0}]
[{"$f":"'Cow Housing'!$C$6","v":"C-3333"},{"$f":"$B$28","v":0},{"$f":"$C$28","v":2},{"$f":"$D$28","v":12},123911,null,{"$f":"'Dairy Miscellaneous'!Z22","v":0},{"$f":"'Dairy Miscellaneous'!AA22","v":0}]
[{"$f":"'Cow Housing'!$C$6","v":"C-3333"},{"$f":"$B$28","v":0},{"$f":"$C$28","v":2},{"$f":"$D$28","v":12},541731,null,{"$f":"'Dairy Miscellaneous'!Z21","v":0},{"$f":"'Dairy Miscellaneous'!AA21","v":0}]
[{"$f":"'Cow Housing'!$C$6","v":"C-3333"},{"$f":"$B$28","v":0},{"$f":"$C$28","v":2},{"$f":"$D$28","v":12},764410,null,{"$f":"'Dairy Miscellaneous'!Z47","v":0},{"$f":"'Dairy Miscellaneous'!AA47","v":0}]
[{"$f":"'Cow Housing'!$C$6","v":"C-3333"},{"$f":"$B$28","v":0},{"$f":"$C$28","v":2},{"$f":"$D$28","v":12},1330207,null,{"$f":"'Dairy Miscellaneous'!Z51","v":0},{"$f":"'Dairy Miscellaneous'!AA51","v":0}]
[{"$f":"'Cow Housing'!$C$6","v":"C-3333"},{"$f":"$B$28","v":0},{"$f":"$C$28","v":2},{"$f":"$D$28","v":12},4170303,null,{"$f":"'Dairy Miscellaneous'!Z34","v":0},{"$f":"'Dairy Miscellaneous'!AA34","v":0}]
[{"$f":"'Cow Housing'!$C$6","v":"C-3333"},{"$f":"$B$28","v":0},{"$f":"$C$28","v":2},{"$f":"$D$28","v":12},7429905,null,{"$f":"'Livestock PM10'!Z14","v":0},{"$f":"'Livestock PM10'!AA14","v":0}]
[{"$f":"'Cow Housing'!$C$6","v":"C-3333"},{"$f":"$B$28","v":0},{"$f":"$C$28","v":2},{"$f":"$D$28","v":12},7439921,null,{"$f":"'Livestock PM10'!Z22","v":0},{"$f":"'Livestock PM10'!AA22","v":0}]
[{"$f":"'Cow Housing'!$C$6","v":"C-3333"},{"$f":"$B$28","v":0},{"$f":"$C$28","v":2},{"$f":"$D$28","v":12},7439965,null,{"$f":"'Livestock PM10'!Z23","v":0},{"$f":"'Livestock PM10'!AA23","v":0}]
[{"$f":"'Cow Housing'!$C$6","v":"C-3333"},{"$f":"$B$28","v":0},{"$f":"$C$28","v":2},{"$f":"$D$28","v":12},7439976,null,{"$f":"'Livestock PM10'!Z24","v":0},{"$f":"'Livestock PM10'!AA24","v":0}]
[{"$f":"'Cow Housing'!$C$6","v":"C-3333"},{"$f":"$B$28","v":0},{"$f":"$C$28","v":2},{"$f":"$D$28","v":12},7440020,null,{"$f":"'Livestock PM10'!Z25","v":0},{"$f":"'Livestock PM10'!AA25","v":0}]
[{"$f":"'Cow Housing'!$C$6","v":"C-3333"},{"$f":"$B$28","v":0},{"$f":"$C$28","v":2},{"$f":"$D$28","v":12},7440360,null,{"$f":"'Livestock PM10'!Z15","v":0},{"$f":"'Livestock PM10'!AA15","v":0}]
[{"$f":"'Cow Housing'!$C$6","v":"C-3333"},{"$f":"$B$28","v":0},{"$f":"$C$28","v":2},{"$f":"$D$28","v":12},7440382,null,{"$f":"'Livestock PM10'!Z16","v":0},{"$f":"'Livestock PM10'!AA16","v":0}]
[{"$f":"'Cow Housing'!$C$6","v":"C-3333"},{"$f":"$B$28","v":0},{"$f":"$C$28","v":2},{"$f":"$D$28","v":12},7440393,null,{"$f":"'Livestock PM10'!Z17","v":0},{"$f":"'Livestock PM10'!AA17","v":0}]
[{"$f":"'Cow Housing'!$C$6","v":"C-3333"},{"$f":"$B$28","v":0},{"$f":"$C$28","v":2},{"$f":"$D$28","v":12},7440473,null,{"$f":"'Livestock PM10'!Z19","v":0},{"$f":"'Livestock PM10'!AA19","v":0}]
[{"$f":"'Cow Housing'!$C$6","v":"C-3333"},{"$f":"$B$28","v":0},{"$f":"$C$28","v":2},{"$f":"$D$28","v":12},7440508,null,{"$f":"'Livestock PM10'!Z20","v":0},{"$f":"'Livestock PM10'!AA20","v":0}]
[{"$f":"'Cow Housing'!$C$6","v":"C-3333"},{"$f":"$B$28","v":0},{"$f":"$C$28","v":2},{"$f":"$D$28","v":12},7440622,null,{"$f":"'Livestock PM10'!Z29","v":0},{"$f":"'Livestock PM10'!AA29","v":0}]
[{"$f":"'Cow Housing'!$C$6","v":"C-3333"},{"$f":"$B$28","v":0},{"$f":"$C$28","v":2},{"$f":"$D$28","v":12},7440666,null,{"$f":"'Livestock PM10'!Z30","v":0},{"$f":"'Livestock PM10'!AA30","v":0}]
[{"$f":"'Cow Housing'!$C$6","v":"C-3333"},{"$f":"$B$28","v":0},{"$f":"$C$28","v":2},{"$f":"$D$28","v":12},7664417,null,{"$f":"'Livestock PM10'!Z31","v":0},{"$f":"'Livestock PM10'!AA31","v":0}]
[{"$f":"'Cow Housing'!$C$6","v":"C-3333"},{"$f":"$B$28","v":0},{"$f":"$C$28","v":2},{"$f":"$D$28","v":12},7723140,null,{"$f":"'Livestock PM10'!Z26","v":0},{"$f":"'Livestock PM10'!AA26","v":0}]
[{"$f":"'Cow Housing'!$C$6","v":"C-3333"},{"$f":"$B$28","v":0},{"$f":"$C$28","v":2},{"$f":"$D$28","v":12},7726956,null,{"$f":"'Livestock PM10'!Z18","v":0},{"$f":"'Livestock PM10'!AA18","v":0}]
[{"$f":"'Cow Housing'!$C$6","v":"C-3333"},{"$f":"$B$28","v":0},{"$f":"$C$28","v":2},{"$f":"$D$28","v":12},7782492,null,{"$f":"'Livestock PM10'!Z27","v":0},{"$f":"'Livestock PM10'!AA27","v":0}]
[{"$f":"'Cow Housing'!$C$6","v":"C-3333"},{"$f":"$B$28","v":0},{"$f":"$C$28","v":2},{"$f":"$D$28","v":12},18540299,null,{"$f":"'Livestock PM10'!Z21","v":0},{"$f":"'Livestock PM10'!AA21","v":0}]
[{"$f":"'Cow Housing'!$C$6","v":"C-3333"},{"$f":"$B$29","v":0},{"$f":"$C$29","v":2},{"$f":"$D$29","v":13},9960,null,{"$f":"'Livestock PM10'!AB28","v":0},{"$f":"'Livestock PM10'!AC28","v":0}]
[{"$f":"'Cow Housing'!$C$6","v":"C-3333"},{"$f":"$B$29","v":0},{"$f":"$C$29","v":2},{"$f":"$D$29","v":13},50000,null,{"$f":"'Dairy Miscellaneous'!AB40","v":0},{"$f":"'Dairy Miscellaneous'!AC40","v":0}]
[{"$f":"'Cow Housing'!$C$6","v":"C-3333"},{"$f":"$B$29","v":0},{"$f":"$C$29","v":2},{"$f":"$D$29","v":13},56235,null,{"$f":"'Dairy Miscellaneous'!AB30","v":0},{"$f":"'Dairy Miscellaneous'!AC30","v":0}]
[{"$f":"'Cow Housing'!$C$6","v":"C-3333"},{"$f":"$B$29","v":0},{"$f":"$C$29","v":2},{"$f":"$D$29","v":13},67630,null,{"$f":"'Dairy Miscellaneous'!AB42","v":0},{"$f":"'Dairy Miscellaneous'!AC42","v":0}]
[{"$f":"'Cow Housing'!$C$6","v":"C-3333"},{"$f":"$B$29","v":0},{"$f":"$C$29","v":2},{"$f":"$D$29","v":13},67663,null,{"$f":"'Dairy Miscellaneous'!AB32","v":0},{"$f":"'Dairy Miscellaneous'!AC32","v":0}]
[{"$f":"'Cow Housing'!$C$6","v":"C-3333"},{"$f":"$B$29","v":0},{"$f":"$C$29","v":2},{"$f":"$D$29","v":13},71432,null,{"$f":"'Dairy Miscellaneous'!AB26","v":0},{"$f":"'Dairy Miscellaneous'!AC26","v":0}]
[{"$f":"'Cow Housing'!$C$6","v":"C-3333"},{"$f":"$B$29","v":0},{"$f":"$C$29","v":2},{"$f":"$D$29","v":13},74873,null,{"$f":"'Dairy Miscellaneous'!AB33","v":0},{"$f":"'Dairy Miscellaneous'!AC33","v":0}]
[{"$f":"'Cow Housing'!$C$6","v":"C-3333"},{"$f":"$B$29","v":0},{"$f":"$C$29","v":2},{"$f":"$D$29","v":13},75003,null,{"$f":"'Dairy Miscellaneous'!AB36","v":0},{"$f":"'Dairy Miscellaneous'!AC36","v":0}]
[{"$f":"'Cow Housing'!$C$6","v":"C-3333"},{"$f":"$B$29","v":0},{"$f":"$C$29","v":2},{"$f":"$D$29","v":13},75070,null,{"$f":"'Dairy Miscellaneous'!AB24","v":0},{"$f":"'Dairy Miscellaneous'!AC24","v":0}]
[{"$f":"'Cow Housing'!$C$6","v":"C-3333"},{"$f":"$B$29","v":0},{"$f":"$C$29","v":2},{"$f":"$D$29","v":13},75150,null,{"$f":"'Dairy Miscellaneous'!AB29","v":0},{"$f":"'Dairy Miscellaneous'!AC29","v":0}]
[{"$f":"'Cow Housing'!$C$6","v":"C-3333"},{"$f":"$B$29","v":0},{"$f":"$C$29","v":2},{"$f":"$D$29","v":13},75694,null,{"$f":"'Dairy Miscellaneous'!AB49","v":0},{"$f":"'Dairy Miscellaneous'!AC49","v":0}]
[{"$f":"'Cow Housing'!$C$6","v":"C-3333"},{"$f":"$B$29","v":0},{"$f":"$C$29","v":2},{"$f":"$D$29","v":13},78933,null,{"$f":"'Dairy Miscellaneous'!AB44","v":0},{"$f":"'Dairy Miscellaneous'!AC44","v":0}]
[{"$f":"'Cow Housing'!$C$6","v":"C-3333"},{"$f":"$B$29","v":0},{"$f":"$C$29","v":2},{"$f":"$D$29","v":13},79005,null,{"$f":"'Dairy Miscellaneous'!AB16","v":0},{"$f":"'Dairy Miscellaneous'!AC16","v":0}]
[{"$f":"'Cow Housing'!$C$6","v":"C-3333"},{"$f":"$B$29","v":0},{"$f":"$C$29","v":2},{"$f":"$D$29","v":13},79345,null,{"$f":"'Dairy Miscellaneous'!AB15","v":0},{"$f":"'Dairy Miscellaneous'!AC15","v":0}]
[{"$f":"'Cow Housing'!$C$6","v":"C-3333"},{"$f":"$B$29","v":0},{"$f":"$C$29","v":2},{"$f":"$D$29","v":13},95501,null,{"$f":"'Dairy Miscellaneous'!AB20","v":0},{"$f":"'Dairy Miscellaneous'!AC20","v":0}]
[{"$f":"'Cow Housing'!$C$6","v":"C-3333"},{"$f":"$B$29","v":0},{"$f":"$C$29","v":2},{"$f":"$D$29","v":13},96128,null,{"$f":"'Dairy Miscellaneous'!AB19","v":0},{"$f":"'Dairy Miscellaneous'!AC19","v":0}]
[{"$f":"'Cow Housing'!$C$6","v":"C-3333"},{"$f":"$B$29","v":0},{"$f":"$C$29","v":2},{"$f":"$D$29","v":13},96184,null,{"$f":"'Dairy Miscellaneous'!AB17","v":0},{"$f":"'Dairy Miscellaneous'!AC17","v":0}]
[{"$f":"'Cow Housing'!$C$6","v":"C-3333"},{"$f":"$B$29","v":0},{"$f":"$C$29","v":2},{"$f":"$D$29","v":13},98828,null,{"$f":"'Dairy Miscellaneous'!AB43","v":0},{"$f":"'Dairy Miscellaneous'!AC43","v":0}]
[{"$f":"'Cow Housing'!$C$6","v":"C-3333"},{"$f":"$B$29","v":0},{"$f":"$C$29","v":2},{"$f":"$D$29","v":13},100414,null,{"$f":"'Dairy Miscellaneous'!AB37","v":0},{"$f":"'Dairy Miscellaneous'!AC37","v":0}]
[{"$f":"'Cow Housing'!$C$6","v":"C-3333"},{"$f":"$B$29","v":0},{"$f":"$C$29","v":2},{"$f":"$D$29","v":13},100425,null,{"$f":"'Dairy Miscellaneous'!AB46","v":0},{"$f":"'Dairy Miscellaneous'!AC46","v":0}]
[{"$f":"'Cow Housing'!$C$6","v":"C-3333"},{"$f":"$B$29","v":0},{"$f":"$C$29","v":2},{"$f":"$D$29","v":13},100447,null,{"$f":"'Dairy Miscellaneous'!AB27","v":0},{"$f":"'Dairy Miscellaneous'!AC27","v":0}]
[{"$f":"'Cow Housing'!$C$6","v":"C-3333"},{"$f":"$B$29","v":0},{"$f":"$C$29","v":2},{"$f":"$D$29","v":13},106467,null,{"$f":"'Dairy Miscellaneous'!AB23","v":0},{"$f":"'Dairy Miscellaneous'!AC23","v":0}]
[{"$f":"'Cow Housing'!$C$6","v":"C-3333"},{"$f":"$B$29","v":0},{"$f":"$C$29","v":2},{"$f":"$D$29","v":13},106934,null,{"$f":"'Dairy Miscellaneous'!AB38","v":0},{"$f":"'Dairy Miscellaneous'!AC38","v":0}]
[{"$f":"'Cow Housing'!$C$6","v":"C-3333"},{"$f":"$B$29","v":0},{"$f":"$C$29","v":2},{"$f":"$D$29","v":13},107062,null,{"$f":"'Dairy Miscellaneous'!AB39","v":0},{"$f":"'Dairy Miscellaneous'!AC39","v":0}]
[{"$f":"'Cow Housing'!$C$6","v":"C-3333"},{"$f":"$B$29","v":0},{"$f":"$C$29","v":2},{"$f":"$D$29","v":13},107131,null,{"$f":"'Dairy Miscellaneous'!AB25","v":0},{"$f":"'Dairy Miscellaneous'!AC25","v":0}]
[{"$f":"'Cow Housing'!$C$6","v":"C-3333"},{"$f":"$B$29","v":0},{"$f":"$C$29","v":2},{"$f":"$D$29","v":13},108054,null,{"$f":"'Dairy Miscellaneous'!AB50","v":0},{"$f":"'Dairy Miscellaneous'!AC50","v":0}]
[{"$f":"'Cow Housing'!$C$6","v":"C-3333"},{"$f":"$B$29","v":0},{"$f":"$C$29","v":2},{"$f":"$D$29","v":13},108101,null,{"$f":"'Dairy Miscellaneous'!AB45","v":0},{"$f":"'Dairy Miscellaneous'!AC45","v":0}]
[{"$f":"'Cow Housing'!$C$6","v":"C-3333"},{"$f":"$B$29","v":0},{"$f":"$C$29","v":2},{"$f":"$D$29","v":13},108883,null,{"$f":"'Dairy Miscellaneous'!AB48","v":0},{"$f":"'Dairy Miscellaneous'!AC48","v":0}]
[{"$f":"'Cow Housing'!$C$6","v":"C-3333"},{"$f":"$B$29","v":0},{"$f":"$C$29","v":2},{"$f":"$D$29","v":13},108907,null,{"$f":"'Dairy Miscellaneous'!AB31","v":0},{"$f":"'Dairy Miscellaneous'!AC31","v":0}]
[{"$f":"'Cow Housing'!$C$6","v":"C-3333"},{"$f":"$B$29","v":0},{"$f":"$C$29","v":2},{"$f":"$D$29","v":13},110543,null,{"$f":"'Dairy Miscellaneous'!AB41","v":0},{"$f":"'Dairy Miscellaneous'!AC41","v":0}]
[{"$f":"'Cow Housing'!$C$6","v":"C-3333"},{"$f":"$B$29","v":0},{"$f":"$C$29","v":2},{"$f":"$D$29","v":13},110827,null,{"$f":"'Dairy Miscellaneous'!AB35","v":0},{"$f":"'Dairy Miscellaneous'!AC35","v":0}]
[{"$f":"'Cow Housing'!$C$6","v":"C-3333"},{"$f":"$B$29","v":0},{"$f":"$C$29","v":2},{"$f":"$D$29","v":13},120821,null,{"$f":"'Dairy Miscellaneous'!AB18","v":0},{"$f":"'Dairy Miscellaneous'!AC18","v":0}]
[{"$f":"'Cow Housing'!$C$6","v":"C-3333"},{"$f":"$B$29","v":0},{"$f":"$C$29","v":2},{"$f":"$D$29","v":13},123728,null,{"$f":"'Dairy Miscellaneous'!AB28","v":0},{"$f":"'Dairy Miscellaneous'!AC28","v":0}]
[{"$f":"'Cow Housing'!$C$6","v":"C-3333"},{"$f":"$B$29","v":0},{"$f":"$C$29","v":2},{"$f":"$D$29","v":13},123911,null,{"$f":"'Dairy Miscellaneous'!AB22","v":0},{"$f":"'Dairy Miscellaneous'!AC22","v":0}]
[{"$f":"'Cow Housing'!$C$6","v":"C-3333"},{"$f":"$B$29","v":0},{"$f":"$C$29","v":2},{"$f":"$D$29","v":13},541731,null,{"$f":"'Dairy Miscellaneous'!AB21","v":0},{"$f":"'Dairy Miscellaneous'!AC21","v":0}]
[{"$f":"'Cow Housing'!$C$6","v":"C-3333"},{"$f":"$B$29","v":0},{"$f":"$C$29","v":2},{"$f":"$D$29","v":13},764410,null,{"$f":"'Dairy Miscellaneous'!AB47","v":0},{"$f":"'Dairy Miscellaneous'!AC47","v":0}]
[{"$f":"'Cow Housing'!$C$6","v":"C-3333"},{"$f":"$B$29","v":0},{"$f":"$C$29","v":2},{"$f":"$D$29","v":13},1330207,null,{"$f":"'Dairy Miscellaneous'!AB51","v":0},{"$f":"'Dairy Miscellaneous'!AC51","v":0}]
[{"$f":"'Cow Housing'!$C$6","v":"C-3333"},{"$f":"$B$29","v":0},{"$f":"$C$29","v":2},{"$f":"$D$29","v":13},4170303,null,{"$f":"'Dairy Miscellaneous'!AB34","v":0},{"$f":"'Dairy Miscellaneous'!AC34","v":0}]
[{"$f":"'Cow Housing'!$C$6","v":"C-3333"},{"$f":"$B$29","v":0},{"$f":"$C$29","v":2},{"$f":"$D$29","v":13},7429905,null,{"$f":"'Livestock PM10'!AB14","v":0},{"$f":"'Livestock PM10'!AC14","v":0}]
[{"$f":"'Cow Housing'!$C$6","v":"C-3333"},{"$f":"$B$29","v":0},{"$f":"$C$29","v":2},{"$f":"$D$29","v":13},7439921,null,{"$f":"'Livestock PM10'!AB22","v":0},{"$f":"'Livestock PM10'!AC22","v":0}]
[{"$f":"'Cow Housing'!$C$6","v":"C-3333"},{"$f":"$B$29","v":0},{"$f":"$C$29","v":2},{"$f":"$D$29","v":13},7439965,null,{"$f":"'Livestock PM10'!AB23","v":0},{"$f":"'Livestock PM10'!AC23","v":0}]
[{"$f":"'Cow Housing'!$C$6","v":"C-3333"},{"$f":"$B$29","v":0},{"$f":"$C$29","v":2},{"$f":"$D$29","v":13},7439976,null,{"$f":"'Livestock PM10'!AB24","v":0},{"$f":"'Livestock PM10'!AC24","v":0}]
[{"$f":"'Cow Housing'!$C$6","v":"C-3333"},{"$f":"$B$29","v":0},{"$f":"$C$29","v":2},{"$f":"$D$29","v":13},7440020,null,{"$f":"'Livestock PM10'!AB25","v":0},{"$f":"'Livestock PM10'!AC25","v":0}]
[{"$f":"'Cow Housing'!$C$6","v":"C-3333"},{"$f":"$B$29","v":0},{"$f":"$C$29","v":2},{"$f":"$D$29","v":13},7440360,null,{"$f":"'Livestock PM10'!AB15","v":0},{"$f":"'Livestock PM10'!AC15","v":0}]
[{"$f":"'Cow Housing'!$C$6","v":"C-3333"},{"$f":"$B$29","v":0},{"$f":"$C$29","v":2},{"$f":"$D$29","v":13},7440382,null,{"$f":"'Livestock PM10'!AB16","v":0},{"$f":"'Livestock PM10'!AC16","v":0}]
[{"$f":"'Cow Housing'!$C$6","v":"C-3333"},{"$f":"$B$29","v":0},{"$f":"$C$29","v":2},{"$f":"$D$29","v":13},7440393,null,{"$f":"'Livestock PM10'!AB17","v":0},{"$f":"'Livestock PM10'!AC17","v":0}]
[{"$f":"'Cow Housing'!$C$6","v":"C-3333"},{"$f":"$B$29","v":0},{"$f":"$C$29","v":2},{"$f":"$D$29","v":13},7440473,null,{"$f":"'Livestock PM10'!AB19","v":0},{"$f":"'Livestock PM10'!AC19","v":0}]
[{"$f":"'Cow Housing'!$C$6","v":"C-3333"},{"$f":"$B$29","v":0},{"$f":"$C$29","v":2},{"$f":"$D$29","v":13},7440508,null,{"$f":"'Livestock PM10'!AB20","v":0},{"$f":"'Livestock PM10'!AC20","v":0}]
[{"$f":"'Cow Housing'!$C$6","v":"C-3333"},{"$f":"$B$29","v":0},{"$f":"$C$29","v":2},{"$f":"$D$29","v":13},7440622,null,{"$f":"'Livestock PM10'!AB29","v":0},{"$f":"'Livestock PM10'!AC29","v":0}]
[{"$f":"'Cow Housing'!$C$6","v":"C-3333"},{"$f":"$B$29","v":0},{"$f":"$C$29","v":2},{"$f":"$D$29","v":13},7440666,null,{"$f":"'Livestock PM10'!AB30","v":0},{"$f":"'Livestock PM10'!AC30","v":0}]
[{"$f":"'Cow Housing'!$C$6","v":"C-3333"},{"$f":"$B$29","v":0},{"$f":"$C$29","v":2},{"$f":"$D$29","v":13},7664417,null,{"$f":"'Livestock PM10'!AB31","v":0},{"$f":"'Livestock PM10'!AC31","v":0}]
[{"$f":"'Cow Housing'!$C$6","v":"C-3333"},{"$f":"$B$29","v":0},{"$f":"$C$29","v":2},{"$f":"$D$29","v":13},7723140,null,{"$f":"'Livestock PM10'!AB26","v":0},{"$f":"'Livestock PM10'!AC26","v":0}]
[{"$f":"'Cow Housing'!$C$6","v":"C-3333"},{"$f":"$B$29","v":0},{"$f":"$C$29","v":2},{"$f":"$D$29","v":13},7726956,null,{"$f":"'Livestock PM10'!AB18","v":0},{"$f":"'Livestock PM10'!AC18","v":0}]
[{"$f":"'Cow Housing'!$C$6","v":"C-3333"},{"$f":"$B$29","v":0},{"$f":"$C$29","v":2},{"$f":"$D$29","v":13},7782492,null,{"$f":"'Livestock PM10'!AB27","v":0},{"$f":"'Livestock PM10'!AC27","v":0}]
[{"$f":"'Cow Housing'!$C$6","v":"C-3333"},{"$f":"$B$29","v":0},{"$f":"$C$29","v":2},{"$f":"$D$29","v":13},18540299,null,{"$f":"'Livestock PM10'!AB21","v":0},{"$f":"'Livestock PM10'!AC21","v":0}]
[{"$f":"'Cow Housing'!$C$6","v":"C-3333"},{"$f":"$B$30","v":0},{"$f":"$C$30","v":2},{"$f":"$D$30","v":14},9960,null,{"$f":"'Livestock PM10'!AD28","v":0},{"$f":"'Livestock PM10'!AE28","v":0}]
[{"$f":"'Cow Housing'!$C$6","v":"C-3333"},{"$f":"$B$30","v":0},{"$f":"$C$30","v":2},{"$f":"$D$30","v":14},50000,null,{"$f":"'Dairy Miscellaneous'!AD40","v":0},{"$f":"'Dairy Miscellaneous'!AE40","v":0}]
[{"$f":"'Cow Housing'!$C$6","v":"C-3333"},{"$f":"$B$30","v":0},{"$f":"$C$30","v":2},{"$f":"$D$30","v":14},56235,null,{"$f":"'Dairy Miscellaneous'!AD30","v":0},{"$f":"'Dairy Miscellaneous'!AE30","v":0}]
[{"$f":"'Cow Housing'!$C$6","v":"C-3333"},{"$f":"$B$30","v":0},{"$f":"$C$30","v":2},{"$f":"$D$30","v":14},67630,null,{"$f":"'Dairy Miscellaneous'!AD42","v":0},{"$f":"'Dairy Miscellaneous'!AE42","v":0}]
[{"$f":"'Cow Housing'!$C$6","v":"C-3333"},{"$f":"$B$30","v":0},{"$f":"$C$30","v":2},{"$f":"$D$30","v":14},67663,null,{"$f":"'Dairy Miscellaneous'!AD32","v":0},{"$f":"'Dairy Miscellaneous'!AE32","v":0}]
[{"$f":"'Cow Housing'!$C$6","v":"C-3333"},{"$f":"$B$30","v":0},{"$f":"$C$30","v":2},{"$f":"$D$30","v":14},71432,null,{"$f":"'Dairy Miscellaneous'!AD26","v":0},{"$f":"'Dairy Miscellaneous'!AE26","v":0}]
[{"$f":"'Cow Housing'!$C$6","v":"C-3333"},{"$f":"$B$30","v":0},{"$f":"$C$30","v":2},{"$f":"$D$30","v":14},74873,null,{"$f":"'Dairy Miscellaneous'!AD33","v":0},{"$f":"'Dairy Miscellaneous'!AE33","v":0}]
[{"$f":"'Cow Housing'!$C$6","v":"C-3333"},{"$f":"$B$30","v":0},{"$f":"$C$30","v":2},{"$f":"$D$30","v":14},75003,null,{"$f":"'Dairy Miscellaneous'!AD36","v":0},{"$f":"'Dairy Miscellaneous'!AE36","v":0}]
[{"$f":"'Cow Housing'!$C$6","v":"C-3333"},{"$f":"$B$30","v":0},{"$f":"$C$30","v":2},{"$f":"$D$30","v":14},75070,null,{"$f":"'Dairy Miscellaneous'!AD24","v":0},{"$f":"'Dairy Miscellaneous'!AE24","v":0}]
[{"$f":"'Cow Housing'!$C$6","v":"C-3333"},{"$f":"$B$30","v":0},{"$f":"$C$30","v":2},{"$f":"$D$30","v":14},75150,null,{"$f":"'Dairy Miscellaneous'!AD29","v":0},{"$f":"'Dairy Miscellaneous'!AE29","v":0}]
[{"$f":"'Cow Housing'!$C$6","v":"C-3333"},{"$f":"$B$30","v":0},{"$f":"$C$30","v":2},{"$f":"$D$30","v":14},75694,null,{"$f":"'Dairy Miscellaneous'!AD49","v":0},{"$f":"'Dairy Miscellaneous'!AE49","v":0}]
[{"$f":"'Cow Housing'!$C$6","v":"C-3333"},{"$f":"$B$30","v":0},{"$f":"$C$30","v":2},{"$f":"$D$30","v":14},78933,null,{"$f":"'Dairy Miscellaneous'!AD44","v":0},{"$f":"'Dairy Miscellaneous'!AE44","v":0}]
[{"$f":"'Cow Housing'!$C$6","v":"C-3333"},{"$f":"$B$30","v":0},{"$f":"$C$30","v":2},{"$f":"$D$30","v":14},79005,null,{"$f":"'Dairy Miscellaneous'!AD16","v":0},{"$f":"'Dairy Miscellaneous'!AE16","v":0}]
[{"$f":"'Cow Housing'!$C$6","v":"C-3333"},{"$f":"$B$30","v":0},{"$f":"$C$30","v":2},{"$f":"$D$30","v":14},79345,null,{"$f":"'Dairy Miscellaneous'!AD15","v":0},{"$f":"'Dairy Miscellaneous'!AE15","v":0}]
[{"$f":"'Cow Housing'!$C$6","v":"C-3333"},{"$f":"$B$30","v":0},{"$f":"$C$30","v":2},{"$f":"$D$30","v":14},95501,null,{"$f":"'Dairy Miscellaneous'!AD20","v":0},{"$f":"'Dairy Miscellaneous'!AE20","v":0}]
[{"$f":"'Cow Housing'!$C$6","v":"C-3333"},{"$f":"$B$30","v":0},{"$f":"$C$30","v":2},{"$f":"$D$30","v":14},96128,null,{"$f":"'Dairy Miscellaneous'!AD19","v":0},{"$f":"'Dairy Miscellaneous'!AE19","v":0}]
[{"$f":"'Cow Housing'!$C$6","v":"C-3333"},{"$f":"$B$30","v":0},{"$f":"$C$30","v":2},{"$f":"$D$30","v":14},96184,null,{"$f":"'Dairy Miscellaneous'!AD17","v":0},{"$f":"'Dairy Miscellaneous'!AE17","v":0}]
[{"$f":"'Cow Housing'!$C$6","v":"C-3333"},{"$f":"$B$30","v":0},{"$f":"$C$30","v":2},{"$f":"$D$30","v":14},98828,null,{"$f":"'Dairy Miscellaneous'!AD43","v":0},{"$f":"'Dairy Miscellaneous'!AE43","v":0}]
[{"$f":"'Cow Housing'!$C$6","v":"C-3333"},{"$f":"$B$30","v":0},{"$f":"$C$30","v":2},{"$f":"$D$30","v":14},100414,null,{"$f":"'Dairy Miscellaneous'!AD37","v":0},{"$f":"'Dairy Miscellaneous'!AE37","v":0}]
[{"$f":"'Cow Housing'!$C$6","v":"C-3333"},{"$f":"$B$30","v":0},{"$f":"$C$30","v":2},{"$f":"$D$30","v":14},100425,null,{"$f":"'Dairy Miscellaneous'!AD46","v":0},{"$f":"'Dairy Miscellaneous'!AE46","v":0}]
[{"$f":"'Cow Housing'!$C$6","v":"C-3333"},{"$f":"$B$30","v":0},{"$f":"$C$30","v":2},{"$f":"$D$30","v":14},100447,null,{"$f":"'Dairy Miscellaneous'!AD27","v":0},{"$f":"'Dairy Miscellaneous'!AE27","v":0}]
[{"$f":"'Cow Housing'!$C$6","v":"C-3333"},{"$f":"$B$30","v":0},{"$f":"$C$30","v":2},{"$f":"$D$30","v":14},106467,null,{"$f":"'Dairy Miscellaneous'!AD23","v":0},{"$f":"'Dairy Miscellaneous'!AE23","v":0}]
[{"$f":"'Cow Housing'!$C$6","v":"C-3333"},{"$f":"$B$30","v":0},{"$f":"$C$30","v":2},{"$f":"$D$30","v":14},106934,null,{"$f":"'Dairy Miscellaneous'!AD38","v":0},{"$f":"'Dairy Miscellaneous'!AE38","v":0}]
[{"$f":"'Cow Housing'!$C$6","v":"C-3333"},{"$f":"$B$30","v":0},{"$f":"$C$30","v":2},{"$f":"$D$30","v":14},107062,null,{"$f":"'Dairy Miscellaneous'!AD39","v":0},{"$f":"'Dairy Miscellaneous'!AE39","v":0}]
[{"$f":"'Cow Housing'!$C$6","v":"C-3333"},{"$f":"$B$30","v":0},{"$f":"$C$30","v":2},{"$f":"$D$30","v":14},107131,null,{"$f":"'Dairy Miscellaneous'!AD25","v":0},{"$f":"'Dairy Miscellaneous'!AE25","v":0}]
[{"$f":"'Cow Housing'!$C$6","v":"C-3333"},{"$f":"$B$30","v":0},{"$f":"$C$30","v":2},{"$f":"$D$30","v":14},108054,null,{"$f":"'Dairy Miscellaneous'!AD50","v":0},{"$f":"'Dairy Miscellaneous'!AE50","v":0}]
[{"$f":"'Cow Housing'!$C$6","v":"C-3333"},{"$f":"$B$30","v":0},{"$f":"$C$30","v":2},{"$f":"$D$30","v":14},108101,null,{"$f":"'Dairy Miscellaneous'!AD45","v":0},{"$f":"'Dairy Miscellaneous'!AE45","v":0}]
[{"$f":"'Cow Housing'!$C$6","v":"C-3333"},{"$f":"$B$30","v":0},{"$f":"$C$30","v":2},{"$f":"$D$30","v":14},108883,null,{"$f":"'Dairy Miscellaneous'!AD48","v":0},{"$f":"'Dairy Miscellaneous'!AE48","v":0}]
[{"$f":"'Cow Housing'!$C$6","v":"C-3333"},{"$f":"$B$30","v":0},{"$f":"$C$30","v":2},{"$f":"$D$30","v":14},108907,null,{"$f":"'Dairy Miscellaneous'!AD31","v":0},{"$f":"'Dairy Miscellaneous'!AE31","v":0}]
[{"$f":"'Cow Housing'!$C$6","v":"C-3333"},{"$f":"$B$30","v":0},{"$f":"$C$30","v":2},{"$f":"$D$30","v":14},110543,null,{"$f":"'Dairy Miscellaneous'!AD41","v":0},{"$f":"'Dairy Miscellaneous'!AE41","v":0}]
[{"$f":"'Cow Housing'!$C$6","v":"C-3333"},{"$f":"$B$30","v":0},{"$f":"$C$30","v":2},{"$f":"$D$30","v":14},110827,null,{"$f":"'Dairy Miscellaneous'!AD35","v":0},{"$f":"'Dairy Miscellaneous'!AE35","v":0}]
[{"$f":"'Cow Housing'!$C$6","v":"C-3333"},{"$f":"$B$30","v":0},{"$f":"$C$30","v":2},{"$f":"$D$30","v":14},120821,null,{"$f":"'Dairy Miscellaneous'!AD18","v":0},{"$f":"'Dairy Miscellaneous'!AE18","v":0}]
[{"$f":"'Cow Housing'!$C$6","v":"C-3333"},{"$f":"$B$30","v":0},{"$f":"$C$30","v":2},{"$f":"$D$30","v":14},123728,null,{"$f":"'Dairy Miscellaneous'!AD28","v":0},{"$f":"'Dairy Miscellaneous'!AE28","v":0}]
[{"$f":"'Cow Housing'!$C$6","v":"C-3333"},{"$f":"$B$30","v":0},{"$f":"$C$30","v":2},{"$f":"$D$30","v":14},123911,null,{"$f":"'Dairy Miscellaneous'!AD22","v":0},{"$f":"'Dairy Miscellaneous'!AE22","v":0}]
[{"$f":"'Cow Housing'!$C$6","v":"C-3333"},{"$f":"$B$30","v":0},{"$f":"$C$30","v":2},{"$f":"$D$30","v":14},541731,null,{"$f":"'Dairy Miscellaneous'!AD21","v":0},{"$f":"'Dairy Miscellaneous'!AE21","v":0}]
[{"$f":"'Cow Housing'!$C$6","v":"C-3333"},{"$f":"$B$30","v":0},{"$f":"$C$30","v":2},{"$f":"$D$30","v":14},764410,null,{"$f":"'Dairy Miscellaneous'!AD47","v":0},{"$f":"'Dairy Miscellaneous'!AE47","v":0}]
[{"$f":"'Cow Housing'!$C$6","v":"C-3333"},{"$f":"$B$30","v":0},{"$f":"$C$30","v":2},{"$f":"$D$30","v":14},1330207,null,{"$f":"'Dairy Miscellaneous'!AD51","v":0},{"$f":"'Dairy Miscellaneous'!AE51","v":0}]
[{"$f":"'Cow Housing'!$C$6","v":"C-3333"},{"$f":"$B$30","v":0},{"$f":"$C$30","v":2},{"$f":"$D$30","v":14},4170303,null,{"$f":"'Dairy Miscellaneous'!AD34","v":0},{"$f":"'Dairy Miscellaneous'!AE34","v":0}]
[{"$f":"'Cow Housing'!$C$6","v":"C-3333"},{"$f":"$B$30","v":0},{"$f":"$C$30","v":2},{"$f":"$D$30","v":14},7429905,null,{"$f":"'Livestock PM10'!AD14","v":0},{"$f":"'Livestock PM10'!AE14","v":0}]
[{"$f":"'Cow Housing'!$C$6","v":"C-3333"},{"$f":"$B$30","v":0},{"$f":"$C$30","v":2},{"$f":"$D$30","v":14},7439921,null,{"$f":"'Livestock PM10'!AD22","v":0},{"$f":"'Livestock PM10'!AE22","v":0}]
[{"$f":"'Cow Housing'!$C$6","v":"C-3333"},{"$f":"$B$30","v":0},{"$f":"$C$30","v":2},{"$f":"$D$30","v":14},7439965,null,{"$f":"'Livestock PM10'!AD23","v":0},{"$f":"'Livestock PM10'!AE23","v":0}]
[{"$f":"'Cow Housing'!$C$6","v":"C-3333"},{"$f":"$B$30","v":0},{"$f":"$C$30","v":2},{"$f":"$D$30","v":14},7439976,null,{"$f":"'Livestock PM10'!AD24","v":0},{"$f":"'Livestock PM10'!AE24","v":0}]
[{"$f":"'Cow Housing'!$C$6","v":"C-3333"},{"$f":"$B$30","v":0},{"$f":"$C$30","v":2},{"$f":"$D$30","v":14},7440020,null,{"$f":"'Livestock PM10'!AD25","v":0},{"$f":"'Livestock PM10'!AE25","v":0}]
[{"$f":"'Cow Housing'!$C$6","v":"C-3333"},{"$f":"$B$30","v":0},{"$f":"$C$30","v":2},{"$f":"$D$30","v":14},7440360,null,{"$f":"'Livestock PM10'!AD15","v":0},{"$f":"'Livestock PM10'!AE15","v":0}]
[{"$f":"'Cow Housing'!$C$6","v":"C-3333"},{"$f":"$B$30","v":0},{"$f":"$C$30","v":2},{"$f":"$D$30","v":14},7440382,null,{"$f":"'Livestock PM10'!AD16","v":0},{"$f":"'Livestock PM10'!AE16","v":0}]
[{"$f":"'Cow Housing'!$C$6","v":"C-3333"},{"$f":"$B$30","v":0},{"$f":"$C$30","v":2},{"$f":"$D$30","v":14},7440393,null,{"$f":"'Livestock PM10'!AD17","v":0},{"$f":"'Livestock PM10'!AE17","v":0}]
[{"$f":"'Cow Housing'!$C$6","v":"C-3333"},{"$f":"$B$30","v":0},{"$f":"$C$30","v":2},{"$f":"$D$30","v":14},7440473,null,{"$f":"'Livestock PM10'!AD19","v":0},{"$f":"'Livestock PM10'!AE19","v":0}]
[{"$f":"'Cow Housing'!$C$6","v":"C-3333"},{"$f":"$B$30","v":0},{"$f":"$C$30","v":2},{"$f":"$D$30","v":14},7440508,null,{"$f":"'Livestock PM10'!AD20","v":0},{"$f":"'Livestock PM10'!AE20","v":0}]
[{"$f":"'Cow Housing'!$C$6","v":"C-3333"},{"$f":"$B$30","v":0},{"$f":"$C$30","v":2},{"$f":"$D$30","v":14},7440622,null,{"$f":"'Livestock PM10'!AD29","v":0},{"$f":"'Livestock PM10'!AE29","v":0}]
[{"$f":"'Cow Housing'!$C$6","v":"C-3333"},{"$f":"$B$30","v":0},{"$f":"$C$30","v":2},{"$f":"$D$30","v":14},7440666,null,{"$f":"'Livestock PM10'!AD30","v":0},{"$f":"'Livestock PM10'!AE30","v":0}]
[{"$f":"'Cow Housing'!$C$6","v":"C-3333"},{"$f":"$B$30","v":0},{"$f":"$C$30","v":2},{"$f":"$D$30","v":14},7664417,null,{"$f":"'Livestock PM10'!AD31","v":0},{"$f":"'Livestock PM10'!AE31","v":0}]
[{"$f":"'Cow Housing'!$C$6","v":"C-3333"},{"$f":"$B$30","v":0},{"$f":"$C$30","v":2},{"$f":"$D$30","v":14},7723140,null,{"$f":"'Livestock PM10'!AD26","v":0},{"$f":"'Livestock PM10'!AE26","v":0}]
[{"$f":"'Cow Housing'!$C$6","v":"C-3333"},{"$f":"$B$30","v":0},{"$f":"$C$30","v":2},{"$f":"$D$30","v":14},7726956,null,{"$f":"'Livestock PM10'!AD18","v":0},{"$f":"'Livestock PM10'!AE18","v":0}]
[{"$f":"'Cow Housing'!$C$6","v":"C-3333"},{"$f":"$B$30","v":0},{"$f":"$C$30","v":2},{"$f":"$D$30","v":14},7782492,null,{"$f":"'Livestock PM10'!AD27","v":0},{"$f":"'Livestock PM10'!AE27","v":0}]
[{"$f":"'Cow Housing'!$C$6","v":"C-3333"},{"$f":"$B$30","v":0},{"$f":"$C$30","v":2},{"$f":"$D$30","v":14},18540299,null,{"$f":"'Livestock PM10'!AD21","v":0},{"$f":"'Livestock PM10'!AE21","v":0}]
[{"$f":"'Cow Housing'!$C$6","v":"C-3333"},{"$f":"$B$31","v":0},{"$f":"$C$31","v":2},{"$f":"$D$31","v":15},9960,null,{"$f":"'Livestock PM10'!AF28","v":0},{"$f":"'Livestock PM10'!AG28","v":0}]
[{"$f":"'Cow Housing'!$C$6","v":"C-3333"},{"$f":"$B$31","v":0},{"$f":"$C$31","v":2},{"$f":"$D$31","v":15},50000,null,{"$f":"'Dairy Miscellaneous'!AF40","v":0},{"$f":"'Dairy Miscellaneous'!AG40","v":0}]
[{"$f":"'Cow Housing'!$C$6","v":"C-3333"},{"$f":"$B$31","v":0},{"$f":"$C$31","v":2},{"$f":"$D$31","v":15},56235,null,{"$f":"'Dairy Miscellaneous'!AF30","v":0},{"$f":"'Dairy Miscellaneous'!AG30","v":0}]
[{"$f":"'Cow Housing'!$C$6","v":"C-3333"},{"$f":"$B$31","v":0},{"$f":"$C$31","v":2},{"$f":"$D$31","v":15},67630,null,{"$f":"'Dairy Miscellaneous'!AF42","v":0},{"$f":"'Dairy Miscellaneous'!AG42","v":0}]
[{"$f":"'Cow Housing'!$C$6","v":"C-3333"},{"$f":"$B$31","v":0},{"$f":"$C$31","v":2},{"$f":"$D$31","v":15},67663,null,{"$f":"'Dairy Miscellaneous'!AF32","v":0},{"$f":"'Dairy Miscellaneous'!AG32","v":0}]
[{"$f":"'Cow Housing'!$C$6","v":"C-3333"},{"$f":"$B$31","v":0},{"$f":"$C$31","v":2},{"$f":"$D$31","v":15},71432,null,{"$f":"'Dairy Miscellaneous'!AF26","v":0},{"$f":"'Dairy Miscellaneous'!AG26","v":0}]
[{"$f":"'Cow Housing'!$C$6","v":"C-3333"},{"$f":"$B$31","v":0},{"$f":"$C$31","v":2},{"$f":"$D$31","v":15},74873,null,{"$f":"'Dairy Miscellaneous'!AF33","v":0},{"$f":"'Dairy Miscellaneous'!AG33","v":0}]
[{"$f":"'Cow Housing'!$C$6","v":"C-3333"},{"$f":"$B$31","v":0},{"$f":"$C$31","v":2},{"$f":"$D$31","v":15},75003,null,{"$f":"'Dairy Miscellaneous'!AF36","v":0},{"$f":"'Dairy Miscellaneous'!AG36","v":0}]
[{"$f":"'Cow Housing'!$C$6","v":"C-3333"},{"$f":"$B$31","v":0},{"$f":"$C$31","v":2},{"$f":"$D$31","v":15},75070,null,{"$f":"'Dairy Miscellaneous'!AF24","v":0},{"$f":"'Dairy Miscellaneous'!AG24","v":0}]
[{"$f":"'Cow Housing'!$C$6","v":"C-3333"},{"$f":"$B$31","v":0},{"$f":"$C$31","v":2},{"$f":"$D$31","v":15},75150,null,{"$f":"'Dairy Miscellaneous'!AF29","v":0},{"$f":"'Dairy Miscellaneous'!AG29","v":0}]
[{"$f":"'Cow Housing'!$C$6","v":"C-3333"},{"$f":"$B$31","v":0},{"$f":"$C$31","v":2},{"$f":"$D$31","v":15},75694,null,{"$f":"'Dairy Miscellaneous'!AF49","v":0},{"$f":"'Dairy Miscellaneous'!AG49","v":0}]
[{"$f":"'Cow Housing'!$C$6","v":"C-3333"},{"$f":"$B$31","v":0},{"$f":"$C$31","v":2},{"$f":"$D$31","v":15},78933,null,{"$f":"'Dairy Miscellaneous'!AF44","v":0},{"$f":"'Dairy Miscellaneous'!AG44","v":0}]
[{"$f":"'Cow Housing'!$C$6","v":"C-3333"},{"$f":"$B$31","v":0},{"$f":"$C$31","v":2},{"$f":"$D$31","v":15},79005,null,{"$f":"'Dairy Miscellaneous'!AF16","v":0},{"$f":"'Dairy Miscellaneous'!AG16","v":0}]
[{"$f":"'Cow Housing'!$C$6","v":"C-3333"},{"$f":"$B$31","v":0},{"$f":"$C$31","v":2},{"$f":"$D$31","v":15},79345,null,{"$f":"'Dairy Miscellaneous'!AF15","v":0},{"$f":"'Dairy Miscellaneous'!AG15","v":0}]
[{"$f":"'Cow Housing'!$C$6","v":"C-3333"},{"$f":"$B$31","v":0},{"$f":"$C$31","v":2},{"$f":"$D$31","v":15},95501,null,{"$f":"'Dairy Miscellaneous'!AF20","v":0},{"$f":"'Dairy Miscellaneous'!AG20","v":0}]
[{"$f":"'Cow Housing'!$C$6","v":"C-3333"},{"$f":"$B$31","v":0},{"$f":"$C$31","v":2},{"$f":"$D$31","v":15},96128,null,{"$f":"'Dairy Miscellaneous'!AF19","v":0},{"$f":"'Dairy Miscellaneous'!AG19","v":0}]
[{"$f":"'Cow Housing'!$C$6","v":"C-3333"},{"$f":"$B$31","v":0},{"$f":"$C$31","v":2},{"$f":"$D$31","v":15},96184,null,{"$f":"'Dairy Miscellaneous'!AF17","v":0},{"$f":"'Dairy Miscellaneous'!AG17","v":0}]
[{"$f":"'Cow Housing'!$C$6","v":"C-3333"},{"$f":"$B$31","v":0},{"$f":"$C$31","v":2},{"$f":"$D$31","v":15},98828,null,{"$f":"'Dairy Miscellaneous'!AF43","v":0},{"$f":"'Dairy Miscellaneous'!AG43","v":0}]
[{"$f":"'Cow Housing'!$C$6","v":"C-3333"},{"$f":"$B$31","v":0},{"$f":"$C$31","v":2},{"$f":"$D$31","v":15},100414,null,{"$f":"'Dairy Miscellaneous'!AF37","v":0},{"$f":"'Dairy Miscellaneous'!AG37","v":0}]
[{"$f":"'Cow Housing'!$C$6","v":"C-3333"},{"$f":"$B$31","v":0},{"$f":"$C$31","v":2},{"$f":"$D$31","v":15},100425,null,{"$f":"'Dairy Miscellaneous'!AF46","v":0},{"$f":"'Dairy Miscellaneous'!AG46","v":0}]
[{"$f":"'Cow Housing'!$C$6","v":"C-3333"},{"$f":"$B$31","v":0},{"$f":"$C$31","v":2},{"$f":"$D$31","v":15},100447,null,{"$f":"'Dairy Miscellaneous'!AF27","v":0},{"$f":"'Dairy Miscellaneous'!AG27","v":0}]
[{"$f":"'Cow Housing'!$C$6","v":"C-3333"},{"$f":"$B$31","v":0},{"$f":"$C$31","v":2},{"$f":"$D$31","v":15},106467,null,{"$f":"'Dairy Miscellaneous'!AF23","v":0},{"$f":"'Dairy Miscellaneous'!AG23","v":0}]
[{"$f":"'Cow Housing'!$C$6","v":"C-3333"},{"$f":"$B$31","v":0},{"$f":"$C$31","v":2},{"$f":"$D$31","v":15},106934,null,{"$f":"'Dairy Miscellaneous'!AF38","v":0},{"$f":"'Dairy Miscellaneous'!AG38","v":0}]
[{"$f":"'Cow Housing'!$C$6","v":"C-3333"},{"$f":"$B$31","v":0},{"$f":"$C$31","v":2},{"$f":"$D$31","v":15},107062,null,{"$f":"'Dairy Miscellaneous'!AF39","v":0},{"$f":"'Dairy Miscellaneous'!AG39","v":0}]
[{"$f":"'Cow Housing'!$C$6","v":"C-3333"},{"$f":"$B$31","v":0},{"$f":"$C$31","v":2},{"$f":"$D$31","v":15},107131,null,{"$f":"'Dairy Miscellaneous'!AF25","v":0},{"$f":"'Dairy Miscellaneous'!AG25","v":0}]
[{"$f":"'Cow Housing'!$C$6","v":"C-3333"},{"$f":"$B$31","v":0},{"$f":"$C$31","v":2},{"$f":"$D$31","v":15},108054,null,{"$f":"'Dairy Miscellaneous'!AF50","v":0},{"$f":"'Dairy Miscellaneous'!AG50","v":0}]
[{"$f":"'Cow Housing'!$C$6","v":"C-3333"},{"$f":"$B$31","v":0},{"$f":"$C$31","v":2},{"$f":"$D$31","v":15},108101,null,{"$f":"'Dairy Miscellaneous'!AF45","v":0},{"$f":"'Dairy Miscellaneous'!AG45","v":0}]
[{"$f":"'Cow Housing'!$C$6","v":"C-3333"},{"$f":"$B$31","v":0},{"$f":"$C$31","v":2},{"$f":"$D$31","v":15},108883,null,{"$f":"'Dairy Miscellaneous'!AF48","v":0},{"$f":"'Dairy Miscellaneous'!AG48","v":0}]
[{"$f":"'Cow Housing'!$C$6","v":"C-3333"},{"$f":"$B$31","v":0},{"$f":"$C$31","v":2},{"$f":"$D$31","v":15},108907,null,{"$f":"'Dairy Miscellaneous'!AF31","v":0},{"$f":"'Dairy Miscellaneous'!AG31","v":0}]
[{"$f":"'Cow Housing'!$C$6","v":"C-3333"},{"$f":"$B$31","v":0},{"$f":"$C$31","v":2},{"$f":"$D$31","v":15},110543,null,{"$f":"'Dairy Miscellaneous'!AF41","v":0},{"$f":"'Dairy Miscellaneous'!AG41","v":0}]
[{"$f":"'Cow Housing'!$C$6","v":"C-3333"},{"$f":"$B$31","v":0},{"$f":"$C$31","v":2},{"$f":"$D$31","v":15},110827,null,{"$f":"'Dairy Miscellaneous'!AF35","v":0},{"$f":"'Dairy Miscellaneous'!AG35","v":0}]
[{"$f":"'Cow Housing'!$C$6","v":"C-3333"},{"$f":"$B$31","v":0},{"$f":"$C$31","v":2},{"$f":"$D$31","v":15},120821,null,{"$f":"'Dairy Miscellaneous'!AF18","v":0},{"$f":"'Dairy Miscellaneous'!AG18","v":0}]
[{"$f":"'Cow Housing'!$C$6","v":"C-3333"},{"$f":"$B$31","v":0},{"$f":"$C$31","v":2},{"$f":"$D$31","v":15},123728,null,{"$f":"'Dairy Miscellaneous'!AF28","v":0},{"$f":"'Dairy Miscellaneous'!AG28","v":0}]
[{"$f":"'Cow Housing'!$C$6","v":"C-3333"},{"$f":"$B$31","v":0},{"$f":"$C$31","v":2},{"$f":"$D$31","v":15},123911,null,{"$f":"'Dairy Miscellaneous'!AF22","v":0},{"$f":"'Dairy Miscellaneous'!AG22","v":0}]
[{"$f":"'Cow Housing'!$C$6","v":"C-3333"},{"$f":"$B$31","v":0},{"$f":"$C$31","v":2},{"$f":"$D$31","v":15},541731,null,{"$f":"'Dairy Miscellaneous'!AF21","v":0},{"$f":"'Dairy Miscellaneous'!AG21","v":0}]
[{"$f":"'Cow Housing'!$C$6","v":"C-3333"},{"$f":"$B$31","v":0},{"$f":"$C$31","v":2},{"$f":"$D$31","v":15},764410,null,{"$f":"'Dairy Miscellaneous'!AF47","v":0},{"$f":"'Dairy Miscellaneous'!AG47","v":0}]
[{"$f":"'Cow Housing'!$C$6","v":"C-3333"},{"$f":"$B$31","v":0},{"$f":"$C$31","v":2},{"$f":"$D$31","v":15},1330207,null,{"$f":"'Dairy Miscellaneous'!AF51","v":0},{"$f":"'Dairy Miscellaneous'!AG51","v":0}]
[{"$f":"'Cow Housing'!$C$6","v":"C-3333"},{"$f":"$B$31","v":0},{"$f":"$C$31","v":2},{"$f":"$D$31","v":15},4170303,null,{"$f":"'Dairy Miscellaneous'!AF34","v":0},{"$f":"'Dairy Miscellaneous'!AG34","v":0}]
[{"$f":"'Cow Housing'!$C$6","v":"C-3333"},{"$f":"$B$31","v":0},{"$f":"$C$31","v":2},{"$f":"$D$31","v":15},7429905,null,{"$f":"'Livestock PM10'!AF14","v":0},{"$f":"'Livestock PM10'!AG14","v":0}]
[{"$f":"'Cow Housing'!$C$6","v":"C-3333"},{"$f":"$B$31","v":0},{"$f":"$C$31","v":2},{"$f":"$D$31","v":15},7439921,null,{"$f":"'Livestock PM10'!AF22","v":0},{"$f":"'Livestock PM10'!AG22","v":0}]
[{"$f":"'Cow Housing'!$C$6","v":"C-3333"},{"$f":"$B$31","v":0},{"$f":"$C$31","v":2},{"$f":"$D$31","v":15},7439965,null,{"$f":"'Livestock PM10'!AF23","v":0},{"$f":"'Livestock PM10'!AG23","v":0}]
[{"$f":"'Cow Housing'!$C$6","v":"C-3333"},{"$f":"$B$31","v":0},{"$f":"$C$31","v":2},{"$f":"$D$31","v":15},7439976,null,{"$f":"'Livestock PM10'!AF24","v":0},{"$f":"'Livestock PM10'!AG24","v":0}]
[{"$f":"'Cow Housing'!$C$6","v":"C-3333"},{"$f":"$B$31","v":0},{"$f":"$C$31","v":2},{"$f":"$D$31","v":15},7440020,null,{"$f":"'Livestock PM10'!AF25","v":0},{"$f":"'Livestock PM10'!AG25","v":0}]
[{"$f":"'Cow Housing'!$C$6","v":"C-3333"},{"$f":"$B$31","v":0},{"$f":"$C$31","v":2},{"$f":"$D$31","v":15},7440360,null,{"$f":"'Livestock PM10'!AF15","v":0},{"$f":"'Livestock PM10'!AG15","v":0}]
[{"$f":"'Cow Housing'!$C$6","v":"C-3333"},{"$f":"$B$31","v":0},{"$f":"$C$31","v":2},{"$f":"$D$31","v":15},7440382,null,{"$f":"'Livestock PM10'!AF16","v":0},{"$f":"'Livestock PM10'!AG16","v":0}]
[{"$f":"'Cow Housing'!$C$6","v":"C-3333"},{"$f":"$B$31","v":0},{"$f":"$C$31","v":2},{"$f":"$D$31","v":15},7440393,null,{"$f":"'Livestock PM10'!AF17","v":0},{"$f":"'Livestock PM10'!AG17","v":0}]
[{"$f":"'Cow Housing'!$C$6","v":"C-3333"},{"$f":"$B$31","v":0},{"$f":"$C$31","v":2},{"$f":"$D$31","v":15},7440473,null,{"$f":"'Livestock PM10'!AF19","v":0},{"$f":"'Livestock PM10'!AG19","v":0}]
[{"$f":"'Cow Housing'!$C$6","v":"C-3333"},{"$f":"$B$31","v":0},{"$f":"$C$31","v":2},{"$f":"$D$31","v":15},7440508,null,{"$f":"'Livestock PM10'!AF20","v":0},{"$f":"'Livestock PM10'!AG20","v":0}]
[{"$f":"'Cow Housing'!$C$6","v":"C-3333"},{"$f":"$B$31","v":0},{"$f":"$C$31","v":2},{"$f":"$D$31","v":15},7440622,null,{"$f":"'Livestock PM10'!AF29","v":0},{"$f":"'Livestock PM10'!AG29","v":0}]
[{"$f":"'Cow Housing'!$C$6","v":"C-3333"},{"$f":"$B$31","v":0},{"$f":"$C$31","v":2},{"$f":"$D$31","v":15},7440666,null,{"$f":"'Livestock PM10'!AF30","v":0},{"$f":"'Livestock PM10'!AG30","v":0}]
[{"$f":"'Cow Housing'!$C$6","v":"C-3333"},{"$f":"$B$31","v":0},{"$f":"$C$31","v":2},{"$f":"$D$31","v":15},7664417,null,{"$f":"'Livestock PM10'!AF31","v":0},{"$f":"'Livestock PM10'!AG31","v":0}]
[{"$f":"'Cow Housing'!$C$6","v":"C-3333"},{"$f":"$B$31","v":0},{"$f":"$C$31","v":2},{"$f":"$D$31","v":15},7723140,null,{"$f":"'Livestock PM10'!AF26","v":0},{"$f":"'Livestock PM10'!AG26","v":0}]
[{"$f":"'Cow Housing'!$C$6","v":"C-3333"},{"$f":"$B$31","v":0},{"$f":"$C$31","v":2},{"$f":"$D$31","v":15},7726956,null,{"$f":"'Livestock PM10'!AF18","v":0},{"$f":"'Livestock PM10'!AG18","v":0}]
[{"$f":"'Cow Housing'!$C$6","v":"C-3333"},{"$f":"$B$31","v":0},{"$f":"$C$31","v":2},{"$f":"$D$31","v":15},7782492,null,{"$f":"'Livestock PM10'!AF27","v":0},{"$f":"'Livestock PM10'!AG27","v":0}]
[{"$f":"'Cow Housing'!$C$6","v":"C-3333"},{"$f":"$B$31","v":0},{"$f":"$C$31","v":2},{"$f":"$D$31","v":15},18540299,null,{"$f":"'Livestock PM10'!AF21","v":0},{"$f":"'Livestock PM10'!AG21","v":0}]
[{"$f":"'Cow Housing'!$C$6","v":"C-3333"},{"$f":"$B$32","v":0},{"$f":"$C$32","v":2},{"$f":"$D$32","v":16},9960,null,{"$f":"'Livestock PM10'!AH28","v":0},{"$f":"'Livestock PM10'!AI28","v":0}]
[{"$f":"'Cow Housing'!$C$6","v":"C-3333"},{"$f":"$B$32","v":0},{"$f":"$C$32","v":2},{"$f":"$D$32","v":16},50000,null,{"$f":"'Dairy Miscellaneous'!AH40","v":0},{"$f":"'Dairy Miscellaneous'!AI40","v":0}]
[{"$f":"'Cow Housing'!$C$6","v":"C-3333"},{"$f":"$B$32","v":0},{"$f":"$C$32","v":2},{"$f":"$D$32","v":16},56235,null,{"$f":"'Dairy Miscellaneous'!AH30","v":0},{"$f":"'Dairy Miscellaneous'!AI30","v":0}]
[{"$f":"'Cow Housing'!$C$6","v":"C-3333"},{"$f":"$B$32","v":0},{"$f":"$C$32","v":2},{"$f":"$D$32","v":16},67630,null,{"$f":"'Dairy Miscellaneous'!AH42","v":0},{"$f":"'Dairy Miscellaneous'!AI42","v":0}]
[{"$f":"'Cow Housing'!$C$6","v":"C-3333"},{"$f":"$B$32","v":0},{"$f":"$C$32","v":2},{"$f":"$D$32","v":16},67663,null,{"$f":"'Dairy Miscellaneous'!AH32","v":0},{"$f":"'Dairy Miscellaneous'!AI32","v":0}]
[{"$f":"'Cow Housing'!$C$6","v":"C-3333"},{"$f":"$B$32","v":0},{"$f":"$C$32","v":2},{"$f":"$D$32","v":16},71432,null,{"$f":"'Dairy Miscellaneous'!AH26","v":0},{"$f":"'Dairy Miscellaneous'!AI26","v":0}]
[{"$f":"'Cow Housing'!$C$6","v":"C-3333"},{"$f":"$B$32","v":0},{"$f":"$C$32","v":2},{"$f":"$D$32","v":16},74873,null,{"$f":"'Dairy Miscellaneous'!AH33","v":0},{"$f":"'Dairy Miscellaneous'!AI33","v":0}]
[{"$f":"'Cow Housing'!$C$6","v":"C-3333"},{"$f":"$B$32","v":0},{"$f":"$C$32","v":2},{"$f":"$D$32","v":16},75003,null,{"$f":"'Dairy Miscellaneous'!AH36","v":0},{"$f":"'Dairy Miscellaneous'!AI36","v":0}]
[{"$f":"'Cow Housing'!$C$6","v":"C-3333"},{"$f":"$B$32","v":0},{"$f":"$C$32","v":2},{"$f":"$D$32","v":16},75070,null,{"$f":"'Dairy Miscellaneous'!AH24","v":0},{"$f":"'Dairy Miscellaneous'!AI24","v":0}]
[{"$f":"'Cow Housing'!$C$6","v":"C-3333"},{"$f":"$B$32","v":0},{"$f":"$C$32","v":2},{"$f":"$D$32","v":16},75150,null,{"$f":"'Dairy Miscellaneous'!AH29","v":0},{"$f":"'Dairy Miscellaneous'!AI29","v":0}]
[{"$f":"'Cow Housing'!$C$6","v":"C-3333"},{"$f":"$B$32","v":0},{"$f":"$C$32","v":2},{"$f":"$D$32","v":16},75694,null,{"$f":"'Dairy Miscellaneous'!AH49","v":0},{"$f":"'Dairy Miscellaneous'!AI49","v":0}]
[{"$f":"'Cow Housing'!$C$6","v":"C-3333"},{"$f":"$B$32","v":0},{"$f":"$C$32","v":2},{"$f":"$D$32","v":16},78933,null,{"$f":"'Dairy Miscellaneous'!AH44","v":0},{"$f":"'Dairy Miscellaneous'!AI44","v":0}]
[{"$f":"'Cow Housing'!$C$6","v":"C-3333"},{"$f":"$B$32","v":0},{"$f":"$C$32","v":2},{"$f":"$D$32","v":16},79005,null,{"$f":"'Dairy Miscellaneous'!AH16","v":0},{"$f":"'Dairy Miscellaneous'!AI16","v":0}]
[{"$f":"'Cow Housing'!$C$6","v":"C-3333"},{"$f":"$B$32","v":0},{"$f":"$C$32","v":2},{"$f":"$D$32","v":16},79345,null,{"$f":"'Dairy Miscellaneous'!AH15","v":0},{"$f":"'Dairy Miscellaneous'!AI15","v":0}]
[{"$f":"'Cow Housing'!$C$6","v":"C-3333"},{"$f":"$B$32","v":0},{"$f":"$C$32","v":2},{"$f":"$D$32","v":16},95501,null,{"$f":"'Dairy Miscellaneous'!AH20","v":0},{"$f":"'Dairy Miscellaneous'!AI20","v":0}]
[{"$f":"'Cow Housing'!$C$6","v":"C-3333"},{"$f":"$B$32","v":0},{"$f":"$C$32","v":2},{"$f":"$D$32","v":16},96128,null,{"$f":"'Dairy Miscellaneous'!AH19","v":0},{"$f":"'Dairy Miscellaneous'!AI19","v":0}]
[{"$f":"'Cow Housing'!$C$6","v":"C-3333"},{"$f":"$B$32","v":0},{"$f":"$C$32","v":2},{"$f":"$D$32","v":16},96184,null,{"$f":"'Dairy Miscellaneous'!AH17","v":0},{"$f":"'Dairy Miscellaneous'!AI17","v":0}]
[{"$f":"'Cow Housing'!$C$6","v":"C-3333"},{"$f":"$B$32","v":0},{"$f":"$C$32","v":2},{"$f":"$D$32","v":16},98828,null,{"$f":"'Dairy Miscellaneous'!AH43","v":0},{"$f":"'Dairy Miscellaneous'!AI43","v":0}]
[{"$f":"'Cow Housing'!$C$6","v":"C-3333"},{"$f":"$B$32","v":0},{"$f":"$C$32","v":2},{"$f":"$D$32","v":16},100414,null,{"$f":"'Dairy Miscellaneous'!AH37","v":0},{"$f":"'Dairy Miscellaneous'!AI37","v":0}]
[{"$f":"'Cow Housing'!$C$6","v":"C-3333"},{"$f":"$B$32","v":0},{"$f":"$C$32","v":2},{"$f":"$D$32","v":16},100425,null,{"$f":"'Dairy Miscellaneous'!AH46","v":0},{"$f":"'Dairy Miscellaneous'!AI46","v":0}]
[{"$f":"'Cow Housing'!$C$6","v":"C-3333"},{"$f":"$B$32","v":0},{"$f":"$C$32","v":2},{"$f":"$D$32","v":16},100447,null,{"$f":"'Dairy Miscellaneous'!AH27","v":0},{"$f":"'Dairy Miscellaneous'!AI27","v":0}]
[{"$f":"'Cow Housing'!$C$6","v":"C-3333"},{"$f":"$B$32","v":0},{"$f":"$C$32","v":2},{"$f":"$D$32","v":16},106467,null,{"$f":"'Dairy Miscellaneous'!AH23","v":0},{"$f":"'Dairy Miscellaneous'!AI23","v":0}]
[{"$f":"'Cow Housing'!$C$6","v":"C-3333"},{"$f":"$B$32","v":0},{"$f":"$C$32","v":2},{"$f":"$D$32","v":16},106934,null,{"$f":"'Dairy Miscellaneous'!AH38","v":0},{"$f":"'Dairy Miscellaneous'!AI38","v":0}]
[{"$f":"'Cow Housing'!$C$6","v":"C-3333"},{"$f":"$B$32","v":0},{"$f":"$C$32","v":2},{"$f":"$D$32","v":16},107062,null,{"$f":"'Dairy Miscellaneous'!AH39","v":0},{"$f":"'Dairy Miscellaneous'!AI39","v":0}]
[{"$f":"'Cow Housing'!$C$6","v":"C-3333"},{"$f":"$B$32","v":0},{"$f":"$C$32","v":2},{"$f":"$D$32","v":16},107131,null,{"$f":"'Dairy Miscellaneous'!AH25","v":0},{"$f":"'Dairy Miscellaneous'!AI25","v":0}]
[{"$f":"'Cow Housing'!$C$6","v":"C-3333"},{"$f":"$B$32","v":0},{"$f":"$C$32","v":2},{"$f":"$D$32","v":16},108054,null,{"$f":"'Dairy Miscellaneous'!AH50","v":0},{"$f":"'Dairy Miscellaneous'!AI50","v":0}]
[{"$f":"'Cow Housing'!$C$6","v":"C-3333"},{"$f":"$B$32","v":0},{"$f":"$C$32","v":2},{"$f":"$D$32","v":16},108101,null,{"$f":"'Dairy Miscellaneous'!AH45","v":0},{"$f":"'Dairy Miscellaneous'!AI45","v":0}]
[{"$f":"'Cow Housing'!$C$6","v":"C-3333"},{"$f":"$B$32","v":0},{"$f":"$C$32","v":2},{"$f":"$D$32","v":16},108883,null,{"$f":"'Dairy Miscellaneous'!AH48","v":0},{"$f":"'Dairy Miscellaneous'!AI48","v":0}]
[{"$f":"'Cow Housing'!$C$6","v":"C-3333"},{"$f":"$B$32","v":0},{"$f":"$C$32","v":2},{"$f":"$D$32","v":16},108907,null,{"$f":"'Dairy Miscellaneous'!AH31","v":0},{"$f":"'Dairy Miscellaneous'!AI31","v":0}]
[{"$f":"'Cow Housing'!$C$6","v":"C-3333"},{"$f":"$B$32","v":0},{"$f":"$C$32","v":2},{"$f":"$D$32","v":16},110543,null,{"$f":"'Dairy Miscellaneous'!AH41","v":0},{"$f":"'Dairy Miscellaneous'!AI41","v":0}]
[{"$f":"'Cow Housing'!$C$6","v":"C-3333"},{"$f":"$B$32","v":0},{"$f":"$C$32","v":2},{"$f":"$D$32","v":16},110827,null,{"$f":"'Dairy Miscellaneous'!AH35","v":0},{"$f":"'Dairy Miscellaneous'!AI35","v":0}]
[{"$f":"'Cow Housing'!$C$6","v":"C-3333"},{"$f":"$B$32","v":0},{"$f":"$C$32","v":2},{"$f":"$D$32","v":16},120821,null,{"$f":"'Dairy Miscellaneous'!AH18","v":0},{"$f":"'Dairy Miscellaneous'!AI18","v":0}]
[{"$f":"'Cow Housing'!$C$6","v":"C-3333"},{"$f":"$B$32","v":0},{"$f":"$C$32","v":2},{"$f":"$D$32","v":16},123728,null,{"$f":"'Dairy Miscellaneous'!AH28","v":0},{"$f":"'Dairy Miscellaneous'!AI28","v":0}]
[{"$f":"'Cow Housing'!$C$6","v":"C-3333"},{"$f":"$B$32","v":0},{"$f":"$C$32","v":2},{"$f":"$D$32","v":16},123911,null,{"$f":"'Dairy Miscellaneous'!AH22","v":0},{"$f":"'Dairy Miscellaneous'!AI22","v":0}]
[{"$f":"'Cow Housing'!$C$6","v":"C-3333"},{"$f":"$B$32","v":0},{"$f":"$C$32","v":2},{"$f":"$D$32","v":16},541731,null,{"$f":"'Dairy Miscellaneous'!AH21","v":0},{"$f":"'Dairy Miscellaneous'!AI21","v":0}]
[{"$f":"'Cow Housing'!$C$6","v":"C-3333"},{"$f":"$B$32","v":0},{"$f":"$C$32","v":2},{"$f":"$D$32","v":16},764410,null,{"$f":"'Dairy Miscellaneous'!AH47","v":0},{"$f":"'Dairy Miscellaneous'!AI47","v":0}]
[{"$f":"'Cow Housing'!$C$6","v":"C-3333"},{"$f":"$B$32","v":0},{"$f":"$C$32","v":2},{"$f":"$D$32","v":16},1330207,null,{"$f":"'Dairy Miscellaneous'!AH51","v":0},{"$f":"'Dairy Miscellaneous'!AI51","v":0}]
[{"$f":"'Cow Housing'!$C$6","v":"C-3333"},{"$f":"$B$32","v":0},{"$f":"$C$32","v":2},{"$f":"$D$32","v":16},4170303,null,{"$f":"'Dairy Miscellaneous'!AH34","v":0},{"$f":"'Dairy Miscellaneous'!AI34","v":0}]
[{"$f":"'Cow Housing'!$C$6","v":"C-3333"},{"$f":"$B$32","v":0},{"$f":"$C$32","v":2},{"$f":"$D$32","v":16},7429905,null,{"$f":"'Livestock PM10'!AH14","v":0},{"$f":"'Livestock PM10'!AI14","v":0}]
[{"$f":"'Cow Housing'!$C$6","v":"C-3333"},{"$f":"$B$32","v":0},{"$f":"$C$32","v":2},{"$f":"$D$32","v":16},7439921,null,{"$f":"'Livestock PM10'!AH22","v":0},{"$f":"'Livestock PM10'!AI22","v":0}]
[{"$f":"'Cow Housing'!$C$6","v":"C-3333"},{"$f":"$B$32","v":0},{"$f":"$C$32","v":2},{"$f":"$D$32","v":16},7439965,null,{"$f":"'Livestock PM10'!AH23","v":0},{"$f":"'Livestock PM10'!AI23","v":0}]
[{"$f":"'Cow Housing'!$C$6","v":"C-3333"},{"$f":"$B$32","v":0},{"$f":"$C$32","v":2},{"$f":"$D$32","v":16},7439976,null,{"$f":"'Livestock PM10'!AH24","v":0},{"$f":"'Livestock PM10'!AI24","v":0}]
[{"$f":"'Cow Housing'!$C$6","v":"C-3333"},{"$f":"$B$32","v":0},{"$f":"$C$32","v":2},{"$f":"$D$32","v":16},7440020,null,{"$f":"'Livestock PM10'!AH25","v":0},{"$f":"'Livestock PM10'!AI25","v":0}]
[{"$f":"'Cow Housing'!$C$6","v":"C-3333"},{"$f":"$B$32","v":0},{"$f":"$C$32","v":2},{"$f":"$D$32","v":16},7440360,null,{"$f":"'Livestock PM10'!AH15","v":0},{"$f":"'Livestock PM10'!AI15","v":0}]
[{"$f":"'Cow Housing'!$C$6","v":"C-3333"},{"$f":"$B$32","v":0},{"$f":"$C$32","v":2},{"$f":"$D$32","v":16},7440382,null,{"$f":"'Livestock PM10'!AH16","v":0},{"$f":"'Livestock PM10'!AI16","v":0}]
[{"$f":"'Cow Housing'!$C$6","v":"C-3333"},{"$f":"$B$32","v":0},{"$f":"$C$32","v":2},{"$f":"$D$32","v":16},7440393,null,{"$f":"'Livestock PM10'!AH17","v":0},{"$f":"'Livestock PM10'!AI17","v":0}]
[{"$f":"'Cow Housing'!$C$6","v":"C-3333"},{"$f":"$B$32","v":0},{"$f":"$C$32","v":2},{"$f":"$D$32","v":16},7440473,null,{"$f":"'Livestock PM10'!AH19","v":0},{"$f":"'Livestock PM10'!AI19","v":0}]
[{"$f":"'Cow Housing'!$C$6","v":"C-3333"},{"$f":"$B$32","v":0},{"$f":"$C$32","v":2},{"$f":"$D$32","v":16},7440508,null,{"$f":"'Livestock PM10'!AH20","v":0},{"$f":"'Livestock PM10'!AI20","v":0}]
[{"$f":"'Cow Housing'!$C$6","v":"C-3333"},{"$f":"$B$32","v":0},{"$f":"$C$32","v":2},{"$f":"$D$32","v":16},7440622,null,{"$f":"'Livestock PM10'!AH29","v":0},{"$f":"'Livestock PM10'!AI29","v":0}]
[{"$f":"'Cow Housing'!$C$6","v":"C-3333"},{"$f":"$B$32","v":0},{"$f":"$C$32","v":2},{"$f":"$D$32","v":16},7440666,null,{"$f":"'Livestock PM10'!AH30","v":0},{"$f":"'Livestock PM10'!AI30","v":0}]
[{"$f":"'Cow Housing'!$C$6","v":"C-3333"},{"$f":"$B$32","v":0},{"$f":"$C$32","v":2},{"$f":"$D$32","v":16},7664417,null,{"$f":"'Livestock PM10'!AH31","v":0},{"$f":"'Livestock PM10'!AI31","v":0}]
[{"$f":"'Cow Housing'!$C$6","v":"C-3333"},{"$f":"$B$32","v":0},{"$f":"$C$32","v":2},{"$f":"$D$32","v":16},7723140,null,{"$f":"'Livestock PM10'!AH26","v":0},{"$f":"'Livestock PM10'!AI26","v":0}]
[{"$f":"'Cow Housing'!$C$6","v":"C-3333"},{"$f":"$B$32","v":0},{"$f":"$C$32","v":2},{"$f":"$D$32","v":16},7726956,null,{"$f":"'Livestock PM10'!AH18","v":0},{"$f":"'Livestock PM10'!AI18","v":0}]
[{"$f":"'Cow Housing'!$C$6","v":"C-3333"},{"$f":"$B$32","v":0},{"$f":"$C$32","v":2},{"$f":"$D$32","v":16},7782492,null,{"$f":"'Livestock PM10'!AH27","v":0},{"$f":"'Livestock PM10'!AI27","v":0}]
[{"$f":"'Cow Housing'!$C$6","v":"C-3333"},{"$f":"$B$32","v":0},{"$f":"$C$32","v":2},{"$f":"$D$32","v":16},18540299,null,{"$f":"'Livestock PM10'!AH21","v":0},{"$f":"'Livestock PM10'!AI21","v":0}]
[{"$f":"'Cow Housing'!$C$6","v":"C-3333"},{"$f":"$B$33","v":0},{"$f":"$C$33","v":2},{"$f":"$D$33","v":17},9960,null,{"$f":"'Livestock PM10'!AJ28","v":0},{"$f":"'Livestock PM10'!AK28","v":0}]
[{"$f":"'Cow Housing'!$C$6","v":"C-3333"},{"$f":"$B$33","v":0},{"$f":"$C$33","v":2},{"$f":"$D$33","v":17},50000,null,{"$f":"'Dairy Miscellaneous'!AJ40","v":0},{"$f":"'Dairy Miscellaneous'!AK40","v":0}]
[{"$f":"'Cow Housing'!$C$6","v":"C-3333"},{"$f":"$B$33","v":0},{"$f":"$C$33","v":2},{"$f":"$D$33","v":17},56235,null,{"$f":"'Dairy Miscellaneous'!AJ30","v":0},{"$f":"'Dairy Miscellaneous'!AK30","v":0}]
[{"$f":"'Cow Housing'!$C$6","v":"C-3333"},{"$f":"$B$33","v":0},{"$f":"$C$33","v":2},{"$f":"$D$33","v":17},67630,null,{"$f":"'Dairy Miscellaneous'!AJ42","v":0},{"$f":"'Dairy Miscellaneous'!AK42","v":0}]
[{"$f":"'Cow Housing'!$C$6","v":"C-3333"},{"$f":"$B$33","v":0},{"$f":"$C$33","v":2},{"$f":"$D$33","v":17},67663,null,{"$f":"'Dairy Miscellaneous'!AJ32","v":0},{"$f":"'Dairy Miscellaneous'!AK32","v":0}]
[{"$f":"'Cow Housing'!$C$6","v":"C-3333"},{"$f":"$B$33","v":0},{"$f":"$C$33","v":2},{"$f":"$D$33","v":17},71432,null,{"$f":"'Dairy Miscellaneous'!AJ26","v":0},{"$f":"'Dairy Miscellaneous'!AK26","v":0}]
[{"$f":"'Cow Housing'!$C$6","v":"C-3333"},{"$f":"$B$33","v":0},{"$f":"$C$33","v":2},{"$f":"$D$33","v":17},74873,null,{"$f":"'Dairy Miscellaneous'!AJ33","v":0},{"$f":"'Dairy Miscellaneous'!AK33","v":0}]
[{"$f":"'Cow Housing'!$C$6","v":"C-3333"},{"$f":"$B$33","v":0},{"$f":"$C$33","v":2},{"$f":"$D$33","v":17},75003,null,{"$f":"'Dairy Miscellaneous'!AJ36","v":0},{"$f":"'Dairy Miscellaneous'!AK36","v":0}]
[{"$f":"'Cow Housing'!$C$6","v":"C-3333"},{"$f":"$B$33","v":0},{"$f":"$C$33","v":2},{"$f":"$D$33","v":17},75070,null,{"$f":"'Dairy Miscellaneous'!AJ24","v":0},{"$f":"'Dairy Miscellaneous'!AK24","v":0}]
[{"$f":"'Cow Housing'!$C$6","v":"C-3333"},{"$f":"$B$33","v":0},{"$f":"$C$33","v":2},{"$f":"$D$33","v":17},75150,null,{"$f":"'Dairy Miscellaneous'!AJ29","v":0},{"$f":"'Dairy Miscellaneous'!AK29","v":0}]
[{"$f":"'Cow Housing'!$C$6","v":"C-3333"},{"$f":"$B$33","v":0},{"$f":"$C$33","v":2},{"$f":"$D$33","v":17},75694,null,{"$f":"'Dairy Miscellaneous'!AJ49","v":0},{"$f":"'Dairy Miscellaneous'!AK49","v":0}]
[{"$f":"'Cow Housing'!$C$6","v":"C-3333"},{"$f":"$B$33","v":0},{"$f":"$C$33","v":2},{"$f":"$D$33","v":17},78933,null,{"$f":"'Dairy Miscellaneous'!AJ44","v":0},{"$f":"'Dairy Miscellaneous'!AK44","v":0}]
[{"$f":"'Cow Housing'!$C$6","v":"C-3333"},{"$f":"$B$33","v":0},{"$f":"$C$33","v":2},{"$f":"$D$33","v":17},79005,null,{"$f":"'Dairy Miscellaneous'!AJ16","v":0},{"$f":"'Dairy Miscellaneous'!AK16","v":0}]
[{"$f":"'Cow Housing'!$C$6","v":"C-3333"},{"$f":"$B$33","v":0},{"$f":"$C$33","v":2},{"$f":"$D$33","v":17},79345,null,{"$f":"'Dairy Miscellaneous'!AJ15","v":0},{"$f":"'Dairy Miscellaneous'!AK15","v":0}]
[{"$f":"'Cow Housing'!$C$6","v":"C-3333"},{"$f":"$B$33","v":0},{"$f":"$C$33","v":2},{"$f":"$D$33","v":17},95501,null,{"$f":"'Dairy Miscellaneous'!AJ20","v":0},{"$f":"'Dairy Miscellaneous'!AK20","v":0}]
[{"$f":"'Cow Housing'!$C$6","v":"C-3333"},{"$f":"$B$33","v":0},{"$f":"$C$33","v":2},{"$f":"$D$33","v":17},96128,null,{"$f":"'Dairy Miscellaneous'!AJ19","v":0},{"$f":"'Dairy Miscellaneous'!AK19","v":0}]
[{"$f":"'Cow Housing'!$C$6","v":"C-3333"},{"$f":"$B$33","v":0},{"$f":"$C$33","v":2},{"$f":"$D$33","v":17},96184,null,{"$f":"'Dairy Miscellaneous'!AJ17","v":0},{"$f":"'Dairy Miscellaneous'!AK17","v":0}]
[{"$f":"'Cow Housing'!$C$6","v":"C-3333"},{"$f":"$B$33","v":0},{"$f":"$C$33","v":2},{"$f":"$D$33","v":17},98828,null,{"$f":"'Dairy Miscellaneous'!AJ43","v":0},{"$f":"'Dairy Miscellaneous'!AK43","v":0}]
[{"$f":"'Cow Housing'!$C$6","v":"C-3333"},{"$f":"$B$33","v":0},{"$f":"$C$33","v":2},{"$f":"$D$33","v":17},100414,null,{"$f":"'Dairy Miscellaneous'!AJ37","v":0},{"$f":"'Dairy Miscellaneous'!AK37","v":0}]
[{"$f":"'Cow Housing'!$C$6","v":"C-3333"},{"$f":"$B$33","v":0},{"$f":"$C$33","v":2},{"$f":"$D$33","v":17},100425,null,{"$f":"'Dairy Miscellaneous'!AJ46","v":0},{"$f":"'Dairy Miscellaneous'!AK46","v":0}]
[{"$f":"'Cow Housing'!$C$6","v":"C-3333"},{"$f":"$B$33","v":0},{"$f":"$C$33","v":2},{"$f":"$D$33","v":17},100447,null,{"$f":"'Dairy Miscellaneous'!AJ27","v":0},{"$f":"'Dairy Miscellaneous'!AK27","v":0}]
[{"$f":"'Cow Housing'!$C$6","v":"C-3333"},{"$f":"$B$33","v":0},{"$f":"$C$33","v":2},{"$f":"$D$33","v":17},106467,null,{"$f":"'Dairy Miscellaneous'!AJ23","v":0},{"$f":"'Dairy Miscellaneous'!AK23","v":0}]
[{"$f":"'Cow Housing'!$C$6","v":"C-3333"},{"$f":"$B$33","v":0},{"$f":"$C$33","v":2},{"$f":"$D$33","v":17},106934,null,{"$f":"'Dairy Miscellaneous'!AJ38","v":0},{"$f":"'Dairy Miscellaneous'!AK38","v":0}]
[{"$f":"'Cow Housing'!$C$6","v":"C-3333"},{"$f":"$B$33","v":0},{"$f":"$C$33","v":2},{"$f":"$D$33","v":17},107062,null,{"$f":"'Dairy Miscellaneous'!AJ39","v":0},{"$f":"'Dairy Miscellaneous'!AK39","v":0}]
[{"$f":"'Cow Housing'!$C$6","v":"C-3333"},{"$f":"$B$33","v":0},{"$f":"$C$33","v":2},{"$f":"$D$33","v":17},107131,null,{"$f":"'Dairy Miscellaneous'!AJ25","v":0},{"$f":"'Dairy Miscellaneous'!AK25","v":0}]
[{"$f":"'Cow Housing'!$C$6","v":"C-3333"},{"$f":"$B$33","v":0},{"$f":"$C$33","v":2},{"$f":"$D$33","v":17},108054,null,{"$f":"'Dairy Miscellaneous'!AJ50","v":0},{"$f":"'Dairy Miscellaneous'!AK50","v":0}]
[{"$f":"'Cow Housing'!$C$6","v":"C-3333"},{"$f":"$B$33","v":0},{"$f":"$C$33","v":2},{"$f":"$D$33","v":17},108101,null,{"$f":"'Dairy Miscellaneous'!AJ45","v":0},{"$f":"'Dairy Miscellaneous'!AK45","v":0}]
[{"$f":"'Cow Housing'!$C$6","v":"C-3333"},{"$f":"$B$33","v":0},{"$f":"$C$33","v":2},{"$f":"$D$33","v":17},108883,null,{"$f":"'Dairy Miscellaneous'!AJ48","v":0},{"$f":"'Dairy Miscellaneous'!AK48","v":0}]
[{"$f":"'Cow Housing'!$C$6","v":"C-3333"},{"$f":"$B$33","v":0},{"$f":"$C$33","v":2},{"$f":"$D$33","v":17},108907,null,{"$f":"'Dairy Miscellaneous'!AJ31","v":0},{"$f":"'Dairy Miscellaneous'!AK31","v":0}]
[{"$f":"'Cow Housing'!$C$6","v":"C-3333"},{"$f":"$B$33","v":0},{"$f":"$C$33","v":2},{"$f":"$D$33","v":17},110543,null,{"$f":"'Dairy Miscellaneous'!AJ41","v":0},{"$f":"'Dairy Miscellaneous'!AK41","v":0}]
[{"$f":"'Cow Housing'!$C$6","v":"C-3333"},{"$f":"$B$33","v":0},{"$f":"$C$33","v":2},{"$f":"$D$33","v":17},110827,null,{"$f":"'Dairy Miscellaneous'!AJ35","v":0},{"$f":"'Dairy Miscellaneous'!AK35","v":0}]
[{"$f":"'Cow Housing'!$C$6","v":"C-3333"},{"$f":"$B$33","v":0},{"$f":"$C$33","v":2},{"$f":"$D$33","v":17},120821,null,{"$f":"'Dairy Miscellaneous'!AJ18","v":0},{"$f":"'Dairy Miscellaneous'!AK18","v":0}]
[{"$f":"'Cow Housing'!$C$6","v":"C-3333"},{"$f":"$B$33","v":0},{"$f":"$C$33","v":2},{"$f":"$D$33","v":17},123728,null,{"$f":"'Dairy Miscellaneous'!AJ28","v":0},{"$f":"'Dairy Miscellaneous'!AK28","v":0}]
[{"$f":"'Cow Housing'!$C$6","v":"C-3333"},{"$f":"$B$33","v":0},{"$f":"$C$33","v":2},{"$f":"$D$33","v":17},123911,null,{"$f":"'Dairy Miscellaneous'!AJ22","v":0},{"$f":"'Dairy Miscellaneous'!AK22","v":0}]
[{"$f":"'Cow Housing'!$C$6","v":"C-3333"},{"$f":"$B$33","v":0},{"$f":"$C$33","v":2},{"$f":"$D$33","v":17},541731,null,{"$f":"'Dairy Miscellaneous'!AJ21","v":0},{"$f":"'Dairy Miscellaneous'!AK21","v":0}]
[{"$f":"'Cow Housing'!$C$6","v":"C-3333"},{"$f":"$B$33","v":0},{"$f":"$C$33","v":2},{"$f":"$D$33","v":17},764410,null,{"$f":"'Dairy Miscellaneous'!AJ47","v":0},{"$f":"'Dairy Miscellaneous'!AK47","v":0}]
[{"$f":"'Cow Housing'!$C$6","v":"C-3333"},{"$f":"$B$33","v":0},{"$f":"$C$33","v":2},{"$f":"$D$33","v":17},1330207,null,{"$f":"'Dairy Miscellaneous'!AJ51","v":0},{"$f":"'Dairy Miscellaneous'!AK51","v":0}]
[{"$f":"'Cow Housing'!$C$6","v":"C-3333"},{"$f":"$B$33","v":0},{"$f":"$C$33","v":2},{"$f":"$D$33","v":17},4170303,null,{"$f":"'Dairy Miscellaneous'!AJ34","v":0},{"$f":"'Dairy Miscellaneous'!AK34","v":0}]
[{"$f":"'Cow Housing'!$C$6","v":"C-3333"},{"$f":"$B$33","v":0},{"$f":"$C$33","v":2},{"$f":"$D$33","v":17},7429905,null,{"$f":"'Livestock PM10'!AJ14","v":0},{"$f":"'Livestock PM10'!AK14","v":0}]
[{"$f":"'Cow Housing'!$C$6","v":"C-3333"},{"$f":"$B$33","v":0},{"$f":"$C$33","v":2},{"$f":"$D$33","v":17},7439921,null,{"$f":"'Livestock PM10'!AJ22","v":0},{"$f":"'Livestock PM10'!AK22","v":0}]
[{"$f":"'Cow Housing'!$C$6","v":"C-3333"},{"$f":"$B$33","v":0},{"$f":"$C$33","v":2},{"$f":"$D$33","v":17},7439965,null,{"$f":"'Livestock PM10'!AJ23","v":0},{"$f":"'Livestock PM10'!AK23","v":0}]
[{"$f":"'Cow Housing'!$C$6","v":"C-3333"},{"$f":"$B$33","v":0},{"$f":"$C$33","v":2},{"$f":"$D$33","v":17},7439976,null,{"$f":"'Livestock PM10'!AJ24","v":0},{"$f":"'Livestock PM10'!AK24","v":0}]
[{"$f":"'Cow Housing'!$C$6","v":"C-3333"},{"$f":"$B$33","v":0},{"$f":"$C$33","v":2},{"$f":"$D$33","v":17},7440020,null,{"$f":"'Livestock PM10'!AJ25","v":0},{"$f":"'Livestock PM10'!AK25","v":0}]
[{"$f":"'Cow Housing'!$C$6","v":"C-3333"},{"$f":"$B$33","v":0},{"$f":"$C$33","v":2},{"$f":"$D$33","v":17},7440360,null,{"$f":"'Livestock PM10'!AJ15","v":0},{"$f":"'Livestock PM10'!AK15","v":0}]
[{"$f":"'Cow Housing'!$C$6","v":"C-3333"},{"$f":"$B$33","v":0},{"$f":"$C$33","v":2},{"$f":"$D$33","v":17},7440382,null,{"$f":"'Livestock PM10'!AJ16","v":0},{"$f":"'Livestock PM10'!AK16","v":0}]
[{"$f":"'Cow Housing'!$C$6","v":"C-3333"},{"$f":"$B$33","v":0},{"$f":"$C$33","v":2},{"$f":"$D$33","v":17},7440393,null,{"$f":"'Livestock PM10'!AJ17","v":0},{"$f":"'Livestock PM10'!AK17","v":0}]
[{"$f":"'Cow Housing'!$C$6","v":"C-3333"},{"$f":"$B$33","v":0},{"$f":"$C$33","v":2},{"$f":"$D$33","v":17},7440473,null,{"$f":"'Livestock PM10'!AJ19","v":0},{"$f":"'Livestock PM10'!AK19","v":0}]
[{"$f":"'Cow Housing'!$C$6","v":"C-3333"},{"$f":"$B$33","v":0},{"$f":"$C$33","v":2},{"$f":"$D$33","v":17},7440508,null,{"$f":"'Livestock PM10'!AJ20","v":0},{"$f":"'Livestock PM10'!AK20","v":0}]
[{"$f":"'Cow Housing'!$C$6","v":"C-3333"},{"$f":"$B$33","v":0},{"$f":"$C$33","v":2},{"$f":"$D$33","v":17},7440622,null,{"$f":"'Livestock PM10'!AJ29","v":0},{"$f":"'Livestock PM10'!AK29","v":0}]
[{"$f":"'Cow Housing'!$C$6","v":"C-3333"},{"$f":"$B$33","v":0},{"$f":"$C$33","v":2},{"$f":"$D$33","v":17},7440666,null,{"$f":"'Livestock PM10'!AJ30","v":0},{"$f":"'Livestock PM10'!AK30","v":0}]
[{"$f":"'Cow Housing'!$C$6","v":"C-3333"},{"$f":"$B$33","v":0},{"$f":"$C$33","v":2},{"$f":"$D$33","v":17},7664417,null,{"$f":"'Livestock PM10'!AJ31","v":0},{"$f":"'Livestock PM10'!AK31","v":0}]
[{"$f":"'Cow Housing'!$C$6","v":"C-3333"},{"$f":"$B$33","v":0},{"$f":"$C$33","v":2},{"$f":"$D$33","v":17},7723140,null,{"$f":"'Livestock PM10'!AJ26","v":0},{"$f":"'Livestock PM10'!AK26","v":0}]
[{"$f":"'Cow Housing'!$C$6","v":"C-3333"},{"$f":"$B$33","v":0},{"$f":"$C$33","v":2},{"$f":"$D$33","v":17},7726956,null,{"$f":"'Livestock PM10'!AJ18","v":0},{"$f":"'Livestock PM10'!AK18","v":0}]
[{"$f":"'Cow Housing'!$C$6","v":"C-3333"},{"$f":"$B$33","v":0},{"$f":"$C$33","v":2},{"$f":"$D$33","v":17},7782492,null,{"$f":"'Livestock PM10'!AJ27","v":0},{"$f":"'Livestock PM10'!AK27","v":0}]
[{"$f":"'Cow Housing'!$C$6","v":"C-3333"},{"$f":"$B$33","v":0},{"$f":"$C$33","v":2},{"$f":"$D$33","v":17},18540299,null,{"$f":"'Livestock PM10'!AJ21","v":0},{"$f":"'Livestock PM10'!AK21","v":0}]
[{"$f":"'Cow Housing'!$C$6","v":"C-3333"},{"$f":"$B$34","v":0},{"$f":"$C$34","v":2},{"$f":"$D$34","v":18},9960,null,{"$f":"'Livestock PM10'!AL28","v":0},{"$f":"'Livestock PM10'!AM28","v":0}]
[{"$f":"'Cow Housing'!$C$6","v":"C-3333"},{"$f":"$B$34","v":0},{"$f":"$C$34","v":2},{"$f":"$D$34","v":18},50000,null,{"$f":"'Dairy Miscellaneous'!AL40","v":0},{"$f":"'Dairy Miscellaneous'!AM40","v":0}]
[{"$f":"'Cow Housing'!$C$6","v":"C-3333"},{"$f":"$B$34","v":0},{"$f":"$C$34","v":2},{"$f":"$D$34","v":18},56235,null,{"$f":"'Dairy Miscellaneous'!AL30","v":0},{"$f":"'Dairy Miscellaneous'!AM30","v":0}]
[{"$f":"'Cow Housing'!$C$6","v":"C-3333"},{"$f":"$B$34","v":0},{"$f":"$C$34","v":2},{"$f":"$D$34","v":18},67630,null,{"$f":"'Dairy Miscellaneous'!AL42","v":0},{"$f":"'Dairy Miscellaneous'!AM42","v":0}]
[{"$f":"'Cow Housing'!$C$6","v":"C-3333"},{"$f":"$B$34","v":0},{"$f":"$C$34","v":2},{"$f":"$D$34","v":18},67663,null,{"$f":"'Dairy Miscellaneous'!AL32","v":0},{"$f":"'Dairy Miscellaneous'!AM32","v":0}]
[{"$f":"'Cow Housing'!$C$6","v":"C-3333"},{"$f":"$B$34","v":0},{"$f":"$C$34","v":2},{"$f":"$D$34","v":18},71432,null,{"$f":"'Dairy Miscellaneous'!AL26","v":0},{"$f":"'Dairy Miscellaneous'!AM26","v":0}]
[{"$f":"'Cow Housing'!$C$6","v":"C-3333"},{"$f":"$B$34","v":0},{"$f":"$C$34","v":2},{"$f":"$D$34","v":18},74873,null,{"$f":"'Dairy Miscellaneous'!AL33","v":0},{"$f":"'Dairy Miscellaneous'!AM33","v":0}]
[{"$f":"'Cow Housing'!$C$6","v":"C-3333"},{"$f":"$B$34","v":0},{"$f":"$C$34","v":2},{"$f":"$D$34","v":18},75003,null,{"$f":"'Dairy Miscellaneous'!AL36","v":0},{"$f":"'Dairy Miscellaneous'!AM36","v":0}]
[{"$f":"'Cow Housing'!$C$6","v":"C-3333"},{"$f":"$B$34","v":0},{"$f":"$C$34","v":2},{"$f":"$D$34","v":18},75070,null,{"$f":"'Dairy Miscellaneous'!AL24","v":0},{"$f":"'Dairy Miscellaneous'!AM24","v":0}]
[{"$f":"'Cow Housing'!$C$6","v":"C-3333"},{"$f":"$B$34","v":0},{"$f":"$C$34","v":2},{"$f":"$D$34","v":18},75150,null,{"$f":"'Dairy Miscellaneous'!AL29","v":0},{"$f":"'Dairy Miscellaneous'!AM29","v":0}]
[{"$f":"'Cow Housing'!$C$6","v":"C-3333"},{"$f":"$B$34","v":0},{"$f":"$C$34","v":2},{"$f":"$D$34","v":18},75694,null,{"$f":"'Dairy Miscellaneous'!AL49","v":0},{"$f":"'Dairy Miscellaneous'!AM49","v":0}]
[{"$f":"'Cow Housing'!$C$6","v":"C-3333"},{"$f":"$B$34","v":0},{"$f":"$C$34","v":2},{"$f":"$D$34","v":18},78933,null,{"$f":"'Dairy Miscellaneous'!AL44","v":0},{"$f":"'Dairy Miscellaneous'!AM44","v":0}]
[{"$f":"'Cow Housing'!$C$6","v":"C-3333"},{"$f":"$B$34","v":0},{"$f":"$C$34","v":2},{"$f":"$D$34","v":18},79005,null,{"$f":"'Dairy Miscellaneous'!AL16","v":0},{"$f":"'Dairy Miscellaneous'!AM16","v":0}]
[{"$f":"'Cow Housing'!$C$6","v":"C-3333"},{"$f":"$B$34","v":0},{"$f":"$C$34","v":2},{"$f":"$D$34","v":18},79345,null,{"$f":"'Dairy Miscellaneous'!AL15","v":0},{"$f":"'Dairy Miscellaneous'!AM15","v":0}]
[{"$f":"'Cow Housing'!$C$6","v":"C-3333"},{"$f":"$B$34","v":0},{"$f":"$C$34","v":2},{"$f":"$D$34","v":18},95501,null,{"$f":"'Dairy Miscellaneous'!AL20","v":0},{"$f":"'Dairy Miscellaneous'!AM20","v":0}]
[{"$f":"'Cow Housing'!$C$6","v":"C-3333"},{"$f":"$B$34","v":0},{"$f":"$C$34","v":2},{"$f":"$D$34","v":18},96128,null,{"$f":"'Dairy Miscellaneous'!AL19","v":0},{"$f":"'Dairy Miscellaneous'!AM19","v":0}]
[{"$f":"'Cow Housing'!$C$6","v":"C-3333"},{"$f":"$B$34","v":0},{"$f":"$C$34","v":2},{"$f":"$D$34","v":18},96184,null,{"$f":"'Dairy Miscellaneous'!AL17","v":0},{"$f":"'Dairy Miscellaneous'!AM17","v":0}]
[{"$f":"'Cow Housing'!$C$6","v":"C-3333"},{"$f":"$B$34","v":0},{"$f":"$C$34","v":2},{"$f":"$D$34","v":18},98828,null,{"$f":"'Dairy Miscellaneous'!AL43","v":0},{"$f":"'Dairy Miscellaneous'!AM43","v":0}]
[{"$f":"'Cow Housing'!$C$6","v":"C-3333"},{"$f":"$B$34","v":0},{"$f":"$C$34","v":2},{"$f":"$D$34","v":18},100414,null,{"$f":"'Dairy Miscellaneous'!AL37","v":0},{"$f":"'Dairy Miscellaneous'!AM37","v":0}]
[{"$f":"'Cow Housing'!$C$6","v":"C-3333"},{"$f":"$B$34","v":0},{"$f":"$C$34","v":2},{"$f":"$D$34","v":18},100425,null,{"$f":"'Dairy Miscellaneous'!AL46","v":0},{"$f":"'Dairy Miscellaneous'!AM46","v":0}]
[{"$f":"'Cow Housing'!$C$6","v":"C-3333"},{"$f":"$B$34","v":0},{"$f":"$C$34","v":2},{"$f":"$D$34","v":18},100447,null,{"$f":"'Dairy Miscellaneous'!AL27","v":0},{"$f":"'Dairy Miscellaneous'!AM27","v":0}]
[{"$f":"'Cow Housing'!$C$6","v":"C-3333"},{"$f":"$B$34","v":0},{"$f":"$C$34","v":2},{"$f":"$D$34","v":18},106467,null,{"$f":"'Dairy Miscellaneous'!AL23","v":0},{"$f":"'Dairy Miscellaneous'!AM23","v":0}]
[{"$f":"'Cow Housing'!$C$6","v":"C-3333"},{"$f":"$B$34","v":0},{"$f":"$C$34","v":2},{"$f":"$D$34","v":18},106934,null,{"$f":"'Dairy Miscellaneous'!AL38","v":0},{"$f":"'Dairy Miscellaneous'!AM38","v":0}]
[{"$f":"'Cow Housing'!$C$6","v":"C-3333"},{"$f":"$B$34","v":0},{"$f":"$C$34","v":2},{"$f":"$D$34","v":18},107062,null,{"$f":"'Dairy Miscellaneous'!AL39","v":0},{"$f":"'Dairy Miscellaneous'!AM39","v":0}]
[{"$f":"'Cow Housing'!$C$6","v":"C-3333"},{"$f":"$B$34","v":0},{"$f":"$C$34","v":2},{"$f":"$D$34","v":18},107131,null,{"$f":"'Dairy Miscellaneous'!AL25","v":0},{"$f":"'Dairy Miscellaneous'!AM25","v":0}]
[{"$f":"'Cow Housing'!$C$6","v":"C-3333"},{"$f":"$B$34","v":0},{"$f":"$C$34","v":2},{"$f":"$D$34","v":18},108054,null,{"$f":"'Dairy Miscellaneous'!AL50","v":0},{"$f":"'Dairy Miscellaneous'!AM50","v":0}]
[{"$f":"'Cow Housing'!$C$6","v":"C-3333"},{"$f":"$B$34","v":0},{"$f":"$C$34","v":2},{"$f":"$D$34","v":18},108101,null,{"$f":"'Dairy Miscellaneous'!AL45","v":0},{"$f":"'Dairy Miscellaneous'!AM45","v":0}]
[{"$f":"'Cow Housing'!$C$6","v":"C-3333"},{"$f":"$B$34","v":0},{"$f":"$C$34","v":2},{"$f":"$D$34","v":18},108883,null,{"$f":"'Dairy Miscellaneous'!AL48","v":0},{"$f":"'Dairy Miscellaneous'!AM48","v":0}]
[{"$f":"'Cow Housing'!$C$6","v":"C-3333"},{"$f":"$B$34","v":0},{"$f":"$C$34","v":2},{"$f":"$D$34","v":18},108907,null,{"$f":"'Dairy Miscellaneous'!AL31","v":0},{"$f":"'Dairy Miscellaneous'!AM31","v":0}]
[{"$f":"'Cow Housing'!$C$6","v":"C-3333"},{"$f":"$B$34","v":0},{"$f":"$C$34","v":2},{"$f":"$D$34","v":18},110543,null,{"$f":"'Dairy Miscellaneous'!AL41","v":0},{"$f":"'Dairy Miscellaneous'!AM41","v":0}]
[{"$f":"'Cow Housing'!$C$6","v":"C-3333"},{"$f":"$B$34","v":0},{"$f":"$C$34","v":2},{"$f":"$D$34","v":18},110827,null,{"$f":"'Dairy Miscellaneous'!AL35","v":0},{"$f":"'Dairy Miscellaneous'!AM35","v":0}]
[{"$f":"'Cow Housing'!$C$6","v":"C-3333"},{"$f":"$B$34","v":0},{"$f":"$C$34","v":2},{"$f":"$D$34","v":18},120821,null,{"$f":"'Dairy Miscellaneous'!AL18","v":0},{"$f":"'Dairy Miscellaneous'!AM18","v":0}]
[{"$f":"'Cow Housing'!$C$6","v":"C-3333"},{"$f":"$B$34","v":0},{"$f":"$C$34","v":2},{"$f":"$D$34","v":18},123728,null,{"$f":"'Dairy Miscellaneous'!AL28","v":0},{"$f":"'Dairy Miscellaneous'!AM28","v":0}]
[{"$f":"'Cow Housing'!$C$6","v":"C-3333"},{"$f":"$B$34","v":0},{"$f":"$C$34","v":2},{"$f":"$D$34","v":18},123911,null,{"$f":"'Dairy Miscellaneous'!AL22","v":0},{"$f":"'Dairy Miscellaneous'!AM22","v":0}]
[{"$f":"'Cow Housing'!$C$6","v":"C-3333"},{"$f":"$B$34","v":0},{"$f":"$C$34","v":2},{"$f":"$D$34","v":18},541731,null,{"$f":"'Dairy Miscellaneous'!AL21","v":0},{"$f":"'Dairy Miscellaneous'!AM21","v":0}]
[{"$f":"'Cow Housing'!$C$6","v":"C-3333"},{"$f":"$B$34","v":0},{"$f":"$C$34","v":2},{"$f":"$D$34","v":18},764410,null,{"$f":"'Dairy Miscellaneous'!AL47","v":0},{"$f":"'Dairy Miscellaneous'!AM47","v":0}]
[{"$f":"'Cow Housing'!$C$6","v":"C-3333"},{"$f":"$B$34","v":0},{"$f":"$C$34","v":2},{"$f":"$D$34","v":18},1330207,null,{"$f":"'Dairy Miscellaneous'!AL51","v":0},{"$f":"'Dairy Miscellaneous'!AM51","v":0}]
[{"$f":"'Cow Housing'!$C$6","v":"C-3333"},{"$f":"$B$34","v":0},{"$f":"$C$34","v":2},{"$f":"$D$34","v":18},4170303,null,{"$f":"'Dairy Miscellaneous'!AL34","v":0},{"$f":"'Dairy Miscellaneous'!AM34","v":0}]
[{"$f":"'Cow Housing'!$C$6","v":"C-3333"},{"$f":"$B$34","v":0},{"$f":"$C$34","v":2},{"$f":"$D$34","v":18},7429905,null,{"$f":"'Livestock PM10'!AL14","v":0},{"$f":"'Livestock PM10'!AM14","v":0}]
[{"$f":"'Cow Housing'!$C$6","v":"C-3333"},{"$f":"$B$34","v":0},{"$f":"$C$34","v":2},{"$f":"$D$34","v":18},7439921,null,{"$f":"'Livestock PM10'!AL22","v":0},{"$f":"'Livestock PM10'!AM22","v":0}]
[{"$f":"'Cow Housing'!$C$6","v":"C-3333"},{"$f":"$B$34","v":0},{"$f":"$C$34","v":2},{"$f":"$D$34","v":18},7439965,null,{"$f":"'Livestock PM10'!AL23","v":0},{"$f":"'Livestock PM10'!AM23","v":0}]
[{"$f":"'Cow Housing'!$C$6","v":"C-3333"},{"$f":"$B$34","v":0},{"$f":"$C$34","v":2},{"$f":"$D$34","v":18},7439976,null,{"$f":"'Livestock PM10'!AL24","v":0},{"$f":"'Livestock PM10'!AM24","v":0}]
[{"$f":"'Cow Housing'!$C$6","v":"C-3333"},{"$f":"$B$34","v":0},{"$f":"$C$34","v":2},{"$f":"$D$34","v":18},7440020,null,{"$f":"'Livestock PM10'!AL25","v":0},{"$f":"'Livestock PM10'!AM25","v":0}]
[{"$f":"'Cow Housing'!$C$6","v":"C-3333"},{"$f":"$B$34","v":0},{"$f":"$C$34","v":2},{"$f":"$D$34","v":18},7440360,null,{"$f":"'Livestock PM10'!AL15","v":0},{"$f":"'Livestock PM10'!AM15","v":0}]
[{"$f":"'Cow Housing'!$C$6","v":"C-3333"},{"$f":"$B$34","v":0},{"$f":"$C$34","v":2},{"$f":"$D$34","v":18},7440382,null,{"$f":"'Livestock PM10'!AL16","v":0},{"$f":"'Livestock PM10'!AM16","v":0}]
[{"$f":"'Cow Housing'!$C$6","v":"C-3333"},{"$f":"$B$34","v":0},{"$f":"$C$34","v":2},{"$f":"$D$34","v":18},7440393,null,{"$f":"'Livestock PM10'!AL17","v":0},{"$f":"'Livestock PM10'!AM17","v":0}]
[{"$f":"'Cow Housing'!$C$6","v":"C-3333"},{"$f":"$B$34","v":0},{"$f":"$C$34","v":2},{"$f":"$D$34","v":18},7440473,null,{"$f":"'Livestock PM10'!AL19","v":0},{"$f":"'Livestock PM10'!AM19","v":0}]
[{"$f":"'Cow Housing'!$C$6","v":"C-3333"},{"$f":"$B$34","v":0},{"$f":"$C$34","v":2},{"$f":"$D$34","v":18},7440508,null,{"$f":"'Livestock PM10'!AL20","v":0},{"$f":"'Livestock PM10'!AM20","v":0}]
[{"$f":"'Cow Housing'!$C$6","v":"C-3333"},{"$f":"$B$34","v":0},{"$f":"$C$34","v":2},{"$f":"$D$34","v":18},7440622,null,{"$f":"'Livestock PM10'!AL29","v":0},{"$f":"'Livestock PM10'!AM29","v":0}]
[{"$f":"'Cow Housing'!$C$6","v":"C-3333"},{"$f":"$B$34","v":0},{"$f":"$C$34","v":2},{"$f":"$D$34","v":18},7440666,null,{"$f":"'Livestock PM10'!AL30","v":0},{"$f":"'Livestock PM10'!AM30","v":0}]
[{"$f":"'Cow Housing'!$C$6","v":"C-3333"},{"$f":"$B$34","v":0},{"$f":"$C$34","v":2},{"$f":"$D$34","v":18},7664417,null,{"$f":"'Livestock PM10'!AL31","v":0},{"$f":"'Livestock PM10'!AM31","v":0}]
[{"$f":"'Cow Housing'!$C$6","v":"C-3333"},{"$f":"$B$34","v":0},{"$f":"$C$34","v":2},{"$f":"$D$34","v":18},7723140,null,{"$f":"'Livestock PM10'!AL26","v":0},{"$f":"'Livestock PM10'!AM26","v":0}]
[{"$f":"'Cow Housing'!$C$6","v":"C-3333"},{"$f":"$B$34","v":0},{"$f":"$C$34","v":2},{"$f":"$D$34","v":18},7726956,null,{"$f":"'Livestock PM10'!AL18","v":0},{"$f":"'Livestock PM10'!AM18","v":0}]
[{"$f":"'Cow Housing'!$C$6","v":"C-3333"},{"$f":"$B$34","v":0},{"$f":"$C$34","v":2},{"$f":"$D$34","v":18},7782492,null,{"$f":"'Livestock PM10'!AL27","v":0},{"$f":"'Livestock PM10'!AM27","v":0}]
[{"$f":"'Cow Housing'!$C$6","v":"C-3333"},{"$f":"$B$34","v":0},{"$f":"$C$34","v":2},{"$f":"$D$34","v":18},18540299,null,{"$f":"'Livestock PM10'!AL21","v":0},{"$f":"'Livestock PM10'!AM21","v":0}]
[{"$f":"'Cow Housing'!$C$6","v":"C-3333"},{"$f":"$B$35","v":0},{"$f":"$C$35","v":2},{"$f":"$D$35","v":19},9960,null,{"$f":"'Livestock PM10'!AN28","v":0},{"$f":"'Livestock PM10'!AO28","v":0}]
[{"$f":"'Cow Housing'!$C$6","v":"C-3333"},{"$f":"$B$35","v":0},{"$f":"$C$35","v":2},{"$f":"$D$35","v":19},50000,null,{"$f":"'Dairy Miscellaneous'!AN40","v":0},{"$f":"'Dairy Miscellaneous'!AO40","v":0}]
[{"$f":"'Cow Housing'!$C$6","v":"C-3333"},{"$f":"$B$35","v":0},{"$f":"$C$35","v":2},{"$f":"$D$35","v":19},56235,null,{"$f":"'Dairy Miscellaneous'!AN30","v":0},{"$f":"'Dairy Miscellaneous'!AO30","v":0}]
[{"$f":"'Cow Housing'!$C$6","v":"C-3333"},{"$f":"$B$35","v":0},{"$f":"$C$35","v":2},{"$f":"$D$35","v":19},67630,null,{"$f":"'Dairy Miscellaneous'!AN42","v":0},{"$f":"'Dairy Miscellaneous'!AO42","v":0}]
[{"$f":"'Cow Housing'!$C$6","v":"C-3333"},{"$f":"$B$35","v":0},{"$f":"$C$35","v":2},{"$f":"$D$35","v":19},67663,null,{"$f":"'Dairy Miscellaneous'!AN32","v":0},{"$f":"'Dairy Miscellaneous'!AO32","v":0}]
[{"$f":"'Cow Housing'!$C$6","v":"C-3333"},{"$f":"$B$35","v":0},{"$f":"$C$35","v":2},{"$f":"$D$35","v":19},71432,null,{"$f":"'Dairy Miscellaneous'!AN26","v":0},{"$f":"'Dairy Miscellaneous'!AO26","v":0}]
[{"$f":"'Cow Housing'!$C$6","v":"C-3333"},{"$f":"$B$35","v":0},{"$f":"$C$35","v":2},{"$f":"$D$35","v":19},74873,null,{"$f":"'Dairy Miscellaneous'!AN33","v":0},{"$f":"'Dairy Miscellaneous'!AO33","v":0}]
[{"$f":"'Cow Housing'!$C$6","v":"C-3333"},{"$f":"$B$35","v":0},{"$f":"$C$35","v":2},{"$f":"$D$35","v":19},75003,null,{"$f":"'Dairy Miscellaneous'!AN36","v":0},{"$f":"'Dairy Miscellaneous'!AO36","v":0}]
[{"$f":"'Cow Housing'!$C$6","v":"C-3333"},{"$f":"$B$35","v":0},{"$f":"$C$35","v":2},{"$f":"$D$35","v":19},75070,null,{"$f":"'Dairy Miscellaneous'!AN24","v":0},{"$f":"'Dairy Miscellaneous'!AO24","v":0}]
[{"$f":"'Cow Housing'!$C$6","v":"C-3333"},{"$f":"$B$35","v":0},{"$f":"$C$35","v":2},{"$f":"$D$35","v":19},75150,null,{"$f":"'Dairy Miscellaneous'!AN29","v":0},{"$f":"'Dairy Miscellaneous'!AO29","v":0}]
[{"$f":"'Cow Housing'!$C$6","v":"C-3333"},{"$f":"$B$35","v":0},{"$f":"$C$35","v":2},{"$f":"$D$35","v":19},75694,null,{"$f":"'Dairy Miscellaneous'!AN49","v":0},{"$f":"'Dairy Miscellaneous'!AO49","v":0}]
[{"$f":"'Cow Housing'!$C$6","v":"C-3333"},{"$f":"$B$35","v":0},{"$f":"$C$35","v":2},{"$f":"$D$35","v":19},78933,null,{"$f":"'Dairy Miscellaneous'!AN44","v":0},{"$f":"'Dairy Miscellaneous'!AO44","v":0}]
[{"$f":"'Cow Housing'!$C$6","v":"C-3333"},{"$f":"$B$35","v":0},{"$f":"$C$35","v":2},{"$f":"$D$35","v":19},79005,null,{"$f":"'Dairy Miscellaneous'!AN16","v":0},{"$f":"'Dairy Miscellaneous'!AO16","v":0}]
[{"$f":"'Cow Housing'!$C$6","v":"C-3333"},{"$f":"$B$35","v":0},{"$f":"$C$35","v":2},{"$f":"$D$35","v":19},79345,null,{"$f":"'Dairy Miscellaneous'!AN15","v":0},{"$f":"'Dairy Miscellaneous'!AO15","v":0}]
[{"$f":"'Cow Housing'!$C$6","v":"C-3333"},{"$f":"$B$35","v":0},{"$f":"$C$35","v":2},{"$f":"$D$35","v":19},95501,null,{"$f":"'Dairy Miscellaneous'!AN20","v":0},{"$f":"'Dairy Miscellaneous'!AO20","v":0}]
[{"$f":"'Cow Housing'!$C$6","v":"C-3333"},{"$f":"$B$35","v":0},{"$f":"$C$35","v":2},{"$f":"$D$35","v":19},96128,null,{"$f":"'Dairy Miscellaneous'!AN19","v":0},{"$f":"'Dairy Miscellaneous'!AO19","v":0}]
[{"$f":"'Cow Housing'!$C$6","v":"C-3333"},{"$f":"$B$35","v":0},{"$f":"$C$35","v":2},{"$f":"$D$35","v":19},96184,null,{"$f":"'Dairy Miscellaneous'!AN17","v":0},{"$f":"'Dairy Miscellaneous'!AO17","v":0}]
[{"$f":"'Cow Housing'!$C$6","v":"C-3333"},{"$f":"$B$35","v":0},{"$f":"$C$35","v":2},{"$f":"$D$35","v":19},98828,null,{"$f":"'Dairy Miscellaneous'!AN43","v":0},{"$f":"'Dairy Miscellaneous'!AO43","v":0}]
[{"$f":"'Cow Housing'!$C$6","v":"C-3333"},{"$f":"$B$35","v":0},{"$f":"$C$35","v":2},{"$f":"$D$35","v":19},100414,null,{"$f":"'Dairy Miscellaneous'!AN37","v":0},{"$f":"'Dairy Miscellaneous'!AO37","v":0}]
[{"$f":"'Cow Housing'!$C$6","v":"C-3333"},{"$f":"$B$35","v":0},{"$f":"$C$35","v":2},{"$f":"$D$35","v":19},100425,null,{"$f":"'Dairy Miscellaneous'!AN46","v":0},{"$f":"'Dairy Miscellaneous'!AO46","v":0}]
[{"$f":"'Cow Housing'!$C$6","v":"C-3333"},{"$f":"$B$35","v":0},{"$f":"$C$35","v":2},{"$f":"$D$35","v":19},100447,null,{"$f":"'Dairy Miscellaneous'!AN27","v":0},{"$f":"'Dairy Miscellaneous'!AO27","v":0}]
[{"$f":"'Cow Housing'!$C$6","v":"C-3333"},{"$f":"$B$35","v":0},{"$f":"$C$35","v":2},{"$f":"$D$35","v":19},106467,null,{"$f":"'Dairy Miscellaneous'!AN23","v":0},{"$f":"'Dairy Miscellaneous'!AO23","v":0}]
[{"$f":"'Cow Housing'!$C$6","v":"C-3333"},{"$f":"$B$35","v":0},{"$f":"$C$35","v":2},{"$f":"$D$35","v":19},106934,null,{"$f":"'Dairy Miscellaneous'!AN38","v":0},{"$f":"'Dairy Miscellaneous'!AO38","v":0}]
[{"$f":"'Cow Housing'!$C$6","v":"C-3333"},{"$f":"$B$35","v":0},{"$f":"$C$35","v":2},{"$f":"$D$35","v":19},107062,null,{"$f":"'Dairy Miscellaneous'!AN39","v":0},{"$f":"'Dairy Miscellaneous'!AO39","v":0}]
[{"$f":"'Cow Housing'!$C$6","v":"C-3333"},{"$f":"$B$35","v":0},{"$f":"$C$35","v":2},{"$f":"$D$35","v":19},107131,null,{"$f":"'Dairy Miscellaneous'!AN25","v":0},{"$f":"'Dairy Miscellaneous'!AO25","v":0}]
[{"$f":"'Cow Housing'!$C$6","v":"C-3333"},{"$f":"$B$35","v":0},{"$f":"$C$35","v":2},{"$f":"$D$35","v":19},108054,null,{"$f":"'Dairy Miscellaneous'!AN50","v":0},{"$f":"'Dairy Miscellaneous'!AO50","v":0}]
[{"$f":"'Cow Housing'!$C$6","v":"C-3333"},{"$f":"$B$35","v":0},{"$f":"$C$35","v":2},{"$f":"$D$35","v":19},108101,null,{"$f":"'Dairy Miscellaneous'!AN45","v":0},{"$f":"'Dairy Miscellaneous'!AO45","v":0}]
[{"$f":"'Cow Housing'!$C$6","v":"C-3333"},{"$f":"$B$35","v":0},{"$f":"$C$35","v":2},{"$f":"$D$35","v":19},108883,null,{"$f":"'Dairy Miscellaneous'!AN48","v":0},{"$f":"'Dairy Miscellaneous'!AO48","v":0}]
[{"$f":"'Cow Housing'!$C$6","v":"C-3333"},{"$f":"$B$35","v":0},{"$f":"$C$35","v":2},{"$f":"$D$35","v":19},108907,null,{"$f":"'Dairy Miscellaneous'!AN31","v":0},{"$f":"'Dairy Miscellaneous'!AO31","v":0}]
[{"$f":"'Cow Housing'!$C$6","v":"C-3333"},{"$f":"$B$35","v":0},{"$f":"$C$35","v":2},{"$f":"$D$35","v":19},110543,null,{"$f":"'Dairy Miscellaneous'!AN41","v":0},{"$f":"'Dairy Miscellaneous'!AO41","v":0}]
[{"$f":"'Cow Housing'!$C$6","v":"C-3333"},{"$f":"$B$35","v":0},{"$f":"$C$35","v":2},{"$f":"$D$35","v":19},110827,null,{"$f":"'Dairy Miscellaneous'!AN35","v":0},{"$f":"'Dairy Miscellaneous'!AO35","v":0}]
[{"$f":"'Cow Housing'!$C$6","v":"C-3333"},{"$f":"$B$35","v":0},{"$f":"$C$35","v":2},{"$f":"$D$35","v":19},120821,null,{"$f":"'Dairy Miscellaneous'!AN18","v":0},{"$f":"'Dairy Miscellaneous'!AO18","v":0}]
[{"$f":"'Cow Housing'!$C$6","v":"C-3333"},{"$f":"$B$35","v":0},{"$f":"$C$35","v":2},{"$f":"$D$35","v":19},123728,null,{"$f":"'Dairy Miscellaneous'!AN28","v":0},{"$f":"'Dairy Miscellaneous'!AO28","v":0}]
[{"$f":"'Cow Housing'!$C$6","v":"C-3333"},{"$f":"$B$35","v":0},{"$f":"$C$35","v":2},{"$f":"$D$35","v":19},123911,null,{"$f":"'Dairy Miscellaneous'!AN22","v":0},{"$f":"'Dairy Miscellaneous'!AO22","v":0}]
[{"$f":"'Cow Housing'!$C$6","v":"C-3333"},{"$f":"$B$35","v":0},{"$f":"$C$35","v":2},{"$f":"$D$35","v":19},541731,null,{"$f":"'Dairy Miscellaneous'!AN21","v":0},{"$f":"'Dairy Miscellaneous'!AO21","v":0}]
[{"$f":"'Cow Housing'!$C$6","v":"C-3333"},{"$f":"$B$35","v":0},{"$f":"$C$35","v":2},{"$f":"$D$35","v":19},764410,null,{"$f":"'Dairy Miscellaneous'!AN47","v":0},{"$f":"'Dairy Miscellaneous'!AO47","v":0}]
[{"$f":"'Cow Housing'!$C$6","v":"C-3333"},{"$f":"$B$35","v":0},{"$f":"$C$35","v":2},{"$f":"$D$35","v":19},1330207,null,{"$f":"'Dairy Miscellaneous'!AN51","v":0},{"$f":"'Dairy Miscellaneous'!AO51","v":0}]
[{"$f":"'Cow Housing'!$C$6","v":"C-3333"},{"$f":"$B$35","v":0},{"$f":"$C$35","v":2},{"$f":"$D$35","v":19},4170303,null,{"$f":"'Dairy Miscellaneous'!AN34","v":0},{"$f":"'Dairy Miscellaneous'!AO34","v":0}]
[{"$f":"'Cow Housing'!$C$6","v":"C-3333"},{"$f":"$B$35","v":0},{"$f":"$C$35","v":2},{"$f":"$D$35","v":19},7429905,null,{"$f":"'Livestock PM10'!AN14","v":0},{"$f":"'Livestock PM10'!AO14","v":0}]
[{"$f":"'Cow Housing'!$C$6","v":"C-3333"},{"$f":"$B$35","v":0},{"$f":"$C$35","v":2},{"$f":"$D$35","v":19},7439921,null,{"$f":"'Livestock PM10'!AN22","v":0},{"$f":"'Livestock PM10'!AO22","v":0}]
[{"$f":"'Cow Housing'!$C$6","v":"C-3333"},{"$f":"$B$35","v":0},{"$f":"$C$35","v":2},{"$f":"$D$35","v":19},7439965,null,{"$f":"'Livestock PM10'!AN23","v":0},{"$f":"'Livestock PM10'!AO23","v":0}]
[{"$f":"'Cow Housing'!$C$6","v":"C-3333"},{"$f":"$B$35","v":0},{"$f":"$C$35","v":2},{"$f":"$D$35","v":19},7439976,null,{"$f":"'Livestock PM10'!AN24","v":0},{"$f":"'Livestock PM10'!AO24","v":0}]
[{"$f":"'Cow Housing'!$C$6","v":"C-3333"},{"$f":"$B$35","v":0},{"$f":"$C$35","v":2},{"$f":"$D$35","v":19},7440020,null,{"$f":"'Livestock PM10'!AN25","v":0},{"$f":"'Livestock PM10'!AO25","v":0}]
[{"$f":"'Cow Housing'!$C$6","v":"C-3333"},{"$f":"$B$35","v":0},{"$f":"$C$35","v":2},{"$f":"$D$35","v":19},7440360,null,{"$f":"'Livestock PM10'!AN15","v":0},{"$f":"'Livestock PM10'!AO15","v":0}]
[{"$f":"'Cow Housing'!$C$6","v":"C-3333"},{"$f":"$B$35","v":0},{"$f":"$C$35","v":2},{"$f":"$D$35","v":19},7440382,null,{"$f":"'Livestock PM10'!AN16","v":0},{"$f":"'Livestock PM10'!AO16","v":0}]
[{"$f":"'Cow Housing'!$C$6","v":"C-3333"},{"$f":"$B$35","v":0},{"$f":"$C$35","v":2},{"$f":"$D$35","v":19},7440393,null,{"$f":"'Livestock PM10'!AN17","v":0},{"$f":"'Livestock PM10'!AO17","v":0}]
[{"$f":"'Cow Housing'!$C$6","v":"C-3333"},{"$f":"$B$35","v":0},{"$f":"$C$35","v":2},{"$f":"$D$35","v":19},7440473,null,{"$f":"'Livestock PM10'!AN19","v":0},{"$f":"'Livestock PM10'!AO19","v":0}]
[{"$f":"'Cow Housing'!$C$6","v":"C-3333"},{"$f":"$B$35","v":0},{"$f":"$C$35","v":2},{"$f":"$D$35","v":19},7440508,null,{"$f":"'Livestock PM10'!AN20","v":0},{"$f":"'Livestock PM10'!AO20","v":0}]
[{"$f":"'Cow Housing'!$C$6","v":"C-3333"},{"$f":"$B$35","v":0},{"$f":"$C$35","v":2},{"$f":"$D$35","v":19},7440622,null,{"$f":"'Livestock PM10'!AN29","v":0},{"$f":"'Livestock PM10'!AO29","v":0}]
[{"$f":"'Cow Housing'!$C$6","v":"C-3333"},{"$f":"$B$35","v":0},{"$f":"$C$35","v":2},{"$f":"$D$35","v":19},7440666,null,{"$f":"'Livestock PM10'!AN30","v":0},{"$f":"'Livestock PM10'!AO30","v":0}]
[{"$f":"'Cow Housing'!$C$6","v":"C-3333"},{"$f":"$B$35","v":0},{"$f":"$C$35","v":2},{"$f":"$D$35","v":19},7664417,null,{"$f":"'Livestock PM10'!AN31","v":0},{"$f":"'Livestock PM10'!AO31","v":0}]
[{"$f":"'Cow Housing'!$C$6","v":"C-3333"},{"$f":"$B$35","v":0},{"$f":"$C$35","v":2},{"$f":"$D$35","v":19},7723140,null,{"$f":"'Livestock PM10'!AN26","v":0},{"$f":"'Livestock PM10'!AO26","v":0}]
[{"$f":"'Cow Housing'!$C$6","v":"C-3333"},{"$f":"$B$35","v":0},{"$f":"$C$35","v":2},{"$f":"$D$35","v":19},7726956,null,{"$f":"'Livestock PM10'!AN18","v":0},{"$f":"'Livestock PM10'!AO18","v":0}]
[{"$f":"'Cow Housing'!$C$6","v":"C-3333"},{"$f":"$B$35","v":0},{"$f":"$C$35","v":2},{"$f":"$D$35","v":19},7782492,null,{"$f":"'Livestock PM10'!AN27","v":0},{"$f":"'Livestock PM10'!AO27","v":0}]
[{"$f":"'Cow Housing'!$C$6","v":"C-3333"},{"$f":"$B$35","v":0},{"$f":"$C$35","v":2},{"$f":"$D$35","v":19},18540299,null,{"$f":"'Livestock PM10'!AN21","v":0},{"$f":"'Livestock PM10'!AO21","v":0}]
[{"$f":"'Cow Housing'!$C$6","v":"C-3333"},{"$f":"$B$36","v":0},{"$f":"$C$36","v":2},{"$f":"$D$36","v":20},9960,null,{"$f":"'Livestock PM10'!AP28","v":0},{"$f":"'Livestock PM10'!AQ28","v":0}]
[{"$f":"'Cow Housing'!$C$6","v":"C-3333"},{"$f":"$B$36","v":0},{"$f":"$C$36","v":2},{"$f":"$D$36","v":20},50000,null,{"$f":"'Dairy Miscellaneous'!AP40","v":0},{"$f":"'Dairy Miscellaneous'!AQ40","v":0}]
[{"$f":"'Cow Housing'!$C$6","v":"C-3333"},{"$f":"$B$36","v":0},{"$f":"$C$36","v":2},{"$f":"$D$36","v":20},56235,null,{"$f":"'Dairy Miscellaneous'!AP30","v":0},{"$f":"'Dairy Miscellaneous'!AQ30","v":0}]
[{"$f":"'Cow Housing'!$C$6","v":"C-3333"},{"$f":"$B$36","v":0},{"$f":"$C$36","v":2},{"$f":"$D$36","v":20},67630,null,{"$f":"'Dairy Miscellaneous'!AP42","v":0},{"$f":"'Dairy Miscellaneous'!AQ42","v":0}]
[{"$f":"'Cow Housing'!$C$6","v":"C-3333"},{"$f":"$B$36","v":0},{"$f":"$C$36","v":2},{"$f":"$D$36","v":20},67663,null,{"$f":"'Dairy Miscellaneous'!AP32","v":0},{"$f":"'Dairy Miscellaneous'!AQ32","v":0}]
[{"$f":"'Cow Housing'!$C$6","v":"C-3333"},{"$f":"$B$36","v":0},{"$f":"$C$36","v":2},{"$f":"$D$36","v":20},71432,null,{"$f":"'Dairy Miscellaneous'!AP26","v":0},{"$f":"'Dairy Miscellaneous'!AQ26","v":0}]
[{"$f":"'Cow Housing'!$C$6","v":"C-3333"},{"$f":"$B$36","v":0},{"$f":"$C$36","v":2},{"$f":"$D$36","v":20},74873,null,{"$f":"'Dairy Miscellaneous'!AP33","v":0},{"$f":"'Dairy Miscellaneous'!AQ33","v":0}]
[{"$f":"'Cow Housing'!$C$6","v":"C-3333"},{"$f":"$B$36","v":0},{"$f":"$C$36","v":2},{"$f":"$D$36","v":20},75003,null,{"$f":"'Dairy Miscellaneous'!AP36","v":0},{"$f":"'Dairy Miscellaneous'!AQ36","v":0}]
[{"$f":"'Cow Housing'!$C$6","v":"C-3333"},{"$f":"$B$36","v":0},{"$f":"$C$36","v":2},{"$f":"$D$36","v":20},75070,null,{"$f":"'Dairy Miscellaneous'!AP24","v":0},{"$f":"'Dairy Miscellaneous'!AQ24","v":0}]
[{"$f":"'Cow Housing'!$C$6","v":"C-3333"},{"$f":"$B$36","v":0},{"$f":"$C$36","v":2},{"$f":"$D$36","v":20},75150,null,{"$f":"'Dairy Miscellaneous'!AP29","v":0},{"$f":"'Dairy Miscellaneous'!AQ29","v":0}]
[{"$f":"'Cow Housing'!$C$6","v":"C-3333"},{"$f":"$B$36","v":0},{"$f":"$C$36","v":2},{"$f":"$D$36","v":20},75694,null,{"$f":"'Dairy Miscellaneous'!AP49","v":0},{"$f":"'Dairy Miscellaneous'!AQ49","v":0}]
[{"$f":"'Cow Housing'!$C$6","v":"C-3333"},{"$f":"$B$36","v":0},{"$f":"$C$36","v":2},{"$f":"$D$36","v":20},78933,null,{"$f":"'Dairy Miscellaneous'!AP44","v":0},{"$f":"'Dairy Miscellaneous'!AQ44","v":0}]
[{"$f":"'Cow Housing'!$C$6","v":"C-3333"},{"$f":"$B$36","v":0},{"$f":"$C$36","v":2},{"$f":"$D$36","v":20},79005,null,{"$f":"'Dairy Miscellaneous'!AP16","v":0},{"$f":"'Dairy Miscellaneous'!AQ16","v":0}]
[{"$f":"'Cow Housing'!$C$6","v":"C-3333"},{"$f":"$B$36","v":0},{"$f":"$C$36","v":2},{"$f":"$D$36","v":20},79345,null,{"$f":"'Dairy Miscellaneous'!AP15","v":0},{"$f":"'Dairy Miscellaneous'!AQ15","v":0}]
[{"$f":"'Cow Housing'!$C$6","v":"C-3333"},{"$f":"$B$36","v":0},{"$f":"$C$36","v":2},{"$f":"$D$36","v":20},95501,null,{"$f":"'Dairy Miscellaneous'!AP20","v":0},{"$f":"'Dairy Miscellaneous'!AQ20","v":0}]
[{"$f":"'Cow Housing'!$C$6","v":"C-3333"},{"$f":"$B$36","v":0},{"$f":"$C$36","v":2},{"$f":"$D$36","v":20},96128,null,{"$f":"'Dairy Miscellaneous'!AP19","v":0},{"$f":"'Dairy Miscellaneous'!AQ19","v":0}]
[{"$f":"'Cow Housing'!$C$6","v":"C-3333"},{"$f":"$B$36","v":0},{"$f":"$C$36","v":2},{"$f":"$D$36","v":20},96184,null,{"$f":"'Dairy Miscellaneous'!AP17","v":0},{"$f":"'Dairy Miscellaneous'!AQ17","v":0}]
[{"$f":"'Cow Housing'!$C$6","v":"C-3333"},{"$f":"$B$36","v":0},{"$f":"$C$36","v":2},{"$f":"$D$36","v":20},98828,null,{"$f":"'Dairy Miscellaneous'!AP43","v":0},{"$f":"'Dairy Miscellaneous'!AQ43","v":0}]
[{"$f":"'Cow Housing'!$C$6","v":"C-3333"},{"$f":"$B$36","v":0},{"$f":"$C$36","v":2},{"$f":"$D$36","v":20},100414,null,{"$f":"'Dairy Miscellaneous'!AP37","v":0},{"$f":"'Dairy Miscellaneous'!AQ37","v":0}]
[{"$f":"'Cow Housing'!$C$6","v":"C-3333"},{"$f":"$B$36","v":0},{"$f":"$C$36","v":2},{"$f":"$D$36","v":20},100425,null,{"$f":"'Dairy Miscellaneous'!AP46","v":0},{"$f":"'Dairy Miscellaneous'!AQ46","v":0}]
[{"$f":"'Cow Housing'!$C$6","v":"C-3333"},{"$f":"$B$36","v":0},{"$f":"$C$36","v":2},{"$f":"$D$36","v":20},100447,null,{"$f":"'Dairy Miscellaneous'!AP27","v":0},{"$f":"'Dairy Miscellaneous'!AQ27","v":0}]
[{"$f":"'Cow Housing'!$C$6","v":"C-3333"},{"$f":"$B$36","v":0},{"$f":"$C$36","v":2},{"$f":"$D$36","v":20},106467,null,{"$f":"'Dairy Miscellaneous'!AP23","v":0},{"$f":"'Dairy Miscellaneous'!AQ23","v":0}]
[{"$f":"'Cow Housing'!$C$6","v":"C-3333"},{"$f":"$B$36","v":0},{"$f":"$C$36","v":2},{"$f":"$D$36","v":20},106934,null,{"$f":"'Dairy Miscellaneous'!AP38","v":0},{"$f":"'Dairy Miscellaneous'!AQ38","v":0}]
[{"$f":"'Cow Housing'!$C$6","v":"C-3333"},{"$f":"$B$36","v":0},{"$f":"$C$36","v":2},{"$f":"$D$36","v":20},107062,null,{"$f":"'Dairy Miscellaneous'!AP39","v":0},{"$f":"'Dairy Miscellaneous'!AQ39","v":0}]
[{"$f":"'Cow Housing'!$C$6","v":"C-3333"},{"$f":"$B$36","v":0},{"$f":"$C$36","v":2},{"$f":"$D$36","v":20},107131,null,{"$f":"'Dairy Miscellaneous'!AP25","v":0},{"$f":"'Dairy Miscellaneous'!AQ25","v":0}]
[{"$f":"'Cow Housing'!$C$6","v":"C-3333"},{"$f":"$B$36","v":0},{"$f":"$C$36","v":2},{"$f":"$D$36","v":20},108054,null,{"$f":"'Dairy Miscellaneous'!AP50","v":0},{"$f":"'Dairy Miscellaneous'!AQ50","v":0}]
[{"$f":"'Cow Housing'!$C$6","v":"C-3333"},{"$f":"$B$36","v":0},{"$f":"$C$36","v":2},{"$f":"$D$36","v":20},108101,null,{"$f":"'Dairy Miscellaneous'!AP45","v":0},{"$f":"'Dairy Miscellaneous'!AQ45","v":0}]
[{"$f":"'Cow Housing'!$C$6","v":"C-3333"},{"$f":"$B$36","v":0},{"$f":"$C$36","v":2},{"$f":"$D$36","v":20},108883,null,{"$f":"'Dairy Miscellaneous'!AP48","v":0},{"$f":"'Dairy Miscellaneous'!AQ48","v":0}]
[{"$f":"'Cow Housing'!$C$6","v":"C-3333"},{"$f":"$B$36","v":0},{"$f":"$C$36","v":2},{"$f":"$D$36","v":20},108907,null,{"$f":"'Dairy Miscellaneous'!AP31","v":0},{"$f":"'Dairy Miscellaneous'!AQ31","v":0}]
[{"$f":"'Cow Housing'!$C$6","v":"C-3333"},{"$f":"$B$36","v":0},{"$f":"$C$36","v":2},{"$f":"$D$36","v":20},110543,null,{"$f":"'Dairy Miscellaneous'!AP41","v":0},{"$f":"'Dairy Miscellaneous'!AQ41","v":0}]
[{"$f":"'Cow Housing'!$C$6","v":"C-3333"},{"$f":"$B$36","v":0},{"$f":"$C$36","v":2},{"$f":"$D$36","v":20},110827,null,{"$f":"'Dairy Miscellaneous'!AP35","v":0},{"$f":"'Dairy Miscellaneous'!AQ35","v":0}]
[{"$f":"'Cow Housing'!$C$6","v":"C-3333"},{"$f":"$B$36","v":0},{"$f":"$C$36","v":2},{"$f":"$D$36","v":20},120821,null,{"$f":"'Dairy Miscellaneous'!AP18","v":0},{"$f":"'Dairy Miscellaneous'!AQ18","v":0}]
[{"$f":"'Cow Housing'!$C$6","v":"C-3333"},{"$f":"$B$36","v":0},{"$f":"$C$36","v":2},{"$f":"$D$36","v":20},123728,null,{"$f":"'Dairy Miscellaneous'!AP28","v":0},{"$f":"'Dairy Miscellaneous'!AQ28","v":0}]
[{"$f":"'Cow Housing'!$C$6","v":"C-3333"},{"$f":"$B$36","v":0},{"$f":"$C$36","v":2},{"$f":"$D$36","v":20},123911,null,{"$f":"'Dairy Miscellaneous'!AP22","v":0},{"$f":"'Dairy Miscellaneous'!AQ22","v":0}]
[{"$f":"'Cow Housing'!$C$6","v":"C-3333"},{"$f":"$B$36","v":0},{"$f":"$C$36","v":2},{"$f":"$D$36","v":20},541731,null,{"$f":"'Dairy Miscellaneous'!AP21","v":0},{"$f":"'Dairy Miscellaneous'!AQ21","v":0}]
[{"$f":"'Cow Housing'!$C$6","v":"C-3333"},{"$f":"$B$36","v":0},{"$f":"$C$36","v":2},{"$f":"$D$36","v":20},764410,null,{"$f":"'Dairy Miscellaneous'!AP47","v":0},{"$f":"'Dairy Miscellaneous'!AQ47","v":0}]
[{"$f":"'Cow Housing'!$C$6","v":"C-3333"},{"$f":"$B$36","v":0},{"$f":"$C$36","v":2},{"$f":"$D$36","v":20},1330207,null,{"$f":"'Dairy Miscellaneous'!AP51","v":0},{"$f":"'Dairy Miscellaneous'!AQ51","v":0}]
[{"$f":"'Cow Housing'!$C$6","v":"C-3333"},{"$f":"$B$36","v":0},{"$f":"$C$36","v":2},{"$f":"$D$36","v":20},4170303,null,{"$f":"'Dairy Miscellaneous'!AP34","v":0},{"$f":"'Dairy Miscellaneous'!AQ34","v":0}]
[{"$f":"'Cow Housing'!$C$6","v":"C-3333"},{"$f":"$B$36","v":0},{"$f":"$C$36","v":2},{"$f":"$D$36","v":20},7429905,null,{"$f":"'Livestock PM10'!AP14","v":0},{"$f":"'Livestock PM10'!AQ14","v":0}]
[{"$f":"'Cow Housing'!$C$6","v":"C-3333"},{"$f":"$B$36","v":0},{"$f":"$C$36","v":2},{"$f":"$D$36","v":20},7439921,null,{"$f":"'Livestock PM10'!AP22","v":0},{"$f":"'Livestock PM10'!AQ22","v":0}]
[{"$f":"'Cow Housing'!$C$6","v":"C-3333"},{"$f":"$B$36","v":0},{"$f":"$C$36","v":2},{"$f":"$D$36","v":20},7439965,null,{"$f":"'Livestock PM10'!AP23","v":0},{"$f":"'Livestock PM10'!AQ23","v":0}]
[{"$f":"'Cow Housing'!$C$6","v":"C-3333"},{"$f":"$B$36","v":0},{"$f":"$C$36","v":2},{"$f":"$D$36","v":20},7439976,null,{"$f":"'Livestock PM10'!AP24","v":0},{"$f":"'Livestock PM10'!AQ24","v":0}]
[{"$f":"'Cow Housing'!$C$6","v":"C-3333"},{"$f":"$B$36","v":0},{"$f":"$C$36","v":2},{"$f":"$D$36","v":20},7440020,null,{"$f":"'Livestock PM10'!AP25","v":0},{"$f":"'Livestock PM10'!AQ25","v":0}]
[{"$f":"'Cow Housing'!$C$6","v":"C-3333"},{"$f":"$B$36","v":0},{"$f":"$C$36","v":2},{"$f":"$D$36","v":20},7440360,null,{"$f":"'Livestock PM10'!AP15","v":0},{"$f":"'Livestock PM10'!AQ15","v":0}]
[{"$f":"'Cow Housing'!$C$6","v":"C-3333"},{"$f":"$B$36","v":0},{"$f":"$C$36","v":2},{"$f":"$D$36","v":20},7440382,null,{"$f":"'Livestock PM10'!AP16","v":0},{"$f":"'Livestock PM10'!AQ16","v":0}]
[{"$f":"'Cow Housing'!$C$6","v":"C-3333"},{"$f":"$B$36","v":0},{"$f":"$C$36","v":2},{"$f":"$D$36","v":20},7440393,null,{"$f":"'Livestock PM10'!AP17","v":0},{"$f":"'Livestock PM10'!AQ17","v":0}]
[{"$f":"'Cow Housing'!$C$6","v":"C-3333"},{"$f":"$B$36","v":0},{"$f":"$C$36","v":2},{"$f":"$D$36","v":20},7440473,null,{"$f":"'Livestock PM10'!AP19","v":0},{"$f":"'Livestock PM10'!AQ19","v":0}]
[{"$f":"'Cow Housing'!$C$6","v":"C-3333"},{"$f":"$B$36","v":0},{"$f":"$C$36","v":2},{"$f":"$D$36","v":20},7440508,null,{"$f":"'Livestock PM10'!AP20","v":0},{"$f":"'Livestock PM10'!AQ20","v":0}]
[{"$f":"'Cow Housing'!$C$6","v":"C-3333"},{"$f":"$B$36","v":0},{"$f":"$C$36","v":2},{"$f":"$D$36","v":20},7440622,null,{"$f":"'Livestock PM10'!AP29","v":0},{"$f":"'Livestock PM10'!AQ29","v":0}]
[{"$f":"'Cow Housing'!$C$6","v":"C-3333"},{"$f":"$B$36","v":0},{"$f":"$C$36","v":2},{"$f":"$D$36","v":20},7440666,null,{"$f":"'Livestock PM10'!AP30","v":0},{"$f":"'Livestock PM10'!AQ30","v":0}]
[{"$f":"'Cow Housing'!$C$6","v":"C-3333"},{"$f":"$B$36","v":0},{"$f":"$C$36","v":2},{"$f":"$D$36","v":20},7664417,null,{"$f":"'Livestock PM10'!AP31","v":0},{"$f":"'Livestock PM10'!AQ31","v":0}]
[{"$f":"'Cow Housing'!$C$6","v":"C-3333"},{"$f":"$B$36","v":0},{"$f":"$C$36","v":2},{"$f":"$D$36","v":20},7723140,null,{"$f":"'Livestock PM10'!AP26","v":0},{"$f":"'Livestock PM10'!AQ26","v":0}]
[{"$f":"'Cow Housing'!$C$6","v":"C-3333"},{"$f":"$B$36","v":0},{"$f":"$C$36","v":2},{"$f":"$D$36","v":20},7726956,null,{"$f":"'Livestock PM10'!AP18","v":0},{"$f":"'Livestock PM10'!AQ18","v":0}]
[{"$f":"'Cow Housing'!$C$6","v":"C-3333"},{"$f":"$B$36","v":0},{"$f":"$C$36","v":2},{"$f":"$D$36","v":20},7782492,null,{"$f":"'Livestock PM10'!AP27","v":0},{"$f":"'Livestock PM10'!AQ27","v":0}]
[{"$f":"'Cow Housing'!$C$6","v":"C-3333"},{"$f":"$B$36","v":0},{"$f":"$C$36","v":2},{"$f":"$D$36","v":20},18540299,null,{"$f":"'Livestock PM10'!AP21","v":0},{"$f":"'Livestock PM10'!AQ21","v":0}]
[{"$f":"'Cow Housing'!$C$6","v":"C-3333"},{"$f":"$B$37","v":0},{"$f":"$C$37","v":2},{"$f":"$D$37","v":21},9960,null,{"$f":"'Livestock PM10 2'!D28","v":0},{"$f":"'Livestock PM10 2'!E28","v":0}]
[{"$f":"'Cow Housing'!$C$6","v":"C-3333"},{"$f":"$B$37","v":0},{"$f":"$C$37","v":2},{"$f":"$D$37","v":21},50000,null,{"$f":"'Dairy Miscellaneous 2'!D40","v":0},{"$f":"'Dairy Miscellaneous 2'!E40","v":0}]
[{"$f":"'Cow Housing'!$C$6","v":"C-3333"},{"$f":"$B$37","v":0},{"$f":"$C$37","v":2},{"$f":"$D$37","v":21},56235,null,{"$f":"'Dairy Miscellaneous 2'!D30","v":0},{"$f":"'Dairy Miscellaneous 2'!E30","v":0}]
[{"$f":"'Cow Housing'!$C$6","v":"C-3333"},{"$f":"$B$37","v":0},{"$f":"$C$37","v":2},{"$f":"$D$37","v":21},67630,null,{"$f":"'Dairy Miscellaneous 2'!D42","v":0},{"$f":"'Dairy Miscellaneous 2'!E42","v":0}]
[{"$f":"'Cow Housing'!$C$6","v":"C-3333"},{"$f":"$B$37","v":0},{"$f":"$C$37","v":2},{"$f":"$D$37","v":21},67663,null,{"$f":"'Dairy Miscellaneous 2'!D32","v":0},{"$f":"'Dairy Miscellaneous 2'!E32","v":0}]
[{"$f":"'Cow Housing'!$C$6","v":"C-3333"},{"$f":"$B$37","v":0},{"$f":"$C$37","v":2},{"$f":"$D$37","v":21},71432,null,{"$f":"'Dairy Miscellaneous 2'!D26","v":0},{"$f":"'Dairy Miscellaneous 2'!E26","v":0}]
[{"$f":"'Cow Housing'!$C$6","v":"C-3333"},{"$f":"$B$37","v":0},{"$f":"$C$37","v":2},{"$f":"$D$37","v":21},74873,null,{"$f":"'Dairy Miscellaneous 2'!D33","v":0},{"$f":"'Dairy Miscellaneous 2'!E33","v":0}]
[{"$f":"'Cow Housing'!$C$6","v":"C-3333"},{"$f":"$B$37","v":0},{"$f":"$C$37","v":2},{"$f":"$D$37","v":21},75003,null,{"$f":"'Dairy Miscellaneous 2'!D36","v":0},{"$f":"'Dairy Miscellaneous 2'!E36","v":0}]
[{"$f":"'Cow Housing'!$C$6","v":"C-3333"},{"$f":"$B$37","v":0},{"$f":"$C$37","v":2},{"$f":"$D$37","v":21},75070,null,{"$f":"'Dairy Miscellaneous 2'!D24","v":0},{"$f":"'Dairy Miscellaneous 2'!E24","v":0}]
[{"$f":"'Cow Housing'!$C$6","v":"C-3333"},{"$f":"$B$37","v":0},{"$f":"$C$37","v":2},{"$f":"$D$37","v":21},75150,null,{"$f":"'Dairy Miscellaneous 2'!D29","v":0},{"$f":"'Dairy Miscellaneous 2'!E29","v":0}]
[{"$f":"'Cow Housing'!$C$6","v":"C-3333"},{"$f":"$B$37","v":0},{"$f":"$C$37","v":2},{"$f":"$D$37","v":21},75694,null,{"$f":"'Dairy Miscellaneous 2'!D49","v":0},{"$f":"'Dairy Miscellaneous 2'!E49","v":0}]
[{"$f":"'Cow Housing'!$C$6","v":"C-3333"},{"$f":"$B$37","v":0},{"$f":"$C$37","v":2},{"$f":"$D$37","v":21},78933,null,{"$f":"'Dairy Miscellaneous 2'!D44","v":0},{"$f":"'Dairy Miscellaneous 2'!E44","v":0}]
[{"$f":"'Cow Housing'!$C$6","v":"C-3333"},{"$f":"$B$37","v":0},{"$f":"$C$37","v":2},{"$f":"$D$37","v":21},79005,null,{"$f":"'Dairy Miscellaneous 2'!D16","v":0},{"$f":"'Dairy Miscellaneous 2'!E16","v":0}]
[{"$f":"'Cow Housing'!$C$6","v":"C-3333"},{"$f":"$B$37","v":0},{"$f":"$C$37","v":2},{"$f":"$D$37","v":21},79345,null,{"$f":"'Dairy Miscellaneous 2'!D15","v":0},{"$f":"'Dairy Miscellaneous 2'!E15","v":0}]
[{"$f":"'Cow Housing'!$C$6","v":"C-3333"},{"$f":"$B$37","v":0},{"$f":"$C$37","v":2},{"$f":"$D$37","v":21},95501,null,{"$f":"'Dairy Miscellaneous 2'!D20","v":0},{"$f":"'Dairy Miscellaneous 2'!E20","v":0}]
[{"$f":"'Cow Housing'!$C$6","v":"C-3333"},{"$f":"$B$37","v":0},{"$f":"$C$37","v":2},{"$f":"$D$37","v":21},96128,null,{"$f":"'Dairy Miscellaneous 2'!D19","v":0},{"$f":"'Dairy Miscellaneous 2'!E19","v":0}]
[{"$f":"'Cow Housing'!$C$6","v":"C-3333"},{"$f":"$B$37","v":0},{"$f":"$C$37","v":2},{"$f":"$D$37","v":21},96184,null,{"$f":"'Dairy Miscellaneous 2'!D17","v":0},{"$f":"'Dairy Miscellaneous 2'!E17","v":0}]
[{"$f":"'Cow Housing'!$C$6","v":"C-3333"},{"$f":"$B$37","v":0},{"$f":"$C$37","v":2},{"$f":"$D$37","v":21},98828,null,{"$f":"'Dairy Miscellaneous 2'!D43","v":0},{"$f":"'Dairy Miscellaneous 2'!E43","v":0}]
[{"$f":"'Cow Housing'!$C$6","v":"C-3333"},{"$f":"$B$37","v":0},{"$f":"$C$37","v":2},{"$f":"$D$37","v":21},100414,null,{"$f":"'Dairy Miscellaneous 2'!D37","v":0},{"$f":"'Dairy Miscellaneous 2'!E37","v":0}]
[{"$f":"'Cow Housing'!$C$6","v":"C-3333"},{"$f":"$B$37","v":0},{"$f":"$C$37","v":2},{"$f":"$D$37","v":21},100425,null,{"$f":"'Dairy Miscellaneous 2'!D46","v":0},{"$f":"'Dairy Miscellaneous 2'!E46","v":0}]
[{"$f":"'Cow Housing'!$C$6","v":"C-3333"},{"$f":"$B$37","v":0},{"$f":"$C$37","v":2},{"$f":"$D$37","v":21},100447,null,{"$f":"'Dairy Miscellaneous 2'!D27","v":0},{"$f":"'Dairy Miscellaneous 2'!E27","v":0}]
[{"$f":"'Cow Housing'!$C$6","v":"C-3333"},{"$f":"$B$37","v":0},{"$f":"$C$37","v":2},{"$f":"$D$37","v":21},106467,null,{"$f":"'Dairy Miscellaneous 2'!D23","v":0},{"$f":"'Dairy Miscellaneous 2'!E23","v":0}]
[{"$f":"'Cow Housing'!$C$6","v":"C-3333"},{"$f":"$B$37","v":0},{"$f":"$C$37","v":2},{"$f":"$D$37","v":21},106934,null,{"$f":"'Dairy Miscellaneous 2'!D38","v":0},{"$f":"'Dairy Miscellaneous 2'!E38","v":0}]
[{"$f":"'Cow Housing'!$C$6","v":"C-3333"},{"$f":"$B$37","v":0},{"$f":"$C$37","v":2},{"$f":"$D$37","v":21},107062,null,{"$f":"'Dairy Miscellaneous 2'!D39","v":0},{"$f":"'Dairy Miscellaneous 2'!E39","v":0}]
[{"$f":"'Cow Housing'!$C$6","v":"C-3333"},{"$f":"$B$37","v":0},{"$f":"$C$37","v":2},{"$f":"$D$37","v":21},107131,null,{"$f":"'Dairy Miscellaneous 2'!D25","v":0},{"$f":"'Dairy Miscellaneous 2'!E25","v":0}]
[{"$f":"'Cow Housing'!$C$6","v":"C-3333"},{"$f":"$B$37","v":0},{"$f":"$C$37","v":2},{"$f":"$D$37","v":21},108054,null,{"$f":"'Dairy Miscellaneous 2'!D50","v":0},{"$f":"'Dairy Miscellaneous 2'!E50","v":0}]
[{"$f":"'Cow Housing'!$C$6","v":"C-3333"},{"$f":"$B$37","v":0},{"$f":"$C$37","v":2},{"$f":"$D$37","v":21},108101,null,{"$f":"'Dairy Miscellaneous 2'!D45","v":0},{"$f":"'Dairy Miscellaneous 2'!E45","v":0}]
[{"$f":"'Cow Housing'!$C$6","v":"C-3333"},{"$f":"$B$37","v":0},{"$f":"$C$37","v":2},{"$f":"$D$37","v":21},108883,null,{"$f":"'Dairy Miscellaneous 2'!D48","v":0},{"$f":"'Dairy Miscellaneous 2'!E48","v":0}]
[{"$f":"'Cow Housing'!$C$6","v":"C-3333"},{"$f":"$B$37","v":0},{"$f":"$C$37","v":2},{"$f":"$D$37","v":21},108907,null,{"$f":"'Dairy Miscellaneous 2'!D31","v":0},{"$f":"'Dairy Miscellaneous 2'!E31","v":0}]
[{"$f":"'Cow Housing'!$C$6","v":"C-3333"},{"$f":"$B$37","v":0},{"$f":"$C$37","v":2},{"$f":"$D$37","v":21},110543,null,{"$f":"'Dairy Miscellaneous 2'!D41","v":0},{"$f":"'Dairy Miscellaneous 2'!E41","v":0}]
[{"$f":"'Cow Housing'!$C$6","v":"C-3333"},{"$f":"$B$37","v":0},{"$f":"$C$37","v":2},{"$f":"$D$37","v":21},110827,null,{"$f":"'Dairy Miscellaneous 2'!D35","v":0},{"$f":"'Dairy Miscellaneous 2'!E35","v":0}]
[{"$f":"'Cow Housing'!$C$6","v":"C-3333"},{"$f":"$B$37","v":0},{"$f":"$C$37","v":2},{"$f":"$D$37","v":21},120821,null,{"$f":"'Dairy Miscellaneous 2'!D18","v":0},{"$f":"'Dairy Miscellaneous 2'!E18","v":0}]
[{"$f":"'Cow Housing'!$C$6","v":"C-3333"},{"$f":"$B$37","v":0},{"$f":"$C$37","v":2},{"$f":"$D$37","v":21},123728,null,{"$f":"'Dairy Miscellaneous 2'!D28","v":0},{"$f":"'Dairy Miscellaneous 2'!E28","v":0}]
[{"$f":"'Cow Housing'!$C$6","v":"C-3333"},{"$f":"$B$37","v":0},{"$f":"$C$37","v":2},{"$f":"$D$37","v":21},123911,null,{"$f":"'Dairy Miscellaneous 2'!D22","v":0},{"$f":"'Dairy Miscellaneous 2'!E22","v":0}]
[{"$f":"'Cow Housing'!$C$6","v":"C-3333"},{"$f":"$B$37","v":0},{"$f":"$C$37","v":2},{"$f":"$D$37","v":21},541731,null,{"$f":"'Dairy Miscellaneous 2'!D21","v":0},{"$f":"'Dairy Miscellaneous 2'!E21","v":0}]
[{"$f":"'Cow Housing'!$C$6","v":"C-3333"},{"$f":"$B$37","v":0},{"$f":"$C$37","v":2},{"$f":"$D$37","v":21},764410,null,{"$f":"'Dairy Miscellaneous 2'!D47","v":0},{"$f":"'Dairy Miscellaneous 2'!E47","v":0}]
[{"$f":"'Cow Housing'!$C$6","v":"C-3333"},{"$f":"$B$37","v":0},{"$f":"$C$37","v":2},{"$f":"$D$37","v":21},1330207,null,{"$f":"'Dairy Miscellaneous 2'!D51","v":0},{"$f":"'Dairy Miscellaneous 2'!E51","v":0}]
[{"$f":"'Cow Housing'!$C$6","v":"C-3333"},{"$f":"$B$37","v":0},{"$f":"$C$37","v":2},{"$f":"$D$37","v":21},4170303,null,{"$f":"'Dairy Miscellaneous 2'!D34","v":0},{"$f":"'Dairy Miscellaneous 2'!E34","v":0}]
[{"$f":"'Cow Housing'!$C$6","v":"C-3333"},{"$f":"$B$37","v":0},{"$f":"$C$37","v":2},{"$f":"$D$37","v":21},7429905,null,{"$f":"'Livestock PM10 2'!D14","v":0},{"$f":"'Livestock PM10 2'!E14","v":0}]
[{"$f":"'Cow Housing'!$C$6","v":"C-3333"},{"$f":"$B$37","v":0},{"$f":"$C$37","v":2},{"$f":"$D$37","v":21},7439921,null,{"$f":"'Livestock PM10 2'!D22","v":0},{"$f":"'Livestock PM10 2'!E22","v":0}]
[{"$f":"'Cow Housing'!$C$6","v":"C-3333"},{"$f":"$B$37","v":0},{"$f":"$C$37","v":2},{"$f":"$D$37","v":21},7439965,null,{"$f":"'Livestock PM10 2'!D23","v":0},{"$f":"'Livestock PM10 2'!E23","v":0}]
[{"$f":"'Cow Housing'!$C$6","v":"C-3333"},{"$f":"$B$37","v":0},{"$f":"$C$37","v":2},{"$f":"$D$37","v":21},7439976,null,{"$f":"'Livestock PM10 2'!D24","v":0},{"$f":"'Livestock PM10 2'!E24","v":0}]
[{"$f":"'Cow Housing'!$C$6","v":"C-3333"},{"$f":"$B$37","v":0},{"$f":"$C$37","v":2},{"$f":"$D$37","v":21},7440020,null,{"$f":"'Livestock PM10 2'!D25","v":0},{"$f":"'Livestock PM10 2'!E25","v":0}]
[{"$f":"'Cow Housing'!$C$6","v":"C-3333"},{"$f":"$B$37","v":0},{"$f":"$C$37","v":2},{"$f":"$D$37","v":21},7440360,null,{"$f":"'Livestock PM10 2'!D15","v":0},{"$f":"'Livestock PM10 2'!E15","v":0}]
[{"$f":"'Cow Housing'!$C$6","v":"C-3333"},{"$f":"$B$37","v":0},{"$f":"$C$37","v":2},{"$f":"$D$37","v":21},7440382,null,{"$f":"'Livestock PM10 2'!D16","v":0},{"$f":"'Livestock PM10 2'!E16","v":0}]
[{"$f":"'Cow Housing'!$C$6","v":"C-3333"},{"$f":"$B$37","v":0},{"$f":"$C$37","v":2},{"$f":"$D$37","v":21},7440393,null,{"$f":"'Livestock PM10 2'!D17","v":0},{"$f":"'Livestock PM10 2'!E17","v":0}]
[{"$f":"'Cow Housing'!$C$6","v":"C-3333"},{"$f":"$B$37","v":0},{"$f":"$C$37","v":2},{"$f":"$D$37","v":21},7440473,null,{"$f":"'Livestock PM10 2'!D19","v":0},{"$f":"'Livestock PM10 2'!E19","v":0}]
[{"$f":"'Cow Housing'!$C$6","v":"C-3333"},{"$f":"$B$37","v":0},{"$f":"$C$37","v":2},{"$f":"$D$37","v":21},7440508,null,{"$f":"'Livestock PM10 2'!D20","v":0},{"$f":"'Livestock PM10 2'!E20","v":0}]
[{"$f":"'Cow Housing'!$C$6","v":"C-3333"},{"$f":"$B$37","v":0},{"$f":"$C$37","v":2},{"$f":"$D$37","v":21},7440622,null,{"$f":"'Livestock PM10 2'!D29","v":0},{"$f":"'Livestock PM10 2'!E29","v":0}]
[{"$f":"'Cow Housing'!$C$6","v":"C-3333"},{"$f":"$B$37","v":0},{"$f":"$C$37","v":2},{"$f":"$D$37","v":21},7440666,null,{"$f":"'Livestock PM10 2'!D30","v":0},{"$f":"'Livestock PM10 2'!E30","v":0}]
[{"$f":"'Cow Housing'!$C$6","v":"C-3333"},{"$f":"$B$37","v":0},{"$f":"$C$37","v":2},{"$f":"$D$37","v":21},7664417,null,{"$f":"'Livestock PM10 2'!D31","v":0},{"$f":"'Livestock PM10 2'!E31","v":0}]
[{"$f":"'Cow Housing'!$C$6","v":"C-3333"},{"$f":"$B$37","v":0},{"$f":"$C$37","v":2},{"$f":"$D$37","v":21},7723140,null,{"$f":"'Livestock PM10 2'!D26","v":0},{"$f":"'Livestock PM10 2'!E26","v":0}]
[{"$f":"'Cow Housing'!$C$6","v":"C-3333"},{"$f":"$B$37","v":0},{"$f":"$C$37","v":2},{"$f":"$D$37","v":21},7726956,null,{"$f":"'Livestock PM10 2'!D18","v":0},{"$f":"'Livestock PM10 2'!E18","v":0}]
[{"$f":"'Cow Housing'!$C$6","v":"C-3333"},{"$f":"$B$37","v":0},{"$f":"$C$37","v":2},{"$f":"$D$37","v":21},7782492,null,{"$f":"'Livestock PM10 2'!D27","v":0},{"$f":"'Livestock PM10 2'!E27","v":0}]
[{"$f":"'Cow Housing'!$C$6","v":"C-3333"},{"$f":"$B$37","v":0},{"$f":"$C$37","v":2},{"$f":"$D$37","v":21},18540299,null,{"$f":"'Livestock PM10 2'!D21","v":0},{"$f":"'Livestock PM10 2'!E21","v":0}]
[{"$f":"'Cow Housing'!$C$6","v":"C-3333"},{"$f":"$B$38","v":0},{"$f":"$C$38","v":2},{"$f":"$D$38","v":22},9960,null,{"$f":"'Livestock PM10 2'!F28","v":0},{"$f":"'Livestock PM10 2'!G28","v":0}]
[{"$f":"'Cow Housing'!$C$6","v":"C-3333"},{"$f":"$B$38","v":0},{"$f":"$C$38","v":2},{"$f":"$D$38","v":22},50000,null,{"$f":"'Dairy Miscellaneous 2'!F40","v":0},{"$f":"'Dairy Miscellaneous 2'!G40","v":0}]
[{"$f":"'Cow Housing'!$C$6","v":"C-3333"},{"$f":"$B$38","v":0},{"$f":"$C$38","v":2},{"$f":"$D$38","v":22},56235,null,{"$f":"'Dairy Miscellaneous 2'!F30","v":0},{"$f":"'Dairy Miscellaneous 2'!G30","v":0}]
[{"$f":"'Cow Housing'!$C$6","v":"C-3333"},{"$f":"$B$38","v":0},{"$f":"$C$38","v":2},{"$f":"$D$38","v":22},67630,null,{"$f":"'Dairy Miscellaneous 2'!F42","v":0},{"$f":"'Dairy Miscellaneous 2'!G42","v":0}]
[{"$f":"'Cow Housing'!$C$6","v":"C-3333"},{"$f":"$B$38","v":0},{"$f":"$C$38","v":2},{"$f":"$D$38","v":22},67663,null,{"$f":"'Dairy Miscellaneous 2'!F32","v":0},{"$f":"'Dairy Miscellaneous 2'!G32","v":0}]
[{"$f":"'Cow Housing'!$C$6","v":"C-3333"},{"$f":"$B$38","v":0},{"$f":"$C$38","v":2},{"$f":"$D$38","v":22},71432,null,{"$f":"'Dairy Miscellaneous 2'!F26","v":0},{"$f":"'Dairy Miscellaneous 2'!G26","v":0}]
[{"$f":"'Cow Housing'!$C$6","v":"C-3333"},{"$f":"$B$38","v":0},{"$f":"$C$38","v":2},{"$f":"$D$38","v":22},74873,null,{"$f":"'Dairy Miscellaneous 2'!F33","v":0},{"$f":"'Dairy Miscellaneous 2'!G33","v":0}]
[{"$f":"'Cow Housing'!$C$6","v":"C-3333"},{"$f":"$B$38","v":0},{"$f":"$C$38","v":2},{"$f":"$D$38","v":22},75003,null,{"$f":"'Dairy Miscellaneous 2'!F36","v":0},{"$f":"'Dairy Miscellaneous 2'!G36","v":0}]
[{"$f":"'Cow Housing'!$C$6","v":"C-3333"},{"$f":"$B$38","v":0},{"$f":"$C$38","v":2},{"$f":"$D$38","v":22},75070,null,{"$f":"'Dairy Miscellaneous 2'!F24","v":0},{"$f":"'Dairy Miscellaneous 2'!G24","v":0}]
[{"$f":"'Cow Housing'!$C$6","v":"C-3333"},{"$f":"$B$38","v":0},{"$f":"$C$38","v":2},{"$f":"$D$38","v":22},75150,null,{"$f":"'Dairy Miscellaneous 2'!F29","v":0},{"$f":"'Dairy Miscellaneous 2'!G29","v":0}]
[{"$f":"'Cow Housing'!$C$6","v":"C-3333"},{"$f":"$B$38","v":0},{"$f":"$C$38","v":2},{"$f":"$D$38","v":22},75694,null,{"$f":"'Dairy Miscellaneous 2'!F49","v":0},{"$f":"'Dairy Miscellaneous 2'!G49","v":0}]
[{"$f":"'Cow Housing'!$C$6","v":"C-3333"},{"$f":"$B$38","v":0},{"$f":"$C$38","v":2},{"$f":"$D$38","v":22},78933,null,{"$f":"'Dairy Miscellaneous 2'!F44","v":0},{"$f":"'Dairy Miscellaneous 2'!G44","v":0}]
[{"$f":"'Cow Housing'!$C$6","v":"C-3333"},{"$f":"$B$38","v":0},{"$f":"$C$38","v":2},{"$f":"$D$38","v":22},79005,null,{"$f":"'Dairy Miscellaneous 2'!F16","v":0},{"$f":"'Dairy Miscellaneous 2'!G16","v":0}]
[{"$f":"'Cow Housing'!$C$6","v":"C-3333"},{"$f":"$B$38","v":0},{"$f":"$C$38","v":2},{"$f":"$D$38","v":22},79345,null,{"$f":"'Dairy Miscellaneous 2'!F15","v":0},{"$f":"'Dairy Miscellaneous 2'!G15","v":0}]
[{"$f":"'Cow Housing'!$C$6","v":"C-3333"},{"$f":"$B$38","v":0},{"$f":"$C$38","v":2},{"$f":"$D$38","v":22},95501,null,{"$f":"'Dairy Miscellaneous 2'!F20","v":0},{"$f":"'Dairy Miscellaneous 2'!G20","v":0}]
[{"$f":"'Cow Housing'!$C$6","v":"C-3333"},{"$f":"$B$38","v":0},{"$f":"$C$38","v":2},{"$f":"$D$38","v":22},96128,null,{"$f":"'Dairy Miscellaneous 2'!F19","v":0},{"$f":"'Dairy Miscellaneous 2'!G19","v":0}]
[{"$f":"'Cow Housing'!$C$6","v":"C-3333"},{"$f":"$B$38","v":0},{"$f":"$C$38","v":2},{"$f":"$D$38","v":22},96184,null,{"$f":"'Dairy Miscellaneous 2'!F17","v":0},{"$f":"'Dairy Miscellaneous 2'!G17","v":0}]
[{"$f":"'Cow Housing'!$C$6","v":"C-3333"},{"$f":"$B$38","v":0},{"$f":"$C$38","v":2},{"$f":"$D$38","v":22},98828,null,{"$f":"'Dairy Miscellaneous 2'!F43","v":0},{"$f":"'Dairy Miscellaneous 2'!G43","v":0}]
[{"$f":"'Cow Housing'!$C$6","v":"C-3333"},{"$f":"$B$38","v":0},{"$f":"$C$38","v":2},{"$f":"$D$38","v":22},100414,null,{"$f":"'Dairy Miscellaneous 2'!F37","v":0},{"$f":"'Dairy Miscellaneous 2'!G37","v":0}]
[{"$f":"'Cow Housing'!$C$6","v":"C-3333"},{"$f":"$B$38","v":0},{"$f":"$C$38","v":2},{"$f":"$D$38","v":22},100425,null,{"$f":"'Dairy Miscellaneous 2'!F46","v":0},{"$f":"'Dairy Miscellaneous 2'!G46","v":0}]
[{"$f":"'Cow Housing'!$C$6","v":"C-3333"},{"$f":"$B$38","v":0},{"$f":"$C$38","v":2},{"$f":"$D$38","v":22},100447,null,{"$f":"'Dairy Miscellaneous 2'!F27","v":0},{"$f":"'Dairy Miscellaneous 2'!G27","v":0}]
[{"$f":"'Cow Housing'!$C$6","v":"C-3333"},{"$f":"$B$38","v":0},{"$f":"$C$38","v":2},{"$f":"$D$38","v":22},106467,null,{"$f":"'Dairy Miscellaneous 2'!F23","v":0},{"$f":"'Dairy Miscellaneous 2'!G23","v":0}]
[{"$f":"'Cow Housing'!$C$6","v":"C-3333"},{"$f":"$B$38","v":0},{"$f":"$C$38","v":2},{"$f":"$D$38","v":22},106934,null,{"$f":"'Dairy Miscellaneous 2'!F38","v":0},{"$f":"'Dairy Miscellaneous 2'!G38","v":0}]
[{"$f":"'Cow Housing'!$C$6","v":"C-3333"},{"$f":"$B$38","v":0},{"$f":"$C$38","v":2},{"$f":"$D$38","v":22},107062,null,{"$f":"'Dairy Miscellaneous 2'!F39","v":0},{"$f":"'Dairy Miscellaneous 2'!G39","v":0}]
[{"$f":"'Cow Housing'!$C$6","v":"C-3333"},{"$f":"$B$38","v":0},{"$f":"$C$38","v":2},{"$f":"$D$38","v":22},107131,null,{"$f":"'Dairy Miscellaneous 2'!F25","v":0},{"$f":"'Dairy Miscellaneous 2'!G25","v":0}]
[{"$f":"'Cow Housing'!$C$6","v":"C-3333"},{"$f":"$B$38","v":0},{"$f":"$C$38","v":2},{"$f":"$D$38","v":22},108054,null,{"$f":"'Dairy Miscellaneous 2'!F50","v":0},{"$f":"'Dairy Miscellaneous 2'!G50","v":0}]
[{"$f":"'Cow Housing'!$C$6","v":"C-3333"},{"$f":"$B$38","v":0},{"$f":"$C$38","v":2},{"$f":"$D$38","v":22},108101,null,{"$f":"'Dairy Miscellaneous 2'!F45","v":0},{"$f":"'Dairy Miscellaneous 2'!G45","v":0}]
[{"$f":"'Cow Housing'!$C$6","v":"C-3333"},{"$f":"$B$38","v":0},{"$f":"$C$38","v":2},{"$f":"$D$38","v":22},108883,null,{"$f":"'Dairy Miscellaneous 2'!F48","v":0},{"$f":"'Dairy Miscellaneous 2'!G48","v":0}]
[{"$f":"'Cow Housing'!$C$6","v":"C-3333"},{"$f":"$B$38","v":0},{"$f":"$C$38","v":2},{"$f":"$D$38","v":22},108907,null,{"$f":"'Dairy Miscellaneous 2'!F31","v":0},{"$f":"'Dairy Miscellaneous 2'!G31","v":0}]
[{"$f":"'Cow Housing'!$C$6","v":"C-3333"},{"$f":"$B$38","v":0},{"$f":"$C$38","v":2},{"$f":"$D$38","v":22},110543,null,{"$f":"'Dairy Miscellaneous 2'!F41","v":0},{"$f":"'Dairy Miscellaneous 2'!G41","v":0}]
[{"$f":"'Cow Housing'!$C$6","v":"C-3333"},{"$f":"$B$38","v":0},{"$f":"$C$38","v":2},{"$f":"$D$38","v":22},110827,null,{"$f":"'Dairy Miscellaneous 2'!F35","v":0},{"$f":"'Dairy Miscellaneous 2'!G35","v":0}]
[{"$f":"'Cow Housing'!$C$6","v":"C-3333"},{"$f":"$B$38","v":0},{"$f":"$C$38","v":2},{"$f":"$D$38","v":22},120821,null,{"$f":"'Dairy Miscellaneous 2'!F18","v":0},{"$f":"'Dairy Miscellaneous 2'!G18","v":0}]
[{"$f":"'Cow Housing'!$C$6","v":"C-3333"},{"$f":"$B$38","v":0},{"$f":"$C$38","v":2},{"$f":"$D$38","v":22},123728,null,{"$f":"'Dairy Miscellaneous 2'!F28","v":0},{"$f":"'Dairy Miscellaneous 2'!G28","v":0}]
[{"$f":"'Cow Housing'!$C$6","v":"C-3333"},{"$f":"$B$38","v":0},{"$f":"$C$38","v":2},{"$f":"$D$38","v":22},123911,null,{"$f":"'Dairy Miscellaneous 2'!F22","v":0},{"$f":"'Dairy Miscellaneous 2'!G22","v":0}]
[{"$f":"'Cow Housing'!$C$6","v":"C-3333"},{"$f":"$B$38","v":0},{"$f":"$C$38","v":2},{"$f":"$D$38","v":22},541731,null,{"$f":"'Dairy Miscellaneous 2'!F21","v":0},{"$f":"'Dairy Miscellaneous 2'!G21","v":0}]
[{"$f":"'Cow Housing'!$C$6","v":"C-3333"},{"$f":"$B$38","v":0},{"$f":"$C$38","v":2},{"$f":"$D$38","v":22},764410,null,{"$f":"'Dairy Miscellaneous 2'!F47","v":0},{"$f":"'Dairy Miscellaneous 2'!G47","v":0}]
[{"$f":"'Cow Housing'!$C$6","v":"C-3333"},{"$f":"$B$38","v":0},{"$f":"$C$38","v":2},{"$f":"$D$38","v":22},1330207,null,{"$f":"'Dairy Miscellaneous 2'!F51","v":0},{"$f":"'Dairy Miscellaneous 2'!G51","v":0}]
[{"$f":"'Cow Housing'!$C$6","v":"C-3333"},{"$f":"$B$38","v":0},{"$f":"$C$38","v":2},{"$f":"$D$38","v":22},4170303,null,{"$f":"'Dairy Miscellaneous 2'!F34","v":0},{"$f":"'Dairy Miscellaneous 2'!G34","v":0}]
[{"$f":"'Cow Housing'!$C$6","v":"C-3333"},{"$f":"$B$38","v":0},{"$f":"$C$38","v":2},{"$f":"$D$38","v":22},7429905,null,{"$f":"'Livestock PM10 2'!F14","v":0},{"$f":"'Livestock PM10 2'!G14","v":0}]
[{"$f":"'Cow Housing'!$C$6","v":"C-3333"},{"$f":"$B$38","v":0},{"$f":"$C$38","v":2},{"$f":"$D$38","v":22},7439921,null,{"$f":"'Livestock PM10 2'!F22","v":0},{"$f":"'Livestock PM10 2'!G22","v":0}]
[{"$f":"'Cow Housing'!$C$6","v":"C-3333"},{"$f":"$B$38","v":0},{"$f":"$C$38","v":2},{"$f":"$D$38","v":22},7439965,null,{"$f":"'Livestock PM10 2'!F23","v":0},{"$f":"'Livestock PM10 2'!G23","v":0}]
[{"$f":"'Cow Housing'!$C$6","v":"C-3333"},{"$f":"$B$38","v":0},{"$f":"$C$38","v":2},{"$f":"$D$38","v":22},7439976,null,{"$f":"'Livestock PM10 2'!F24","v":0},{"$f":"'Livestock PM10 2'!G24","v":0}]
[{"$f":"'Cow Housing'!$C$6","v":"C-3333"},{"$f":"$B$38","v":0},{"$f":"$C$38","v":2},{"$f":"$D$38","v":22},7440020,null,{"$f":"'Livestock PM10 2'!F25","v":0},{"$f":"'Livestock PM10 2'!G25","v":0}]
[{"$f":"'Cow Housing'!$C$6","v":"C-3333"},{"$f":"$B$38","v":0},{"$f":"$C$38","v":2},{"$f":"$D$38","v":22},7440360,null,{"$f":"'Livestock PM10 2'!F15","v":0},{"$f":"'Livestock PM10 2'!G15","v":0}]
[{"$f":"'Cow Housing'!$C$6","v":"C-3333"},{"$f":"$B$38","v":0},{"$f":"$C$38","v":2},{"$f":"$D$38","v":22},7440382,null,{"$f":"'Livestock PM10 2'!F16","v":0},{"$f":"'Livestock PM10 2'!G16","v":0}]
[{"$f":"'Cow Housing'!$C$6","v":"C-3333"},{"$f":"$B$38","v":0},{"$f":"$C$38","v":2},{"$f":"$D$38","v":22},7440393,null,{"$f":"'Livestock PM10 2'!F17","v":0},{"$f":"'Livestock PM10 2'!G17","v":0}]
[{"$f":"'Cow Housing'!$C$6","v":"C-3333"},{"$f":"$B$38","v":0},{"$f":"$C$38","v":2},{"$f":"$D$38","v":22},7440473,null,{"$f":"'Livestock PM10 2'!F19","v":0},{"$f":"'Livestock PM10 2'!G19","v":0}]
[{"$f":"'Cow Housing'!$C$6","v":"C-3333"},{"$f":"$B$38","v":0},{"$f":"$C$38","v":2},{"$f":"$D$38","v":22},7440508,null,{"$f":"'Livestock PM10 2'!F20","v":0},{"$f":"'Livestock PM10 2'!G20","v":0}]
[{"$f":"'Cow Housing'!$C$6","v":"C-3333"},{"$f":"$B$38","v":0},{"$f":"$C$38","v":2},{"$f":"$D$38","v":22},7440622,null,{"$f":"'Livestock PM10 2'!F29","v":0},{"$f":"'Livestock PM10 2'!G29","v":0}]
[{"$f":"'Cow Housing'!$C$6","v":"C-3333"},{"$f":"$B$38","v":0},{"$f":"$C$38","v":2},{"$f":"$D$38","v":22},7440666,null,{"$f":"'Livestock PM10 2'!F30","v":0},{"$f":"'Livestock PM10 2'!G30","v":0}]
[{"$f":"'Cow Housing'!$C$6","v":"C-3333"},{"$f":"$B$38","v":0},{"$f":"$C$38","v":2},{"$f":"$D$38","v":22},7664417,null,{"$f":"'Livestock PM10 2'!F31","v":0},{"$f":"'Livestock PM10 2'!G31","v":0}]
[{"$f":"'Cow Housing'!$C$6","v":"C-3333"},{"$f":"$B$38","v":0},{"$f":"$C$38","v":2},{"$f":"$D$38","v":22},7723140,null,{"$f":"'Livestock PM10 2'!F26","v":0},{"$f":"'Livestock PM10 2'!G26","v":0}]
[{"$f":"'Cow Housing'!$C$6","v":"C-3333"},{"$f":"$B$38","v":0},{"$f":"$C$38","v":2},{"$f":"$D$38","v":22},7726956,null,{"$f":"'Livestock PM10 2'!F18","v":0},{"$f":"'Livestock PM10 2'!G18","v":0}]
[{"$f":"'Cow Housing'!$C$6","v":"C-3333"},{"$f":"$B$38","v":0},{"$f":"$C$38","v":2},{"$f":"$D$38","v":22},7782492,null,{"$f":"'Livestock PM10 2'!F27","v":0},{"$f":"'Livestock PM10 2'!G27","v":0}]
[{"$f":"'Cow Housing'!$C$6","v":"C-3333"},{"$f":"$B$38","v":0},{"$f":"$C$38","v":2},{"$f":"$D$38","v":22},18540299,null,{"$f":"'Livestock PM10 2'!F21","v":0},{"$f":"'Livestock PM10 2'!G21","v":0}]
[{"$f":"'Cow Housing'!$C$6","v":"C-3333"},{"$f":"$B$39","v":0},{"$f":"$C$39","v":2},{"$f":"$D$39","v":23},9960,null,{"$f":"'Livestock PM10 2'!H28","v":0},{"$f":"'Livestock PM10 2'!I28","v":0}]
[{"$f":"'Cow Housing'!$C$6","v":"C-3333"},{"$f":"$B$39","v":0},{"$f":"$C$39","v":2},{"$f":"$D$39","v":23},50000,null,{"$f":"'Dairy Miscellaneous 2'!H40","v":0},{"$f":"'Dairy Miscellaneous 2'!I40","v":0}]
[{"$f":"'Cow Housing'!$C$6","v":"C-3333"},{"$f":"$B$39","v":0},{"$f":"$C$39","v":2},{"$f":"$D$39","v":23},56235,null,{"$f":"'Dairy Miscellaneous 2'!H30","v":0},{"$f":"'Dairy Miscellaneous 2'!I30","v":0}]
[{"$f":"'Cow Housing'!$C$6","v":"C-3333"},{"$f":"$B$39","v":0},{"$f":"$C$39","v":2},{"$f":"$D$39","v":23},67630,null,{"$f":"'Dairy Miscellaneous 2'!H42","v":0},{"$f":"'Dairy Miscellaneous 2'!I42","v":0}]
[{"$f":"'Cow Housing'!$C$6","v":"C-3333"},{"$f":"$B$39","v":0},{"$f":"$C$39","v":2},{"$f":"$D$39","v":23},67663,null,{"$f":"'Dairy Miscellaneous 2'!H32","v":0},{"$f":"'Dairy Miscellaneous 2'!I32","v":0}]
[{"$f":"'Cow Housing'!$C$6","v":"C-3333"},{"$f":"$B$39","v":0},{"$f":"$C$39","v":2},{"$f":"$D$39","v":23},71432,null,{"$f":"'Dairy Miscellaneous 2'!H26","v":0},{"$f":"'Dairy Miscellaneous 2'!I26","v":0}]
[{"$f":"'Cow Housing'!$C$6","v":"C-3333"},{"$f":"$B$39","v":0},{"$f":"$C$39","v":2},{"$f":"$D$39","v":23},74873,null,{"$f":"'Dairy Miscellaneous 2'!H33","v":0},{"$f":"'Dairy Miscellaneous 2'!I33","v":0}]
[{"$f":"'Cow Housing'!$C$6","v":"C-3333"},{"$f":"$B$39","v":0},{"$f":"$C$39","v":2},{"$f":"$D$39","v":23},75003,null,{"$f":"'Dairy Miscellaneous 2'!H36","v":0},{"$f":"'Dairy Miscellaneous 2'!I36","v":0}]
[{"$f":"'Cow Housing'!$C$6","v":"C-3333"},{"$f":"$B$39","v":0},{"$f":"$C$39","v":2},{"$f":"$D$39","v":23},75070,null,{"$f":"'Dairy Miscellaneous 2'!H24","v":0},{"$f":"'Dairy Miscellaneous 2'!I24","v":0}]
[{"$f":"'Cow Housing'!$C$6","v":"C-3333"},{"$f":"$B$39","v":0},{"$f":"$C$39","v":2},{"$f":"$D$39","v":23},75150,null,{"$f":"'Dairy Miscellaneous 2'!H29","v":0},{"$f":"'Dairy Miscellaneous 2'!I29","v":0}]
[{"$f":"'Cow Housing'!$C$6","v":"C-3333"},{"$f":"$B$39","v":0},{"$f":"$C$39","v":2},{"$f":"$D$39","v":23},75694,null,{"$f":"'Dairy Miscellaneous 2'!H49","v":0},{"$f":"'Dairy Miscellaneous 2'!I49","v":0}]
[{"$f":"'Cow Housing'!$C$6","v":"C-3333"},{"$f":"$B$39","v":0},{"$f":"$C$39","v":2},{"$f":"$D$39","v":23},78933,null,{"$f":"'Dairy Miscellaneous 2'!H44","v":0},{"$f":"'Dairy Miscellaneous 2'!I44","v":0}]
[{"$f":"'Cow Housing'!$C$6","v":"C-3333"},{"$f":"$B$39","v":0},{"$f":"$C$39","v":2},{"$f":"$D$39","v":23},79005,null,{"$f":"'Dairy Miscellaneous 2'!H16","v":0},{"$f":"'Dairy Miscellaneous 2'!I16","v":0}]
[{"$f":"'Cow Housing'!$C$6","v":"C-3333"},{"$f":"$B$39","v":0},{"$f":"$C$39","v":2},{"$f":"$D$39","v":23},79345,null,{"$f":"'Dairy Miscellaneous 2'!H15","v":0},{"$f":"'Dairy Miscellaneous 2'!I15","v":0}]
[{"$f":"'Cow Housing'!$C$6","v":"C-3333"},{"$f":"$B$39","v":0},{"$f":"$C$39","v":2},{"$f":"$D$39","v":23},95501,null,{"$f":"'Dairy Miscellaneous 2'!H20","v":0},{"$f":"'Dairy Miscellaneous 2'!I20","v":0}]
[{"$f":"'Cow Housing'!$C$6","v":"C-3333"},{"$f":"$B$39","v":0},{"$f":"$C$39","v":2},{"$f":"$D$39","v":23},96128,null,{"$f":"'Dairy Miscellaneous 2'!H19","v":0},{"$f":"'Dairy Miscellaneous 2'!I19","v":0}]
[{"$f":"'Cow Housing'!$C$6","v":"C-3333"},{"$f":"$B$39","v":0},{"$f":"$C$39","v":2},{"$f":"$D$39","v":23},96184,null,{"$f":"'Dairy Miscellaneous 2'!H17","v":0},{"$f":"'Dairy Miscellaneous 2'!I17","v":0}]
[{"$f":"'Cow Housing'!$C$6","v":"C-3333"},{"$f":"$B$39","v":0},{"$f":"$C$39","v":2},{"$f":"$D$39","v":23},98828,null,{"$f":"'Dairy Miscellaneous 2'!H43","v":0},{"$f":"'Dairy Miscellaneous 2'!I43","v":0}]
[{"$f":"'Cow Housing'!$C$6","v":"C-3333"},{"$f":"$B$39","v":0},{"$f":"$C$39","v":2},{"$f":"$D$39","v":23},100414,null,{"$f":"'Dairy Miscellaneous 2'!H37","v":0},{"$f":"'Dairy Miscellaneous 2'!I37","v":0}]
[{"$f":"'Cow Housing'!$C$6","v":"C-3333"},{"$f":"$B$39","v":0},{"$f":"$C$39","v":2},{"$f":"$D$39","v":23},100425,null,{"$f":"'Dairy Miscellaneous 2'!H46","v":0},{"$f":"'Dairy Miscellaneous 2'!I46","v":0}]
[{"$f":"'Cow Housing'!$C$6","v":"C-3333"},{"$f":"$B$39","v":0},{"$f":"$C$39","v":2},{"$f":"$D$39","v":23},100447,null,{"$f":"'Dairy Miscellaneous 2'!H27","v":0},{"$f":"'Dairy Miscellaneous 2'!I27","v":0}]
[{"$f":"'Cow Housing'!$C$6","v":"C-3333"},{"$f":"$B$39","v":0},{"$f":"$C$39","v":2},{"$f":"$D$39","v":23},106467,null,{"$f":"'Dairy Miscellaneous 2'!H23","v":0},{"$f":"'Dairy Miscellaneous 2'!I23","v":0}]
[{"$f":"'Cow Housing'!$C$6","v":"C-3333"},{"$f":"$B$39","v":0},{"$f":"$C$39","v":2},{"$f":"$D$39","v":23},106934,null,{"$f":"'Dairy Miscellaneous 2'!H38","v":0},{"$f":"'Dairy Miscellaneous 2'!I38","v":0}]
[{"$f":"'Cow Housing'!$C$6","v":"C-3333"},{"$f":"$B$39","v":0},{"$f":"$C$39","v":2},{"$f":"$D$39","v":23},107062,null,{"$f":"'Dairy Miscellaneous 2'!H39","v":0},{"$f":"'Dairy Miscellaneous 2'!I39","v":0}]
[{"$f":"'Cow Housing'!$C$6","v":"C-3333"},{"$f":"$B$39","v":0},{"$f":"$C$39","v":2},{"$f":"$D$39","v":23},107131,null,{"$f":"'Dairy Miscellaneous 2'!H25","v":0},{"$f":"'Dairy Miscellaneous 2'!I25","v":0}]
[{"$f":"'Cow Housing'!$C$6","v":"C-3333"},{"$f":"$B$39","v":0},{"$f":"$C$39","v":2},{"$f":"$D$39","v":23},108054,null,{"$f":"'Dairy Miscellaneous 2'!H50","v":0},{"$f":"'Dairy Miscellaneous 2'!I50","v":0}]
[{"$f":"'Cow Housing'!$C$6","v":"C-3333"},{"$f":"$B$39","v":0},{"$f":"$C$39","v":2},{"$f":"$D$39","v":23},108101,null,{"$f":"'Dairy Miscellaneous 2'!H45","v":0},{"$f":"'Dairy Miscellaneous 2'!I45","v":0}]
[{"$f":"'Cow Housing'!$C$6","v":"C-3333"},{"$f":"$B$39","v":0},{"$f":"$C$39","v":2},{"$f":"$D$39","v":23},108883,null,{"$f":"'Dairy Miscellaneous 2'!H48","v":0},{"$f":"'Dairy Miscellaneous 2'!I48","v":0}]
[{"$f":"'Cow Housing'!$C$6","v":"C-3333"},{"$f":"$B$39","v":0},{"$f":"$C$39","v":2},{"$f":"$D$39","v":23},108907,null,{"$f":"'Dairy Miscellaneous 2'!H31","v":0},{"$f":"'Dairy Miscellaneous 2'!I31","v":0}]
[{"$f":"'Cow Housing'!$C$6","v":"C-3333"},{"$f":"$B$39","v":0},{"$f":"$C$39","v":2},{"$f":"$D$39","v":23},110543,null,{"$f":"'Dairy Miscellaneous 2'!H41","v":0},{"$f":"'Dairy Miscellaneous 2'!I41","v":0}]
[{"$f":"'Cow Housing'!$C$6","v":"C-3333"},{"$f":"$B$39","v":0},{"$f":"$C$39","v":2},{"$f":"$D$39","v":23},110827,null,{"$f":"'Dairy Miscellaneous 2'!H35","v":0},{"$f":"'Dairy Miscellaneous 2'!I35","v":0}]
[{"$f":"'Cow Housing'!$C$6","v":"C-3333"},{"$f":"$B$39","v":0},{"$f":"$C$39","v":2},{"$f":"$D$39","v":23},120821,null,{"$f":"'Dairy Miscellaneous 2'!H18","v":0},{"$f":"'Dairy Miscellaneous 2'!I18","v":0}]
[{"$f":"'Cow Housing'!$C$6","v":"C-3333"},{"$f":"$B$39","v":0},{"$f":"$C$39","v":2},{"$f":"$D$39","v":23},123728,null,{"$f":"'Dairy Miscellaneous 2'!H28","v":0},{"$f":"'Dairy Miscellaneous 2'!I28","v":0}]
[{"$f":"'Cow Housing'!$C$6","v":"C-3333"},{"$f":"$B$39","v":0},{"$f":"$C$39","v":2},{"$f":"$D$39","v":23},123911,null,{"$f":"'Dairy Miscellaneous 2'!H22","v":0},{"$f":"'Dairy Miscellaneous 2'!I22","v":0}]
[{"$f":"'Cow Housing'!$C$6","v":"C-3333"},{"$f":"$B$39","v":0},{"$f":"$C$39","v":2},{"$f":"$D$39","v":23},541731,null,{"$f":"'Dairy Miscellaneous 2'!H21","v":0},{"$f":"'Dairy Miscellaneous 2'!I21","v":0}]
[{"$f":"'Cow Housing'!$C$6","v":"C-3333"},{"$f":"$B$39","v":0},{"$f":"$C$39","v":2},{"$f":"$D$39","v":23},764410,null,{"$f":"'Dairy Miscellaneous 2'!H47","v":0},{"$f":"'Dairy Miscellaneous 2'!I47","v":0}]
[{"$f":"'Cow Housing'!$C$6","v":"C-3333"},{"$f":"$B$39","v":0},{"$f":"$C$39","v":2},{"$f":"$D$39","v":23},1330207,null,{"$f":"'Dairy Miscellaneous 2'!H51","v":0},{"$f":"'Dairy Miscellaneous 2'!I51","v":0}]
[{"$f":"'Cow Housing'!$C$6","v":"C-3333"},{"$f":"$B$39","v":0},{"$f":"$C$39","v":2},{"$f":"$D$39","v":23},4170303,null,{"$f":"'Dairy Miscellaneous 2'!H34","v":0},{"$f":"'Dairy Miscellaneous 2'!I34","v":0}]
[{"$f":"'Cow Housing'!$C$6","v":"C-3333"},{"$f":"$B$39","v":0},{"$f":"$C$39","v":2},{"$f":"$D$39","v":23},7429905,null,{"$f":"'Livestock PM10 2'!H14","v":0},{"$f":"'Livestock PM10 2'!I14","v":0}]
[{"$f":"'Cow Housing'!$C$6","v":"C-3333"},{"$f":"$B$39","v":0},{"$f":"$C$39","v":2},{"$f":"$D$39","v":23},7439921,null,{"$f":"'Livestock PM10 2'!H22","v":0},{"$f":"'Livestock PM10 2'!I22","v":0}]
[{"$f":"'Cow Housing'!$C$6","v":"C-3333"},{"$f":"$B$39","v":0},{"$f":"$C$39","v":2},{"$f":"$D$39","v":23},7439965,null,{"$f":"'Livestock PM10 2'!H23","v":0},{"$f":"'Livestock PM10 2'!I23","v":0}]
[{"$f":"'Cow Housing'!$C$6","v":"C-3333"},{"$f":"$B$39","v":0},{"$f":"$C$39","v":2},{"$f":"$D$39","v":23},7439976,null,{"$f":"'Livestock PM10 2'!H24","v":0},{"$f":"'Livestock PM10 2'!I24","v":0}]
[{"$f":"'Cow Housing'!$C$6","v":"C-3333"},{"$f":"$B$39","v":0},{"$f":"$C$39","v":2},{"$f":"$D$39","v":23},7440020,null,{"$f":"'Livestock PM10 2'!H25","v":0},{"$f":"'Livestock PM10 2'!I25","v":0}]
[{"$f":"'Cow Housing'!$C$6","v":"C-3333"},{"$f":"$B$39","v":0},{"$f":"$C$39","v":2},{"$f":"$D$39","v":23},7440360,null,{"$f":"'Livestock PM10 2'!H15","v":0},{"$f":"'Livestock PM10 2'!I15","v":0}]
[{"$f":"'Cow Housing'!$C$6","v":"C-3333"},{"$f":"$B$39","v":0},{"$f":"$C$39","v":2},{"$f":"$D$39","v":23},7440382,null,{"$f":"'Livestock PM10 2'!H16","v":0},{"$f":"'Livestock PM10 2'!I16","v":0}]
[{"$f":"'Cow Housing'!$C$6","v":"C-3333"},{"$f":"$B$39","v":0},{"$f":"$C$39","v":2},{"$f":"$D$39","v":23},7440393,null,{"$f":"'Livestock PM10 2'!H17","v":0},{"$f":"'Livestock PM10 2'!I17","v":0}]
[{"$f":"'Cow Housing'!$C$6","v":"C-3333"},{"$f":"$B$39","v":0},{"$f":"$C$39","v":2},{"$f":"$D$39","v":23},7440473,null,{"$f":"'Livestock PM10 2'!H19","v":0},{"$f":"'Livestock PM10 2'!I19","v":0}]
[{"$f":"'Cow Housing'!$C$6","v":"C-3333"},{"$f":"$B$39","v":0},{"$f":"$C$39","v":2},{"$f":"$D$39","v":23},7440508,null,{"$f":"'Livestock PM10 2'!H20","v":0},{"$f":"'Livestock PM10 2'!I20","v":0}]
[{"$f":"'Cow Housing'!$C$6","v":"C-3333"},{"$f":"$B$39","v":0},{"$f":"$C$39","v":2},{"$f":"$D$39","v":23},7440622,null,{"$f":"'Livestock PM10 2'!H29","v":0},{"$f":"'Livestock PM10 2'!I29","v":0}]
[{"$f":"'Cow Housing'!$C$6","v":"C-3333"},{"$f":"$B$39","v":0},{"$f":"$C$39","v":2},{"$f":"$D$39","v":23},7440666,null,{"$f":"'Livestock PM10 2'!H30","v":0},{"$f":"'Livestock PM10 2'!I30","v":0}]
[{"$f":"'Cow Housing'!$C$6","v":"C-3333"},{"$f":"$B$39","v":0},{"$f":"$C$39","v":2},{"$f":"$D$39","v":23},7664417,null,{"$f":"'Livestock PM10 2'!H31","v":0},{"$f":"'Livestock PM10 2'!I31","v":0}]
[{"$f":"'Cow Housing'!$C$6","v":"C-3333"},{"$f":"$B$39","v":0},{"$f":"$C$39","v":2},{"$f":"$D$39","v":23},7723140,null,{"$f":"'Livestock PM10 2'!H26","v":0},{"$f":"'Livestock PM10 2'!I26","v":0}]
[{"$f":"'Cow Housing'!$C$6","v":"C-3333"},{"$f":"$B$39","v":0},{"$f":"$C$39","v":2},{"$f":"$D$39","v":23},7726956,null,{"$f":"'Livestock PM10 2'!H18","v":0},{"$f":"'Livestock PM10 2'!I18","v":0}]
[{"$f":"'Cow Housing'!$C$6","v":"C-3333"},{"$f":"$B$39","v":0},{"$f":"$C$39","v":2},{"$f":"$D$39","v":23},7782492,null,{"$f":"'Livestock PM10 2'!H27","v":0},{"$f":"'Livestock PM10 2'!I27","v":0}]
[{"$f":"'Cow Housing'!$C$6","v":"C-3333"},{"$f":"$B$39","v":0},{"$f":"$C$39","v":2},{"$f":"$D$39","v":23},18540299,null,{"$f":"'Livestock PM10 2'!H21","v":0},{"$f":"'Livestock PM10 2'!I21","v":0}]
[{"$f":"'Cow Housing'!$C$6","v":"C-3333"},{"$f":"$B$40","v":0},{"$f":"$C$40","v":2},{"$f":"$D$40","v":24},9960,null,{"$f":"'Livestock PM10 2'!J28","v":0},{"$f":"'Livestock PM10 2'!K28","v":0}]
[{"$f":"'Cow Housing'!$C$6","v":"C-3333"},{"$f":"$B$40","v":0},{"$f":"$C$40","v":2},{"$f":"$D$40","v":24},50000,null,{"$f":"'Dairy Miscellaneous 2'!J40","v":0},{"$f":"'Dairy Miscellaneous 2'!K40","v":0}]
[{"$f":"'Cow Housing'!$C$6","v":"C-3333"},{"$f":"$B$40","v":0},{"$f":"$C$40","v":2},{"$f":"$D$40","v":24},56235,null,{"$f":"'Dairy Miscellaneous 2'!J30","v":0},{"$f":"'Dairy Miscellaneous 2'!K30","v":0}]
[{"$f":"'Cow Housing'!$C$6","v":"C-3333"},{"$f":"$B$40","v":0},{"$f":"$C$40","v":2},{"$f":"$D$40","v":24},67630,null,{"$f":"'Dairy Miscellaneous 2'!J42","v":0},{"$f":"'Dairy Miscellaneous 2'!K42","v":0}]
[{"$f":"'Cow Housing'!$C$6","v":"C-3333"},{"$f":"$B$40","v":0},{"$f":"$C$40","v":2},{"$f":"$D$40","v":24},67663,null,{"$f":"'Dairy Miscellaneous 2'!J32","v":0},{"$f":"'Dairy Miscellaneous 2'!K32","v":0}]
[{"$f":"'Cow Housing'!$C$6","v":"C-3333"},{"$f":"$B$40","v":0},{"$f":"$C$40","v":2},{"$f":"$D$40","v":24},71432,null,{"$f":"'Dairy Miscellaneous 2'!J26","v":0},{"$f":"'Dairy Miscellaneous 2'!K26","v":0}]
[{"$f":"'Cow Housing'!$C$6","v":"C-3333"},{"$f":"$B$40","v":0},{"$f":"$C$40","v":2},{"$f":"$D$40","v":24},74873,null,{"$f":"'Dairy Miscellaneous 2'!J33","v":0},{"$f":"'Dairy Miscellaneous 2'!K33","v":0}]
[{"$f":"'Cow Housing'!$C$6","v":"C-3333"},{"$f":"$B$40","v":0},{"$f":"$C$40","v":2},{"$f":"$D$40","v":24},75003,null,{"$f":"'Dairy Miscellaneous 2'!J36","v":0},{"$f":"'Dairy Miscellaneous 2'!K36","v":0}]
[{"$f":"'Cow Housing'!$C$6","v":"C-3333"},{"$f":"$B$40","v":0},{"$f":"$C$40","v":2},{"$f":"$D$40","v":24},75070,null,{"$f":"'Dairy Miscellaneous 2'!J24","v":0},{"$f":"'Dairy Miscellaneous 2'!K24","v":0}]
[{"$f":"'Cow Housing'!$C$6","v":"C-3333"},{"$f":"$B$40","v":0},{"$f":"$C$40","v":2},{"$f":"$D$40","v":24},75150,null,{"$f":"'Dairy Miscellaneous 2'!J29","v":0},{"$f":"'Dairy Miscellaneous 2'!K29","v":0}]
[{"$f":"'Cow Housing'!$C$6","v":"C-3333"},{"$f":"$B$40","v":0},{"$f":"$C$40","v":2},{"$f":"$D$40","v":24},75694,null,{"$f":"'Dairy Miscellaneous 2'!J49","v":0},{"$f":"'Dairy Miscellaneous 2'!K49","v":0}]
[{"$f":"'Cow Housing'!$C$6","v":"C-3333"},{"$f":"$B$40","v":0},{"$f":"$C$40","v":2},{"$f":"$D$40","v":24},78933,null,{"$f":"'Dairy Miscellaneous 2'!J44","v":0},{"$f":"'Dairy Miscellaneous 2'!K44","v":0}]
[{"$f":"'Cow Housing'!$C$6","v":"C-3333"},{"$f":"$B$40","v":0},{"$f":"$C$40","v":2},{"$f":"$D$40","v":24},79005,null,{"$f":"'Dairy Miscellaneous 2'!J16","v":0},{"$f":"'Dairy Miscellaneous 2'!K16","v":0}]
[{"$f":"'Cow Housing'!$C$6","v":"C-3333"},{"$f":"$B$40","v":0},{"$f":"$C$40","v":2},{"$f":"$D$40","v":24},79345,null,{"$f":"'Dairy Miscellaneous 2'!J15","v":0},{"$f":"'Dairy Miscellaneous 2'!K15","v":0}]
[{"$f":"'Cow Housing'!$C$6","v":"C-3333"},{"$f":"$B$40","v":0},{"$f":"$C$40","v":2},{"$f":"$D$40","v":24},95501,null,{"$f":"'Dairy Miscellaneous 2'!J20","v":0},{"$f":"'Dairy Miscellaneous 2'!K20","v":0}]
[{"$f":"'Cow Housing'!$C$6","v":"C-3333"},{"$f":"$B$40","v":0},{"$f":"$C$40","v":2},{"$f":"$D$40","v":24},96128,null,{"$f":"'Dairy Miscellaneous 2'!J19","v":0},{"$f":"'Dairy Miscellaneous 2'!K19","v":0}]
[{"$f":"'Cow Housing'!$C$6","v":"C-3333"},{"$f":"$B$40","v":0},{"$f":"$C$40","v":2},{"$f":"$D$40","v":24},96184,null,{"$f":"'Dairy Miscellaneous 2'!J17","v":0},{"$f":"'Dairy Miscellaneous 2'!K17","v":0}]
[{"$f":"'Cow Housing'!$C$6","v":"C-3333"},{"$f":"$B$40","v":0},{"$f":"$C$40","v":2},{"$f":"$D$40","v":24},98828,null,{"$f":"'Dairy Miscellaneous 2'!J43","v":0},{"$f":"'Dairy Miscellaneous 2'!K43","v":0}]
[{"$f":"'Cow Housing'!$C$6","v":"C-3333"},{"$f":"$B$40","v":0},{"$f":"$C$40","v":2},{"$f":"$D$40","v":24},100414,null,{"$f":"'Dairy Miscellaneous 2'!J37","v":0},{"$f":"'Dairy Miscellaneous 2'!K37","v":0}]
[{"$f":"'Cow Housing'!$C$6","v":"C-3333"},{"$f":"$B$40","v":0},{"$f":"$C$40","v":2},{"$f":"$D$40","v":24},100425,null,{"$f":"'Dairy Miscellaneous 2'!J46","v":0},{"$f":"'Dairy Miscellaneous 2'!K46","v":0}]
[{"$f":"'Cow Housing'!$C$6","v":"C-3333"},{"$f":"$B$40","v":0},{"$f":"$C$40","v":2},{"$f":"$D$40","v":24},100447,null,{"$f":"'Dairy Miscellaneous 2'!J27","v":0},{"$f":"'Dairy Miscellaneous 2'!K27","v":0}]
[{"$f":"'Cow Housing'!$C$6","v":"C-3333"},{"$f":"$B$40","v":0},{"$f":"$C$40","v":2},{"$f":"$D$40","v":24},106467,null,{"$f":"'Dairy Miscellaneous 2'!J23","v":0},{"$f":"'Dairy Miscellaneous 2'!K23","v":0}]
[{"$f":"'Cow Housing'!$C$6","v":"C-3333"},{"$f":"$B$40","v":0},{"$f":"$C$40","v":2},{"$f":"$D$40","v":24},106934,null,{"$f":"'Dairy Miscellaneous 2'!J38","v":0},{"$f":"'Dairy Miscellaneous 2'!K38","v":0}]
[{"$f":"'Cow Housing'!$C$6","v":"C-3333"},{"$f":"$B$40","v":0},{"$f":"$C$40","v":2},{"$f":"$D$40","v":24},107062,null,{"$f":"'Dairy Miscellaneous 2'!J39","v":0},{"$f":"'Dairy Miscellaneous 2'!K39","v":0}]
[{"$f":"'Cow Housing'!$C$6","v":"C-3333"},{"$f":"$B$40","v":0},{"$f":"$C$40","v":2},{"$f":"$D$40","v":24},107131,null,{"$f":"'Dairy Miscellaneous 2'!J25","v":0},{"$f":"'Dairy Miscellaneous 2'!K25","v":0}]
[{"$f":"'Cow Housing'!$C$6","v":"C-3333"},{"$f":"$B$40","v":0},{"$f":"$C$40","v":2},{"$f":"$D$40","v":24},108054,null,{"$f":"'Dairy Miscellaneous 2'!J50","v":0},{"$f":"'Dairy Miscellaneous 2'!K50","v":0}]
[{"$f":"'Cow Housing'!$C$6","v":"C-3333"},{"$f":"$B$40","v":0},{"$f":"$C$40","v":2},{"$f":"$D$40","v":24},108101,null,{"$f":"'Dairy Miscellaneous 2'!J45","v":0},{"$f":"'Dairy Miscellaneous 2'!K45","v":0}]
[{"$f":"'Cow Housing'!$C$6","v":"C-3333"},{"$f":"$B$40","v":0},{"$f":"$C$40","v":2},{"$f":"$D$40","v":24},108883,null,{"$f":"'Dairy Miscellaneous 2'!J48","v":0},{"$f":"'Dairy Miscellaneous 2'!K48","v":0}]
[{"$f":"'Cow Housing'!$C$6","v":"C-3333"},{"$f":"$B$40","v":0},{"$f":"$C$40","v":2},{"$f":"$D$40","v":24},108907,null,{"$f":"'Dairy Miscellaneous 2'!J31","v":0},{"$f":"'Dairy Miscellaneous 2'!K31","v":0}]
[{"$f":"'Cow Housing'!$C$6","v":"C-3333"},{"$f":"$B$40","v":0},{"$f":"$C$40","v":2},{"$f":"$D$40","v":24},110543,null,{"$f":"'Dairy Miscellaneous 2'!J41","v":0},{"$f":"'Dairy Miscellaneous 2'!K41","v":0}]
[{"$f":"'Cow Housing'!$C$6","v":"C-3333"},{"$f":"$B$40","v":0},{"$f":"$C$40","v":2},{"$f":"$D$40","v":24},110827,null,{"$f":"'Dairy Miscellaneous 2'!J35","v":0},{"$f":"'Dairy Miscellaneous 2'!K35","v":0}]
[{"$f":"'Cow Housing'!$C$6","v":"C-3333"},{"$f":"$B$40","v":0},{"$f":"$C$40","v":2},{"$f":"$D$40","v":24},120821,null,{"$f":"'Dairy Miscellaneous 2'!J18","v":0},{"$f":"'Dairy Miscellaneous 2'!K18","v":0}]
[{"$f":"'Cow Housing'!$C$6","v":"C-3333"},{"$f":"$B$40","v":0},{"$f":"$C$40","v":2},{"$f":"$D$40","v":24},123728,null,{"$f":"'Dairy Miscellaneous 2'!J28","v":0},{"$f":"'Dairy Miscellaneous 2'!K28","v":0}]
[{"$f":"'Cow Housing'!$C$6","v":"C-3333"},{"$f":"$B$40","v":0},{"$f":"$C$40","v":2},{"$f":"$D$40","v":24},123911,null,{"$f":"'Dairy Miscellaneous 2'!J22","v":0},{"$f":"'Dairy Miscellaneous 2'!K22","v":0}]
[{"$f":"'Cow Housing'!$C$6","v":"C-3333"},{"$f":"$B$40","v":0},{"$f":"$C$40","v":2},{"$f":"$D$40","v":24},541731,null,{"$f":"'Dairy Miscellaneous 2'!J21","v":0},{"$f":"'Dairy Miscellaneous 2'!K21","v":0}]
[{"$f":"'Cow Housing'!$C$6","v":"C-3333"},{"$f":"$B$40","v":0},{"$f":"$C$40","v":2},{"$f":"$D$40","v":24},764410,null,{"$f":"'Dairy Miscellaneous 2'!J47","v":0},{"$f":"'Dairy Miscellaneous 2'!K47","v":0}]
[{"$f":"'Cow Housing'!$C$6","v":"C-3333"},{"$f":"$B$40","v":0},{"$f":"$C$40","v":2},{"$f":"$D$40","v":24},1330207,null,{"$f":"'Dairy Miscellaneous 2'!J51","v":0},{"$f":"'Dairy Miscellaneous 2'!K51","v":0}]
[{"$f":"'Cow Housing'!$C$6","v":"C-3333"},{"$f":"$B$40","v":0},{"$f":"$C$40","v":2},{"$f":"$D$40","v":24},4170303,null,{"$f":"'Dairy Miscellaneous 2'!J34","v":0},{"$f":"'Dairy Miscellaneous 2'!K34","v":0}]
[{"$f":"'Cow Housing'!$C$6","v":"C-3333"},{"$f":"$B$40","v":0},{"$f":"$C$40","v":2},{"$f":"$D$40","v":24},7429905,null,{"$f":"'Livestock PM10 2'!J14","v":0},{"$f":"'Livestock PM10 2'!K14","v":0}]
[{"$f":"'Cow Housing'!$C$6","v":"C-3333"},{"$f":"$B$40","v":0},{"$f":"$C$40","v":2},{"$f":"$D$40","v":24},7439921,null,{"$f":"'Livestock PM10 2'!J22","v":0},{"$f":"'Livestock PM10 2'!K22","v":0}]
[{"$f":"'Cow Housing'!$C$6","v":"C-3333"},{"$f":"$B$40","v":0},{"$f":"$C$40","v":2},{"$f":"$D$40","v":24},7439965,null,{"$f":"'Livestock PM10 2'!J23","v":0},{"$f":"'Livestock PM10 2'!K23","v":0}]
[{"$f":"'Cow Housing'!$C$6","v":"C-3333"},{"$f":"$B$40","v":0},{"$f":"$C$40","v":2},{"$f":"$D$40","v":24},7439976,null,{"$f":"'Livestock PM10 2'!J24","v":0},{"$f":"'Livestock PM10 2'!K24","v":0}]
[{"$f":"'Cow Housing'!$C$6","v":"C-3333"},{"$f":"$B$40","v":0},{"$f":"$C$40","v":2},{"$f":"$D$40","v":24},7440020,null,{"$f":"'Livestock PM10 2'!J25","v":0},{"$f":"'Livestock PM10 2'!K25","v":0}]
[{"$f":"'Cow Housing'!$C$6","v":"C-3333"},{"$f":"$B$40","v":0},{"$f":"$C$40","v":2},{"$f":"$D$40","v":24},7440360,null,{"$f":"'Livestock PM10 2'!J15","v":0},{"$f":"'Livestock PM10 2'!K15","v":0}]
[{"$f":"'Cow Housing'!$C$6","v":"C-3333"},{"$f":"$B$40","v":0},{"$f":"$C$40","v":2},{"$f":"$D$40","v":24},7440382,null,{"$f":"'Livestock PM10 2'!J16","v":0},{"$f":"'Livestock PM10 2'!K16","v":0}]
[{"$f":"'Cow Housing'!$C$6","v":"C-3333"},{"$f":"$B$40","v":0},{"$f":"$C$40","v":2},{"$f":"$D$40","v":24},7440393,null,{"$f":"'Livestock PM10 2'!J17","v":0},{"$f":"'Livestock PM10 2'!K17","v":0}]
[{"$f":"'Cow Housing'!$C$6","v":"C-3333"},{"$f":"$B$40","v":0},{"$f":"$C$40","v":2},{"$f":"$D$40","v":24},7440473,null,{"$f":"'Livestock PM10 2'!J19","v":0},{"$f":"'Livestock PM10 2'!K19","v":0}]
[{"$f":"'Cow Housing'!$C$6","v":"C-3333"},{"$f":"$B$40","v":0},{"$f":"$C$40","v":2},{"$f":"$D$40","v":24},7440508,null,{"$f":"'Livestock PM10 2'!J20","v":0},{"$f":"'Livestock PM10 2'!K20","v":0}]
[{"$f":"'Cow Housing'!$C$6","v":"C-3333"},{"$f":"$B$40","v":0},{"$f":"$C$40","v":2},{"$f":"$D$40","v":24},7440622,null,{"$f":"'Livestock PM10 2'!J29","v":0},{"$f":"'Livestock PM10 2'!K29","v":0}]
[{"$f":"'Cow Housing'!$C$6","v":"C-3333"},{"$f":"$B$40","v":0},{"$f":"$C$40","v":2},{"$f":"$D$40","v":24},7440666,null,{"$f":"'Livestock PM10 2'!J30","v":0},{"$f":"'Livestock PM10 2'!K30","v":0}]
[{"$f":"'Cow Housing'!$C$6","v":"C-3333"},{"$f":"$B$40","v":0},{"$f":"$C$40","v":2},{"$f":"$D$40","v":24},7664417,null,{"$f":"'Livestock PM10 2'!J31","v":0},{"$f":"'Livestock PM10 2'!K31","v":0}]
[{"$f":"'Cow Housing'!$C$6","v":"C-3333"},{"$f":"$B$40","v":0},{"$f":"$C$40","v":2},{"$f":"$D$40","v":24},7723140,null,{"$f":"'Livestock PM10 2'!J26","v":0},{"$f":"'Livestock PM10 2'!K26","v":0}]
[{"$f":"'Cow Housing'!$C$6","v":"C-3333"},{"$f":"$B$40","v":0},{"$f":"$C$40","v":2},{"$f":"$D$40","v":24},7726956,null,{"$f":"'Livestock PM10 2'!J18","v":0},{"$f":"'Livestock PM10 2'!K18","v":0}]
[{"$f":"'Cow Housing'!$C$6","v":"C-3333"},{"$f":"$B$40","v":0},{"$f":"$C$40","v":2},{"$f":"$D$40","v":24},7782492,null,{"$f":"'Livestock PM10 2'!J27","v":0},{"$f":"'Livestock PM10 2'!K27","v":0}]
[{"$f":"'Cow Housing'!$C$6","v":"C-3333"},{"$f":"$B$40","v":0},{"$f":"$C$40","v":2},{"$f":"$D$40","v":24},18540299,null,{"$f":"'Livestock PM10 2'!J21","v":0},{"$f":"'Livestock PM10 2'!K21","v":0}]
[{"$f":"'Cow Housing'!$C$6","v":"C-3333"},{"$f":"$B$41","v":0},{"$f":"$C$41","v":2},{"$f":"$D$41","v":25},9960,null,{"$f":"'Livestock PM10 2'!L28","v":0},{"$f":"'Livestock PM10 2'!M28","v":0}]
[{"$f":"'Cow Housing'!$C$6","v":"C-3333"},{"$f":"$B$41","v":0},{"$f":"$C$41","v":2},{"$f":"$D$41","v":25},50000,null,{"$f":"'Dairy Miscellaneous 2'!L40","v":0},{"$f":"'Dairy Miscellaneous 2'!M40","v":0}]
[{"$f":"'Cow Housing'!$C$6","v":"C-3333"},{"$f":"$B$41","v":0},{"$f":"$C$41","v":2},{"$f":"$D$41","v":25},56235,null,{"$f":"'Dairy Miscellaneous 2'!L30","v":0},{"$f":"'Dairy Miscellaneous 2'!M30","v":0}]
[{"$f":"'Cow Housing'!$C$6","v":"C-3333"},{"$f":"$B$41","v":0},{"$f":"$C$41","v":2},{"$f":"$D$41","v":25},67630,null,{"$f":"'Dairy Miscellaneous 2'!L42","v":0},{"$f":"'Dairy Miscellaneous 2'!M42","v":0}]
[{"$f":"'Cow Housing'!$C$6","v":"C-3333"},{"$f":"$B$41","v":0},{"$f":"$C$41","v":2},{"$f":"$D$41","v":25},67663,null,{"$f":"'Dairy Miscellaneous 2'!L32","v":0},{"$f":"'Dairy Miscellaneous 2'!M32","v":0}]
[{"$f":"'Cow Housing'!$C$6","v":"C-3333"},{"$f":"$B$41","v":0},{"$f":"$C$41","v":2},{"$f":"$D$41","v":25},71432,null,{"$f":"'Dairy Miscellaneous 2'!L26","v":0},{"$f":"'Dairy Miscellaneous 2'!M26","v":0}]
[{"$f":"'Cow Housing'!$C$6","v":"C-3333"},{"$f":"$B$41","v":0},{"$f":"$C$41","v":2},{"$f":"$D$41","v":25},74873,null,{"$f":"'Dairy Miscellaneous 2'!L33","v":0},{"$f":"'Dairy Miscellaneous 2'!M33","v":0}]
[{"$f":"'Cow Housing'!$C$6","v":"C-3333"},{"$f":"$B$41","v":0},{"$f":"$C$41","v":2},{"$f":"$D$41","v":25},75003,null,{"$f":"'Dairy Miscellaneous 2'!L36","v":0},{"$f":"'Dairy Miscellaneous 2'!M36","v":0}]
[{"$f":"'Cow Housing'!$C$6","v":"C-3333"},{"$f":"$B$41","v":0},{"$f":"$C$41","v":2},{"$f":"$D$41","v":25},75070,null,{"$f":"'Dairy Miscellaneous 2'!L24","v":0},{"$f":"'Dairy Miscellaneous 2'!M24","v":0}]
[{"$f":"'Cow Housing'!$C$6","v":"C-3333"},{"$f":"$B$41","v":0},{"$f":"$C$41","v":2},{"$f":"$D$41","v":25},75150,null,{"$f":"'Dairy Miscellaneous 2'!L29","v":0},{"$f":"'Dairy Miscellaneous 2'!M29","v":0}]
[{"$f":"'Cow Housing'!$C$6","v":"C-3333"},{"$f":"$B$41","v":0},{"$f":"$C$41","v":2},{"$f":"$D$41","v":25},75694,null,{"$f":"'Dairy Miscellaneous 2'!L49","v":0},{"$f":"'Dairy Miscellaneous 2'!M49","v":0}]
[{"$f":"'Cow Housing'!$C$6","v":"C-3333"},{"$f":"$B$41","v":0},{"$f":"$C$41","v":2},{"$f":"$D$41","v":25},78933,null,{"$f":"'Dairy Miscellaneous 2'!L44","v":0},{"$f":"'Dairy Miscellaneous 2'!M44","v":0}]
[{"$f":"'Cow Housing'!$C$6","v":"C-3333"},{"$f":"$B$41","v":0},{"$f":"$C$41","v":2},{"$f":"$D$41","v":25},79005,null,{"$f":"'Dairy Miscellaneous 2'!L16","v":0},{"$f":"'Dairy Miscellaneous 2'!M16","v":0}]
[{"$f":"'Cow Housing'!$C$6","v":"C-3333"},{"$f":"$B$41","v":0},{"$f":"$C$41","v":2},{"$f":"$D$41","v":25},79345,null,{"$f":"'Dairy Miscellaneous 2'!L15","v":0},{"$f":"'Dairy Miscellaneous 2'!M15","v":0}]
[{"$f":"'Cow Housing'!$C$6","v":"C-3333"},{"$f":"$B$41","v":0},{"$f":"$C$41","v":2},{"$f":"$D$41","v":25},95501,null,{"$f":"'Dairy Miscellaneous 2'!L20","v":0},{"$f":"'Dairy Miscellaneous 2'!M20","v":0}]
[{"$f":"'Cow Housing'!$C$6","v":"C-3333"},{"$f":"$B$41","v":0},{"$f":"$C$41","v":2},{"$f":"$D$41","v":25},96128,null,{"$f":"'Dairy Miscellaneous 2'!L19","v":0},{"$f":"'Dairy Miscellaneous 2'!M19","v":0}]
[{"$f":"'Cow Housing'!$C$6","v":"C-3333"},{"$f":"$B$41","v":0},{"$f":"$C$41","v":2},{"$f":"$D$41","v":25},96184,null,{"$f":"'Dairy Miscellaneous 2'!L17","v":0},{"$f":"'Dairy Miscellaneous 2'!M17","v":0}]
[{"$f":"'Cow Housing'!$C$6","v":"C-3333"},{"$f":"$B$41","v":0},{"$f":"$C$41","v":2},{"$f":"$D$41","v":25},98828,null,{"$f":"'Dairy Miscellaneous 2'!L43","v":0},{"$f":"'Dairy Miscellaneous 2'!M43","v":0}]
[{"$f":"'Cow Housing'!$C$6","v":"C-3333"},{"$f":"$B$41","v":0},{"$f":"$C$41","v":2},{"$f":"$D$41","v":25},100414,null,{"$f":"'Dairy Miscellaneous 2'!L37","v":0},{"$f":"'Dairy Miscellaneous 2'!M37","v":0}]
[{"$f":"'Cow Housing'!$C$6","v":"C-3333"},{"$f":"$B$41","v":0},{"$f":"$C$41","v":2},{"$f":"$D$41","v":25},100425,null,{"$f":"'Dairy Miscellaneous 2'!L46","v":0},{"$f":"'Dairy Miscellaneous 2'!M46","v":0}]
[{"$f":"'Cow Housing'!$C$6","v":"C-3333"},{"$f":"$B$41","v":0},{"$f":"$C$41","v":2},{"$f":"$D$41","v":25},100447,null,{"$f":"'Dairy Miscellaneous 2'!L27","v":0},{"$f":"'Dairy Miscellaneous 2'!M27","v":0}]
[{"$f":"'Cow Housing'!$C$6","v":"C-3333"},{"$f":"$B$41","v":0},{"$f":"$C$41","v":2},{"$f":"$D$41","v":25},106467,null,{"$f":"'Dairy Miscellaneous 2'!L23","v":0},{"$f":"'Dairy Miscellaneous 2'!M23","v":0}]
[{"$f":"'Cow Housing'!$C$6","v":"C-3333"},{"$f":"$B$41","v":0},{"$f":"$C$41","v":2},{"$f":"$D$41","v":25},106934,null,{"$f":"'Dairy Miscellaneous 2'!L38","v":0},{"$f":"'Dairy Miscellaneous 2'!M38","v":0}]
[{"$f":"'Cow Housing'!$C$6","v":"C-3333"},{"$f":"$B$41","v":0},{"$f":"$C$41","v":2},{"$f":"$D$41","v":25},107062,null,{"$f":"'Dairy Miscellaneous 2'!L39","v":0},{"$f":"'Dairy Miscellaneous 2'!M39","v":0}]
[{"$f":"'Cow Housing'!$C$6","v":"C-3333"},{"$f":"$B$41","v":0},{"$f":"$C$41","v":2},{"$f":"$D$41","v":25},107131,null,{"$f":"'Dairy Miscellaneous 2'!L25","v":0},{"$f":"'Dairy Miscellaneous 2'!M25","v":0}]
[{"$f":"'Cow Housing'!$C$6","v":"C-3333"},{"$f":"$B$41","v":0},{"$f":"$C$41","v":2},{"$f":"$D$41","v":25},108054,null,{"$f":"'Dairy Miscellaneous 2'!L50","v":0},{"$f":"'Dairy Miscellaneous 2'!M50","v":0}]
[{"$f":"'Cow Housing'!$C$6","v":"C-3333"},{"$f":"$B$41","v":0},{"$f":"$C$41","v":2},{"$f":"$D$41","v":25},108101,null,{"$f":"'Dairy Miscellaneous 2'!L45","v":0},{"$f":"'Dairy Miscellaneous 2'!M45","v":0}]
[{"$f":"'Cow Housing'!$C$6","v":"C-3333"},{"$f":"$B$41","v":0},{"$f":"$C$41","v":2},{"$f":"$D$41","v":25},108883,null,{"$f":"'Dairy Miscellaneous 2'!L48","v":0},{"$f":"'Dairy Miscellaneous 2'!M48","v":0}]
[{"$f":"'Cow Housing'!$C$6","v":"C-3333"},{"$f":"$B$41","v":0},{"$f":"$C$41","v":2},{"$f":"$D$41","v":25},108907,null,{"$f":"'Dairy Miscellaneous 2'!L31","v":0},{"$f":"'Dairy Miscellaneous 2'!M31","v":0}]
[{"$f":"'Cow Housing'!$C$6","v":"C-3333"},{"$f":"$B$41","v":0},{"$f":"$C$41","v":2},{"$f":"$D$41","v":25},110543,null,{"$f":"'Dairy Miscellaneous 2'!L41","v":0},{"$f":"'Dairy Miscellaneous 2'!M41","v":0}]
[{"$f":"'Cow Housing'!$C$6","v":"C-3333"},{"$f":"$B$41","v":0},{"$f":"$C$41","v":2},{"$f":"$D$41","v":25},110827,null,{"$f":"'Dairy Miscellaneous 2'!L35","v":0},{"$f":"'Dairy Miscellaneous 2'!M35","v":0}]
[{"$f":"'Cow Housing'!$C$6","v":"C-3333"},{"$f":"$B$41","v":0},{"$f":"$C$41","v":2},{"$f":"$D$41","v":25},120821,null,{"$f":"'Dairy Miscellaneous 2'!L18","v":0},{"$f":"'Dairy Miscellaneous 2'!M18","v":0}]
[{"$f":"'Cow Housing'!$C$6","v":"C-3333"},{"$f":"$B$41","v":0},{"$f":"$C$41","v":2},{"$f":"$D$41","v":25},123728,null,{"$f":"'Dairy Miscellaneous 2'!L28","v":0},{"$f":"'Dairy Miscellaneous 2'!M28","v":0}]
[{"$f":"'Cow Housing'!$C$6","v":"C-3333"},{"$f":"$B$41","v":0},{"$f":"$C$41","v":2},{"$f":"$D$41","v":25},123911,null,{"$f":"'Dairy Miscellaneous 2'!L22","v":0},{"$f":"'Dairy Miscellaneous 2'!M22","v":0}]
[{"$f":"'Cow Housing'!$C$6","v":"C-3333"},{"$f":"$B$41","v":0},{"$f":"$C$41","v":2},{"$f":"$D$41","v":25},541731,null,{"$f":"'Dairy Miscellaneous 2'!L21","v":0},{"$f":"'Dairy Miscellaneous 2'!M21","v":0}]
[{"$f":"'Cow Housing'!$C$6","v":"C-3333"},{"$f":"$B$41","v":0},{"$f":"$C$41","v":2},{"$f":"$D$41","v":25},764410,null,{"$f":"'Dairy Miscellaneous 2'!L47","v":0},{"$f":"'Dairy Miscellaneous 2'!M47","v":0}]
[{"$f":"'Cow Housing'!$C$6","v":"C-3333"},{"$f":"$B$41","v":0},{"$f":"$C$41","v":2},{"$f":"$D$41","v":25},1330207,null,{"$f":"'Dairy Miscellaneous 2'!L51","v":0},{"$f":"'Dairy Miscellaneous 2'!M51","v":0}]
[{"$f":"'Cow Housing'!$C$6","v":"C-3333"},{"$f":"$B$41","v":0},{"$f":"$C$41","v":2},{"$f":"$D$41","v":25},4170303,null,{"$f":"'Dairy Miscellaneous 2'!L34","v":0},{"$f":"'Dairy Miscellaneous 2'!M34","v":0}]
[{"$f":"'Cow Housing'!$C$6","v":"C-3333"},{"$f":"$B$41","v":0},{"$f":"$C$41","v":2},{"$f":"$D$41","v":25},7429905,null,{"$f":"'Livestock PM10 2'!L14","v":0},{"$f":"'Livestock PM10 2'!M14","v":0}]
[{"$f":"'Cow Housing'!$C$6","v":"C-3333"},{"$f":"$B$41","v":0},{"$f":"$C$41","v":2},{"$f":"$D$41","v":25},7439921,null,{"$f":"'Livestock PM10 2'!L22","v":0},{"$f":"'Livestock PM10 2'!M22","v":0}]
[{"$f":"'Cow Housing'!$C$6","v":"C-3333"},{"$f":"$B$41","v":0},{"$f":"$C$41","v":2},{"$f":"$D$41","v":25},7439965,null,{"$f":"'Livestock PM10 2'!L23","v":0},{"$f":"'Livestock PM10 2'!M23","v":0}]
[{"$f":"'Cow Housing'!$C$6","v":"C-3333"},{"$f":"$B$41","v":0},{"$f":"$C$41","v":2},{"$f":"$D$41","v":25},7439976,null,{"$f":"'Livestock PM10 2'!L24","v":0},{"$f":"'Livestock PM10 2'!M24","v":0}]
[{"$f":"'Cow Housing'!$C$6","v":"C-3333"},{"$f":"$B$41","v":0},{"$f":"$C$41","v":2},{"$f":"$D$41","v":25},7440020,null,{"$f":"'Livestock PM10 2'!L25","v":0},{"$f":"'Livestock PM10 2'!M25","v":0}]
[{"$f":"'Cow Housing'!$C$6","v":"C-3333"},{"$f":"$B$41","v":0},{"$f":"$C$41","v":2},{"$f":"$D$41","v":25},7440360,null,{"$f":"'Livestock PM10 2'!L15","v":0},{"$f":"'Livestock PM10 2'!M15","v":0}]
[{"$f":"'Cow Housing'!$C$6","v":"C-3333"},{"$f":"$B$41","v":0},{"$f":"$C$41","v":2},{"$f":"$D$41","v":25},7440382,null,{"$f":"'Livestock PM10 2'!L16","v":0},{"$f":"'Livestock PM10 2'!M16","v":0}]
[{"$f":"'Cow Housing'!$C$6","v":"C-3333"},{"$f":"$B$41","v":0},{"$f":"$C$41","v":2},{"$f":"$D$41","v":25},7440393,null,{"$f":"'Livestock PM10 2'!L17","v":0},{"$f":"'Livestock PM10 2'!M17","v":0}]
[{"$f":"'Cow Housing'!$C$6","v":"C-3333"},{"$f":"$B$41","v":0},{"$f":"$C$41","v":2},{"$f":"$D$41","v":25},7440473,null,{"$f":"'Livestock PM10 2'!L19","v":0},{"$f":"'Livestock PM10 2'!M19","v":0}]
[{"$f":"'Cow Housing'!$C$6","v":"C-3333"},{"$f":"$B$41","v":0},{"$f":"$C$41","v":2},{"$f":"$D$41","v":25},7440508,null,{"$f":"'Livestock PM10 2'!L20","v":0},{"$f":"'Livestock PM10 2'!M20","v":0}]
[{"$f":"'Cow Housing'!$C$6","v":"C-3333"},{"$f":"$B$41","v":0},{"$f":"$C$41","v":2},{"$f":"$D$41","v":25},7440622,null,{"$f":"'Livestock PM10 2'!L29","v":0},{"$f":"'Livestock PM10 2'!M29","v":0}]
[{"$f":"'Cow Housing'!$C$6","v":"C-3333"},{"$f":"$B$41","v":0},{"$f":"$C$41","v":2},{"$f":"$D$41","v":25},7440666,null,{"$f":"'Livestock PM10 2'!L30","v":0},{"$f":"'Livestock PM10 2'!M30","v":0}]
[{"$f":"'Cow Housing'!$C$6","v":"C-3333"},{"$f":"$B$41","v":0},{"$f":"$C$41","v":2},{"$f":"$D$41","v":25},7664417,null,{"$f":"'Livestock PM10 2'!L31","v":0},{"$f":"'Livestock PM10 2'!M31","v":0}]
[{"$f":"'Cow Housing'!$C$6","v":"C-3333"},{"$f":"$B$41","v":0},{"$f":"$C$41","v":2},{"$f":"$D$41","v":25},7723140,null,{"$f":"'Livestock PM10 2'!L26","v":0},{"$f":"'Livestock PM10 2'!M26","v":0}]
[{"$f":"'Cow Housing'!$C$6","v":"C-3333"},{"$f":"$B$41","v":0},{"$f":"$C$41","v":2},{"$f":"$D$41","v":25},7726956,null,{"$f":"'Livestock PM10 2'!L18","v":0},{"$f":"'Livestock PM10 2'!M18","v":0}]
[{"$f":"'Cow Housing'!$C$6","v":"C-3333"},{"$f":"$B$41","v":0},{"$f":"$C$41","v":2},{"$f":"$D$41","v":25},7782492,null,{"$f":"'Livestock PM10 2'!L27","v":0},{"$f":"'Livestock PM10 2'!M27","v":0}]
[{"$f":"'Cow Housing'!$C$6","v":"C-3333"},{"$f":"$B$41","v":0},{"$f":"$C$41","v":2},{"$f":"$D$41","v":25},18540299,null,{"$f":"'Livestock PM10 2'!L21","v":0},{"$f":"'Livestock PM10 2'!M21","v":0}]
[{"$f":"'Cow Housing'!$C$6","v":"C-3333"},{"$f":"$B$42","v":0},{"$f":"$C$42","v":2},{"$f":"$D$42","v":26},9960,null,{"$f":"'Livestock PM10 2'!N28","v":0},{"$f":"'Livestock PM10 2'!O28","v":0}]
[{"$f":"'Cow Housing'!$C$6","v":"C-3333"},{"$f":"$B$42","v":0},{"$f":"$C$42","v":2},{"$f":"$D$42","v":26},50000,null,{"$f":"'Dairy Miscellaneous 2'!N40","v":0},{"$f":"'Dairy Miscellaneous 2'!O40","v":0}]
[{"$f":"'Cow Housing'!$C$6","v":"C-3333"},{"$f":"$B$42","v":0},{"$f":"$C$42","v":2},{"$f":"$D$42","v":26},56235,null,{"$f":"'Dairy Miscellaneous 2'!N30","v":0},{"$f":"'Dairy Miscellaneous 2'!O30","v":0}]
[{"$f":"'Cow Housing'!$C$6","v":"C-3333"},{"$f":"$B$42","v":0},{"$f":"$C$42","v":2},{"$f":"$D$42","v":26},67630,null,{"$f":"'Dairy Miscellaneous 2'!N42","v":0},{"$f":"'Dairy Miscellaneous 2'!O42","v":0}]
[{"$f":"'Cow Housing'!$C$6","v":"C-3333"},{"$f":"$B$42","v":0},{"$f":"$C$42","v":2},{"$f":"$D$42","v":26},67663,null,{"$f":"'Dairy Miscellaneous 2'!N32","v":0},{"$f":"'Dairy Miscellaneous 2'!O32","v":0}]
[{"$f":"'Cow Housing'!$C$6","v":"C-3333"},{"$f":"$B$42","v":0},{"$f":"$C$42","v":2},{"$f":"$D$42","v":26},71432,null,{"$f":"'Dairy Miscellaneous 2'!N26","v":0},{"$f":"'Dairy Miscellaneous 2'!O26","v":0}]
[{"$f":"'Cow Housing'!$C$6","v":"C-3333"},{"$f":"$B$42","v":0},{"$f":"$C$42","v":2},{"$f":"$D$42","v":26},74873,null,{"$f":"'Dairy Miscellaneous 2'!N33","v":0},{"$f":"'Dairy Miscellaneous 2'!O33","v":0}]
[{"$f":"'Cow Housing'!$C$6","v":"C-3333"},{"$f":"$B$42","v":0},{"$f":"$C$42","v":2},{"$f":"$D$42","v":26},75003,null,{"$f":"'Dairy Miscellaneous 2'!N36","v":0},{"$f":"'Dairy Miscellaneous 2'!O36","v":0}]
[{"$f":"'Cow Housing'!$C$6","v":"C-3333"},{"$f":"$B$42","v":0},{"$f":"$C$42","v":2},{"$f":"$D$42","v":26},75070,null,{"$f":"'Dairy Miscellaneous 2'!N24","v":0},{"$f":"'Dairy Miscellaneous 2'!O24","v":0}]
[{"$f":"'Cow Housing'!$C$6","v":"C-3333"},{"$f":"$B$42","v":0},{"$f":"$C$42","v":2},{"$f":"$D$42","v":26},75150,null,{"$f":"'Dairy Miscellaneous 2'!N29","v":0},{"$f":"'Dairy Miscellaneous 2'!O29","v":0}]
[{"$f":"'Cow Housing'!$C$6","v":"C-3333"},{"$f":"$B$42","v":0},{"$f":"$C$42","v":2},{"$f":"$D$42","v":26},75694,null,{"$f":"'Dairy Miscellaneous 2'!N49","v":0},{"$f":"'Dairy Miscellaneous 2'!O49","v":0}]
[{"$f":"'Cow Housing'!$C$6","v":"C-3333"},{"$f":"$B$42","v":0},{"$f":"$C$42","v":2},{"$f":"$D$42","v":26},78933,null,{"$f":"'Dairy Miscellaneous 2'!N44","v":0},{"$f":"'Dairy Miscellaneous 2'!O44","v":0}]
[{"$f":"'Cow Housing'!$C$6","v":"C-3333"},{"$f":"$B$42","v":0},{"$f":"$C$42","v":2},{"$f":"$D$42","v":26},79005,null,{"$f":"'Dairy Miscellaneous 2'!N16","v":0},{"$f":"'Dairy Miscellaneous 2'!O16","v":0}]
[{"$f":"'Cow Housing'!$C$6","v":"C-3333"},{"$f":"$B$42","v":0},{"$f":"$C$42","v":2},{"$f":"$D$42","v":26},79345,null,{"$f":"'Dairy Miscellaneous 2'!N15","v":0},{"$f":"'Dairy Miscellaneous 2'!O15","v":0}]
[{"$f":"'Cow Housing'!$C$6","v":"C-3333"},{"$f":"$B$42","v":0},{"$f":"$C$42","v":2},{"$f":"$D$42","v":26},95501,null,{"$f":"'Dairy Miscellaneous 2'!N20","v":0},{"$f":"'Dairy Miscellaneous 2'!O20","v":0}]
[{"$f":"'Cow Housing'!$C$6","v":"C-3333"},{"$f":"$B$42","v":0},{"$f":"$C$42","v":2},{"$f":"$D$42","v":26},96128,null,{"$f":"'Dairy Miscellaneous 2'!N19","v":0},{"$f":"'Dairy Miscellaneous 2'!O19","v":0}]
[{"$f":"'Cow Housing'!$C$6","v":"C-3333"},{"$f":"$B$42","v":0},{"$f":"$C$42","v":2},{"$f":"$D$42","v":26},96184,null,{"$f":"'Dairy Miscellaneous 2'!N17","v":0},{"$f":"'Dairy Miscellaneous 2'!O17","v":0}]
[{"$f":"'Cow Housing'!$C$6","v":"C-3333"},{"$f":"$B$42","v":0},{"$f":"$C$42","v":2},{"$f":"$D$42","v":26},98828,null,{"$f":"'Dairy Miscellaneous 2'!N43","v":0},{"$f":"'Dairy Miscellaneous 2'!O43","v":0}]
[{"$f":"'Cow Housing'!$C$6","v":"C-3333"},{"$f":"$B$42","v":0},{"$f":"$C$42","v":2},{"$f":"$D$42","v":26},100414,null,{"$f":"'Dairy Miscellaneous 2'!N37","v":0},{"$f":"'Dairy Miscellaneous 2'!O37","v":0}]
[{"$f":"'Cow Housing'!$C$6","v":"C-3333"},{"$f":"$B$42","v":0},{"$f":"$C$42","v":2},{"$f":"$D$42","v":26},100425,null,{"$f":"'Dairy Miscellaneous 2'!N46","v":0},{"$f":"'Dairy Miscellaneous 2'!O46","v":0}]
[{"$f":"'Cow Housing'!$C$6","v":"C-3333"},{"$f":"$B$42","v":0},{"$f":"$C$42","v":2},{"$f":"$D$42","v":26},100447,null,{"$f":"'Dairy Miscellaneous 2'!N27","v":0},{"$f":"'Dairy Miscellaneous 2'!O27","v":0}]
[{"$f":"'Cow Housing'!$C$6","v":"C-3333"},{"$f":"$B$42","v":0},{"$f":"$C$42","v":2},{"$f":"$D$42","v":26},106467,null,{"$f":"'Dairy Miscellaneous 2'!N23","v":0},{"$f":"'Dairy Miscellaneous 2'!O23","v":0}]
[{"$f":"'Cow Housing'!$C$6","v":"C-3333"},{"$f":"$B$42","v":0},{"$f":"$C$42","v":2},{"$f":"$D$42","v":26},106934,null,{"$f":"'Dairy Miscellaneous 2'!N38","v":0},{"$f":"'Dairy Miscellaneous 2'!O38","v":0}]
[{"$f":"'Cow Housing'!$C$6","v":"C-3333"},{"$f":"$B$42","v":0},{"$f":"$C$42","v":2},{"$f":"$D$42","v":26},107062,null,{"$f":"'Dairy Miscellaneous 2'!N39","v":0},{"$f":"'Dairy Miscellaneous 2'!O39","v":0}]
[{"$f":"'Cow Housing'!$C$6","v":"C-3333"},{"$f":"$B$42","v":0},{"$f":"$C$42","v":2},{"$f":"$D$42","v":26},107131,null,{"$f":"'Dairy Miscellaneous 2'!N25","v":0},{"$f":"'Dairy Miscellaneous 2'!O25","v":0}]
[{"$f":"'Cow Housing'!$C$6","v":"C-3333"},{"$f":"$B$42","v":0},{"$f":"$C$42","v":2},{"$f":"$D$42","v":26},108054,null,{"$f":"'Dairy Miscellaneous 2'!N50","v":0},{"$f":"'Dairy Miscellaneous 2'!O50","v":0}]
[{"$f":"'Cow Housing'!$C$6","v":"C-3333"},{"$f":"$B$42","v":0},{"$f":"$C$42","v":2},{"$f":"$D$42","v":26},108101,null,{"$f":"'Dairy Miscellaneous 2'!N45","v":0},{"$f":"'Dairy Miscellaneous 2'!O45","v":0}]
[{"$f":"'Cow Housing'!$C$6","v":"C-3333"},{"$f":"$B$42","v":0},{"$f":"$C$42","v":2},{"$f":"$D$42","v":26},108883,null,{"$f":"'Dairy Miscellaneous 2'!N48","v":0},{"$f":"'Dairy Miscellaneous 2'!O48","v":0}]
[{"$f":"'Cow Housing'!$C$6","v":"C-3333"},{"$f":"$B$42","v":0},{"$f":"$C$42","v":2},{"$f":"$D$42","v":26},108907,null,{"$f":"'Dairy Miscellaneous 2'!N31","v":0},{"$f":"'Dairy Miscellaneous 2'!O31","v":0}]
[{"$f":"'Cow Housing'!$C$6","v":"C-3333"},{"$f":"$B$42","v":0},{"$f":"$C$42","v":2},{"$f":"$D$42","v":26},110543,null,{"$f":"'Dairy Miscellaneous 2'!N41","v":0},{"$f":"'Dairy Miscellaneous 2'!O41","v":0}]
[{"$f":"'Cow Housing'!$C$6","v":"C-3333"},{"$f":"$B$42","v":0},{"$f":"$C$42","v":2},{"$f":"$D$42","v":26},110827,null,{"$f":"'Dairy Miscellaneous 2'!N35","v":0},{"$f":"'Dairy Miscellaneous 2'!O35","v":0}]
[{"$f":"'Cow Housing'!$C$6","v":"C-3333"},{"$f":"$B$42","v":0},{"$f":"$C$42","v":2},{"$f":"$D$42","v":26},120821,null,{"$f":"'Dairy Miscellaneous 2'!N18","v":0},{"$f":"'Dairy Miscellaneous 2'!O18","v":0}]
[{"$f":"'Cow Housing'!$C$6","v":"C-3333"},{"$f":"$B$42","v":0},{"$f":"$C$42","v":2},{"$f":"$D$42","v":26},123728,null,{"$f":"'Dairy Miscellaneous 2'!N28","v":0},{"$f":"'Dairy Miscellaneous 2'!O28","v":0}]
[{"$f":"'Cow Housing'!$C$6","v":"C-3333"},{"$f":"$B$42","v":0},{"$f":"$C$42","v":2},{"$f":"$D$42","v":26},123911,null,{"$f":"'Dairy Miscellaneous 2'!N22","v":0},{"$f":"'Dairy Miscellaneous 2'!O22","v":0}]
[{"$f":"'Cow Housing'!$C$6","v":"C-3333"},{"$f":"$B$42","v":0},{"$f":"$C$42","v":2},{"$f":"$D$42","v":26},541731,null,{"$f":"'Dairy Miscellaneous 2'!N21","v":0},{"$f":"'Dairy Miscellaneous 2'!O21","v":0}]
[{"$f":"'Cow Housing'!$C$6","v":"C-3333"},{"$f":"$B$42","v":0},{"$f":"$C$42","v":2},{"$f":"$D$42","v":26},764410,null,{"$f":"'Dairy Miscellaneous 2'!N47","v":0},{"$f":"'Dairy Miscellaneous 2'!O47","v":0}]
[{"$f":"'Cow Housing'!$C$6","v":"C-3333"},{"$f":"$B$42","v":0},{"$f":"$C$42","v":2},{"$f":"$D$42","v":26},1330207,null,{"$f":"'Dairy Miscellaneous 2'!N51","v":0},{"$f":"'Dairy Miscellaneous 2'!O51","v":0}]
[{"$f":"'Cow Housing'!$C$6","v":"C-3333"},{"$f":"$B$42","v":0},{"$f":"$C$42","v":2},{"$f":"$D$42","v":26},4170303,null,{"$f":"'Dairy Miscellaneous 2'!N34","v":0},{"$f":"'Dairy Miscellaneous 2'!O34","v":0}]
[{"$f":"'Cow Housing'!$C$6","v":"C-3333"},{"$f":"$B$42","v":0},{"$f":"$C$42","v":2},{"$f":"$D$42","v":26},7429905,null,{"$f":"'Livestock PM10 2'!N14","v":0},{"$f":"'Livestock PM10 2'!O14","v":0}]
[{"$f":"'Cow Housing'!$C$6","v":"C-3333"},{"$f":"$B$42","v":0},{"$f":"$C$42","v":2},{"$f":"$D$42","v":26},7439921,null,{"$f":"'Livestock PM10 2'!N22","v":0},{"$f":"'Livestock PM10 2'!O22","v":0}]
[{"$f":"'Cow Housing'!$C$6","v":"C-3333"},{"$f":"$B$42","v":0},{"$f":"$C$42","v":2},{"$f":"$D$42","v":26},7439965,null,{"$f":"'Livestock PM10 2'!N23","v":0},{"$f":"'Livestock PM10 2'!O23","v":0}]
[{"$f":"'Cow Housing'!$C$6","v":"C-3333"},{"$f":"$B$42","v":0},{"$f":"$C$42","v":2},{"$f":"$D$42","v":26},7439976,null,{"$f":"'Livestock PM10 2'!N24","v":0},{"$f":"'Livestock PM10 2'!O24","v":0}]
[{"$f":"'Cow Housing'!$C$6","v":"C-3333"},{"$f":"$B$42","v":0},{"$f":"$C$42","v":2},{"$f":"$D$42","v":26},7440020,null,{"$f":"'Livestock PM10 2'!N25","v":0},{"$f":"'Livestock PM10 2'!O25","v":0}]
[{"$f":"'Cow Housing'!$C$6","v":"C-3333"},{"$f":"$B$42","v":0},{"$f":"$C$42","v":2},{"$f":"$D$42","v":26},7440360,null,{"$f":"'Livestock PM10 2'!N15","v":0},{"$f":"'Livestock PM10 2'!O15","v":0}]
[{"$f":"'Cow Housing'!$C$6","v":"C-3333"},{"$f":"$B$42","v":0},{"$f":"$C$42","v":2},{"$f":"$D$42","v":26},7440382,null,{"$f":"'Livestock PM10 2'!N16","v":0},{"$f":"'Livestock PM10 2'!O16","v":0}]
[{"$f":"'Cow Housing'!$C$6","v":"C-3333"},{"$f":"$B$42","v":0},{"$f":"$C$42","v":2},{"$f":"$D$42","v":26},7440393,null,{"$f":"'Livestock PM10 2'!N17","v":0},{"$f":"'Livestock PM10 2'!O17","v":0}]
[{"$f":"'Cow Housing'!$C$6","v":"C-3333"},{"$f":"$B$42","v":0},{"$f":"$C$42","v":2},{"$f":"$D$42","v":26},7440473,null,{"$f":"'Livestock PM10 2'!N19","v":0},{"$f":"'Livestock PM10 2'!O19","v":0}]
[{"$f":"'Cow Housing'!$C$6","v":"C-3333"},{"$f":"$B$42","v":0},{"$f":"$C$42","v":2},{"$f":"$D$42","v":26},7440508,null,{"$f":"'Livestock PM10 2'!N20","v":0},{"$f":"'Livestock PM10 2'!O20","v":0}]
[{"$f":"'Cow Housing'!$C$6","v":"C-3333"},{"$f":"$B$42","v":0},{"$f":"$C$42","v":2},{"$f":"$D$42","v":26},7440622,null,{"$f":"'Livestock PM10 2'!N29","v":0},{"$f":"'Livestock PM10 2'!O29","v":0}]
[{"$f":"'Cow Housing'!$C$6","v":"C-3333"},{"$f":"$B$42","v":0},{"$f":"$C$42","v":2},{"$f":"$D$42","v":26},7440666,null,{"$f":"'Livestock PM10 2'!N30","v":0},{"$f":"'Livestock PM10 2'!O30","v":0}]
[{"$f":"'Cow Housing'!$C$6","v":"C-3333"},{"$f":"$B$42","v":0},{"$f":"$C$42","v":2},{"$f":"$D$42","v":26},7664417,null,{"$f":"'Livestock PM10 2'!N31","v":0},{"$f":"'Livestock PM10 2'!O31","v":0}]
[{"$f":"'Cow Housing'!$C$6","v":"C-3333"},{"$f":"$B$42","v":0},{"$f":"$C$42","v":2},{"$f":"$D$42","v":26},7723140,null,{"$f":"'Livestock PM10 2'!N26","v":0},{"$f":"'Livestock PM10 2'!O26","v":0}]
[{"$f":"'Cow Housing'!$C$6","v":"C-3333"},{"$f":"$B$42","v":0},{"$f":"$C$42","v":2},{"$f":"$D$42","v":26},7726956,null,{"$f":"'Livestock PM10 2'!N18","v":0},{"$f":"'Livestock PM10 2'!O18","v":0}]
[{"$f":"'Cow Housing'!$C$6","v":"C-3333"},{"$f":"$B$42","v":0},{"$f":"$C$42","v":2},{"$f":"$D$42","v":26},7782492,null,{"$f":"'Livestock PM10 2'!N27","v":0},{"$f":"'Livestock PM10 2'!O27","v":0}]
[{"$f":"'Cow Housing'!$C$6","v":"C-3333"},{"$f":"$B$42","v":0},{"$f":"$C$42","v":2},{"$f":"$D$42","v":26},18540299,null,{"$f":"'Livestock PM10 2'!N21","v":0},{"$f":"'Livestock PM10 2'!O21","v":0}]
[{"$f":"'Cow Housing'!$C$6","v":"C-3333"},{"$f":"$B$43","v":0},{"$f":"$C$43","v":2},{"$f":"$D$43","v":27},9960,null,{"$f":"'Livestock PM10 2'!P28","v":0},{"$f":"'Livestock PM10 2'!Q28","v":0}]
[{"$f":"'Cow Housing'!$C$6","v":"C-3333"},{"$f":"$B$43","v":0},{"$f":"$C$43","v":2},{"$f":"$D$43","v":27},50000,null,{"$f":"'Dairy Miscellaneous 2'!P40","v":0},{"$f":"'Dairy Miscellaneous 2'!Q40","v":0}]
[{"$f":"'Cow Housing'!$C$6","v":"C-3333"},{"$f":"$B$43","v":0},{"$f":"$C$43","v":2},{"$f":"$D$43","v":27},56235,null,{"$f":"'Dairy Miscellaneous 2'!P30","v":0},{"$f":"'Dairy Miscellaneous 2'!Q30","v":0}]
[{"$f":"'Cow Housing'!$C$6","v":"C-3333"},{"$f":"$B$43","v":0},{"$f":"$C$43","v":2},{"$f":"$D$43","v":27},67630,null,{"$f":"'Dairy Miscellaneous 2'!P42","v":0},{"$f":"'Dairy Miscellaneous 2'!Q42","v":0}]
[{"$f":"'Cow Housing'!$C$6","v":"C-3333"},{"$f":"$B$43","v":0},{"$f":"$C$43","v":2},{"$f":"$D$43","v":27},67663,null,{"$f":"'Dairy Miscellaneous 2'!P32","v":0},{"$f":"'Dairy Miscellaneous 2'!Q32","v":0}]
[{"$f":"'Cow Housing'!$C$6","v":"C-3333"},{"$f":"$B$43","v":0},{"$f":"$C$43","v":2},{"$f":"$D$43","v":27},71432,null,{"$f":"'Dairy Miscellaneous 2'!P26","v":0},{"$f":"'Dairy Miscellaneous 2'!Q26","v":0}]
[{"$f":"'Cow Housing'!$C$6","v":"C-3333"},{"$f":"$B$43","v":0},{"$f":"$C$43","v":2},{"$f":"$D$43","v":27},74873,null,{"$f":"'Dairy Miscellaneous 2'!P33","v":0},{"$f":"'Dairy Miscellaneous 2'!Q33","v":0}]
[{"$f":"'Cow Housing'!$C$6","v":"C-3333"},{"$f":"$B$43","v":0},{"$f":"$C$43","v":2},{"$f":"$D$43","v":27},75003,null,{"$f":"'Dairy Miscellaneous 2'!P36","v":0},{"$f":"'Dairy Miscellaneous 2'!Q36","v":0}]
[{"$f":"'Cow Housing'!$C$6","v":"C-3333"},{"$f":"$B$43","v":0},{"$f":"$C$43","v":2},{"$f":"$D$43","v":27},75070,null,{"$f":"'Dairy Miscellaneous 2'!P24","v":0},{"$f":"'Dairy Miscellaneous 2'!Q24","v":0}]
[{"$f":"'Cow Housing'!$C$6","v":"C-3333"},{"$f":"$B$43","v":0},{"$f":"$C$43","v":2},{"$f":"$D$43","v":27},75150,null,{"$f":"'Dairy Miscellaneous 2'!P29","v":0},{"$f":"'Dairy Miscellaneous 2'!Q29","v":0}]
[{"$f":"'Cow Housing'!$C$6","v":"C-3333"},{"$f":"$B$43","v":0},{"$f":"$C$43","v":2},{"$f":"$D$43","v":27},75694,null,{"$f":"'Dairy Miscellaneous 2'!P49","v":0},{"$f":"'Dairy Miscellaneous 2'!Q49","v":0}]
[{"$f":"'Cow Housing'!$C$6","v":"C-3333"},{"$f":"$B$43","v":0},{"$f":"$C$43","v":2},{"$f":"$D$43","v":27},78933,null,{"$f":"'Dairy Miscellaneous 2'!P44","v":0},{"$f":"'Dairy Miscellaneous 2'!Q44","v":0}]
[{"$f":"'Cow Housing'!$C$6","v":"C-3333"},{"$f":"$B$43","v":0},{"$f":"$C$43","v":2},{"$f":"$D$43","v":27},79005,null,{"$f":"'Dairy Miscellaneous 2'!P16","v":0},{"$f":"'Dairy Miscellaneous 2'!Q16","v":0}]
[{"$f":"'Cow Housing'!$C$6","v":"C-3333"},{"$f":"$B$43","v":0},{"$f":"$C$43","v":2},{"$f":"$D$43","v":27},79345,null,{"$f":"'Dairy Miscellaneous 2'!P15","v":0},{"$f":"'Dairy Miscellaneous 2'!Q15","v":0}]
[{"$f":"'Cow Housing'!$C$6","v":"C-3333"},{"$f":"$B$43","v":0},{"$f":"$C$43","v":2},{"$f":"$D$43","v":27},95501,null,{"$f":"'Dairy Miscellaneous 2'!P20","v":0},{"$f":"'Dairy Miscellaneous 2'!Q20","v":0}]
[{"$f":"'Cow Housing'!$C$6","v":"C-3333"},{"$f":"$B$43","v":0},{"$f":"$C$43","v":2},{"$f":"$D$43","v":27},96128,null,{"$f":"'Dairy Miscellaneous 2'!P19","v":0},{"$f":"'Dairy Miscellaneous 2'!Q19","v":0}]
[{"$f":"'Cow Housing'!$C$6","v":"C-3333"},{"$f":"$B$43","v":0},{"$f":"$C$43","v":2},{"$f":"$D$43","v":27},96184,null,{"$f":"'Dairy Miscellaneous 2'!P17","v":0},{"$f":"'Dairy Miscellaneous 2'!Q17","v":0}]
[{"$f":"'Cow Housing'!$C$6","v":"C-3333"},{"$f":"$B$43","v":0},{"$f":"$C$43","v":2},{"$f":"$D$43","v":27},98828,null,{"$f":"'Dairy Miscellaneous 2'!P43","v":0},{"$f":"'Dairy Miscellaneous 2'!Q43","v":0}]
[{"$f":"'Cow Housing'!$C$6","v":"C-3333"},{"$f":"$B$43","v":0},{"$f":"$C$43","v":2},{"$f":"$D$43","v":27},100414,null,{"$f":"'Dairy Miscellaneous 2'!P37","v":0},{"$f":"'Dairy Miscellaneous 2'!Q37","v":0}]
[{"$f":"'Cow Housing'!$C$6","v":"C-3333"},{"$f":"$B$43","v":0},{"$f":"$C$43","v":2},{"$f":"$D$43","v":27},100425,null,{"$f":"'Dairy Miscellaneous 2'!P46","v":0},{"$f":"'Dairy Miscellaneous 2'!Q46","v":0}]
[{"$f":"'Cow Housing'!$C$6","v":"C-3333"},{"$f":"$B$43","v":0},{"$f":"$C$43","v":2},{"$f":"$D$43","v":27},100447,null,{"$f":"'Dairy Miscellaneous 2'!P27","v":0},{"$f":"'Dairy Miscellaneous 2'!Q27","v":0}]
[{"$f":"'Cow Housing'!$C$6","v":"C-3333"},{"$f":"$B$43","v":0},{"$f":"$C$43","v":2},{"$f":"$D$43","v":27},106467,null,{"$f":"'Dairy Miscellaneous 2'!P23","v":0},{"$f":"'Dairy Miscellaneous 2'!Q23","v":0}]
[{"$f":"'Cow Housing'!$C$6","v":"C-3333"},{"$f":"$B$43","v":0},{"$f":"$C$43","v":2},{"$f":"$D$43","v":27},106934,null,{"$f":"'Dairy Miscellaneous 2'!P38","v":0},{"$f":"'Dairy Miscellaneous 2'!Q38","v":0}]
[{"$f":"'Cow Housing'!$C$6","v":"C-3333"},{"$f":"$B$43","v":0},{"$f":"$C$43","v":2},{"$f":"$D$43","v":27},107062,null,{"$f":"'Dairy Miscellaneous 2'!P39","v":0},{"$f":"'Dairy Miscellaneous 2'!Q39","v":0}]
[{"$f":"'Cow Housing'!$C$6","v":"C-3333"},{"$f":"$B$43","v":0},{"$f":"$C$43","v":2},{"$f":"$D$43","v":27},107131,null,{"$f":"'Dairy Miscellaneous 2'!P25","v":0},{"$f":"'Dairy Miscellaneous 2'!Q25","v":0}]
[{"$f":"'Cow Housing'!$C$6","v":"C-3333"},{"$f":"$B$43","v":0},{"$f":"$C$43","v":2},{"$f":"$D$43","v":27},108054,null,{"$f":"'Dairy Miscellaneous 2'!P50","v":0},{"$f":"'Dairy Miscellaneous 2'!Q50","v":0}]
[{"$f":"'Cow Housing'!$C$6","v":"C-3333"},{"$f":"$B$43","v":0},{"$f":"$C$43","v":2},{"$f":"$D$43","v":27},108101,null,{"$f":"'Dairy Miscellaneous 2'!P45","v":0},{"$f":"'Dairy Miscellaneous 2'!Q45","v":0}]
[{"$f":"'Cow Housing'!$C$6","v":"C-3333"},{"$f":"$B$43","v":0},{"$f":"$C$43","v":2},{"$f":"$D$43","v":27},108883,null,{"$f":"'Dairy Miscellaneous 2'!P48","v":0},{"$f":"'Dairy Miscellaneous 2'!Q48","v":0}]
[{"$f":"'Cow Housing'!$C$6","v":"C-3333"},{"$f":"$B$43","v":0},{"$f":"$C$43","v":2},{"$f":"$D$43","v":27},108907,null,{"$f":"'Dairy Miscellaneous 2'!P31","v":0},{"$f":"'Dairy Miscellaneous 2'!Q31","v":0}]
[{"$f":"'Cow Housing'!$C$6","v":"C-3333"},{"$f":"$B$43","v":0},{"$f":"$C$43","v":2},{"$f":"$D$43","v":27},110543,null,{"$f":"'Dairy Miscellaneous 2'!P41","v":0},{"$f":"'Dairy Miscellaneous 2'!Q41","v":0}]
[{"$f":"'Cow Housing'!$C$6","v":"C-3333"},{"$f":"$B$43","v":0},{"$f":"$C$43","v":2},{"$f":"$D$43","v":27},110827,null,{"$f":"'Dairy Miscellaneous 2'!P35","v":0},{"$f":"'Dairy Miscellaneous 2'!Q35","v":0}]
[{"$f":"'Cow Housing'!$C$6","v":"C-3333"},{"$f":"$B$43","v":0},{"$f":"$C$43","v":2},{"$f":"$D$43","v":27},120821,null,{"$f":"'Dairy Miscellaneous 2'!P18","v":0},{"$f":"'Dairy Miscellaneous 2'!Q18","v":0}]
[{"$f":"'Cow Housing'!$C$6","v":"C-3333"},{"$f":"$B$43","v":0},{"$f":"$C$43","v":2},{"$f":"$D$43","v":27},123728,null,{"$f":"'Dairy Miscellaneous 2'!P28","v":0},{"$f":"'Dairy Miscellaneous 2'!Q28","v":0}]
[{"$f":"'Cow Housing'!$C$6","v":"C-3333"},{"$f":"$B$43","v":0},{"$f":"$C$43","v":2},{"$f":"$D$43","v":27},123911,null,{"$f":"'Dairy Miscellaneous 2'!P22","v":0},{"$f":"'Dairy Miscellaneous 2'!Q22","v":0}]
[{"$f":"'Cow Housing'!$C$6","v":"C-3333"},{"$f":"$B$43","v":0},{"$f":"$C$43","v":2},{"$f":"$D$43","v":27},541731,null,{"$f":"'Dairy Miscellaneous 2'!P21","v":0},{"$f":"'Dairy Miscellaneous 2'!Q21","v":0}]
[{"$f":"'Cow Housing'!$C$6","v":"C-3333"},{"$f":"$B$43","v":0},{"$f":"$C$43","v":2},{"$f":"$D$43","v":27},764410,null,{"$f":"'Dairy Miscellaneous 2'!P47","v":0},{"$f":"'Dairy Miscellaneous 2'!Q47","v":0}]
[{"$f":"'Cow Housing'!$C$6","v":"C-3333"},{"$f":"$B$43","v":0},{"$f":"$C$43","v":2},{"$f":"$D$43","v":27},1330207,null,{"$f":"'Dairy Miscellaneous 2'!P51","v":0},{"$f":"'Dairy Miscellaneous 2'!Q51","v":0}]
[{"$f":"'Cow Housing'!$C$6","v":"C-3333"},{"$f":"$B$43","v":0},{"$f":"$C$43","v":2},{"$f":"$D$43","v":27},4170303,null,{"$f":"'Dairy Miscellaneous 2'!P34","v":0},{"$f":"'Dairy Miscellaneous 2'!Q34","v":0}]
[{"$f":"'Cow Housing'!$C$6","v":"C-3333"},{"$f":"$B$43","v":0},{"$f":"$C$43","v":2},{"$f":"$D$43","v":27},7429905,null,{"$f":"'Livestock PM10 2'!P14","v":0},{"$f":"'Livestock PM10 2'!Q14","v":0}]
[{"$f":"'Cow Housing'!$C$6","v":"C-3333"},{"$f":"$B$43","v":0},{"$f":"$C$43","v":2},{"$f":"$D$43","v":27},7439921,null,{"$f":"'Livestock PM10 2'!P22","v":0},{"$f":"'Livestock PM10 2'!Q22","v":0}]
[{"$f":"'Cow Housing'!$C$6","v":"C-3333"},{"$f":"$B$43","v":0},{"$f":"$C$43","v":2},{"$f":"$D$43","v":27},7439965,null,{"$f":"'Livestock PM10 2'!P23","v":0},{"$f":"'Livestock PM10 2'!Q23","v":0}]
[{"$f":"'Cow Housing'!$C$6","v":"C-3333"},{"$f":"$B$43","v":0},{"$f":"$C$43","v":2},{"$f":"$D$43","v":27},7439976,null,{"$f":"'Livestock PM10 2'!P24","v":0},{"$f":"'Livestock PM10 2'!Q24","v":0}]
[{"$f":"'Cow Housing'!$C$6","v":"C-3333"},{"$f":"$B$43","v":0},{"$f":"$C$43","v":2},{"$f":"$D$43","v":27},7440020,null,{"$f":"'Livestock PM10 2'!P25","v":0},{"$f":"'Livestock PM10 2'!Q25","v":0}]
[{"$f":"'Cow Housing'!$C$6","v":"C-3333"},{"$f":"$B$43","v":0},{"$f":"$C$43","v":2},{"$f":"$D$43","v":27},7440360,null,{"$f":"'Livestock PM10 2'!P15","v":0},{"$f":"'Livestock PM10 2'!Q15","v":0}]
[{"$f":"'Cow Housing'!$C$6","v":"C-3333"},{"$f":"$B$43","v":0},{"$f":"$C$43","v":2},{"$f":"$D$43","v":27},7440382,null,{"$f":"'Livestock PM10 2'!P16","v":0},{"$f":"'Livestock PM10 2'!Q16","v":0}]
[{"$f":"'Cow Housing'!$C$6","v":"C-3333"},{"$f":"$B$43","v":0},{"$f":"$C$43","v":2},{"$f":"$D$43","v":27},7440393,null,{"$f":"'Livestock PM10 2'!P17","v":0},{"$f":"'Livestock PM10 2'!Q17","v":0}]
[{"$f":"'Cow Housing'!$C$6","v":"C-3333"},{"$f":"$B$43","v":0},{"$f":"$C$43","v":2},{"$f":"$D$43","v":27},7440473,null,{"$f":"'Livestock PM10 2'!P19","v":0},{"$f":"'Livestock PM10 2'!Q19","v":0}]
[{"$f":"'Cow Housing'!$C$6","v":"C-3333"},{"$f":"$B$43","v":0},{"$f":"$C$43","v":2},{"$f":"$D$43","v":27},7440508,null,{"$f":"'Livestock PM10 2'!P20","v":0},{"$f":"'Livestock PM10 2'!Q20","v":0}]
[{"$f":"'Cow Housing'!$C$6","v":"C-3333"},{"$f":"$B$43","v":0},{"$f":"$C$43","v":2},{"$f":"$D$43","v":27},7440622,null,{"$f":"'Livestock PM10 2'!P29","v":0},{"$f":"'Livestock PM10 2'!Q29","v":0}]
[{"$f":"'Cow Housing'!$C$6","v":"C-3333"},{"$f":"$B$43","v":0},{"$f":"$C$43","v":2},{"$f":"$D$43","v":27},7440666,null,{"$f":"'Livestock PM10 2'!P30","v":0},{"$f":"'Livestock PM10 2'!Q30","v":0}]
[{"$f":"'Cow Housing'!$C$6","v":"C-3333"},{"$f":"$B$43","v":0},{"$f":"$C$43","v":2},{"$f":"$D$43","v":27},7664417,null,{"$f":"'Livestock PM10 2'!P31","v":0},{"$f":"'Livestock PM10 2'!Q31","v":0}]
[{"$f":"'Cow Housing'!$C$6","v":"C-3333"},{"$f":"$B$43","v":0},{"$f":"$C$43","v":2},{"$f":"$D$43","v":27},7723140,null,{"$f":"'Livestock PM10 2'!P26","v":0},{"$f":"'Livestock PM10 2'!Q26","v":0}]
[{"$f":"'Cow Housing'!$C$6","v":"C-3333"},{"$f":"$B$43","v":0},{"$f":"$C$43","v":2},{"$f":"$D$43","v":27},7726956,null,{"$f":"'Livestock PM10 2'!P18","v":0},{"$f":"'Livestock PM10 2'!Q18","v":0}]
[{"$f":"'Cow Housing'!$C$6","v":"C-3333"},{"$f":"$B$43","v":0},{"$f":"$C$43","v":2},{"$f":"$D$43","v":27},7782492,null,{"$f":"'Livestock PM10 2'!P27","v":0},{"$f":"'Livestock PM10 2'!Q27","v":0}]
[{"$f":"'Cow Housing'!$C$6","v":"C-3333"},{"$f":"$B$43","v":0},{"$f":"$C$43","v":2},{"$f":"$D$43","v":27},18540299,null,{"$f":"'Livestock PM10 2'!P21","v":0},{"$f":"'Livestock PM10 2'!Q21","v":0}]
[{"$f":"'Cow Housing'!$C$6","v":"C-3333"},{"$f":"$B$44","v":0},{"$f":"$C$44","v":2},{"$f":"$D$44","v":28},9960,null,{"$f":"'Livestock PM10 2'!R28","v":0},{"$f":"'Livestock PM10 2'!S28","v":0}]
[{"$f":"'Cow Housing'!$C$6","v":"C-3333"},{"$f":"$B$44","v":0},{"$f":"$C$44","v":2},{"$f":"$D$44","v":28},50000,null,{"$f":"'Dairy Miscellaneous 2'!R40","v":0},{"$f":"'Dairy Miscellaneous 2'!S40","v":0}]
[{"$f":"'Cow Housing'!$C$6","v":"C-3333"},{"$f":"$B$44","v":0},{"$f":"$C$44","v":2},{"$f":"$D$44","v":28},56235,null,{"$f":"'Dairy Miscellaneous 2'!R30","v":0},{"$f":"'Dairy Miscellaneous 2'!S30","v":0}]
[{"$f":"'Cow Housing'!$C$6","v":"C-3333"},{"$f":"$B$44","v":0},{"$f":"$C$44","v":2},{"$f":"$D$44","v":28},67630,null,{"$f":"'Dairy Miscellaneous 2'!R42","v":0},{"$f":"'Dairy Miscellaneous 2'!S42","v":0}]
[{"$f":"'Cow Housing'!$C$6","v":"C-3333"},{"$f":"$B$44","v":0},{"$f":"$C$44","v":2},{"$f":"$D$44","v":28},67663,null,{"$f":"'Dairy Miscellaneous 2'!R32","v":0},{"$f":"'Dairy Miscellaneous 2'!S32","v":0}]
[{"$f":"'Cow Housing'!$C$6","v":"C-3333"},{"$f":"$B$44","v":0},{"$f":"$C$44","v":2},{"$f":"$D$44","v":28},71432,null,{"$f":"'Dairy Miscellaneous 2'!R26","v":0},{"$f":"'Dairy Miscellaneous 2'!S26","v":0}]
[{"$f":"'Cow Housing'!$C$6","v":"C-3333"},{"$f":"$B$44","v":0},{"$f":"$C$44","v":2},{"$f":"$D$44","v":28},74873,null,{"$f":"'Dairy Miscellaneous 2'!R33","v":0},{"$f":"'Dairy Miscellaneous 2'!S33","v":0}]
[{"$f":"'Cow Housing'!$C$6","v":"C-3333"},{"$f":"$B$44","v":0},{"$f":"$C$44","v":2},{"$f":"$D$44","v":28},75003,null,{"$f":"'Dairy Miscellaneous 2'!R36","v":0},{"$f":"'Dairy Miscellaneous 2'!S36","v":0}]
[{"$f":"'Cow Housing'!$C$6","v":"C-3333"},{"$f":"$B$44","v":0},{"$f":"$C$44","v":2},{"$f":"$D$44","v":28},75070,null,{"$f":"'Dairy Miscellaneous 2'!R24","v":0},{"$f":"'Dairy Miscellaneous 2'!S24","v":0}]
[{"$f":"'Cow Housing'!$C$6","v":"C-3333"},{"$f":"$B$44","v":0},{"$f":"$C$44","v":2},{"$f":"$D$44","v":28},75150,null,{"$f":"'Dairy Miscellaneous 2'!R29","v":0},{"$f":"'Dairy Miscellaneous 2'!S29","v":0}]
[{"$f":"'Cow Housing'!$C$6","v":"C-3333"},{"$f":"$B$44","v":0},{"$f":"$C$44","v":2},{"$f":"$D$44","v":28},75694,null,{"$f":"'Dairy Miscellaneous 2'!R49","v":0},{"$f":"'Dairy Miscellaneous 2'!S49","v":0}]
[{"$f":"'Cow Housing'!$C$6","v":"C-3333"},{"$f":"$B$44","v":0},{"$f":"$C$44","v":2},{"$f":"$D$44","v":28},78933,null,{"$f":"'Dairy Miscellaneous 2'!R44","v":0},{"$f":"'Dairy Miscellaneous 2'!S44","v":0}]
[{"$f":"'Cow Housing'!$C$6","v":"C-3333"},{"$f":"$B$44","v":0},{"$f":"$C$44","v":2},{"$f":"$D$44","v":28},79005,null,{"$f":"'Dairy Miscellaneous 2'!R16","v":0},{"$f":"'Dairy Miscellaneous 2'!S16","v":0}]
[{"$f":"'Cow Housing'!$C$6","v":"C-3333"},{"$f":"$B$44","v":0},{"$f":"$C$44","v":2},{"$f":"$D$44","v":28},79345,null,{"$f":"'Dairy Miscellaneous 2'!R15","v":0},{"$f":"'Dairy Miscellaneous 2'!S15","v":0}]
[{"$f":"'Cow Housing'!$C$6","v":"C-3333"},{"$f":"$B$44","v":0},{"$f":"$C$44","v":2},{"$f":"$D$44","v":28},95501,null,{"$f":"'Dairy Miscellaneous 2'!R20","v":0},{"$f":"'Dairy Miscellaneous 2'!S20","v":0}]
[{"$f":"'Cow Housing'!$C$6","v":"C-3333"},{"$f":"$B$44","v":0},{"$f":"$C$44","v":2},{"$f":"$D$44","v":28},96128,null,{"$f":"'Dairy Miscellaneous 2'!R19","v":0},{"$f":"'Dairy Miscellaneous 2'!S19","v":0}]
[{"$f":"'Cow Housing'!$C$6","v":"C-3333"},{"$f":"$B$44","v":0},{"$f":"$C$44","v":2},{"$f":"$D$44","v":28},96184,null,{"$f":"'Dairy Miscellaneous 2'!R17","v":0},{"$f":"'Dairy Miscellaneous 2'!S17","v":0}]
[{"$f":"'Cow Housing'!$C$6","v":"C-3333"},{"$f":"$B$44","v":0},{"$f":"$C$44","v":2},{"$f":"$D$44","v":28},98828,null,{"$f":"'Dairy Miscellaneous 2'!R43","v":0},{"$f":"'Dairy Miscellaneous 2'!S43","v":0}]
[{"$f":"'Cow Housing'!$C$6","v":"C-3333"},{"$f":"$B$44","v":0},{"$f":"$C$44","v":2},{"$f":"$D$44","v":28},100414,null,{"$f":"'Dairy Miscellaneous 2'!R37","v":0},{"$f":"'Dairy Miscellaneous 2'!S37","v":0}]
[{"$f":"'Cow Housing'!$C$6","v":"C-3333"},{"$f":"$B$44","v":0},{"$f":"$C$44","v":2},{"$f":"$D$44","v":28},100425,null,{"$f":"'Dairy Miscellaneous 2'!R46","v":0},{"$f":"'Dairy Miscellaneous 2'!S46","v":0}]
[{"$f":"'Cow Housing'!$C$6","v":"C-3333"},{"$f":"$B$44","v":0},{"$f":"$C$44","v":2},{"$f":"$D$44","v":28},100447,null,{"$f":"'Dairy Miscellaneous 2'!R27","v":0},{"$f":"'Dairy Miscellaneous 2'!S27","v":0}]
[{"$f":"'Cow Housing'!$C$6","v":"C-3333"},{"$f":"$B$44","v":0},{"$f":"$C$44","v":2},{"$f":"$D$44","v":28},106467,null,{"$f":"'Dairy Miscellaneous 2'!R23","v":0},{"$f":"'Dairy Miscellaneous 2'!S23","v":0}]
[{"$f":"'Cow Housing'!$C$6","v":"C-3333"},{"$f":"$B$44","v":0},{"$f":"$C$44","v":2},{"$f":"$D$44","v":28},106934,null,{"$f":"'Dairy Miscellaneous 2'!R38","v":0},{"$f":"'Dairy Miscellaneous 2'!S38","v":0}]
[{"$f":"'Cow Housing'!$C$6","v":"C-3333"},{"$f":"$B$44","v":0},{"$f":"$C$44","v":2},{"$f":"$D$44","v":28},107062,null,{"$f":"'Dairy Miscellaneous 2'!R39","v":0},{"$f":"'Dairy Miscellaneous 2'!S39","v":0}]
[{"$f":"'Cow Housing'!$C$6","v":"C-3333"},{"$f":"$B$44","v":0},{"$f":"$C$44","v":2},{"$f":"$D$44","v":28},107131,null,{"$f":"'Dairy Miscellaneous 2'!R25","v":0},{"$f":"'Dairy Miscellaneous 2'!S25","v":0}]
[{"$f":"'Cow Housing'!$C$6","v":"C-3333"},{"$f":"$B$44","v":0},{"$f":"$C$44","v":2},{"$f":"$D$44","v":28},108054,null,{"$f":"'Dairy Miscellaneous 2'!R50","v":0},{"$f":"'Dairy Miscellaneous 2'!S50","v":0}]
[{"$f":"'Cow Housing'!$C$6","v":"C-3333"},{"$f":"$B$44","v":0},{"$f":"$C$44","v":2},{"$f":"$D$44","v":28},108101,null,{"$f":"'Dairy Miscellaneous 2'!R45","v":0},{"$f":"'Dairy Miscellaneous 2'!S45","v":0}]
[{"$f":"'Cow Housing'!$C$6","v":"C-3333"},{"$f":"$B$44","v":0},{"$f":"$C$44","v":2},{"$f":"$D$44","v":28},108883,null,{"$f":"'Dairy Miscellaneous 2'!R48","v":0},{"$f":"'Dairy Miscellaneous 2'!S48","v":0}]
[{"$f":"'Cow Housing'!$C$6","v":"C-3333"},{"$f":"$B$44","v":0},{"$f":"$C$44","v":2},{"$f":"$D$44","v":28},108907,null,{"$f":"'Dairy Miscellaneous 2'!R31","v":0},{"$f":"'Dairy Miscellaneous 2'!S31","v":0}]
[{"$f":"'Cow Housing'!$C$6","v":"C-3333"},{"$f":"$B$44","v":0},{"$f":"$C$44","v":2},{"$f":"$D$44","v":28},110543,null,{"$f":"'Dairy Miscellaneous 2'!R41","v":0},{"$f":"'Dairy Miscellaneous 2'!S41","v":0}]
[{"$f":"'Cow Housing'!$C$6","v":"C-3333"},{"$f":"$B$44","v":0},{"$f":"$C$44","v":2},{"$f":"$D$44","v":28},110827,null,{"$f":"'Dairy Miscellaneous 2'!R35","v":0},{"$f":"'Dairy Miscellaneous 2'!S35","v":0}]
[{"$f":"'Cow Housing'!$C$6","v":"C-3333"},{"$f":"$B$44","v":0},{"$f":"$C$44","v":2},{"$f":"$D$44","v":28},120821,null,{"$f":"'Dairy Miscellaneous 2'!R18","v":0},{"$f":"'Dairy Miscellaneous 2'!S18","v":0}]
[{"$f":"'Cow Housing'!$C$6","v":"C-3333"},{"$f":"$B$44","v":0},{"$f":"$C$44","v":2},{"$f":"$D$44","v":28},123728,null,{"$f":"'Dairy Miscellaneous 2'!R28","v":0},{"$f":"'Dairy Miscellaneous 2'!S28","v":0}]
[{"$f":"'Cow Housing'!$C$6","v":"C-3333"},{"$f":"$B$44","v":0},{"$f":"$C$44","v":2},{"$f":"$D$44","v":28},123911,null,{"$f":"'Dairy Miscellaneous 2'!R22","v":0},{"$f":"'Dairy Miscellaneous 2'!S22","v":0}]
[{"$f":"'Cow Housing'!$C$6","v":"C-3333"},{"$f":"$B$44","v":0},{"$f":"$C$44","v":2},{"$f":"$D$44","v":28},541731,null,{"$f":"'Dairy Miscellaneous 2'!R21","v":0},{"$f":"'Dairy Miscellaneous 2'!S21","v":0}]
[{"$f":"'Cow Housing'!$C$6","v":"C-3333"},{"$f":"$B$44","v":0},{"$f":"$C$44","v":2},{"$f":"$D$44","v":28},764410,null,{"$f":"'Dairy Miscellaneous 2'!R47","v":0},{"$f":"'Dairy Miscellaneous 2'!S47","v":0}]
[{"$f":"'Cow Housing'!$C$6","v":"C-3333"},{"$f":"$B$44","v":0},{"$f":"$C$44","v":2},{"$f":"$D$44","v":28},1330207,null,{"$f":"'Dairy Miscellaneous 2'!R51","v":0},{"$f":"'Dairy Miscellaneous 2'!S51","v":0}]
[{"$f":"'Cow Housing'!$C$6","v":"C-3333"},{"$f":"$B$44","v":0},{"$f":"$C$44","v":2},{"$f":"$D$44","v":28},4170303,null,{"$f":"'Dairy Miscellaneous 2'!R34","v":0},{"$f":"'Dairy Miscellaneous 2'!S34","v":0}]
[{"$f":"'Cow Housing'!$C$6","v":"C-3333"},{"$f":"$B$44","v":0},{"$f":"$C$44","v":2},{"$f":"$D$44","v":28},7429905,null,{"$f":"'Livestock PM10 2'!R14","v":0},{"$f":"'Livestock PM10 2'!S14","v":0}]
[{"$f":"'Cow Housing'!$C$6","v":"C-3333"},{"$f":"$B$44","v":0},{"$f":"$C$44","v":2},{"$f":"$D$44","v":28},7439921,null,{"$f":"'Livestock PM10 2'!R22","v":0},{"$f":"'Livestock PM10 2'!S22","v":0}]
[{"$f":"'Cow Housing'!$C$6","v":"C-3333"},{"$f":"$B$44","v":0},{"$f":"$C$44","v":2},{"$f":"$D$44","v":28},7439965,null,{"$f":"'Livestock PM10 2'!R23","v":0},{"$f":"'Livestock PM10 2'!S23","v":0}]
[{"$f":"'Cow Housing'!$C$6","v":"C-3333"},{"$f":"$B$44","v":0},{"$f":"$C$44","v":2},{"$f":"$D$44","v":28},7439976,null,{"$f":"'Livestock PM10 2'!R24","v":0},{"$f":"'Livestock PM10 2'!S24","v":0}]
[{"$f":"'Cow Housing'!$C$6","v":"C-3333"},{"$f":"$B$44","v":0},{"$f":"$C$44","v":2},{"$f":"$D$44","v":28},7440020,null,{"$f":"'Livestock PM10 2'!R25","v":0},{"$f":"'Livestock PM10 2'!S25","v":0}]
[{"$f":"'Cow Housing'!$C$6","v":"C-3333"},{"$f":"$B$44","v":0},{"$f":"$C$44","v":2},{"$f":"$D$44","v":28},7440360,null,{"$f":"'Livestock PM10 2'!R15","v":0},{"$f":"'Livestock PM10 2'!S15","v":0}]
[{"$f":"'Cow Housing'!$C$6","v":"C-3333"},{"$f":"$B$44","v":0},{"$f":"$C$44","v":2},{"$f":"$D$44","v":28},7440382,null,{"$f":"'Livestock PM10 2'!R16","v":0},{"$f":"'Livestock PM10 2'!S16","v":0}]
[{"$f":"'Cow Housing'!$C$6","v":"C-3333"},{"$f":"$B$44","v":0},{"$f":"$C$44","v":2},{"$f":"$D$44","v":28},7440393,null,{"$f":"'Livestock PM10 2'!R17","v":0},{"$f":"'Livestock PM10 2'!S17","v":0}]
[{"$f":"'Cow Housing'!$C$6","v":"C-3333"},{"$f":"$B$44","v":0},{"$f":"$C$44","v":2},{"$f":"$D$44","v":28},7440473,null,{"$f":"'Livestock PM10 2'!R19","v":0},{"$f":"'Livestock PM10 2'!S19","v":0}]
[{"$f":"'Cow Housing'!$C$6","v":"C-3333"},{"$f":"$B$44","v":0},{"$f":"$C$44","v":2},{"$f":"$D$44","v":28},7440508,null,{"$f":"'Livestock PM10 2'!R20","v":0},{"$f":"'Livestock PM10 2'!S20","v":0}]
[{"$f":"'Cow Housing'!$C$6","v":"C-3333"},{"$f":"$B$44","v":0},{"$f":"$C$44","v":2},{"$f":"$D$44","v":28},7440622,null,{"$f":"'Livestock PM10 2'!R29","v":0},{"$f":"'Livestock PM10 2'!S29","v":0}]
[{"$f":"'Cow Housing'!$C$6","v":"C-3333"},{"$f":"$B$44","v":0},{"$f":"$C$44","v":2},{"$f":"$D$44","v":28},7440666,null,{"$f":"'Livestock PM10 2'!R30","v":0},{"$f":"'Livestock PM10 2'!S30","v":0}]
[{"$f":"'Cow Housing'!$C$6","v":"C-3333"},{"$f":"$B$44","v":0},{"$f":"$C$44","v":2},{"$f":"$D$44","v":28},7664417,null,{"$f":"'Livestock PM10 2'!R31","v":0},{"$f":"'Livestock PM10 2'!S31","v":0}]
[{"$f":"'Cow Housing'!$C$6","v":"C-3333"},{"$f":"$B$44","v":0},{"$f":"$C$44","v":2},{"$f":"$D$44","v":28},7723140,null,{"$f":"'Livestock PM10 2'!R26","v":0},{"$f":"'Livestock PM10 2'!S26","v":0}]
[{"$f":"'Cow Housing'!$C$6","v":"C-3333"},{"$f":"$B$44","v":0},{"$f":"$C$44","v":2},{"$f":"$D$44","v":28},7726956,null,{"$f":"'Livestock PM10 2'!R18","v":0},{"$f":"'Livestock PM10 2'!S18","v":0}]
[{"$f":"'Cow Housing'!$C$6","v":"C-3333"},{"$f":"$B$44","v":0},{"$f":"$C$44","v":2},{"$f":"$D$44","v":28},7782492,null,{"$f":"'Livestock PM10 2'!R27","v":0},{"$f":"'Livestock PM10 2'!S27","v":0}]
[{"$f":"'Cow Housing'!$C$6","v":"C-3333"},{"$f":"$B$44","v":0},{"$f":"$C$44","v":2},{"$f":"$D$44","v":28},18540299,null,{"$f":"'Livestock PM10 2'!R21","v":0},{"$f":"'Livestock PM10 2'!S21","v":0}]
[{"$f":"'Cow Housing'!$C$6","v":"C-3333"},{"$f":"$B$45","v":0},{"$f":"$C$45","v":2},{"$f":"$D$45","v":29},9960,null,{"$f":"'Livestock PM10 2'!T28","v":0},{"$f":"'Livestock PM10 2'!U28","v":0}]
[{"$f":"'Cow Housing'!$C$6","v":"C-3333"},{"$f":"$B$45","v":0},{"$f":"$C$45","v":2},{"$f":"$D$45","v":29},50000,null,{"$f":"'Dairy Miscellaneous 2'!T40","v":0},{"$f":"'Dairy Miscellaneous 2'!U40","v":0}]
[{"$f":"'Cow Housing'!$C$6","v":"C-3333"},{"$f":"$B$45","v":0},{"$f":"$C$45","v":2},{"$f":"$D$45","v":29},56235,null,{"$f":"'Dairy Miscellaneous 2'!T30","v":0},{"$f":"'Dairy Miscellaneous 2'!U30","v":0}]
[{"$f":"'Cow Housing'!$C$6","v":"C-3333"},{"$f":"$B$45","v":0},{"$f":"$C$45","v":2},{"$f":"$D$45","v":29},67630,null,{"$f":"'Dairy Miscellaneous 2'!T42","v":0},{"$f":"'Dairy Miscellaneous 2'!U42","v":0}]
[{"$f":"'Cow Housing'!$C$6","v":"C-3333"},{"$f":"$B$45","v":0},{"$f":"$C$45","v":2},{"$f":"$D$45","v":29},67663,null,{"$f":"'Dairy Miscellaneous 2'!T32","v":0},{"$f":"'Dairy Miscellaneous 2'!U32","v":0}]
[{"$f":"'Cow Housing'!$C$6","v":"C-3333"},{"$f":"$B$45","v":0},{"$f":"$C$45","v":2},{"$f":"$D$45","v":29},71432,null,{"$f":"'Dairy Miscellaneous 2'!T26","v":0},{"$f":"'Dairy Miscellaneous 2'!U26","v":0}]
[{"$f":"'Cow Housing'!$C$6","v":"C-3333"},{"$f":"$B$45","v":0},{"$f":"$C$45","v":2},{"$f":"$D$45","v":29},74873,null,{"$f":"'Dairy Miscellaneous 2'!T33","v":0},{"$f":"'Dairy Miscellaneous 2'!U33","v":0}]
[{"$f":"'Cow Housing'!$C$6","v":"C-3333"},{"$f":"$B$45","v":0},{"$f":"$C$45","v":2},{"$f":"$D$45","v":29},75003,null,{"$f":"'Dairy Miscellaneous 2'!T36","v":0},{"$f":"'Dairy Miscellaneous 2'!U36","v":0}]
[{"$f":"'Cow Housing'!$C$6","v":"C-3333"},{"$f":"$B$45","v":0},{"$f":"$C$45","v":2},{"$f":"$D$45","v":29},75070,null,{"$f":"'Dairy Miscellaneous 2'!T24","v":0},{"$f":"'Dairy Miscellaneous 2'!U24","v":0}]
[{"$f":"'Cow Housing'!$C$6","v":"C-3333"},{"$f":"$B$45","v":0},{"$f":"$C$45","v":2},{"$f":"$D$45","v":29},75150,null,{"$f":"'Dairy Miscellaneous 2'!T29","v":0},{"$f":"'Dairy Miscellaneous 2'!U29","v":0}]
[{"$f":"'Cow Housing'!$C$6","v":"C-3333"},{"$f":"$B$45","v":0},{"$f":"$C$45","v":2},{"$f":"$D$45","v":29},75694,null,{"$f":"'Dairy Miscellaneous 2'!T49","v":0},{"$f":"'Dairy Miscellaneous 2'!U49","v":0}]
[{"$f":"'Cow Housing'!$C$6","v":"C-3333"},{"$f":"$B$45","v":0},{"$f":"$C$45","v":2},{"$f":"$D$45","v":29},78933,null,{"$f":"'Dairy Miscellaneous 2'!T44","v":0},{"$f":"'Dairy Miscellaneous 2'!U44","v":0}]
[{"$f":"'Cow Housing'!$C$6","v":"C-3333"},{"$f":"$B$45","v":0},{"$f":"$C$45","v":2},{"$f":"$D$45","v":29},79005,null,{"$f":"'Dairy Miscellaneous 2'!T16","v":0},{"$f":"'Dairy Miscellaneous 2'!U16","v":0}]
[{"$f":"'Cow Housing'!$C$6","v":"C-3333"},{"$f":"$B$45","v":0},{"$f":"$C$45","v":2},{"$f":"$D$45","v":29},79345,null,{"$f":"'Dairy Miscellaneous 2'!T15","v":0},{"$f":"'Dairy Miscellaneous 2'!U15","v":0}]
[{"$f":"'Cow Housing'!$C$6","v":"C-3333"},{"$f":"$B$45","v":0},{"$f":"$C$45","v":2},{"$f":"$D$45","v":29},95501,null,{"$f":"'Dairy Miscellaneous 2'!T20","v":0},{"$f":"'Dairy Miscellaneous 2'!U20","v":0}]
[{"$f":"'Cow Housing'!$C$6","v":"C-3333"},{"$f":"$B$45","v":0},{"$f":"$C$45","v":2},{"$f":"$D$45","v":29},96128,null,{"$f":"'Dairy Miscellaneous 2'!T19","v":0},{"$f":"'Dairy Miscellaneous 2'!U19","v":0}]
[{"$f":"'Cow Housing'!$C$6","v":"C-3333"},{"$f":"$B$45","v":0},{"$f":"$C$45","v":2},{"$f":"$D$45","v":29},96184,null,{"$f":"'Dairy Miscellaneous 2'!T17","v":0},{"$f":"'Dairy Miscellaneous 2'!U17","v":0}]
[{"$f":"'Cow Housing'!$C$6","v":"C-3333"},{"$f":"$B$45","v":0},{"$f":"$C$45","v":2},{"$f":"$D$45","v":29},98828,null,{"$f":"'Dairy Miscellaneous 2'!T43","v":0},{"$f":"'Dairy Miscellaneous 2'!U43","v":0}]
[{"$f":"'Cow Housing'!$C$6","v":"C-3333"},{"$f":"$B$45","v":0},{"$f":"$C$45","v":2},{"$f":"$D$45","v":29},100414,null,{"$f":"'Dairy Miscellaneous 2'!T37","v":0},{"$f":"'Dairy Miscellaneous 2'!U37","v":0}]
[{"$f":"'Cow Housing'!$C$6","v":"C-3333"},{"$f":"$B$45","v":0},{"$f":"$C$45","v":2},{"$f":"$D$45","v":29},100425,null,{"$f":"'Dairy Miscellaneous 2'!T46","v":0},{"$f":"'Dairy Miscellaneous 2'!U46","v":0}]
[{"$f":"'Cow Housing'!$C$6","v":"C-3333"},{"$f":"$B$45","v":0},{"$f":"$C$45","v":2},{"$f":"$D$45","v":29},100447,null,{"$f":"'Dairy Miscellaneous 2'!T27","v":0},{"$f":"'Dairy Miscellaneous 2'!U27","v":0}]
[{"$f":"'Cow Housing'!$C$6","v":"C-3333"},{"$f":"$B$45","v":0},{"$f":"$C$45","v":2},{"$f":"$D$45","v":29},106467,null,{"$f":"'Dairy Miscellaneous 2'!T23","v":0},{"$f":"'Dairy Miscellaneous 2'!U23","v":0}]
[{"$f":"'Cow Housing'!$C$6","v":"C-3333"},{"$f":"$B$45","v":0},{"$f":"$C$45","v":2},{"$f":"$D$45","v":29},106934,null,{"$f":"'Dairy Miscellaneous 2'!T38","v":0},{"$f":"'Dairy Miscellaneous 2'!U38","v":0}]
[{"$f":"'Cow Housing'!$C$6","v":"C-3333"},{"$f":"$B$45","v":0},{"$f":"$C$45","v":2},{"$f":"$D$45","v":29},107062,null,{"$f":"'Dairy Miscellaneous 2'!T39","v":0},{"$f":"'Dairy Miscellaneous 2'!U39","v":0}]
[{"$f":"'Cow Housing'!$C$6","v":"C-3333"},{"$f":"$B$45","v":0},{"$f":"$C$45","v":2},{"$f":"$D$45","v":29},107131,null,{"$f":"'Dairy Miscellaneous 2'!T25","v":0},{"$f":"'Dairy Miscellaneous 2'!U25","v":0}]
[{"$f":"'Cow Housing'!$C$6","v":"C-3333"},{"$f":"$B$45","v":0},{"$f":"$C$45","v":2},{"$f":"$D$45","v":29},108054,null,{"$f":"'Dairy Miscellaneous 2'!T50","v":0},{"$f":"'Dairy Miscellaneous 2'!U50","v":0}]
[{"$f":"'Cow Housing'!$C$6","v":"C-3333"},{"$f":"$B$45","v":0},{"$f":"$C$45","v":2},{"$f":"$D$45","v":29},108101,null,{"$f":"'Dairy Miscellaneous 2'!T45","v":0},{"$f":"'Dairy Miscellaneous 2'!U45","v":0}]
[{"$f":"'Cow Housing'!$C$6","v":"C-3333"},{"$f":"$B$45","v":0},{"$f":"$C$45","v":2},{"$f":"$D$45","v":29},108883,null,{"$f":"'Dairy Miscellaneous 2'!T48","v":0},{"$f":"'Dairy Miscellaneous 2'!U48","v":0}]
[{"$f":"'Cow Housing'!$C$6","v":"C-3333"},{"$f":"$B$45","v":0},{"$f":"$C$45","v":2},{"$f":"$D$45","v":29},108907,null,{"$f":"'Dairy Miscellaneous 2'!T31","v":0},{"$f":"'Dairy Miscellaneous 2'!U31","v":0}]
[{"$f":"'Cow Housing'!$C$6","v":"C-3333"},{"$f":"$B$45","v":0},{"$f":"$C$45","v":2},{"$f":"$D$45","v":29},110543,null,{"$f":"'Dairy Miscellaneous 2'!T41","v":0},{"$f":"'Dairy Miscellaneous 2'!U41","v":0}]
[{"$f":"'Cow Housing'!$C$6","v":"C-3333"},{"$f":"$B$45","v":0},{"$f":"$C$45","v":2},{"$f":"$D$45","v":29},110827,null,{"$f":"'Dairy Miscellaneous 2'!T35","v":0},{"$f":"'Dairy Miscellaneous 2'!U35","v":0}]
[{"$f":"'Cow Housing'!$C$6","v":"C-3333"},{"$f":"$B$45","v":0},{"$f":"$C$45","v":2},{"$f":"$D$45","v":29},120821,null,{"$f":"'Dairy Miscellaneous 2'!T18","v":0},{"$f":"'Dairy Miscellaneous 2'!U18","v":0}]
[{"$f":"'Cow Housing'!$C$6","v":"C-3333"},{"$f":"$B$45","v":0},{"$f":"$C$45","v":2},{"$f":"$D$45","v":29},123728,null,{"$f":"'Dairy Miscellaneous 2'!T28","v":0},{"$f":"'Dairy Miscellaneous 2'!U28","v":0}]
[{"$f":"'Cow Housing'!$C$6","v":"C-3333"},{"$f":"$B$45","v":0},{"$f":"$C$45","v":2},{"$f":"$D$45","v":29},123911,null,{"$f":"'Dairy Miscellaneous 2'!T22","v":0},{"$f":"'Dairy Miscellaneous 2'!U22","v":0}]
[{"$f":"'Cow Housing'!$C$6","v":"C-3333"},{"$f":"$B$45","v":0},{"$f":"$C$45","v":2},{"$f":"$D$45","v":29},541731,null,{"$f":"'Dairy Miscellaneous 2'!T21","v":0},{"$f":"'Dairy Miscellaneous 2'!U21","v":0}]
[{"$f":"'Cow Housing'!$C$6","v":"C-3333"},{"$f":"$B$45","v":0},{"$f":"$C$45","v":2},{"$f":"$D$45","v":29},764410,null,{"$f":"'Dairy Miscellaneous 2'!T47","v":0},{"$f":"'Dairy Miscellaneous 2'!U47","v":0}]
[{"$f":"'Cow Housing'!$C$6","v":"C-3333"},{"$f":"$B$45","v":0},{"$f":"$C$45","v":2},{"$f":"$D$45","v":29},1330207,null,{"$f":"'Dairy Miscellaneous 2'!T51","v":0},{"$f":"'Dairy Miscellaneous 2'!U51","v":0}]
[{"$f":"'Cow Housing'!$C$6","v":"C-3333"},{"$f":"$B$45","v":0},{"$f":"$C$45","v":2},{"$f":"$D$45","v":29},4170303,null,{"$f":"'Dairy Miscellaneous 2'!T34","v":0},{"$f":"'Dairy Miscellaneous 2'!U34","v":0}]
[{"$f":"'Cow Housing'!$C$6","v":"C-3333"},{"$f":"$B$45","v":0},{"$f":"$C$45","v":2},{"$f":"$D$45","v":29},7429905,null,{"$f":"'Livestock PM10 2'!T14","v":0},{"$f":"'Livestock PM10 2'!U14","v":0}]
[{"$f":"'Cow Housing'!$C$6","v":"C-3333"},{"$f":"$B$45","v":0},{"$f":"$C$45","v":2},{"$f":"$D$45","v":29},7439921,null,{"$f":"'Livestock PM10 2'!T22","v":0},{"$f":"'Livestock PM10 2'!U22","v":0}]
[{"$f":"'Cow Housing'!$C$6","v":"C-3333"},{"$f":"$B$45","v":0},{"$f":"$C$45","v":2},{"$f":"$D$45","v":29},7439965,null,{"$f":"'Livestock PM10 2'!T23","v":0},{"$f":"'Livestock PM10 2'!U23","v":0}]
[{"$f":"'Cow Housing'!$C$6","v":"C-3333"},{"$f":"$B$45","v":0},{"$f":"$C$45","v":2},{"$f":"$D$45","v":29},7439976,null,{"$f":"'Livestock PM10 2'!T24","v":0},{"$f":"'Livestock PM10 2'!U24","v":0}]
[{"$f":"'Cow Housing'!$C$6","v":"C-3333"},{"$f":"$B$45","v":0},{"$f":"$C$45","v":2},{"$f":"$D$45","v":29},7440020,null,{"$f":"'Livestock PM10 2'!T25","v":0},{"$f":"'Livestock PM10 2'!U25","v":0}]
[{"$f":"'Cow Housing'!$C$6","v":"C-3333"},{"$f":"$B$45","v":0},{"$f":"$C$45","v":2},{"$f":"$D$45","v":29},7440360,null,{"$f":"'Livestock PM10 2'!T15","v":0},{"$f":"'Livestock PM10 2'!U15","v":0}]
[{"$f":"'Cow Housing'!$C$6","v":"C-3333"},{"$f":"$B$45","v":0},{"$f":"$C$45","v":2},{"$f":"$D$45","v":29},7440382,null,{"$f":"'Livestock PM10 2'!T16","v":0},{"$f":"'Livestock PM10 2'!U16","v":0}]
[{"$f":"'Cow Housing'!$C$6","v":"C-3333"},{"$f":"$B$45","v":0},{"$f":"$C$45","v":2},{"$f":"$D$45","v":29},7440393,null,{"$f":"'Livestock PM10 2'!T17","v":0},{"$f":"'Livestock PM10 2'!U17","v":0}]
[{"$f":"'Cow Housing'!$C$6","v":"C-3333"},{"$f":"$B$45","v":0},{"$f":"$C$45","v":2},{"$f":"$D$45","v":29},7440473,null,{"$f":"'Livestock PM10 2'!T19","v":0},{"$f":"'Livestock PM10 2'!U19","v":0}]
[{"$f":"'Cow Housing'!$C$6","v":"C-3333"},{"$f":"$B$45","v":0},{"$f":"$C$45","v":2},{"$f":"$D$45","v":29},7440508,null,{"$f":"'Livestock PM10 2'!T20","v":0},{"$f":"'Livestock PM10 2'!U20","v":0}]
[{"$f":"'Cow Housing'!$C$6","v":"C-3333"},{"$f":"$B$45","v":0},{"$f":"$C$45","v":2},{"$f":"$D$45","v":29},7440622,null,{"$f":"'Livestock PM10 2'!T29","v":0},{"$f":"'Livestock PM10 2'!U29","v":0}]
[{"$f":"'Cow Housing'!$C$6","v":"C-3333"},{"$f":"$B$45","v":0},{"$f":"$C$45","v":2},{"$f":"$D$45","v":29},7440666,null,{"$f":"'Livestock PM10 2'!T30","v":0},{"$f":"'Livestock PM10 2'!U30","v":0}]
[{"$f":"'Cow Housing'!$C$6","v":"C-3333"},{"$f":"$B$45","v":0},{"$f":"$C$45","v":2},{"$f":"$D$45","v":29},7664417,null,{"$f":"'Livestock PM10 2'!T31","v":0},{"$f":"'Livestock PM10 2'!U31","v":0}]
[{"$f":"'Cow Housing'!$C$6","v":"C-3333"},{"$f":"$B$45","v":0},{"$f":"$C$45","v":2},{"$f":"$D$45","v":29},7723140,null,{"$f":"'Livestock PM10 2'!T26","v":0},{"$f":"'Livestock PM10 2'!U26","v":0}]
[{"$f":"'Cow Housing'!$C$6","v":"C-3333"},{"$f":"$B$45","v":0},{"$f":"$C$45","v":2},{"$f":"$D$45","v":29},7726956,null,{"$f":"'Livestock PM10 2'!T18","v":0},{"$f":"'Livestock PM10 2'!U18","v":0}]
[{"$f":"'Cow Housing'!$C$6","v":"C-3333"},{"$f":"$B$45","v":0},{"$f":"$C$45","v":2},{"$f":"$D$45","v":29},7782492,null,{"$f":"'Livestock PM10 2'!T27","v":0},{"$f":"'Livestock PM10 2'!U27","v":0}]
[{"$f":"'Cow Housing'!$C$6","v":"C-3333"},{"$f":"$B$45","v":0},{"$f":"$C$45","v":2},{"$f":"$D$45","v":29},18540299,null,{"$f":"'Livestock PM10 2'!T21","v":0},{"$f":"'Livestock PM10 2'!U21","v":0}]
[{"$f":"'Cow Housing'!$C$6","v":"C-3333"},{"$f":"$B$46","v":0},{"$f":"$C$46","v":2},{"$f":"$D$46","v":30},9960,null,{"$f":"'Livestock PM10 2'!V28","v":0},{"$f":"'Livestock PM10 2'!W28","v":0}]
[{"$f":"'Cow Housing'!$C$6","v":"C-3333"},{"$f":"$B$46","v":0},{"$f":"$C$46","v":2},{"$f":"$D$46","v":30},50000,null,{"$f":"'Dairy Miscellaneous 2'!V40","v":0},{"$f":"'Dairy Miscellaneous 2'!W40","v":0}]
[{"$f":"'Cow Housing'!$C$6","v":"C-3333"},{"$f":"$B$46","v":0},{"$f":"$C$46","v":2},{"$f":"$D$46","v":30},56235,null,{"$f":"'Dairy Miscellaneous 2'!V30","v":0},{"$f":"'Dairy Miscellaneous 2'!W30","v":0}]
[{"$f":"'Cow Housing'!$C$6","v":"C-3333"},{"$f":"$B$46","v":0},{"$f":"$C$46","v":2},{"$f":"$D$46","v":30},67630,null,{"$f":"'Dairy Miscellaneous 2'!V42","v":0},{"$f":"'Dairy Miscellaneous 2'!W42","v":0}]
[{"$f":"'Cow Housing'!$C$6","v":"C-3333"},{"$f":"$B$46","v":0},{"$f":"$C$46","v":2},{"$f":"$D$46","v":30},67663,null,{"$f":"'Dairy Miscellaneous 2'!V32","v":0},{"$f":"'Dairy Miscellaneous 2'!W32","v":0}]
[{"$f":"'Cow Housing'!$C$6","v":"C-3333"},{"$f":"$B$46","v":0},{"$f":"$C$46","v":2},{"$f":"$D$46","v":30},71432,null,{"$f":"'Dairy Miscellaneous 2'!V26","v":0},{"$f":"'Dairy Miscellaneous 2'!W26","v":0}]
[{"$f":"'Cow Housing'!$C$6","v":"C-3333"},{"$f":"$B$46","v":0},{"$f":"$C$46","v":2},{"$f":"$D$46","v":30},74873,null,{"$f":"'Dairy Miscellaneous 2'!V33","v":0},{"$f":"'Dairy Miscellaneous 2'!W33","v":0}]
[{"$f":"'Cow Housing'!$C$6","v":"C-3333"},{"$f":"$B$46","v":0},{"$f":"$C$46","v":2},{"$f":"$D$46","v":30},75003,null,{"$f":"'Dairy Miscellaneous 2'!V36","v":0},{"$f":"'Dairy Miscellaneous 2'!W36","v":0}]
[{"$f":"'Cow Housing'!$C$6","v":"C-3333"},{"$f":"$B$46","v":0},{"$f":"$C$46","v":2},{"$f":"$D$46","v":30},75070,null,{"$f":"'Dairy Miscellaneous 2'!V24","v":0},{"$f":"'Dairy Miscellaneous 2'!W24","v":0}]
[{"$f":"'Cow Housing'!$C$6","v":"C-3333"},{"$f":"$B$46","v":0},{"$f":"$C$46","v":2},{"$f":"$D$46","v":30},75150,null,{"$f":"'Dairy Miscellaneous 2'!V29","v":0},{"$f":"'Dairy Miscellaneous 2'!W29","v":0}]
[{"$f":"'Cow Housing'!$C$6","v":"C-3333"},{"$f":"$B$46","v":0},{"$f":"$C$46","v":2},{"$f":"$D$46","v":30},75694,null,{"$f":"'Dairy Miscellaneous 2'!V49","v":0},{"$f":"'Dairy Miscellaneous 2'!W49","v":0}]
[{"$f":"'Cow Housing'!$C$6","v":"C-3333"},{"$f":"$B$46","v":0},{"$f":"$C$46","v":2},{"$f":"$D$46","v":30},78933,null,{"$f":"'Dairy Miscellaneous 2'!V44","v":0},{"$f":"'Dairy Miscellaneous 2'!W44","v":0}]
[{"$f":"'Cow Housing'!$C$6","v":"C-3333"},{"$f":"$B$46","v":0},{"$f":"$C$46","v":2},{"$f":"$D$46","v":30},79005,null,{"$f":"'Dairy Miscellaneous 2'!V16","v":0},{"$f":"'Dairy Miscellaneous 2'!W16","v":0}]
[{"$f":"'Cow Housing'!$C$6","v":"C-3333"},{"$f":"$B$46","v":0},{"$f":"$C$46","v":2},{"$f":"$D$46","v":30},79345,null,{"$f":"'Dairy Miscellaneous 2'!V15","v":0},{"$f":"'Dairy Miscellaneous 2'!W15","v":0}]
[{"$f":"'Cow Housing'!$C$6","v":"C-3333"},{"$f":"$B$46","v":0},{"$f":"$C$46","v":2},{"$f":"$D$46","v":30},95501,null,{"$f":"'Dairy Miscellaneous 2'!V20","v":0},{"$f":"'Dairy Miscellaneous 2'!W20","v":0}]
[{"$f":"'Cow Housing'!$C$6","v":"C-3333"},{"$f":"$B$46","v":0},{"$f":"$C$46","v":2},{"$f":"$D$46","v":30},96128,null,{"$f":"'Dairy Miscellaneous 2'!V19","v":0},{"$f":"'Dairy Miscellaneous 2'!W19","v":0}]
[{"$f":"'Cow Housing'!$C$6","v":"C-3333"},{"$f":"$B$46","v":0},{"$f":"$C$46","v":2},{"$f":"$D$46","v":30},96184,null,{"$f":"'Dairy Miscellaneous 2'!V17","v":0},{"$f":"'Dairy Miscellaneous 2'!W17","v":0}]
[{"$f":"'Cow Housing'!$C$6","v":"C-3333"},{"$f":"$B$46","v":0},{"$f":"$C$46","v":2},{"$f":"$D$46","v":30},98828,null,{"$f":"'Dairy Miscellaneous 2'!V43","v":0},{"$f":"'Dairy Miscellaneous 2'!W43","v":0}]
[{"$f":"'Cow Housing'!$C$6","v":"C-3333"},{"$f":"$B$46","v":0},{"$f":"$C$46","v":2},{"$f":"$D$46","v":30},100414,null,{"$f":"'Dairy Miscellaneous 2'!V37","v":0},{"$f":"'Dairy Miscellaneous 2'!W37","v":0}]
[{"$f":"'Cow Housing'!$C$6","v":"C-3333"},{"$f":"$B$46","v":0},{"$f":"$C$46","v":2},{"$f":"$D$46","v":30},100425,null,{"$f":"'Dairy Miscellaneous 2'!V46","v":0},{"$f":"'Dairy Miscellaneous 2'!W46","v":0}]
[{"$f":"'Cow Housing'!$C$6","v":"C-3333"},{"$f":"$B$46","v":0},{"$f":"$C$46","v":2},{"$f":"$D$46","v":30},100447,null,{"$f":"'Dairy Miscellaneous 2'!V27","v":0},{"$f":"'Dairy Miscellaneous 2'!W27","v":0}]
[{"$f":"'Cow Housing'!$C$6","v":"C-3333"},{"$f":"$B$46","v":0},{"$f":"$C$46","v":2},{"$f":"$D$46","v":30},106467,null,{"$f":"'Dairy Miscellaneous 2'!V23","v":0},{"$f":"'Dairy Miscellaneous 2'!W23","v":0}]
[{"$f":"'Cow Housing'!$C$6","v":"C-3333"},{"$f":"$B$46","v":0},{"$f":"$C$46","v":2},{"$f":"$D$46","v":30},106934,null,{"$f":"'Dairy Miscellaneous 2'!V38","v":0},{"$f":"'Dairy Miscellaneous 2'!W38","v":0}]
[{"$f":"'Cow Housing'!$C$6","v":"C-3333"},{"$f":"$B$46","v":0},{"$f":"$C$46","v":2},{"$f":"$D$46","v":30},107062,null,{"$f":"'Dairy Miscellaneous 2'!V39","v":0},{"$f":"'Dairy Miscellaneous 2'!W39","v":0}]
[{"$f":"'Cow Housing'!$C$6","v":"C-3333"},{"$f":"$B$46","v":0},{"$f":"$C$46","v":2},{"$f":"$D$46","v":30},107131,null,{"$f":"'Dairy Miscellaneous 2'!V25","v":0},{"$f":"'Dairy Miscellaneous 2'!W25","v":0}]
[{"$f":"'Cow Housing'!$C$6","v":"C-3333"},{"$f":"$B$46","v":0},{"$f":"$C$46","v":2},{"$f":"$D$46","v":30},108054,null,{"$f":"'Dairy Miscellaneous 2'!V50","v":0},{"$f":"'Dairy Miscellaneous 2'!W50","v":0}]
[{"$f":"'Cow Housing'!$C$6","v":"C-3333"},{"$f":"$B$46","v":0},{"$f":"$C$46","v":2},{"$f":"$D$46","v":30},108101,null,{"$f":"'Dairy Miscellaneous 2'!V45","v":0},{"$f":"'Dairy Miscellaneous 2'!W45","v":0}]
[{"$f":"'Cow Housing'!$C$6","v":"C-3333"},{"$f":"$B$46","v":0},{"$f":"$C$46","v":2},{"$f":"$D$46","v":30},108883,null,{"$f":"'Dairy Miscellaneous 2'!V48","v":0},{"$f":"'Dairy Miscellaneous 2'!W48","v":0}]
[{"$f":"'Cow Housing'!$C$6","v":"C-3333"},{"$f":"$B$46","v":0},{"$f":"$C$46","v":2},{"$f":"$D$46","v":30},108907,null,{"$f":"'Dairy Miscellaneous 2'!V31","v":0},{"$f":"'Dairy Miscellaneous 2'!W31","v":0}]
[{"$f":"'Cow Housing'!$C$6","v":"C-3333"},{"$f":"$B$46","v":0},{"$f":"$C$46","v":2},{"$f":"$D$46","v":30},110543,null,{"$f":"'Dairy Miscellaneous 2'!V41","v":0},{"$f":"'Dairy Miscellaneous 2'!W41","v":0}]
[{"$f":"'Cow Housing'!$C$6","v":"C-3333"},{"$f":"$B$46","v":0},{"$f":"$C$46","v":2},{"$f":"$D$46","v":30},110827,null,{"$f":"'Dairy Miscellaneous 2'!V35","v":0},{"$f":"'Dairy Miscellaneous 2'!W35","v":0}]
[{"$f":"'Cow Housing'!$C$6","v":"C-3333"},{"$f":"$B$46","v":0},{"$f":"$C$46","v":2},{"$f":"$D$46","v":30},120821,null,{"$f":"'Dairy Miscellaneous 2'!V18","v":0},{"$f":"'Dairy Miscellaneous 2'!W18","v":0}]
[{"$f":"'Cow Housing'!$C$6","v":"C-3333"},{"$f":"$B$46","v":0},{"$f":"$C$46","v":2},{"$f":"$D$46","v":30},123728,null,{"$f":"'Dairy Miscellaneous 2'!V28","v":0},{"$f":"'Dairy Miscellaneous 2'!W28","v":0}]
[{"$f":"'Cow Housing'!$C$6","v":"C-3333"},{"$f":"$B$46","v":0},{"$f":"$C$46","v":2},{"$f":"$D$46","v":30},123911,null,{"$f":"'Dairy Miscellaneous 2'!V22","v":0},{"$f":"'Dairy Miscellaneous 2'!W22","v":0}]
[{"$f":"'Cow Housing'!$C$6","v":"C-3333"},{"$f":"$B$46","v":0},{"$f":"$C$46","v":2},{"$f":"$D$46","v":30},541731,null,{"$f":"'Dairy Miscellaneous 2'!V21","v":0},{"$f":"'Dairy Miscellaneous 2'!W21","v":0}]
[{"$f":"'Cow Housing'!$C$6","v":"C-3333"},{"$f":"$B$46","v":0},{"$f":"$C$46","v":2},{"$f":"$D$46","v":30},764410,null,{"$f":"'Dairy Miscellaneous 2'!V47","v":0},{"$f":"'Dairy Miscellaneous 2'!W47","v":0}]
[{"$f":"'Cow Housing'!$C$6","v":"C-3333"},{"$f":"$B$46","v":0},{"$f":"$C$46","v":2},{"$f":"$D$46","v":30},1330207,null,{"$f":"'Dairy Miscellaneous 2'!V51","v":0},{"$f":"'Dairy Miscellaneous 2'!W51","v":0}]
[{"$f":"'Cow Housing'!$C$6","v":"C-3333"},{"$f":"$B$46","v":0},{"$f":"$C$46","v":2},{"$f":"$D$46","v":30},4170303,null,{"$f":"'Dairy Miscellaneous 2'!V34","v":0},{"$f":"'Dairy Miscellaneous 2'!W34","v":0}]
[{"$f":"'Cow Housing'!$C$6","v":"C-3333"},{"$f":"$B$46","v":0},{"$f":"$C$46","v":2},{"$f":"$D$46","v":30},7429905,null,{"$f":"'Livestock PM10 2'!V14","v":0},{"$f":"'Livestock PM10 2'!W14","v":0}]
[{"$f":"'Cow Housing'!$C$6","v":"C-3333"},{"$f":"$B$46","v":0},{"$f":"$C$46","v":2},{"$f":"$D$46","v":30},7439921,null,{"$f":"'Livestock PM10 2'!V22","v":0},{"$f":"'Livestock PM10 2'!W22","v":0}]
[{"$f":"'Cow Housing'!$C$6","v":"C-3333"},{"$f":"$B$46","v":0},{"$f":"$C$46","v":2},{"$f":"$D$46","v":30},7439965,null,{"$f":"'Livestock PM10 2'!V23","v":0},{"$f":"'Livestock PM10 2'!W23","v":0}]
[{"$f":"'Cow Housing'!$C$6","v":"C-3333"},{"$f":"$B$46","v":0},{"$f":"$C$46","v":2},{"$f":"$D$46","v":30},7439976,null,{"$f":"'Livestock PM10 2'!V24","v":0},{"$f":"'Livestock PM10 2'!W24","v":0}]
[{"$f":"'Cow Housing'!$C$6","v":"C-3333"},{"$f":"$B$46","v":0},{"$f":"$C$46","v":2},{"$f":"$D$46","v":30},7440020,null,{"$f":"'Livestock PM10 2'!V25","v":0},{"$f":"'Livestock PM10 2'!W25","v":0}]
[{"$f":"'Cow Housing'!$C$6","v":"C-3333"},{"$f":"$B$46","v":0},{"$f":"$C$46","v":2},{"$f":"$D$46","v":30},7440360,null,{"$f":"'Livestock PM10 2'!V15","v":0},{"$f":"'Livestock PM10 2'!W15","v":0}]
[{"$f":"'Cow Housing'!$C$6","v":"C-3333"},{"$f":"$B$46","v":0},{"$f":"$C$46","v":2},{"$f":"$D$46","v":30},7440382,null,{"$f":"'Livestock PM10 2'!V16","v":0},{"$f":"'Livestock PM10 2'!W16","v":0}]
[{"$f":"'Cow Housing'!$C$6","v":"C-3333"},{"$f":"$B$46","v":0},{"$f":"$C$46","v":2},{"$f":"$D$46","v":30},7440393,null,{"$f":"'Livestock PM10 2'!V17","v":0},{"$f":"'Livestock PM10 2'!W17","v":0}]
[{"$f":"'Cow Housing'!$C$6","v":"C-3333"},{"$f":"$B$46","v":0},{"$f":"$C$46","v":2},{"$f":"$D$46","v":30},7440473,null,{"$f":"'Livestock PM10 2'!V19","v":0},{"$f":"'Livestock PM10 2'!W19","v":0}]
[{"$f":"'Cow Housing'!$C$6","v":"C-3333"},{"$f":"$B$46","v":0},{"$f":"$C$46","v":2},{"$f":"$D$46","v":30},7440508,null,{"$f":"'Livestock PM10 2'!V20","v":0},{"$f":"'Livestock PM10 2'!W20","v":0}]
[{"$f":"'Cow Housing'!$C$6","v":"C-3333"},{"$f":"$B$46","v":0},{"$f":"$C$46","v":2},{"$f":"$D$46","v":30},7440622,null,{"$f":"'Livestock PM10 2'!V29","v":0},{"$f":"'Livestock PM10 2'!W29","v":0}]
[{"$f":"'Cow Housing'!$C$6","v":"C-3333"},{"$f":"$B$46","v":0},{"$f":"$C$46","v":2},{"$f":"$D$46","v":30},7440666,null,{"$f":"'Livestock PM10 2'!V30","v":0},{"$f":"'Livestock PM10 2'!W30","v":0}]
[{"$f":"'Cow Housing'!$C$6","v":"C-3333"},{"$f":"$B$46","v":0},{"$f":"$C$46","v":2},{"$f":"$D$46","v":30},7664417,null,{"$f":"'Livestock PM10 2'!V31","v":0},{"$f":"'Livestock PM10 2'!W31","v":0}]
[{"$f":"'Cow Housing'!$C$6","v":"C-3333"},{"$f":"$B$46","v":0},{"$f":"$C$46","v":2},{"$f":"$D$46","v":30},7723140,null,{"$f":"'Livestock PM10 2'!V26","v":0},{"$f":"'Livestock PM10 2'!W26","v":0}]
[{"$f":"'Cow Housing'!$C$6","v":"C-3333"},{"$f":"$B$46","v":0},{"$f":"$C$46","v":2},{"$f":"$D$46","v":30},7726956,null,{"$f":"'Livestock PM10 2'!V18","v":0},{"$f":"'Livestock PM10 2'!W18","v":0}]
[{"$f":"'Cow Housing'!$C$6","v":"C-3333"},{"$f":"$B$46","v":0},{"$f":"$C$46","v":2},{"$f":"$D$46","v":30},7782492,null,{"$f":"'Livestock PM10 2'!V27","v":0},{"$f":"'Livestock PM10 2'!W27","v":0}]
[{"$f":"'Cow Housing'!$C$6","v":"C-3333"},{"$f":"$B$46","v":0},{"$f":"$C$46","v":2},{"$f":"$D$46","v":30},18540299,null,{"$f":"'Livestock PM10 2'!V21","v":0},{"$f":"'Livestock PM10 2'!W21","v":0}]
[{"$f":"'Cow Housing'!$C$6","v":"C-3333"},{"$f":"$B$47","v":0},{"$f":"$C$47","v":2},{"$f":"$D$47","v":31},9960,null,{"$f":"'Livestock PM10 2'!X28","v":0},{"$f":"'Livestock PM10 2'!Y28","v":0}]
[{"$f":"'Cow Housing'!$C$6","v":"C-3333"},{"$f":"$B$47","v":0},{"$f":"$C$47","v":2},{"$f":"$D$47","v":31},50000,null,{"$f":"'Dairy Miscellaneous 2'!X40","v":0},{"$f":"'Dairy Miscellaneous 2'!Y40","v":0}]
[{"$f":"'Cow Housing'!$C$6","v":"C-3333"},{"$f":"$B$47","v":0},{"$f":"$C$47","v":2},{"$f":"$D$47","v":31},56235,null,{"$f":"'Dairy Miscellaneous 2'!X30","v":0},{"$f":"'Dairy Miscellaneous 2'!Y30","v":0}]
[{"$f":"'Cow Housing'!$C$6","v":"C-3333"},{"$f":"$B$47","v":0},{"$f":"$C$47","v":2},{"$f":"$D$47","v":31},67630,null,{"$f":"'Dairy Miscellaneous 2'!X42","v":0},{"$f":"'Dairy Miscellaneous 2'!Y42","v":0}]
[{"$f":"'Cow Housing'!$C$6","v":"C-3333"},{"$f":"$B$47","v":0},{"$f":"$C$47","v":2},{"$f":"$D$47","v":31},67663,null,{"$f":"'Dairy Miscellaneous 2'!X32","v":0},{"$f":"'Dairy Miscellaneous 2'!Y32","v":0}]
[{"$f":"'Cow Housing'!$C$6","v":"C-3333"},{"$f":"$B$47","v":0},{"$f":"$C$47","v":2},{"$f":"$D$47","v":31},71432,null,{"$f":"'Dairy Miscellaneous 2'!X26","v":0},{"$f":"'Dairy Miscellaneous 2'!Y26","v":0}]
[{"$f":"'Cow Housing'!$C$6","v":"C-3333"},{"$f":"$B$47","v":0},{"$f":"$C$47","v":2},{"$f":"$D$47","v":31},74873,null,{"$f":"'Dairy Miscellaneous 2'!X33","v":0},{"$f":"'Dairy Miscellaneous 2'!Y33","v":0}]
[{"$f":"'Cow Housing'!$C$6","v":"C-3333"},{"$f":"$B$47","v":0},{"$f":"$C$47","v":2},{"$f":"$D$47","v":31},75003,null,{"$f":"'Dairy Miscellaneous 2'!X36","v":0},{"$f":"'Dairy Miscellaneous 2'!Y36","v":0}]
[{"$f":"'Cow Housing'!$C$6","v":"C-3333"},{"$f":"$B$47","v":0},{"$f":"$C$47","v":2},{"$f":"$D$47","v":31},75070,null,{"$f":"'Dairy Miscellaneous 2'!X24","v":0},{"$f":"'Dairy Miscellaneous 2'!Y24","v":0}]
[{"$f":"'Cow Housing'!$C$6","v":"C-3333"},{"$f":"$B$47","v":0},{"$f":"$C$47","v":2},{"$f":"$D$47","v":31},75150,null,{"$f":"'Dairy Miscellaneous 2'!X29","v":0},{"$f":"'Dairy Miscellaneous 2'!Y29","v":0}]
[{"$f":"'Cow Housing'!$C$6","v":"C-3333"},{"$f":"$B$47","v":0},{"$f":"$C$47","v":2},{"$f":"$D$47","v":31},75694,null,{"$f":"'Dairy Miscellaneous 2'!X49","v":0},{"$f":"'Dairy Miscellaneous 2'!Y49","v":0}]
[{"$f":"'Cow Housing'!$C$6","v":"C-3333"},{"$f":"$B$47","v":0},{"$f":"$C$47","v":2},{"$f":"$D$47","v":31},78933,null,{"$f":"'Dairy Miscellaneous 2'!X44","v":0},{"$f":"'Dairy Miscellaneous 2'!Y44","v":0}]
[{"$f":"'Cow Housing'!$C$6","v":"C-3333"},{"$f":"$B$47","v":0},{"$f":"$C$47","v":2},{"$f":"$D$47","v":31},79005,null,{"$f":"'Dairy Miscellaneous 2'!X16","v":0},{"$f":"'Dairy Miscellaneous 2'!Y16","v":0}]
[{"$f":"'Cow Housing'!$C$6","v":"C-3333"},{"$f":"$B$47","v":0},{"$f":"$C$47","v":2},{"$f":"$D$47","v":31},79345,null,{"$f":"'Dairy Miscellaneous 2'!X15","v":0},{"$f":"'Dairy Miscellaneous 2'!Y15","v":0}]
[{"$f":"'Cow Housing'!$C$6","v":"C-3333"},{"$f":"$B$47","v":0},{"$f":"$C$47","v":2},{"$f":"$D$47","v":31},95501,null,{"$f":"'Dairy Miscellaneous 2'!X20","v":0},{"$f":"'Dairy Miscellaneous 2'!Y20","v":0}]
[{"$f":"'Cow Housing'!$C$6","v":"C-3333"},{"$f":"$B$47","v":0},{"$f":"$C$47","v":2},{"$f":"$D$47","v":31},96128,null,{"$f":"'Dairy Miscellaneous 2'!X19","v":0},{"$f":"'Dairy Miscellaneous 2'!Y19","v":0}]
[{"$f":"'Cow Housing'!$C$6","v":"C-3333"},{"$f":"$B$47","v":0},{"$f":"$C$47","v":2},{"$f":"$D$47","v":31},96184,null,{"$f":"'Dairy Miscellaneous 2'!X17","v":0},{"$f":"'Dairy Miscellaneous 2'!Y17","v":0}]
[{"$f":"'Cow Housing'!$C$6","v":"C-3333"},{"$f":"$B$47","v":0},{"$f":"$C$47","v":2},{"$f":"$D$47","v":31},98828,null,{"$f":"'Dairy Miscellaneous 2'!X43","v":0},{"$f":"'Dairy Miscellaneous 2'!Y43","v":0}]
[{"$f":"'Cow Housing'!$C$6","v":"C-3333"},{"$f":"$B$47","v":0},{"$f":"$C$47","v":2},{"$f":"$D$47","v":31},100414,null,{"$f":"'Dairy Miscellaneous 2'!X37","v":0},{"$f":"'Dairy Miscellaneous 2'!Y37","v":0}]
[{"$f":"'Cow Housing'!$C$6","v":"C-3333"},{"$f":"$B$47","v":0},{"$f":"$C$47","v":2},{"$f":"$D$47","v":31},100425,null,{"$f":"'Dairy Miscellaneous 2'!X46","v":0},{"$f":"'Dairy Miscellaneous 2'!Y46","v":0}]
[{"$f":"'Cow Housing'!$C$6","v":"C-3333"},{"$f":"$B$47","v":0},{"$f":"$C$47","v":2},{"$f":"$D$47","v":31},100447,null,{"$f":"'Dairy Miscellaneous 2'!X27","v":0},{"$f":"'Dairy Miscellaneous 2'!Y27","v":0}]
[{"$f":"'Cow Housing'!$C$6","v":"C-3333"},{"$f":"$B$47","v":0},{"$f":"$C$47","v":2},{"$f":"$D$47","v":31},106467,null,{"$f":"'Dairy Miscellaneous 2'!X23","v":0},{"$f":"'Dairy Miscellaneous 2'!Y23","v":0}]
[{"$f":"'Cow Housing'!$C$6","v":"C-3333"},{"$f":"$B$47","v":0},{"$f":"$C$47","v":2},{"$f":"$D$47","v":31},106934,null,{"$f":"'Dairy Miscellaneous 2'!X38","v":0},{"$f":"'Dairy Miscellaneous 2'!Y38","v":0}]
[{"$f":"'Cow Housing'!$C$6","v":"C-3333"},{"$f":"$B$47","v":0},{"$f":"$C$47","v":2},{"$f":"$D$47","v":31},107062,null,{"$f":"'Dairy Miscellaneous 2'!X39","v":0},{"$f":"'Dairy Miscellaneous 2'!Y39","v":0}]
[{"$f":"'Cow Housing'!$C$6","v":"C-3333"},{"$f":"$B$47","v":0},{"$f":"$C$47","v":2},{"$f":"$D$47","v":31},107131,null,{"$f":"'Dairy Miscellaneous 2'!X25","v":0},{"$f":"'Dairy Miscellaneous 2'!Y25","v":0}]
[{"$f":"'Cow Housing'!$C$6","v":"C-3333"},{"$f":"$B$47","v":0},{"$f":"$C$47","v":2},{"$f":"$D$47","v":31},108054,null,{"$f":"'Dairy Miscellaneous 2'!X50","v":0},{"$f":"'Dairy Miscellaneous 2'!Y50","v":0}]
[{"$f":"'Cow Housing'!$C$6","v":"C-3333"},{"$f":"$B$47","v":0},{"$f":"$C$47","v":2},{"$f":"$D$47","v":31},108101,null,{"$f":"'Dairy Miscellaneous 2'!X45","v":0},{"$f":"'Dairy Miscellaneous 2'!Y45","v":0}]
[{"$f":"'Cow Housing'!$C$6","v":"C-3333"},{"$f":"$B$47","v":0},{"$f":"$C$47","v":2},{"$f":"$D$47","v":31},108883,null,{"$f":"'Dairy Miscellaneous 2'!X48","v":0},{"$f":"'Dairy Miscellaneous 2'!Y48","v":0}]
[{"$f":"'Cow Housing'!$C$6","v":"C-3333"},{"$f":"$B$47","v":0},{"$f":"$C$47","v":2},{"$f":"$D$47","v":31},108907,null,{"$f":"'Dairy Miscellaneous 2'!X31","v":0},{"$f":"'Dairy Miscellaneous 2'!Y31","v":0}]
[{"$f":"'Cow Housing'!$C$6","v":"C-3333"},{"$f":"$B$47","v":0},{"$f":"$C$47","v":2},{"$f":"$D$47","v":31},110543,null,{"$f":"'Dairy Miscellaneous 2'!X41","v":0},{"$f":"'Dairy Miscellaneous 2'!Y41","v":0}]
[{"$f":"'Cow Housing'!$C$6","v":"C-3333"},{"$f":"$B$47","v":0},{"$f":"$C$47","v":2},{"$f":"$D$47","v":31},110827,null,{"$f":"'Dairy Miscellaneous 2'!X35","v":0},{"$f":"'Dairy Miscellaneous 2'!Y35","v":0}]
[{"$f":"'Cow Housing'!$C$6","v":"C-3333"},{"$f":"$B$47","v":0},{"$f":"$C$47","v":2},{"$f":"$D$47","v":31},120821,null,{"$f":"'Dairy Miscellaneous 2'!X18","v":0},{"$f":"'Dairy Miscellaneous 2'!Y18","v":0}]
[{"$f":"'Cow Housing'!$C$6","v":"C-3333"},{"$f":"$B$47","v":0},{"$f":"$C$47","v":2},{"$f":"$D$47","v":31},123728,null,{"$f":"'Dairy Miscellaneous 2'!X28","v":0},{"$f":"'Dairy Miscellaneous 2'!Y28","v":0}]
[{"$f":"'Cow Housing'!$C$6","v":"C-3333"},{"$f":"$B$47","v":0},{"$f":"$C$47","v":2},{"$f":"$D$47","v":31},123911,null,{"$f":"'Dairy Miscellaneous 2'!X22","v":0},{"$f":"'Dairy Miscellaneous 2'!Y22","v":0}]
[{"$f":"'Cow Housing'!$C$6","v":"C-3333"},{"$f":"$B$47","v":0},{"$f":"$C$47","v":2},{"$f":"$D$47","v":31},541731,null,{"$f":"'Dairy Miscellaneous 2'!X21","v":0},{"$f":"'Dairy Miscellaneous 2'!Y21","v":0}]
[{"$f":"'Cow Housing'!$C$6","v":"C-3333"},{"$f":"$B$47","v":0},{"$f":"$C$47","v":2},{"$f":"$D$47","v":31},764410,null,{"$f":"'Dairy Miscellaneous 2'!X47","v":0},{"$f":"'Dairy Miscellaneous 2'!Y47","v":0}]
[{"$f":"'Cow Housing'!$C$6","v":"C-3333"},{"$f":"$B$47","v":0},{"$f":"$C$47","v":2},{"$f":"$D$47","v":31},1330207,null,{"$f":"'Dairy Miscellaneous 2'!X51","v":0},{"$f":"'Dairy Miscellaneous 2'!Y51","v":0}]
[{"$f":"'Cow Housing'!$C$6","v":"C-3333"},{"$f":"$B$47","v":0},{"$f":"$C$47","v":2},{"$f":"$D$47","v":31},4170303,null,{"$f":"'Dairy Miscellaneous 2'!X34","v":0},{"$f":"'Dairy Miscellaneous 2'!Y34","v":0}]
[{"$f":"'Cow Housing'!$C$6","v":"C-3333"},{"$f":"$B$47","v":0},{"$f":"$C$47","v":2},{"$f":"$D$47","v":31},7429905,null,{"$f":"'Livestock PM10 2'!X14","v":0},{"$f":"'Livestock PM10 2'!Y14","v":0}]
[{"$f":"'Cow Housing'!$C$6","v":"C-3333"},{"$f":"$B$47","v":0},{"$f":"$C$47","v":2},{"$f":"$D$47","v":31},7439921,null,{"$f":"'Livestock PM10 2'!X22","v":0},{"$f":"'Livestock PM10 2'!Y22","v":0}]
[{"$f":"'Cow Housing'!$C$6","v":"C-3333"},{"$f":"$B$47","v":0},{"$f":"$C$47","v":2},{"$f":"$D$47","v":31},7439965,null,{"$f":"'Livestock PM10 2'!X23","v":0},{"$f":"'Livestock PM10 2'!Y23","v":0}]
[{"$f":"'Cow Housing'!$C$6","v":"C-3333"},{"$f":"$B$47","v":0},{"$f":"$C$47","v":2},{"$f":"$D$47","v":31},7439976,null,{"$f":"'Livestock PM10 2'!X24","v":0},{"$f":"'Livestock PM10 2'!Y24","v":0}]
[{"$f":"'Cow Housing'!$C$6","v":"C-3333"},{"$f":"$B$47","v":0},{"$f":"$C$47","v":2},{"$f":"$D$47","v":31},7440020,null,{"$f":"'Livestock PM10 2'!X25","v":0},{"$f":"'Livestock PM10 2'!Y25","v":0}]
[{"$f":"'Cow Housing'!$C$6","v":"C-3333"},{"$f":"$B$47","v":0},{"$f":"$C$47","v":2},{"$f":"$D$47","v":31},7440360,null,{"$f":"'Livestock PM10 2'!X15","v":0},{"$f":"'Livestock PM10 2'!Y15","v":0}]
[{"$f":"'Cow Housing'!$C$6","v":"C-3333"},{"$f":"$B$47","v":0},{"$f":"$C$47","v":2},{"$f":"$D$47","v":31},7440382,null,{"$f":"'Livestock PM10 2'!X16","v":0},{"$f":"'Livestock PM10 2'!Y16","v":0}]
[{"$f":"'Cow Housing'!$C$6","v":"C-3333"},{"$f":"$B$47","v":0},{"$f":"$C$47","v":2},{"$f":"$D$47","v":31},7440393,null,{"$f":"'Livestock PM10 2'!X17","v":0},{"$f":"'Livestock PM10 2'!Y17","v":0}]
[{"$f":"'Cow Housing'!$C$6","v":"C-3333"},{"$f":"$B$47","v":0},{"$f":"$C$47","v":2},{"$f":"$D$47","v":31},7440473,null,{"$f":"'Livestock PM10 2'!X19","v":0},{"$f":"'Livestock PM10 2'!Y19","v":0}]
[{"$f":"'Cow Housing'!$C$6","v":"C-3333"},{"$f":"$B$47","v":0},{"$f":"$C$47","v":2},{"$f":"$D$47","v":31},7440508,null,{"$f":"'Livestock PM10 2'!X20","v":0},{"$f":"'Livestock PM10 2'!Y20","v":0}]
[{"$f":"'Cow Housing'!$C$6","v":"C-3333"},{"$f":"$B$47","v":0},{"$f":"$C$47","v":2},{"$f":"$D$47","v":31},7440622,null,{"$f":"'Livestock PM10 2'!X29","v":0},{"$f":"'Livestock PM10 2'!Y29","v":0}]
[{"$f":"'Cow Housing'!$C$6","v":"C-3333"},{"$f":"$B$47","v":0},{"$f":"$C$47","v":2},{"$f":"$D$47","v":31},7440666,null,{"$f":"'Livestock PM10 2'!X30","v":0},{"$f":"'Livestock PM10 2'!Y30","v":0}]
[{"$f":"'Cow Housing'!$C$6","v":"C-3333"},{"$f":"$B$47","v":0},{"$f":"$C$47","v":2},{"$f":"$D$47","v":31},7664417,null,{"$f":"'Livestock PM10 2'!X31","v":0},{"$f":"'Livestock PM10 2'!Y31","v":0}]
[{"$f":"'Cow Housing'!$C$6","v":"C-3333"},{"$f":"$B$47","v":0},{"$f":"$C$47","v":2},{"$f":"$D$47","v":31},7723140,null,{"$f":"'Livestock PM10 2'!X26","v":0},{"$f":"'Livestock PM10 2'!Y26","v":0}]
[{"$f":"'Cow Housing'!$C$6","v":"C-3333"},{"$f":"$B$47","v":0},{"$f":"$C$47","v":2},{"$f":"$D$47","v":31},7726956,null,{"$f":"'Livestock PM10 2'!X18","v":0},{"$f":"'Livestock PM10 2'!Y18","v":0}]
[{"$f":"'Cow Housing'!$C$6","v":"C-3333"},{"$f":"$B$47","v":0},{"$f":"$C$47","v":2},{"$f":"$D$47","v":31},7782492,null,{"$f":"'Livestock PM10 2'!X27","v":0},{"$f":"'Livestock PM10 2'!Y27","v":0}]
[{"$f":"'Cow Housing'!$C$6","v":"C-3333"},{"$f":"$B$47","v":0},{"$f":"$C$47","v":2},{"$f":"$D$47","v":31},18540299,null,{"$f":"'Livestock PM10 2'!X21","v":0},{"$f":"'Livestock PM10 2'!Y21","v":0}]
[{"$f":"'Cow Housing'!$C$6","v":"C-3333"},{"$f":"$B$48","v":0},{"$f":"$C$48","v":2},{"$f":"$D$48","v":32},9960,null,{"$f":"'Livestock PM10 2'!Z28","v":0},{"$f":"'Livestock PM10 2'!AA28","v":0}]
[{"$f":"'Cow Housing'!$C$6","v":"C-3333"},{"$f":"$B$48","v":0},{"$f":"$C$48","v":2},{"$f":"$D$48","v":32},50000,null,{"$f":"'Dairy Miscellaneous 2'!Z40","v":0},{"$f":"'Dairy Miscellaneous 2'!AA40","v":0}]
[{"$f":"'Cow Housing'!$C$6","v":"C-3333"},{"$f":"$B$48","v":0},{"$f":"$C$48","v":2},{"$f":"$D$48","v":32},56235,null,{"$f":"'Dairy Miscellaneous 2'!Z30","v":0},{"$f":"'Dairy Miscellaneous 2'!AA30","v":0}]
[{"$f":"'Cow Housing'!$C$6","v":"C-3333"},{"$f":"$B$48","v":0},{"$f":"$C$48","v":2},{"$f":"$D$48","v":32},67630,null,{"$f":"'Dairy Miscellaneous 2'!Z42","v":0},{"$f":"'Dairy Miscellaneous 2'!AA42","v":0}]
[{"$f":"'Cow Housing'!$C$6","v":"C-3333"},{"$f":"$B$48","v":0},{"$f":"$C$48","v":2},{"$f":"$D$48","v":32},67663,null,{"$f":"'Dairy Miscellaneous 2'!Z32","v":0},{"$f":"'Dairy Miscellaneous 2'!AA32","v":0}]
[{"$f":"'Cow Housing'!$C$6","v":"C-3333"},{"$f":"$B$48","v":0},{"$f":"$C$48","v":2},{"$f":"$D$48","v":32},71432,null,{"$f":"'Dairy Miscellaneous 2'!Z26","v":0},{"$f":"'Dairy Miscellaneous 2'!AA26","v":0}]
[{"$f":"'Cow Housing'!$C$6","v":"C-3333"},{"$f":"$B$48","v":0},{"$f":"$C$48","v":2},{"$f":"$D$48","v":32},74873,null,{"$f":"'Dairy Miscellaneous 2'!Z33","v":0},{"$f":"'Dairy Miscellaneous 2'!AA33","v":0}]
[{"$f":"'Cow Housing'!$C$6","v":"C-3333"},{"$f":"$B$48","v":0},{"$f":"$C$48","v":2},{"$f":"$D$48","v":32},75003,null,{"$f":"'Dairy Miscellaneous 2'!Z36","v":0},{"$f":"'Dairy Miscellaneous 2'!AA36","v":0}]
[{"$f":"'Cow Housing'!$C$6","v":"C-3333"},{"$f":"$B$48","v":0},{"$f":"$C$48","v":2},{"$f":"$D$48","v":32},75070,null,{"$f":"'Dairy Miscellaneous 2'!Z24","v":0},{"$f":"'Dairy Miscellaneous 2'!AA24","v":0}]
[{"$f":"'Cow Housing'!$C$6","v":"C-3333"},{"$f":"$B$48","v":0},{"$f":"$C$48","v":2},{"$f":"$D$48","v":32},75150,null,{"$f":"'Dairy Miscellaneous 2'!Z29","v":0},{"$f":"'Dairy Miscellaneous 2'!AA29","v":0}]
[{"$f":"'Cow Housing'!$C$6","v":"C-3333"},{"$f":"$B$48","v":0},{"$f":"$C$48","v":2},{"$f":"$D$48","v":32},75694,null,{"$f":"'Dairy Miscellaneous 2'!Z49","v":0},{"$f":"'Dairy Miscellaneous 2'!AA49","v":0}]
[{"$f":"'Cow Housing'!$C$6","v":"C-3333"},{"$f":"$B$48","v":0},{"$f":"$C$48","v":2},{"$f":"$D$48","v":32},78933,null,{"$f":"'Dairy Miscellaneous 2'!Z44","v":0},{"$f":"'Dairy Miscellaneous 2'!AA44","v":0}]
[{"$f":"'Cow Housing'!$C$6","v":"C-3333"},{"$f":"$B$48","v":0},{"$f":"$C$48","v":2},{"$f":"$D$48","v":32},79005,null,{"$f":"'Dairy Miscellaneous 2'!Z16","v":0},{"$f":"'Dairy Miscellaneous 2'!AA16","v":0}]
[{"$f":"'Cow Housing'!$C$6","v":"C-3333"},{"$f":"$B$48","v":0},{"$f":"$C$48","v":2},{"$f":"$D$48","v":32},79345,null,{"$f":"'Dairy Miscellaneous 2'!Z15","v":0},{"$f":"'Dairy Miscellaneous 2'!AA15","v":0}]
[{"$f":"'Cow Housing'!$C$6","v":"C-3333"},{"$f":"$B$48","v":0},{"$f":"$C$48","v":2},{"$f":"$D$48","v":32},95501,null,{"$f":"'Dairy Miscellaneous 2'!Z20","v":0},{"$f":"'Dairy Miscellaneous 2'!AA20","v":0}]
[{"$f":"'Cow Housing'!$C$6","v":"C-3333"},{"$f":"$B$48","v":0},{"$f":"$C$48","v":2},{"$f":"$D$48","v":32},96128,null,{"$f":"'Dairy Miscellaneous 2'!Z19","v":0},{"$f":"'Dairy Miscellaneous 2'!AA19","v":0}]
[{"$f":"'Cow Housing'!$C$6","v":"C-3333"},{"$f":"$B$48","v":0},{"$f":"$C$48","v":2},{"$f":"$D$48","v":32},96184,null,{"$f":"'Dairy Miscellaneous 2'!Z17","v":0},{"$f":"'Dairy Miscellaneous 2'!AA17","v":0}]
[{"$f":"'Cow Housing'!$C$6","v":"C-3333"},{"$f":"$B$48","v":0},{"$f":"$C$48","v":2},{"$f":"$D$48","v":32},98828,null,{"$f":"'Dairy Miscellaneous 2'!Z43","v":0},{"$f":"'Dairy Miscellaneous 2'!AA43","v":0}]
[{"$f":"'Cow Housing'!$C$6","v":"C-3333"},{"$f":"$B$48","v":0},{"$f":"$C$48","v":2},{"$f":"$D$48","v":32},100414,null,{"$f":"'Dairy Miscellaneous 2'!Z37","v":0},{"$f":"'Dairy Miscellaneous 2'!AA37","v":0}]
[{"$f":"'Cow Housing'!$C$6","v":"C-3333"},{"$f":"$B$48","v":0},{"$f":"$C$48","v":2},{"$f":"$D$48","v":32},100425,null,{"$f":"'Dairy Miscellaneous 2'!Z46","v":0},{"$f":"'Dairy Miscellaneous 2'!AA46","v":0}]
[{"$f":"'Cow Housing'!$C$6","v":"C-3333"},{"$f":"$B$48","v":0},{"$f":"$C$48","v":2},{"$f":"$D$48","v":32},100447,null,{"$f":"'Dairy Miscellaneous 2'!Z27","v":0},{"$f":"'Dairy Miscellaneous 2'!AA27","v":0}]
[{"$f":"'Cow Housing'!$C$6","v":"C-3333"},{"$f":"$B$48","v":0},{"$f":"$C$48","v":2},{"$f":"$D$48","v":32},106467,null,{"$f":"'Dairy Miscellaneous 2'!Z23","v":0},{"$f":"'Dairy Miscellaneous 2'!AA23","v":0}]
[{"$f":"'Cow Housing'!$C$6","v":"C-3333"},{"$f":"$B$48","v":0},{"$f":"$C$48","v":2},{"$f":"$D$48","v":32},106934,null,{"$f":"'Dairy Miscellaneous 2'!Z38","v":0},{"$f":"'Dairy Miscellaneous 2'!AA38","v":0}]
[{"$f":"'Cow Housing'!$C$6","v":"C-3333"},{"$f":"$B$48","v":0},{"$f":"$C$48","v":2},{"$f":"$D$48","v":32},107062,null,{"$f":"'Dairy Miscellaneous 2'!Z39","v":0},{"$f":"'Dairy Miscellaneous 2'!AA39","v":0}]
[{"$f":"'Cow Housing'!$C$6","v":"C-3333"},{"$f":"$B$48","v":0},{"$f":"$C$48","v":2},{"$f":"$D$48","v":32},107131,null,{"$f":"'Dairy Miscellaneous 2'!Z25","v":0},{"$f":"'Dairy Miscellaneous 2'!AA25","v":0}]
[{"$f":"'Cow Housing'!$C$6","v":"C-3333"},{"$f":"$B$48","v":0},{"$f":"$C$48","v":2},{"$f":"$D$48","v":32},108054,null,{"$f":"'Dairy Miscellaneous 2'!Z50","v":0},{"$f":"'Dairy Miscellaneous 2'!AA50","v":0}]
[{"$f":"'Cow Housing'!$C$6","v":"C-3333"},{"$f":"$B$48","v":0},{"$f":"$C$48","v":2},{"$f":"$D$48","v":32},108101,null,{"$f":"'Dairy Miscellaneous 2'!Z45","v":0},{"$f":"'Dairy Miscellaneous 2'!AA45","v":0}]
[{"$f":"'Cow Housing'!$C$6","v":"C-3333"},{"$f":"$B$48","v":0},{"$f":"$C$48","v":2},{"$f":"$D$48","v":32},108883,null,{"$f":"'Dairy Miscellaneous 2'!Z48","v":0},{"$f":"'Dairy Miscellaneous 2'!AA48","v":0}]
[{"$f":"'Cow Housing'!$C$6","v":"C-3333"},{"$f":"$B$48","v":0},{"$f":"$C$48","v":2},{"$f":"$D$48","v":32},108907,null,{"$f":"'Dairy Miscellaneous 2'!Z31","v":0},{"$f":"'Dairy Miscellaneous 2'!AA31","v":0}]
[{"$f":"'Cow Housing'!$C$6","v":"C-3333"},{"$f":"$B$48","v":0},{"$f":"$C$48","v":2},{"$f":"$D$48","v":32},110543,null,{"$f":"'Dairy Miscellaneous 2'!Z41","v":0},{"$f":"'Dairy Miscellaneous 2'!AA41","v":0}]
[{"$f":"'Cow Housing'!$C$6","v":"C-3333"},{"$f":"$B$48","v":0},{"$f":"$C$48","v":2},{"$f":"$D$48","v":32},110827,null,{"$f":"'Dairy Miscellaneous 2'!Z35","v":0},{"$f":"'Dairy Miscellaneous 2'!AA35","v":0}]
[{"$f":"'Cow Housing'!$C$6","v":"C-3333"},{"$f":"$B$48","v":0},{"$f":"$C$48","v":2},{"$f":"$D$48","v":32},120821,null,{"$f":"'Dairy Miscellaneous 2'!Z18","v":0},{"$f":"'Dairy Miscellaneous 2'!AA18","v":0}]
[{"$f":"'Cow Housing'!$C$6","v":"C-3333"},{"$f":"$B$48","v":0},{"$f":"$C$48","v":2},{"$f":"$D$48","v":32},123728,null,{"$f":"'Dairy Miscellaneous 2'!Z28","v":0},{"$f":"'Dairy Miscellaneous 2'!AA28","v":0}]
[{"$f":"'Cow Housing'!$C$6","v":"C-3333"},{"$f":"$B$48","v":0},{"$f":"$C$48","v":2},{"$f":"$D$48","v":32},123911,null,{"$f":"'Dairy Miscellaneous 2'!Z22","v":0},{"$f":"'Dairy Miscellaneous 2'!AA22","v":0}]
[{"$f":"'Cow Housing'!$C$6","v":"C-3333"},{"$f":"$B$48","v":0},{"$f":"$C$48","v":2},{"$f":"$D$48","v":32},541731,null,{"$f":"'Dairy Miscellaneous 2'!Z21","v":0},{"$f":"'Dairy Miscellaneous 2'!AA21","v":0}]
[{"$f":"'Cow Housing'!$C$6","v":"C-3333"},{"$f":"$B$48","v":0},{"$f":"$C$48","v":2},{"$f":"$D$48","v":32},764410,null,{"$f":"'Dairy Miscellaneous 2'!Z47","v":0},{"$f":"'Dairy Miscellaneous 2'!AA47","v":0}]
[{"$f":"'Cow Housing'!$C$6","v":"C-3333"},{"$f":"$B$48","v":0},{"$f":"$C$48","v":2},{"$f":"$D$48","v":32},1330207,null,{"$f":"'Dairy Miscellaneous 2'!Z51","v":0},{"$f":"'Dairy Miscellaneous 2'!AA51","v":0}]
[{"$f":"'Cow Housing'!$C$6","v":"C-3333"},{"$f":"$B$48","v":0},{"$f":"$C$48","v":2},{"$f":"$D$48","v":32},4170303,null,{"$f":"'Dairy Miscellaneous 2'!Z34","v":0},{"$f":"'Dairy Miscellaneous 2'!AA34","v":0}]
[{"$f":"'Cow Housing'!$C$6","v":"C-3333"},{"$f":"$B$48","v":0},{"$f":"$C$48","v":2},{"$f":"$D$48","v":32},7429905,null,{"$f":"'Livestock PM10 2'!Z14","v":0},{"$f":"'Livestock PM10 2'!AA14","v":0}]
[{"$f":"'Cow Housing'!$C$6","v":"C-3333"},{"$f":"$B$48","v":0},{"$f":"$C$48","v":2},{"$f":"$D$48","v":32},7439921,null,{"$f":"'Livestock PM10 2'!Z22","v":0},{"$f":"'Livestock PM10 2'!AA22","v":0}]
[{"$f":"'Cow Housing'!$C$6","v":"C-3333"},{"$f":"$B$48","v":0},{"$f":"$C$48","v":2},{"$f":"$D$48","v":32},7439965,null,{"$f":"'Livestock PM10 2'!Z23","v":0},{"$f":"'Livestock PM10 2'!AA23","v":0}]
[{"$f":"'Cow Housing'!$C$6","v":"C-3333"},{"$f":"$B$48","v":0},{"$f":"$C$48","v":2},{"$f":"$D$48","v":32},7439976,null,{"$f":"'Livestock PM10 2'!Z24","v":0},{"$f":"'Livestock PM10 2'!AA24","v":0}]
[{"$f":"'Cow Housing'!$C$6","v":"C-3333"},{"$f":"$B$48","v":0},{"$f":"$C$48","v":2},{"$f":"$D$48","v":32},7440020,null,{"$f":"'Livestock PM10 2'!Z25","v":0},{"$f":"'Livestock PM10 2'!AA25","v":0}]
[{"$f":"'Cow Housing'!$C$6","v":"C-3333"},{"$f":"$B$48","v":0},{"$f":"$C$48","v":2},{"$f":"$D$48","v":32},7440360,null,{"$f":"'Livestock PM10 2'!Z15","v":0},{"$f":"'Livestock PM10 2'!AA15","v":0}]
[{"$f":"'Cow Housing'!$C$6","v":"C-3333"},{"$f":"$B$48","v":0},{"$f":"$C$48","v":2},{"$f":"$D$48","v":32},7440382,null,{"$f":"'Livestock PM10 2'!Z16","v":0},{"$f":"'Livestock PM10 2'!AA16","v":0}]
[{"$f":"'Cow Housing'!$C$6","v":"C-3333"},{"$f":"$B$48","v":0},{"$f":"$C$48","v":2},{"$f":"$D$48","v":32},7440393,null,{"$f":"'Livestock PM10 2'!Z17","v":0},{"$f":"'Livestock PM10 2'!AA17","v":0}]
[{"$f":"'Cow Housing'!$C$6","v":"C-3333"},{"$f":"$B$48","v":0},{"$f":"$C$48","v":2},{"$f":"$D$48","v":32},7440473,null,{"$f":"'Livestock PM10 2'!Z19","v":0},{"$f":"'Livestock PM10 2'!AA19","v":0}]
[{"$f":"'Cow Housing'!$C$6","v":"C-3333"},{"$f":"$B$48","v":0},{"$f":"$C$48","v":2},{"$f":"$D$48","v":32},7440508,null,{"$f":"'Livestock PM10 2'!Z20","v":0},{"$f":"'Livestock PM10 2'!AA20","v":0}]
[{"$f":"'Cow Housing'!$C$6","v":"C-3333"},{"$f":"$B$48","v":0},{"$f":"$C$48","v":2},{"$f":"$D$48","v":32},7440622,null,{"$f":"'Livestock PM10 2'!Z29","v":0},{"$f":"'Livestock PM10 2'!AA29","v":0}]
[{"$f":"'Cow Housing'!$C$6","v":"C-3333"},{"$f":"$B$48","v":0},{"$f":"$C$48","v":2},{"$f":"$D$48","v":32},7440666,null,{"$f":"'Livestock PM10 2'!Z30","v":0},{"$f":"'Livestock PM10 2'!AA30","v":0}]
[{"$f":"'Cow Housing'!$C$6","v":"C-3333"},{"$f":"$B$48","v":0},{"$f":"$C$48","v":2},{"$f":"$D$48","v":32},7664417,null,{"$f":"'Livestock PM10 2'!Z31","v":0},{"$f":"'Livestock PM10 2'!AA31","v":0}]
[{"$f":"'Cow Housing'!$C$6","v":"C-3333"},{"$f":"$B$48","v":0},{"$f":"$C$48","v":2},{"$f":"$D$48","v":32},7723140,null,{"$f":"'Livestock PM10 2'!Z26","v":0},{"$f":"'Livestock PM10 2'!AA26","v":0}]
[{"$f":"'Cow Housing'!$C$6","v":"C-3333"},{"$f":"$B$48","v":0},{"$f":"$C$48","v":2},{"$f":"$D$48","v":32},7726956,null,{"$f":"'Livestock PM10 2'!Z18","v":0},{"$f":"'Livestock PM10 2'!AA18","v":0}]
[{"$f":"'Cow Housing'!$C$6","v":"C-3333"},{"$f":"$B$48","v":0},{"$f":"$C$48","v":2},{"$f":"$D$48","v":32},7782492,null,{"$f":"'Livestock PM10 2'!Z27","v":0},{"$f":"'Livestock PM10 2'!AA27","v":0}]
[{"$f":"'Cow Housing'!$C$6","v":"C-3333"},{"$f":"$B$48","v":0},{"$f":"$C$48","v":2},{"$f":"$D$48","v":32},18540299,null,{"$f":"'Livestock PM10 2'!Z21","v":0},{"$f":"'Livestock PM10 2'!AA21","v":0}]
[{"$f":"'Cow Housing'!$C$6","v":"C-3333"},{"$f":"$B$49","v":0},{"$f":"$C$49","v":2},{"$f":"$D$49","v":33},9960,null,{"$f":"'Livestock PM10 2'!AB28","v":0},{"$f":"'Livestock PM10 2'!AC28","v":0}]
[{"$f":"'Cow Housing'!$C$6","v":"C-3333"},{"$f":"$B$49","v":0},{"$f":"$C$49","v":2},{"$f":"$D$49","v":33},50000,null,{"$f":"'Dairy Miscellaneous 2'!AB40","v":0},{"$f":"'Dairy Miscellaneous 2'!AC40","v":0}]
[{"$f":"'Cow Housing'!$C$6","v":"C-3333"},{"$f":"$B$49","v":0},{"$f":"$C$49","v":2},{"$f":"$D$49","v":33},56235,null,{"$f":"'Dairy Miscellaneous 2'!AB30","v":0},{"$f":"'Dairy Miscellaneous 2'!AC30","v":0}]
[{"$f":"'Cow Housing'!$C$6","v":"C-3333"},{"$f":"$B$49","v":0},{"$f":"$C$49","v":2},{"$f":"$D$49","v":33},67630,null,{"$f":"'Dairy Miscellaneous 2'!AB42","v":0},{"$f":"'Dairy Miscellaneous 2'!AC42","v":0}]
[{"$f":"'Cow Housing'!$C$6","v":"C-3333"},{"$f":"$B$49","v":0},{"$f":"$C$49","v":2},{"$f":"$D$49","v":33},67663,null,{"$f":"'Dairy Miscellaneous 2'!AB32","v":0},{"$f":"'Dairy Miscellaneous 2'!AC32","v":0}]
[{"$f":"'Cow Housing'!$C$6","v":"C-3333"},{"$f":"$B$49","v":0},{"$f":"$C$49","v":2},{"$f":"$D$49","v":33},71432,null,{"$f":"'Dairy Miscellaneous 2'!AB26","v":0},{"$f":"'Dairy Miscellaneous 2'!AC26","v":0}]
[{"$f":"'Cow Housing'!$C$6","v":"C-3333"},{"$f":"$B$49","v":0},{"$f":"$C$49","v":2},{"$f":"$D$49","v":33},74873,null,{"$f":"'Dairy Miscellaneous 2'!AB33","v":0},{"$f":"'Dairy Miscellaneous 2'!AC33","v":0}]
[{"$f":"'Cow Housing'!$C$6","v":"C-3333"},{"$f":"$B$49","v":0},{"$f":"$C$49","v":2},{"$f":"$D$49","v":33},75003,null,{"$f":"'Dairy Miscellaneous 2'!AB36","v":0},{"$f":"'Dairy Miscellaneous 2'!AC36","v":0}]
[{"$f":"'Cow Housing'!$C$6","v":"C-3333"},{"$f":"$B$49","v":0},{"$f":"$C$49","v":2},{"$f":"$D$49","v":33},75070,null,{"$f":"'Dairy Miscellaneous 2'!AB24","v":0},{"$f":"'Dairy Miscellaneous 2'!AC24","v":0}]
[{"$f":"'Cow Housing'!$C$6","v":"C-3333"},{"$f":"$B$49","v":0},{"$f":"$C$49","v":2},{"$f":"$D$49","v":33},75150,null,{"$f":"'Dairy Miscellaneous 2'!AB29","v":0},{"$f":"'Dairy Miscellaneous 2'!AC29","v":0}]
[{"$f":"'Cow Housing'!$C$6","v":"C-3333"},{"$f":"$B$49","v":0},{"$f":"$C$49","v":2},{"$f":"$D$49","v":33},75694,null,{"$f":"'Dairy Miscellaneous 2'!AB49","v":0},{"$f":"'Dairy Miscellaneous 2'!AC49","v":0}]
[{"$f":"'Cow Housing'!$C$6","v":"C-3333"},{"$f":"$B$49","v":0},{"$f":"$C$49","v":2},{"$f":"$D$49","v":33},78933,null,{"$f":"'Dairy Miscellaneous 2'!AB44","v":0},{"$f":"'Dairy Miscellaneous 2'!AC44","v":0}]
[{"$f":"'Cow Housing'!$C$6","v":"C-3333"},{"$f":"$B$49","v":0},{"$f":"$C$49","v":2},{"$f":"$D$49","v":33},79005,null,{"$f":"'Dairy Miscellaneous 2'!AB16","v":0},{"$f":"'Dairy Miscellaneous 2'!AC16","v":0}]
[{"$f":"'Cow Housing'!$C$6","v":"C-3333"},{"$f":"$B$49","v":0},{"$f":"$C$49","v":2},{"$f":"$D$49","v":33},79345,null,{"$f":"'Dairy Miscellaneous 2'!AB15","v":0},{"$f":"'Dairy Miscellaneous 2'!AC15","v":0}]
[{"$f":"'Cow Housing'!$C$6","v":"C-3333"},{"$f":"$B$49","v":0},{"$f":"$C$49","v":2},{"$f":"$D$49","v":33},95501,null,{"$f":"'Dairy Miscellaneous 2'!AB20","v":0},{"$f":"'Dairy Miscellaneous 2'!AC20","v":0}]
[{"$f":"'Cow Housing'!$C$6","v":"C-3333"},{"$f":"$B$49","v":0},{"$f":"$C$49","v":2},{"$f":"$D$49","v":33},96128,null,{"$f":"'Dairy Miscellaneous 2'!AB19","v":0},{"$f":"'Dairy Miscellaneous 2'!AC19","v":0}]
[{"$f":"'Cow Housing'!$C$6","v":"C-3333"},{"$f":"$B$49","v":0},{"$f":"$C$49","v":2},{"$f":"$D$49","v":33},96184,null,{"$f":"'Dairy Miscellaneous 2'!AB17","v":0},{"$f":"'Dairy Miscellaneous 2'!AC17","v":0}]
[{"$f":"'Cow Housing'!$C$6","v":"C-3333"},{"$f":"$B$49","v":0},{"$f":"$C$49","v":2},{"$f":"$D$49","v":33},98828,null,{"$f":"'Dairy Miscellaneous 2'!AB43","v":0},{"$f":"'Dairy Miscellaneous 2'!AC43","v":0}]
[{"$f":"'Cow Housing'!$C$6","v":"C-3333"},{"$f":"$B$49","v":0},{"$f":"$C$49","v":2},{"$f":"$D$49","v":33},100414,null,{"$f":"'Dairy Miscellaneous 2'!AB37","v":0},{"$f":"'Dairy Miscellaneous 2'!AC37","v":0}]
[{"$f":"'Cow Housing'!$C$6","v":"C-3333"},{"$f":"$B$49","v":0},{"$f":"$C$49","v":2},{"$f":"$D$49","v":33},100425,null,{"$f":"'Dairy Miscellaneous 2'!AB46","v":0},{"$f":"'Dairy Miscellaneous 2'!AC46","v":0}]
[{"$f":"'Cow Housing'!$C$6","v":"C-3333"},{"$f":"$B$49","v":0},{"$f":"$C$49","v":2},{"$f":"$D$49","v":33},100447,null,{"$f":"'Dairy Miscellaneous 2'!AB27","v":0},{"$f":"'Dairy Miscellaneous 2'!AC27","v":0}]
[{"$f":"'Cow Housing'!$C$6","v":"C-3333"},{"$f":"$B$49","v":0},{"$f":"$C$49","v":2},{"$f":"$D$49","v":33},106467,null,{"$f":"'Dairy Miscellaneous 2'!AB23","v":0},{"$f":"'Dairy Miscellaneous 2'!AC23","v":0}]
[{"$f":"'Cow Housing'!$C$6","v":"C-3333"},{"$f":"$B$49","v":0},{"$f":"$C$49","v":2},{"$f":"$D$49","v":33},106934,null,{"$f":"'Dairy Miscellaneous 2'!AB38","v":0},{"$f":"'Dairy Miscellaneous 2'!AC38","v":0}]
[{"$f":"'Cow Housing'!$C$6","v":"C-3333"},{"$f":"$B$49","v":0},{"$f":"$C$49","v":2},{"$f":"$D$49","v":33},107062,null,{"$f":"'Dairy Miscellaneous 2'!AB39","v":0},{"$f":"'Dairy Miscellaneous 2'!AC39","v":0}]
[{"$f":"'Cow Housing'!$C$6","v":"C-3333"},{"$f":"$B$49","v":0},{"$f":"$C$49","v":2},{"$f":"$D$49","v":33},107131,null,{"$f":"'Dairy Miscellaneous 2'!AB25","v":0},{"$f":"'Dairy Miscellaneous 2'!AC25","v":0}]
[{"$f":"'Cow Housing'!$C$6","v":"C-3333"},{"$f":"$B$49","v":0},{"$f":"$C$49","v":2},{"$f":"$D$49","v":33},108054,null,{"$f":"'Dairy Miscellaneous 2'!AB50","v":0},{"$f":"'Dairy Miscellaneous 2'!AC50","v":0}]
[{"$f":"'Cow Housing'!$C$6","v":"C-3333"},{"$f":"$B$49","v":0},{"$f":"$C$49","v":2},{"$f":"$D$49","v":33},108101,null,{"$f":"'Dairy Miscellaneous 2'!AB45","v":0},{"$f":"'Dairy Miscellaneous 2'!AC45","v":0}]
[{"$f":"'Cow Housing'!$C$6","v":"C-3333"},{"$f":"$B$49","v":0},{"$f":"$C$49","v":2},{"$f":"$D$49","v":33},108883,null,{"$f":"'Dairy Miscellaneous 2'!AB48","v":0},{"$f":"'Dairy Miscellaneous 2'!AC48","v":0}]
[{"$f":"'Cow Housing'!$C$6","v":"C-3333"},{"$f":"$B$49","v":0},{"$f":"$C$49","v":2},{"$f":"$D$49","v":33},108907,null,{"$f":"'Dairy Miscellaneous 2'!AB31","v":0},{"$f":"'Dairy Miscellaneous 2'!AC31","v":0}]
[{"$f":"'Cow Housing'!$C$6","v":"C-3333"},{"$f":"$B$49","v":0},{"$f":"$C$49","v":2},{"$f":"$D$49","v":33},110543,null,{"$f":"'Dairy Miscellaneous 2'!AB41","v":0},{"$f":"'Dairy Miscellaneous 2'!AC41","v":0}]
[{"$f":"'Cow Housing'!$C$6","v":"C-3333"},{"$f":"$B$49","v":0},{"$f":"$C$49","v":2},{"$f":"$D$49","v":33},110827,null,{"$f":"'Dairy Miscellaneous 2'!AB35","v":0},{"$f":"'Dairy Miscellaneous 2'!AC35","v":0}]
[{"$f":"'Cow Housing'!$C$6","v":"C-3333"},{"$f":"$B$49","v":0},{"$f":"$C$49","v":2},{"$f":"$D$49","v":33},120821,null,{"$f":"'Dairy Miscellaneous 2'!AB18","v":0},{"$f":"'Dairy Miscellaneous 2'!AC18","v":0}]
[{"$f":"'Cow Housing'!$C$6","v":"C-3333"},{"$f":"$B$49","v":0},{"$f":"$C$49","v":2},{"$f":"$D$49","v":33},123728,null,{"$f":"'Dairy Miscellaneous 2'!AB28","v":0},{"$f":"'Dairy Miscellaneous 2'!AC28","v":0}]
[{"$f":"'Cow Housing'!$C$6","v":"C-3333"},{"$f":"$B$49","v":0},{"$f":"$C$49","v":2},{"$f":"$D$49","v":33},123911,null,{"$f":"'Dairy Miscellaneous 2'!AB22","v":0},{"$f":"'Dairy Miscellaneous 2'!AC22","v":0}]
[{"$f":"'Cow Housing'!$C$6","v":"C-3333"},{"$f":"$B$49","v":0},{"$f":"$C$49","v":2},{"$f":"$D$49","v":33},541731,null,{"$f":"'Dairy Miscellaneous 2'!AB21","v":0},{"$f":"'Dairy Miscellaneous 2'!AC21","v":0}]
[{"$f":"'Cow Housing'!$C$6","v":"C-3333"},{"$f":"$B$49","v":0},{"$f":"$C$49","v":2},{"$f":"$D$49","v":33},764410,null,{"$f":"'Dairy Miscellaneous 2'!AB47","v":0},{"$f":"'Dairy Miscellaneous 2'!AC47","v":0}]
[{"$f":"'Cow Housing'!$C$6","v":"C-3333"},{"$f":"$B$49","v":0},{"$f":"$C$49","v":2},{"$f":"$D$49","v":33},1330207,null,{"$f":"'Dairy Miscellaneous 2'!AB51","v":0},{"$f":"'Dairy Miscellaneous 2'!AC51","v":0}]
[{"$f":"'Cow Housing'!$C$6","v":"C-3333"},{"$f":"$B$49","v":0},{"$f":"$C$49","v":2},{"$f":"$D$49","v":33},4170303,null,{"$f":"'Dairy Miscellaneous 2'!AB34","v":0},{"$f":"'Dairy Miscellaneous 2'!AC34","v":0}]
[{"$f":"'Cow Housing'!$C$6","v":"C-3333"},{"$f":"$B$49","v":0},{"$f":"$C$49","v":2},{"$f":"$D$49","v":33},7429905,null,{"$f":"'Livestock PM10 2'!AB14","v":0},{"$f":"'Livestock PM10 2'!AC14","v":0}]
[{"$f":"'Cow Housing'!$C$6","v":"C-3333"},{"$f":"$B$49","v":0},{"$f":"$C$49","v":2},{"$f":"$D$49","v":33},7439921,null,{"$f":"'Livestock PM10 2'!AB22","v":0},{"$f":"'Livestock PM10 2'!AC22","v":0}]
[{"$f":"'Cow Housing'!$C$6","v":"C-3333"},{"$f":"$B$49","v":0},{"$f":"$C$49","v":2},{"$f":"$D$49","v":33},7439965,null,{"$f":"'Livestock PM10 2'!AB23","v":0},{"$f":"'Livestock PM10 2'!AC23","v":0}]
[{"$f":"'Cow Housing'!$C$6","v":"C-3333"},{"$f":"$B$49","v":0},{"$f":"$C$49","v":2},{"$f":"$D$49","v":33},7439976,null,{"$f":"'Livestock PM10 2'!AB24","v":0},{"$f":"'Livestock PM10 2'!AC24","v":0}]
[{"$f":"'Cow Housing'!$C$6","v":"C-3333"},{"$f":"$B$49","v":0},{"$f":"$C$49","v":2},{"$f":"$D$49","v":33},7440020,null,{"$f":"'Livestock PM10 2'!AB25","v":0},{"$f":"'Livestock PM10 2'!AC25","v":0}]
[{"$f":"'Cow Housing'!$C$6","v":"C-3333"},{"$f":"$B$49","v":0},{"$f":"$C$49","v":2},{"$f":"$D$49","v":33},7440360,null,{"$f":"'Livestock PM10 2'!AB15","v":0},{"$f":"'Livestock PM10 2'!AC15","v":0}]
[{"$f":"'Cow Housing'!$C$6","v":"C-3333"},{"$f":"$B$49","v":0},{"$f":"$C$49","v":2},{"$f":"$D$49","v":33},7440382,null,{"$f":"'Livestock PM10 2'!AB16","v":0},{"$f":"'Livestock PM10 2'!AC16","v":0}]
[{"$f":"'Cow Housing'!$C$6","v":"C-3333"},{"$f":"$B$49","v":0},{"$f":"$C$49","v":2},{"$f":"$D$49","v":33},7440393,null,{"$f":"'Livestock PM10 2'!AB17","v":0},{"$f":"'Livestock PM10 2'!AC17","v":0}]
[{"$f":"'Cow Housing'!$C$6","v":"C-3333"},{"$f":"$B$49","v":0},{"$f":"$C$49","v":2},{"$f":"$D$49","v":33},7440473,null,{"$f":"'Livestock PM10 2'!AB19","v":0},{"$f":"'Livestock PM10 2'!AC19","v":0}]
[{"$f":"'Cow Housing'!$C$6","v":"C-3333"},{"$f":"$B$49","v":0},{"$f":"$C$49","v":2},{"$f":"$D$49","v":33},7440508,null,{"$f":"'Livestock PM10 2'!AB20","v":0},{"$f":"'Livestock PM10 2'!AC20","v":0}]
[{"$f":"'Cow Housing'!$C$6","v":"C-3333"},{"$f":"$B$49","v":0},{"$f":"$C$49","v":2},{"$f":"$D$49","v":33},7440622,null,{"$f":"'Livestock PM10 2'!AB29","v":0},{"$f":"'Livestock PM10 2'!AC29","v":0}]
[{"$f":"'Cow Housing'!$C$6","v":"C-3333"},{"$f":"$B$49","v":0},{"$f":"$C$49","v":2},{"$f":"$D$49","v":33},7440666,null,{"$f":"'Livestock PM10 2'!AB30","v":0},{"$f":"'Livestock PM10 2'!AC30","v":0}]
[{"$f":"'Cow Housing'!$C$6","v":"C-3333"},{"$f":"$B$49","v":0},{"$f":"$C$49","v":2},{"$f":"$D$49","v":33},7664417,null,{"$f":"'Livestock PM10 2'!AB31","v":0},{"$f":"'Livestock PM10 2'!AC31","v":0}]
[{"$f":"'Cow Housing'!$C$6","v":"C-3333"},{"$f":"$B$49","v":0},{"$f":"$C$49","v":2},{"$f":"$D$49","v":33},7723140,null,{"$f":"'Livestock PM10 2'!AB26","v":0},{"$f":"'Livestock PM10 2'!AC26","v":0}]
[{"$f":"'Cow Housing'!$C$6","v":"C-3333"},{"$f":"$B$49","v":0},{"$f":"$C$49","v":2},{"$f":"$D$49","v":33},7726956,null,{"$f":"'Livestock PM10 2'!AB18","v":0},{"$f":"'Livestock PM10 2'!AC18","v":0}]
[{"$f":"'Cow Housing'!$C$6","v":"C-3333"},{"$f":"$B$49","v":0},{"$f":"$C$49","v":2},{"$f":"$D$49","v":33},7782492,null,{"$f":"'Livestock PM10 2'!AB27","v":0},{"$f":"'Livestock PM10 2'!AC27","v":0}]
[{"$f":"'Cow Housing'!$C$6","v":"C-3333"},{"$f":"$B$49","v":0},{"$f":"$C$49","v":2},{"$f":"$D$49","v":33},18540299,null,{"$f":"'Livestock PM10 2'!AB21","v":0},{"$f":"'Livestock PM10 2'!AC21","v":0}]
[{"$f":"'Cow Housing'!$C$6","v":"C-3333"},{"$f":"$B$50","v":0},{"$f":"$C$50","v":2},{"$f":"$D$50","v":34},9960,null,{"$f":"'Livestock PM10 2'!AD28","v":0},{"$f":"'Livestock PM10 2'!AE28","v":0}]
[{"$f":"'Cow Housing'!$C$6","v":"C-3333"},{"$f":"$B$50","v":0},{"$f":"$C$50","v":2},{"$f":"$D$50","v":34},50000,null,{"$f":"'Dairy Miscellaneous 2'!AD40","v":0},{"$f":"'Dairy Miscellaneous 2'!AE40","v":0}]
[{"$f":"'Cow Housing'!$C$6","v":"C-3333"},{"$f":"$B$50","v":0},{"$f":"$C$50","v":2},{"$f":"$D$50","v":34},56235,null,{"$f":"'Dairy Miscellaneous 2'!AD30","v":0},{"$f":"'Dairy Miscellaneous 2'!AE30","v":0}]
[{"$f":"'Cow Housing'!$C$6","v":"C-3333"},{"$f":"$B$50","v":0},{"$f":"$C$50","v":2},{"$f":"$D$50","v":34},67630,null,{"$f":"'Dairy Miscellaneous 2'!AD42","v":0},{"$f":"'Dairy Miscellaneous 2'!AE42","v":0}]
[{"$f":"'Cow Housing'!$C$6","v":"C-3333"},{"$f":"$B$50","v":0},{"$f":"$C$50","v":2},{"$f":"$D$50","v":34},67663,null,{"$f":"'Dairy Miscellaneous 2'!AD32","v":0},{"$f":"'Dairy Miscellaneous 2'!AE32","v":0}]
[{"$f":"'Cow Housing'!$C$6","v":"C-3333"},{"$f":"$B$50","v":0},{"$f":"$C$50","v":2},{"$f":"$D$50","v":34},71432,null,{"$f":"'Dairy Miscellaneous 2'!AD26","v":0},{"$f":"'Dairy Miscellaneous 2'!AE26","v":0}]
[{"$f":"'Cow Housing'!$C$6","v":"C-3333"},{"$f":"$B$50","v":0},{"$f":"$C$50","v":2},{"$f":"$D$50","v":34},74873,null,{"$f":"'Dairy Miscellaneous 2'!AD33","v":0},{"$f":"'Dairy Miscellaneous 2'!AE33","v":0}]
[{"$f":"'Cow Housing'!$C$6","v":"C-3333"},{"$f":"$B$50","v":0},{"$f":"$C$50","v":2},{"$f":"$D$50","v":34},75003,null,{"$f":"'Dairy Miscellaneous 2'!AD36","v":0},{"$f":"'Dairy Miscellaneous 2'!AE36","v":0}]
[{"$f":"'Cow Housing'!$C$6","v":"C-3333"},{"$f":"$B$50","v":0},{"$f":"$C$50","v":2},{"$f":"$D$50","v":34},75070,null,{"$f":"'Dairy Miscellaneous 2'!AD24","v":0},{"$f":"'Dairy Miscellaneous 2'!AE24","v":0}]
[{"$f":"'Cow Housing'!$C$6","v":"C-3333"},{"$f":"$B$50","v":0},{"$f":"$C$50","v":2},{"$f":"$D$50","v":34},75150,null,{"$f":"'Dairy Miscellaneous 2'!AD29","v":0},{"$f":"'Dairy Miscellaneous 2'!AE29","v":0}]
[{"$f":"'Cow Housing'!$C$6","v":"C-3333"},{"$f":"$B$50","v":0},{"$f":"$C$50","v":2},{"$f":"$D$50","v":34},75694,null,{"$f":"'Dairy Miscellaneous 2'!AD49","v":0},{"$f":"'Dairy Miscellaneous 2'!AE49","v":0}]
[{"$f":"'Cow Housing'!$C$6","v":"C-3333"},{"$f":"$B$50","v":0},{"$f":"$C$50","v":2},{"$f":"$D$50","v":34},78933,null,{"$f":"'Dairy Miscellaneous 2'!AD44","v":0},{"$f":"'Dairy Miscellaneous 2'!AE44","v":0}]
[{"$f":"'Cow Housing'!$C$6","v":"C-3333"},{"$f":"$B$50","v":0},{"$f":"$C$50","v":2},{"$f":"$D$50","v":34},79005,null,{"$f":"'Dairy Miscellaneous 2'!AD16","v":0},{"$f":"'Dairy Miscellaneous 2'!AE16","v":0}]
[{"$f":"'Cow Housing'!$C$6","v":"C-3333"},{"$f":"$B$50","v":0},{"$f":"$C$50","v":2},{"$f":"$D$50","v":34},79345,null,{"$f":"'Dairy Miscellaneous 2'!AD15","v":0},{"$f":"'Dairy Miscellaneous 2'!AE15","v":0}]
[{"$f":"'Cow Housing'!$C$6","v":"C-3333"},{"$f":"$B$50","v":0},{"$f":"$C$50","v":2},{"$f":"$D$50","v":34},95501,null,{"$f":"'Dairy Miscellaneous 2'!AD20","v":0},{"$f":"'Dairy Miscellaneous 2'!AE20","v":0}]
[{"$f":"'Cow Housing'!$C$6","v":"C-3333"},{"$f":"$B$50","v":0},{"$f":"$C$50","v":2},{"$f":"$D$50","v":34},96128,null,{"$f":"'Dairy Miscellaneous 2'!AD19","v":0},{"$f":"'Dairy Miscellaneous 2'!AE19","v":0}]
[{"$f":"'Cow Housing'!$C$6","v":"C-3333"},{"$f":"$B$50","v":0},{"$f":"$C$50","v":2},{"$f":"$D$50","v":34},96184,null,{"$f":"'Dairy Miscellaneous 2'!AD17","v":0},{"$f":"'Dairy Miscellaneous 2'!AE17","v":0}]
[{"$f":"'Cow Housing'!$C$6","v":"C-3333"},{"$f":"$B$50","v":0},{"$f":"$C$50","v":2},{"$f":"$D$50","v":34},98828,null,{"$f":"'Dairy Miscellaneous 2'!AD43","v":0},{"$f":"'Dairy Miscellaneous 2'!AE43","v":0}]
[{"$f":"'Cow Housing'!$C$6","v":"C-3333"},{"$f":"$B$50","v":0},{"$f":"$C$50","v":2},{"$f":"$D$50","v":34},100414,null,{"$f":"'Dairy Miscellaneous 2'!AD37","v":0},{"$f":"'Dairy Miscellaneous 2'!AE37","v":0}]
[{"$f":"'Cow Housing'!$C$6","v":"C-3333"},{"$f":"$B$50","v":0},{"$f":"$C$50","v":2},{"$f":"$D$50","v":34},100425,null,{"$f":"'Dairy Miscellaneous 2'!AD46","v":0},{"$f":"'Dairy Miscellaneous 2'!AE46","v":0}]
[{"$f":"'Cow Housing'!$C$6","v":"C-3333"},{"$f":"$B$50","v":0},{"$f":"$C$50","v":2},{"$f":"$D$50","v":34},100447,null,{"$f":"'Dairy Miscellaneous 2'!AD27","v":0},{"$f":"'Dairy Miscellaneous 2'!AE27","v":0}]
[{"$f":"'Cow Housing'!$C$6","v":"C-3333"},{"$f":"$B$50","v":0},{"$f":"$C$50","v":2},{"$f":"$D$50","v":34},106467,null,{"$f":"'Dairy Miscellaneous 2'!AD23","v":0},{"$f":"'Dairy Miscellaneous 2'!AE23","v":0}]
[{"$f":"'Cow Housing'!$C$6","v":"C-3333"},{"$f":"$B$50","v":0},{"$f":"$C$50","v":2},{"$f":"$D$50","v":34},106934,null,{"$f":"'Dairy Miscellaneous 2'!AD38","v":0},{"$f":"'Dairy Miscellaneous 2'!AE38","v":0}]
[{"$f":"'Cow Housing'!$C$6","v":"C-3333"},{"$f":"$B$50","v":0},{"$f":"$C$50","v":2},{"$f":"$D$50","v":34},107062,null,{"$f":"'Dairy Miscellaneous 2'!AD39","v":0},{"$f":"'Dairy Miscellaneous 2'!AE39","v":0}]
[{"$f":"'Cow Housing'!$C$6","v":"C-3333"},{"$f":"$B$50","v":0},{"$f":"$C$50","v":2},{"$f":"$D$50","v":34},107131,null,{"$f":"'Dairy Miscellaneous 2'!AD25","v":0},{"$f":"'Dairy Miscellaneous 2'!AE25","v":0}]
[{"$f":"'Cow Housing'!$C$6","v":"C-3333"},{"$f":"$B$50","v":0},{"$f":"$C$50","v":2},{"$f":"$D$50","v":34},108054,null,{"$f":"'Dairy Miscellaneous 2'!AD50","v":0},{"$f":"'Dairy Miscellaneous 2'!AE50","v":0}]
[{"$f":"'Cow Housing'!$C$6","v":"C-3333"},{"$f":"$B$50","v":0},{"$f":"$C$50","v":2},{"$f":"$D$50","v":34},108101,null,{"$f":"'Dairy Miscellaneous 2'!AD45","v":0},{"$f":"'Dairy Miscellaneous 2'!AE45","v":0}]
[{"$f":"'Cow Housing'!$C$6","v":"C-3333"},{"$f":"$B$50","v":0},{"$f":"$C$50","v":2},{"$f":"$D$50","v":34},108883,null,{"$f":"'Dairy Miscellaneous 2'!AD48","v":0},{"$f":"'Dairy Miscellaneous 2'!AE48","v":0}]
[{"$f":"'Cow Housing'!$C$6","v":"C-3333"},{"$f":"$B$50","v":0},{"$f":"$C$50","v":2},{"$f":"$D$50","v":34},108907,null,{"$f":"'Dairy Miscellaneous 2'!AD31","v":0},{"$f":"'Dairy Miscellaneous 2'!AE31","v":0}]
[{"$f":"'Cow Housing'!$C$6","v":"C-3333"},{"$f":"$B$50","v":0},{"$f":"$C$50","v":2},{"$f":"$D$50","v":34},110543,null,{"$f":"'Dairy Miscellaneous 2'!AD41","v":0},{"$f":"'Dairy Miscellaneous 2'!AE41","v":0}]
[{"$f":"'Cow Housing'!$C$6","v":"C-3333"},{"$f":"$B$50","v":0},{"$f":"$C$50","v":2},{"$f":"$D$50","v":34},110827,null,{"$f":"'Dairy Miscellaneous 2'!AD35","v":0},{"$f":"'Dairy Miscellaneous 2'!AE35","v":0}]
[{"$f":"'Cow Housing'!$C$6","v":"C-3333"},{"$f":"$B$50","v":0},{"$f":"$C$50","v":2},{"$f":"$D$50","v":34},120821,null,{"$f":"'Dairy Miscellaneous 2'!AD18","v":0},{"$f":"'Dairy Miscellaneous 2'!AE18","v":0}]
[{"$f":"'Cow Housing'!$C$6","v":"C-3333"},{"$f":"$B$50","v":0},{"$f":"$C$50","v":2},{"$f":"$D$50","v":34},123728,null,{"$f":"'Dairy Miscellaneous 2'!AD28","v":0},{"$f":"'Dairy Miscellaneous 2'!AE28","v":0}]
[{"$f":"'Cow Housing'!$C$6","v":"C-3333"},{"$f":"$B$50","v":0},{"$f":"$C$50","v":2},{"$f":"$D$50","v":34},123911,null,{"$f":"'Dairy Miscellaneous 2'!AD22","v":0},{"$f":"'Dairy Miscellaneous 2'!AE22","v":0}]
[{"$f":"'Cow Housing'!$C$6","v":"C-3333"},{"$f":"$B$50","v":0},{"$f":"$C$50","v":2},{"$f":"$D$50","v":34},541731,null,{"$f":"'Dairy Miscellaneous 2'!AD21","v":0},{"$f":"'Dairy Miscellaneous 2'!AE21","v":0}]
[{"$f":"'Cow Housing'!$C$6","v":"C-3333"},{"$f":"$B$50","v":0},{"$f":"$C$50","v":2},{"$f":"$D$50","v":34},764410,null,{"$f":"'Dairy Miscellaneous 2'!AD47","v":0},{"$f":"'Dairy Miscellaneous 2'!AE47","v":0}]
[{"$f":"'Cow Housing'!$C$6","v":"C-3333"},{"$f":"$B$50","v":0},{"$f":"$C$50","v":2},{"$f":"$D$50","v":34},1330207,null,{"$f":"'Dairy Miscellaneous 2'!AD51","v":0},{"$f":"'Dairy Miscellaneous 2'!AE51","v":0}]
[{"$f":"'Cow Housing'!$C$6","v":"C-3333"},{"$f":"$B$50","v":0},{"$f":"$C$50","v":2},{"$f":"$D$50","v":34},4170303,null,{"$f":"'Dairy Miscellaneous 2'!AD34","v":0},{"$f":"'Dairy Miscellaneous 2'!AE34","v":0}]
[{"$f":"'Cow Housing'!$C$6","v":"C-3333"},{"$f":"$B$50","v":0},{"$f":"$C$50","v":2},{"$f":"$D$50","v":34},7429905,null,{"$f":"'Livestock PM10 2'!AD14","v":0},{"$f":"'Livestock PM10 2'!AE14","v":0}]
[{"$f":"'Cow Housing'!$C$6","v":"C-3333"},{"$f":"$B$50","v":0},{"$f":"$C$50","v":2},{"$f":"$D$50","v":34},7439921,null,{"$f":"'Livestock PM10 2'!AD22","v":0},{"$f":"'Livestock PM10 2'!AE22","v":0}]
[{"$f":"'Cow Housing'!$C$6","v":"C-3333"},{"$f":"$B$50","v":0},{"$f":"$C$50","v":2},{"$f":"$D$50","v":34},7439965,null,{"$f":"'Livestock PM10 2'!AD23","v":0},{"$f":"'Livestock PM10 2'!AE23","v":0}]
[{"$f":"'Cow Housing'!$C$6","v":"C-3333"},{"$f":"$B$50","v":0},{"$f":"$C$50","v":2},{"$f":"$D$50","v":34},7439976,null,{"$f":"'Livestock PM10 2'!AD24","v":0},{"$f":"'Livestock PM10 2'!AE24","v":0}]
[{"$f":"'Cow Housing'!$C$6","v":"C-3333"},{"$f":"$B$50","v":0},{"$f":"$C$50","v":2},{"$f":"$D$50","v":34},7440020,null,{"$f":"'Livestock PM10 2'!AD25","v":0},{"$f":"'Livestock PM10 2'!AE25","v":0}]
[{"$f":"'Cow Housing'!$C$6","v":"C-3333"},{"$f":"$B$50","v":0},{"$f":"$C$50","v":2},{"$f":"$D$50","v":34},7440360,null,{"$f":"'Livestock PM10 2'!AD15","v":0},{"$f":"'Livestock PM10 2'!AE15","v":0}]
[{"$f":"'Cow Housing'!$C$6","v":"C-3333"},{"$f":"$B$50","v":0},{"$f":"$C$50","v":2},{"$f":"$D$50","v":34},7440382,null,{"$f":"'Livestock PM10 2'!AD16","v":0},{"$f":"'Livestock PM10 2'!AE16","v":0}]
[{"$f":"'Cow Housing'!$C$6","v":"C-3333"},{"$f":"$B$50","v":0},{"$f":"$C$50","v":2},{"$f":"$D$50","v":34},7440393,null,{"$f":"'Livestock PM10 2'!AD17","v":0},{"$f":"'Livestock PM10 2'!AE17","v":0}]
[{"$f":"'Cow Housing'!$C$6","v":"C-3333"},{"$f":"$B$50","v":0},{"$f":"$C$50","v":2},{"$f":"$D$50","v":34},7440473,null,{"$f":"'Livestock PM10 2'!AD19","v":0},{"$f":"'Livestock PM10 2'!AE19","v":0}]
[{"$f":"'Cow Housing'!$C$6","v":"C-3333"},{"$f":"$B$50","v":0},{"$f":"$C$50","v":2},{"$f":"$D$50","v":34},7440508,null,{"$f":"'Livestock PM10 2'!AD20","v":0},{"$f":"'Livestock PM10 2'!AE20","v":0}]
[{"$f":"'Cow Housing'!$C$6","v":"C-3333"},{"$f":"$B$50","v":0},{"$f":"$C$50","v":2},{"$f":"$D$50","v":34},7440622,null,{"$f":"'Livestock PM10 2'!AD29","v":0},{"$f":"'Livestock PM10 2'!AE29","v":0}]
[{"$f":"'Cow Housing'!$C$6","v":"C-3333"},{"$f":"$B$50","v":0},{"$f":"$C$50","v":2},{"$f":"$D$50","v":34},7440666,null,{"$f":"'Livestock PM10 2'!AD30","v":0},{"$f":"'Livestock PM10 2'!AE30","v":0}]
[{"$f":"'Cow Housing'!$C$6","v":"C-3333"},{"$f":"$B$50","v":0},{"$f":"$C$50","v":2},{"$f":"$D$50","v":34},7664417,null,{"$f":"'Livestock PM10 2'!AD31","v":0},{"$f":"'Livestock PM10 2'!AE31","v":0}]
[{"$f":"'Cow Housing'!$C$6","v":"C-3333"},{"$f":"$B$50","v":0},{"$f":"$C$50","v":2},{"$f":"$D$50","v":34},7723140,null,{"$f":"'Livestock PM10 2'!AD26","v":0},{"$f":"'Livestock PM10 2'!AE26","v":0}]
[{"$f":"'Cow Housing'!$C$6","v":"C-3333"},{"$f":"$B$50","v":0},{"$f":"$C$50","v":2},{"$f":"$D$50","v":34},7726956,null,{"$f":"'Livestock PM10 2'!AD18","v":0},{"$f":"'Livestock PM10 2'!AE18","v":0}]
[{"$f":"'Cow Housing'!$C$6","v":"C-3333"},{"$f":"$B$50","v":0},{"$f":"$C$50","v":2},{"$f":"$D$50","v":34},7782492,null,{"$f":"'Livestock PM10 2'!AD27","v":0},{"$f":"'Livestock PM10 2'!AE27","v":0}]
[{"$f":"'Cow Housing'!$C$6","v":"C-3333"},{"$f":"$B$50","v":0},{"$f":"$C$50","v":2},{"$f":"$D$50","v":34},18540299,null,{"$f":"'Livestock PM10 2'!AD21","v":0},{"$f":"'Livestock PM10 2'!AE21","v":0}]
[{"$f":"'Cow Housing'!$C$6","v":"C-3333"},{"$f":"$B$51","v":0},{"$f":"$C$51","v":2},{"$f":"$D$51","v":35},9960,null,{"$f":"'Livestock PM10 2'!AF28","v":0},{"$f":"'Livestock PM10 2'!AG28","v":0}]
[{"$f":"'Cow Housing'!$C$6","v":"C-3333"},{"$f":"$B$51","v":0},{"$f":"$C$51","v":2},{"$f":"$D$51","v":35},50000,null,{"$f":"'Dairy Miscellaneous 2'!AF40","v":0},{"$f":"'Dairy Miscellaneous 2'!AG40","v":0}]
[{"$f":"'Cow Housing'!$C$6","v":"C-3333"},{"$f":"$B$51","v":0},{"$f":"$C$51","v":2},{"$f":"$D$51","v":35},56235,null,{"$f":"'Dairy Miscellaneous 2'!AF30","v":0},{"$f":"'Dairy Miscellaneous 2'!AG30","v":0}]
[{"$f":"'Cow Housing'!$C$6","v":"C-3333"},{"$f":"$B$51","v":0},{"$f":"$C$51","v":2},{"$f":"$D$51","v":35},67630,null,{"$f":"'Dairy Miscellaneous 2'!AF42","v":0},{"$f":"'Dairy Miscellaneous 2'!AG42","v":0}]
[{"$f":"'Cow Housing'!$C$6","v":"C-3333"},{"$f":"$B$51","v":0},{"$f":"$C$51","v":2},{"$f":"$D$51","v":35},67663,null,{"$f":"'Dairy Miscellaneous 2'!AF32","v":0},{"$f":"'Dairy Miscellaneous 2'!AG32","v":0}]
[{"$f":"'Cow Housing'!$C$6","v":"C-3333"},{"$f":"$B$51","v":0},{"$f":"$C$51","v":2},{"$f":"$D$51","v":35},71432,null,{"$f":"'Dairy Miscellaneous 2'!AF26","v":0},{"$f":"'Dairy Miscellaneous 2'!AG26","v":0}]
[{"$f":"'Cow Housing'!$C$6","v":"C-3333"},{"$f":"$B$51","v":0},{"$f":"$C$51","v":2},{"$f":"$D$51","v":35},74873,null,{"$f":"'Dairy Miscellaneous 2'!AF33","v":0},{"$f":"'Dairy Miscellaneous 2'!AG33","v":0}]
[{"$f":"'Cow Housing'!$C$6","v":"C-3333"},{"$f":"$B$51","v":0},{"$f":"$C$51","v":2},{"$f":"$D$51","v":35},75003,null,{"$f":"'Dairy Miscellaneous 2'!AF36","v":0},{"$f":"'Dairy Miscellaneous 2'!AG36","v":0}]
[{"$f":"'Cow Housing'!$C$6","v":"C-3333"},{"$f":"$B$51","v":0},{"$f":"$C$51","v":2},{"$f":"$D$51","v":35},75070,null,{"$f":"'Dairy Miscellaneous 2'!AF24","v":0},{"$f":"'Dairy Miscellaneous 2'!AG24","v":0}]
[{"$f":"'Cow Housing'!$C$6","v":"C-3333"},{"$f":"$B$51","v":0},{"$f":"$C$51","v":2},{"$f":"$D$51","v":35},75150,null,{"$f":"'Dairy Miscellaneous 2'!AF29","v":0},{"$f":"'Dairy Miscellaneous 2'!AG29","v":0}]
[{"$f":"'Cow Housing'!$C$6","v":"C-3333"},{"$f":"$B$51","v":0},{"$f":"$C$51","v":2},{"$f":"$D$51","v":35},75694,null,{"$f":"'Dairy Miscellaneous 2'!AF49","v":0},{"$f":"'Dairy Miscellaneous 2'!AG49","v":0}]
[{"$f":"'Cow Housing'!$C$6","v":"C-3333"},{"$f":"$B$51","v":0},{"$f":"$C$51","v":2},{"$f":"$D$51","v":35},78933,null,{"$f":"'Dairy Miscellaneous 2'!AF44","v":0},{"$f":"'Dairy Miscellaneous 2'!AG44","v":0}]
[{"$f":"'Cow Housing'!$C$6","v":"C-3333"},{"$f":"$B$51","v":0},{"$f":"$C$51","v":2},{"$f":"$D$51","v":35},79005,null,{"$f":"'Dairy Miscellaneous 2'!AF16","v":0},{"$f":"'Dairy Miscellaneous 2'!AG16","v":0}]
[{"$f":"'Cow Housing'!$C$6","v":"C-3333"},{"$f":"$B$51","v":0},{"$f":"$C$51","v":2},{"$f":"$D$51","v":35},79345,null,{"$f":"'Dairy Miscellaneous 2'!AF15","v":0},{"$f":"'Dairy Miscellaneous 2'!AG15","v":0}]
[{"$f":"'Cow Housing'!$C$6","v":"C-3333"},{"$f":"$B$51","v":0},{"$f":"$C$51","v":2},{"$f":"$D$51","v":35},95501,null,{"$f":"'Dairy Miscellaneous 2'!AF20","v":0},{"$f":"'Dairy Miscellaneous 2'!AG20","v":0}]
[{"$f":"'Cow Housing'!$C$6","v":"C-3333"},{"$f":"$B$51","v":0},{"$f":"$C$51","v":2},{"$f":"$D$51","v":35},96128,null,{"$f":"'Dairy Miscellaneous 2'!AF19","v":0},{"$f":"'Dairy Miscellaneous 2'!AG19","v":0}]
[{"$f":"'Cow Housing'!$C$6","v":"C-3333"},{"$f":"$B$51","v":0},{"$f":"$C$51","v":2},{"$f":"$D$51","v":35},96184,null,{"$f":"'Dairy Miscellaneous 2'!AF17","v":0},{"$f":"'Dairy Miscellaneous 2'!AG17","v":0}]
[{"$f":"'Cow Housing'!$C$6","v":"C-3333"},{"$f":"$B$51","v":0},{"$f":"$C$51","v":2},{"$f":"$D$51","v":35},98828,null,{"$f":"'Dairy Miscellaneous 2'!AF43","v":0},{"$f":"'Dairy Miscellaneous 2'!AG43","v":0}]
[{"$f":"'Cow Housing'!$C$6","v":"C-3333"},{"$f":"$B$51","v":0},{"$f":"$C$51","v":2},{"$f":"$D$51","v":35},100414,null,{"$f":"'Dairy Miscellaneous 2'!AF37","v":0},{"$f":"'Dairy Miscellaneous 2'!AG37","v":0}]
[{"$f":"'Cow Housing'!$C$6","v":"C-3333"},{"$f":"$B$51","v":0},{"$f":"$C$51","v":2},{"$f":"$D$51","v":35},100425,null,{"$f":"'Dairy Miscellaneous 2'!AF46","v":0},{"$f":"'Dairy Miscellaneous 2'!AG46","v":0}]
[{"$f":"'Cow Housing'!$C$6","v":"C-3333"},{"$f":"$B$51","v":0},{"$f":"$C$51","v":2},{"$f":"$D$51","v":35},100447,null,{"$f":"'Dairy Miscellaneous 2'!AF27","v":0},{"$f":"'Dairy Miscellaneous 2'!AG27","v":0}]
[{"$f":"'Cow Housing'!$C$6","v":"C-3333"},{"$f":"$B$51","v":0},{"$f":"$C$51","v":2},{"$f":"$D$51","v":35},106467,null,{"$f":"'Dairy Miscellaneous 2'!AF23","v":0},{"$f":"'Dairy Miscellaneous 2'!AG23","v":0}]
[{"$f":"'Cow Housing'!$C$6","v":"C-3333"},{"$f":"$B$51","v":0},{"$f":"$C$51","v":2},{"$f":"$D$51","v":35},106934,null,{"$f":"'Dairy Miscellaneous 2'!AF38","v":0},{"$f":"'Dairy Miscellaneous 2'!AG38","v":0}]
[{"$f":"'Cow Housing'!$C$6","v":"C-3333"},{"$f":"$B$51","v":0},{"$f":"$C$51","v":2},{"$f":"$D$51","v":35},107062,null,{"$f":"'Dairy Miscellaneous 2'!AF39","v":0},{"$f":"'Dairy Miscellaneous 2'!AG39","v":0}]
[{"$f":"'Cow Housing'!$C$6","v":"C-3333"},{"$f":"$B$51","v":0},{"$f":"$C$51","v":2},{"$f":"$D$51","v":35},107131,null,{"$f":"'Dairy Miscellaneous 2'!AF25","v":0},{"$f":"'Dairy Miscellaneous 2'!AG25","v":0}]
[{"$f":"'Cow Housing'!$C$6","v":"C-3333"},{"$f":"$B$51","v":0},{"$f":"$C$51","v":2},{"$f":"$D$51","v":35},108054,null,{"$f":"'Dairy Miscellaneous 2'!AF50","v":0},{"$f":"'Dairy Miscellaneous 2'!AG50","v":0}]
[{"$f":"'Cow Housing'!$C$6","v":"C-3333"},{"$f":"$B$51","v":0},{"$f":"$C$51","v":2},{"$f":"$D$51","v":35},108101,null,{"$f":"'Dairy Miscellaneous 2'!AF45","v":0},{"$f":"'Dairy Miscellaneous 2'!AG45","v":0}]
[{"$f":"'Cow Housing'!$C$6","v":"C-3333"},{"$f":"$B$51","v":0},{"$f":"$C$51","v":2},{"$f":"$D$51","v":35},108883,null,{"$f":"'Dairy Miscellaneous 2'!AF48","v":0},{"$f":"'Dairy Miscellaneous 2'!AG48","v":0}]
[{"$f":"'Cow Housing'!$C$6","v":"C-3333"},{"$f":"$B$51","v":0},{"$f":"$C$51","v":2},{"$f":"$D$51","v":35},108907,null,{"$f":"'Dairy Miscellaneous 2'!AF31","v":0},{"$f":"'Dairy Miscellaneous 2'!AG31","v":0}]
[{"$f":"'Cow Housing'!$C$6","v":"C-3333"},{"$f":"$B$51","v":0},{"$f":"$C$51","v":2},{"$f":"$D$51","v":35},110543,null,{"$f":"'Dairy Miscellaneous 2'!AF41","v":0},{"$f":"'Dairy Miscellaneous 2'!AG41","v":0}]
[{"$f":"'Cow Housing'!$C$6","v":"C-3333"},{"$f":"$B$51","v":0},{"$f":"$C$51","v":2},{"$f":"$D$51","v":35},110827,null,{"$f":"'Dairy Miscellaneous 2'!AF35","v":0},{"$f":"'Dairy Miscellaneous 2'!AG35","v":0}]
[{"$f":"'Cow Housing'!$C$6","v":"C-3333"},{"$f":"$B$51","v":0},{"$f":"$C$51","v":2},{"$f":"$D$51","v":35},120821,null,{"$f":"'Dairy Miscellaneous 2'!AF18","v":0},{"$f":"'Dairy Miscellaneous 2'!AG18","v":0}]
[{"$f":"'Cow Housing'!$C$6","v":"C-3333"},{"$f":"$B$51","v":0},{"$f":"$C$51","v":2},{"$f":"$D$51","v":35},123728,null,{"$f":"'Dairy Miscellaneous 2'!AF28","v":0},{"$f":"'Dairy Miscellaneous 2'!AG28","v":0}]
[{"$f":"'Cow Housing'!$C$6","v":"C-3333"},{"$f":"$B$51","v":0},{"$f":"$C$51","v":2},{"$f":"$D$51","v":35},123911,null,{"$f":"'Dairy Miscellaneous 2'!AF22","v":0},{"$f":"'Dairy Miscellaneous 2'!AG22","v":0}]
[{"$f":"'Cow Housing'!$C$6","v":"C-3333"},{"$f":"$B$51","v":0},{"$f":"$C$51","v":2},{"$f":"$D$51","v":35},541731,null,{"$f":"'Dairy Miscellaneous 2'!AF21","v":0},{"$f":"'Dairy Miscellaneous 2'!AG21","v":0}]
[{"$f":"'Cow Housing'!$C$6","v":"C-3333"},{"$f":"$B$51","v":0},{"$f":"$C$51","v":2},{"$f":"$D$51","v":35},764410,null,{"$f":"'Dairy Miscellaneous 2'!AF47","v":0},{"$f":"'Dairy Miscellaneous 2'!AG47","v":0}]
[{"$f":"'Cow Housing'!$C$6","v":"C-3333"},{"$f":"$B$51","v":0},{"$f":"$C$51","v":2},{"$f":"$D$51","v":35},1330207,null,{"$f":"'Dairy Miscellaneous 2'!AF51","v":0},{"$f":"'Dairy Miscellaneous 2'!AG51","v":0}]
[{"$f":"'Cow Housing'!$C$6","v":"C-3333"},{"$f":"$B$51","v":0},{"$f":"$C$51","v":2},{"$f":"$D$51","v":35},4170303,null,{"$f":"'Dairy Miscellaneous 2'!AF34","v":0},{"$f":"'Dairy Miscellaneous 2'!AG34","v":0}]
[{"$f":"'Cow Housing'!$C$6","v":"C-3333"},{"$f":"$B$51","v":0},{"$f":"$C$51","v":2},{"$f":"$D$51","v":35},7429905,null,{"$f":"'Livestock PM10 2'!AF14","v":0},{"$f":"'Livestock PM10 2'!AG14","v":0}]
[{"$f":"'Cow Housing'!$C$6","v":"C-3333"},{"$f":"$B$51","v":0},{"$f":"$C$51","v":2},{"$f":"$D$51","v":35},7439921,null,{"$f":"'Livestock PM10 2'!AF22","v":0},{"$f":"'Livestock PM10 2'!AG22","v":0}]
[{"$f":"'Cow Housing'!$C$6","v":"C-3333"},{"$f":"$B$51","v":0},{"$f":"$C$51","v":2},{"$f":"$D$51","v":35},7439965,null,{"$f":"'Livestock PM10 2'!AF23","v":0},{"$f":"'Livestock PM10 2'!AG23","v":0}]
[{"$f":"'Cow Housing'!$C$6","v":"C-3333"},{"$f":"$B$51","v":0},{"$f":"$C$51","v":2},{"$f":"$D$51","v":35},7439976,null,{"$f":"'Livestock PM10 2'!AF24","v":0},{"$f":"'Livestock PM10 2'!AG24","v":0}]
[{"$f":"'Cow Housing'!$C$6","v":"C-3333"},{"$f":"$B$51","v":0},{"$f":"$C$51","v":2},{"$f":"$D$51","v":35},7440020,null,{"$f":"'Livestock PM10 2'!AF25","v":0},{"$f":"'Livestock PM10 2'!AG25","v":0}]
[{"$f":"'Cow Housing'!$C$6","v":"C-3333"},{"$f":"$B$51","v":0},{"$f":"$C$51","v":2},{"$f":"$D$51","v":35},7440360,null,{"$f":"'Livestock PM10 2'!AF15","v":0},{"$f":"'Livestock PM10 2'!AG15","v":0}]
[{"$f":"'Cow Housing'!$C$6","v":"C-3333"},{"$f":"$B$51","v":0},{"$f":"$C$51","v":2},{"$f":"$D$51","v":35},7440382,null,{"$f":"'Livestock PM10 2'!AF16","v":0},{"$f":"'Livestock PM10 2'!AG16","v":0}]
[{"$f":"'Cow Housing'!$C$6","v":"C-3333"},{"$f":"$B$51","v":0},{"$f":"$C$51","v":2},{"$f":"$D$51","v":35},7440393,null,{"$f":"'Livestock PM10 2'!AF17","v":0},{"$f":"'Livestock PM10 2'!AG17","v":0}]
[{"$f":"'Cow Housing'!$C$6","v":"C-3333"},{"$f":"$B$51","v":0},{"$f":"$C$51","v":2},{"$f":"$D$51","v":35},7440473,null,{"$f":"'Livestock PM10 2'!AF19","v":0},{"$f":"'Livestock PM10 2'!AG19","v":0}]
[{"$f":"'Cow Housing'!$C$6","v":"C-3333"},{"$f":"$B$51","v":0},{"$f":"$C$51","v":2},{"$f":"$D$51","v":35},7440508,null,{"$f":"'Livestock PM10 2'!AF20","v":0},{"$f":"'Livestock PM10 2'!AG20","v":0}]
[{"$f":"'Cow Housing'!$C$6","v":"C-3333"},{"$f":"$B$51","v":0},{"$f":"$C$51","v":2},{"$f":"$D$51","v":35},7440622,null,{"$f":"'Livestock PM10 2'!AF29","v":0},{"$f":"'Livestock PM10 2'!AG29","v":0}]
[{"$f":"'Cow Housing'!$C$6","v":"C-3333"},{"$f":"$B$51","v":0},{"$f":"$C$51","v":2},{"$f":"$D$51","v":35},7440666,null,{"$f":"'Livestock PM10 2'!AF30","v":0},{"$f":"'Livestock PM10 2'!AG30","v":0}]
[{"$f":"'Cow Housing'!$C$6","v":"C-3333"},{"$f":"$B$51","v":0},{"$f":"$C$51","v":2},{"$f":"$D$51","v":35},7664417,null,{"$f":"'Livestock PM10 2'!AF31","v":0},{"$f":"'Livestock PM10 2'!AG31","v":0}]
[{"$f":"'Cow Housing'!$C$6","v":"C-3333"},{"$f":"$B$51","v":0},{"$f":"$C$51","v":2},{"$f":"$D$51","v":35},7723140,null,{"$f":"'Livestock PM10 2'!AF26","v":0},{"$f":"'Livestock PM10 2'!AG26","v":0}]
[{"$f":"'Cow Housing'!$C$6","v":"C-3333"},{"$f":"$B$51","v":0},{"$f":"$C$51","v":2},{"$f":"$D$51","v":35},7726956,null,{"$f":"'Livestock PM10 2'!AF18","v":0},{"$f":"'Livestock PM10 2'!AG18","v":0}]
[{"$f":"'Cow Housing'!$C$6","v":"C-3333"},{"$f":"$B$51","v":0},{"$f":"$C$51","v":2},{"$f":"$D$51","v":35},7782492,null,{"$f":"'Livestock PM10 2'!AF27","v":0},{"$f":"'Livestock PM10 2'!AG27","v":0}]
[{"$f":"'Cow Housing'!$C$6","v":"C-3333"},{"$f":"$B$51","v":0},{"$f":"$C$51","v":2},{"$f":"$D$51","v":35},18540299,null,{"$f":"'Livestock PM10 2'!AF21","v":0},{"$f":"'Livestock PM10 2'!AG21","v":0}]
[{"$f":"'Cow Housing'!$C$6","v":"C-3333"},{"$f":"$B$52","v":0},{"$f":"$C$52","v":2},{"$f":"$D$52","v":36},9960,null,{"$f":"'Livestock PM10 2'!AH28","v":0},{"$f":"'Livestock PM10 2'!AI28","v":0}]
[{"$f":"'Cow Housing'!$C$6","v":"C-3333"},{"$f":"$B$52","v":0},{"$f":"$C$52","v":2},{"$f":"$D$52","v":36},50000,null,{"$f":"'Dairy Miscellaneous 2'!AH40","v":0},{"$f":"'Dairy Miscellaneous 2'!AI40","v":0}]
[{"$f":"'Cow Housing'!$C$6","v":"C-3333"},{"$f":"$B$52","v":0},{"$f":"$C$52","v":2},{"$f":"$D$52","v":36},56235,null,{"$f":"'Dairy Miscellaneous 2'!AH30","v":0},{"$f":"'Dairy Miscellaneous 2'!AI30","v":0}]
[{"$f":"'Cow Housing'!$C$6","v":"C-3333"},{"$f":"$B$52","v":0},{"$f":"$C$52","v":2},{"$f":"$D$52","v":36},67630,null,{"$f":"'Dairy Miscellaneous 2'!AH42","v":0},{"$f":"'Dairy Miscellaneous 2'!AI42","v":0}]
[{"$f":"'Cow Housing'!$C$6","v":"C-3333"},{"$f":"$B$52","v":0},{"$f":"$C$52","v":2},{"$f":"$D$52","v":36},67663,null,{"$f":"'Dairy Miscellaneous 2'!AH32","v":0},{"$f":"'Dairy Miscellaneous 2'!AI32","v":0}]
[{"$f":"'Cow Housing'!$C$6","v":"C-3333"},{"$f":"$B$52","v":0},{"$f":"$C$52","v":2},{"$f":"$D$52","v":36},71432,null,{"$f":"'Dairy Miscellaneous 2'!AH26","v":0},{"$f":"'Dairy Miscellaneous 2'!AI26","v":0}]
[{"$f":"'Cow Housing'!$C$6","v":"C-3333"},{"$f":"$B$52","v":0},{"$f":"$C$52","v":2},{"$f":"$D$52","v":36},74873,null,{"$f":"'Dairy Miscellaneous 2'!AH33","v":0},{"$f":"'Dairy Miscellaneous 2'!AI33","v":0}]
[{"$f":"'Cow Housing'!$C$6","v":"C-3333"},{"$f":"$B$52","v":0},{"$f":"$C$52","v":2},{"$f":"$D$52","v":36},75003,null,{"$f":"'Dairy Miscellaneous 2'!AH36","v":0},{"$f":"'Dairy Miscellaneous 2'!AI36","v":0}]
[{"$f":"'Cow Housing'!$C$6","v":"C-3333"},{"$f":"$B$52","v":0},{"$f":"$C$52","v":2},{"$f":"$D$52","v":36},75070,null,{"$f":"'Dairy Miscellaneous 2'!AH24","v":0},{"$f":"'Dairy Miscellaneous 2'!AI24","v":0}]
[{"$f":"'Cow Housing'!$C$6","v":"C-3333"},{"$f":"$B$52","v":0},{"$f":"$C$52","v":2},{"$f":"$D$52","v":36},75150,null,{"$f":"'Dairy Miscellaneous 2'!AH29","v":0},{"$f":"'Dairy Miscellaneous 2'!AI29","v":0}]
[{"$f":"'Cow Housing'!$C$6","v":"C-3333"},{"$f":"$B$52","v":0},{"$f":"$C$52","v":2},{"$f":"$D$52","v":36},75694,null,{"$f":"'Dairy Miscellaneous 2'!AH49","v":0},{"$f":"'Dairy Miscellaneous 2'!AI49","v":0}]
[{"$f":"'Cow Housing'!$C$6","v":"C-3333"},{"$f":"$B$52","v":0},{"$f":"$C$52","v":2},{"$f":"$D$52","v":36},78933,null,{"$f":"'Dairy Miscellaneous 2'!AH44","v":0},{"$f":"'Dairy Miscellaneous 2'!AI44","v":0}]
[{"$f":"'Cow Housing'!$C$6","v":"C-3333"},{"$f":"$B$52","v":0},{"$f":"$C$52","v":2},{"$f":"$D$52","v":36},79005,null,{"$f":"'Dairy Miscellaneous 2'!AH16","v":0},{"$f":"'Dairy Miscellaneous 2'!AI16","v":0}]
[{"$f":"'Cow Housing'!$C$6","v":"C-3333"},{"$f":"$B$52","v":0},{"$f":"$C$52","v":2},{"$f":"$D$52","v":36},79345,null,{"$f":"'Dairy Miscellaneous 2'!AH15","v":0},{"$f":"'Dairy Miscellaneous 2'!AI15","v":0}]
[{"$f":"'Cow Housing'!$C$6","v":"C-3333"},{"$f":"$B$52","v":0},{"$f":"$C$52","v":2},{"$f":"$D$52","v":36},95501,null,{"$f":"'Dairy Miscellaneous 2'!AH20","v":0},{"$f":"'Dairy Miscellaneous 2'!AI20","v":0}]
[{"$f":"'Cow Housing'!$C$6","v":"C-3333"},{"$f":"$B$52","v":0},{"$f":"$C$52","v":2},{"$f":"$D$52","v":36},96128,null,{"$f":"'Dairy Miscellaneous 2'!AH19","v":0},{"$f":"'Dairy Miscellaneous 2'!AI19","v":0}]
[{"$f":"'Cow Housing'!$C$6","v":"C-3333"},{"$f":"$B$52","v":0},{"$f":"$C$52","v":2},{"$f":"$D$52","v":36},96184,null,{"$f":"'Dairy Miscellaneous 2'!AH17","v":0},{"$f":"'Dairy Miscellaneous 2'!AI17","v":0}]
[{"$f":"'Cow Housing'!$C$6","v":"C-3333"},{"$f":"$B$52","v":0},{"$f":"$C$52","v":2},{"$f":"$D$52","v":36},98828,null,{"$f":"'Dairy Miscellaneous 2'!AH43","v":0},{"$f":"'Dairy Miscellaneous 2'!AI43","v":0}]
[{"$f":"'Cow Housing'!$C$6","v":"C-3333"},{"$f":"$B$52","v":0},{"$f":"$C$52","v":2},{"$f":"$D$52","v":36},100414,null,{"$f":"'Dairy Miscellaneous 2'!AH37","v":0},{"$f":"'Dairy Miscellaneous 2'!AI37","v":0}]
[{"$f":"'Cow Housing'!$C$6","v":"C-3333"},{"$f":"$B$52","v":0},{"$f":"$C$52","v":2},{"$f":"$D$52","v":36},100425,null,{"$f":"'Dairy Miscellaneous 2'!AH46","v":0},{"$f":"'Dairy Miscellaneous 2'!AI46","v":0}]
[{"$f":"'Cow Housing'!$C$6","v":"C-3333"},{"$f":"$B$52","v":0},{"$f":"$C$52","v":2},{"$f":"$D$52","v":36},100447,null,{"$f":"'Dairy Miscellaneous 2'!AH27","v":0},{"$f":"'Dairy Miscellaneous 2'!AI27","v":0}]
[{"$f":"'Cow Housing'!$C$6","v":"C-3333"},{"$f":"$B$52","v":0},{"$f":"$C$52","v":2},{"$f":"$D$52","v":36},106467,null,{"$f":"'Dairy Miscellaneous 2'!AH23","v":0},{"$f":"'Dairy Miscellaneous 2'!AI23","v":0}]
[{"$f":"'Cow Housing'!$C$6","v":"C-3333"},{"$f":"$B$52","v":0},{"$f":"$C$52","v":2},{"$f":"$D$52","v":36},106934,null,{"$f":"'Dairy Miscellaneous 2'!AH38","v":0},{"$f":"'Dairy Miscellaneous 2'!AI38","v":0}]
[{"$f":"'Cow Housing'!$C$6","v":"C-3333"},{"$f":"$B$52","v":0},{"$f":"$C$52","v":2},{"$f":"$D$52","v":36},107062,null,{"$f":"'Dairy Miscellaneous 2'!AH39","v":0},{"$f":"'Dairy Miscellaneous 2'!AI39","v":0}]
[{"$f":"'Cow Housing'!$C$6","v":"C-3333"},{"$f":"$B$52","v":0},{"$f":"$C$52","v":2},{"$f":"$D$52","v":36},107131,null,{"$f":"'Dairy Miscellaneous 2'!AH25","v":0},{"$f":"'Dairy Miscellaneous 2'!AI25","v":0}]
[{"$f":"'Cow Housing'!$C$6","v":"C-3333"},{"$f":"$B$52","v":0},{"$f":"$C$52","v":2},{"$f":"$D$52","v":36},108054,null,{"$f":"'Dairy Miscellaneous 2'!AH50","v":0},{"$f":"'Dairy Miscellaneous 2'!AI50","v":0}]
[{"$f":"'Cow Housing'!$C$6","v":"C-3333"},{"$f":"$B$52","v":0},{"$f":"$C$52","v":2},{"$f":"$D$52","v":36},108101,null,{"$f":"'Dairy Miscellaneous 2'!AH45","v":0},{"$f":"'Dairy Miscellaneous 2'!AI45","v":0}]
[{"$f":"'Cow Housing'!$C$6","v":"C-3333"},{"$f":"$B$52","v":0},{"$f":"$C$52","v":2},{"$f":"$D$52","v":36},108883,null,{"$f":"'Dairy Miscellaneous 2'!AH48","v":0},{"$f":"'Dairy Miscellaneous 2'!AI48","v":0}]
[{"$f":"'Cow Housing'!$C$6","v":"C-3333"},{"$f":"$B$52","v":0},{"$f":"$C$52","v":2},{"$f":"$D$52","v":36},108907,null,{"$f":"'Dairy Miscellaneous 2'!AH31","v":0},{"$f":"'Dairy Miscellaneous 2'!AI31","v":0}]
[{"$f":"'Cow Housing'!$C$6","v":"C-3333"},{"$f":"$B$52","v":0},{"$f":"$C$52","v":2},{"$f":"$D$52","v":36},110543,null,{"$f":"'Dairy Miscellaneous 2'!AH41","v":0},{"$f":"'Dairy Miscellaneous 2'!AI41","v":0}]
[{"$f":"'Cow Housing'!$C$6","v":"C-3333"},{"$f":"$B$52","v":0},{"$f":"$C$52","v":2},{"$f":"$D$52","v":36},110827,null,{"$f":"'Dairy Miscellaneous 2'!AH35","v":0},{"$f":"'Dairy Miscellaneous 2'!AI35","v":0}]
[{"$f":"'Cow Housing'!$C$6","v":"C-3333"},{"$f":"$B$52","v":0},{"$f":"$C$52","v":2},{"$f":"$D$52","v":36},120821,null,{"$f":"'Dairy Miscellaneous 2'!AH18","v":0},{"$f":"'Dairy Miscellaneous 2'!AI18","v":0}]
[{"$f":"'Cow Housing'!$C$6","v":"C-3333"},{"$f":"$B$52","v":0},{"$f":"$C$52","v":2},{"$f":"$D$52","v":36},123728,null,{"$f":"'Dairy Miscellaneous 2'!AH28","v":0},{"$f":"'Dairy Miscellaneous 2'!AI28","v":0}]
[{"$f":"'Cow Housing'!$C$6","v":"C-3333"},{"$f":"$B$52","v":0},{"$f":"$C$52","v":2},{"$f":"$D$52","v":36},123911,null,{"$f":"'Dairy Miscellaneous 2'!AH22","v":0},{"$f":"'Dairy Miscellaneous 2'!AI22","v":0}]
[{"$f":"'Cow Housing'!$C$6","v":"C-3333"},{"$f":"$B$52","v":0},{"$f":"$C$52","v":2},{"$f":"$D$52","v":36},541731,null,{"$f":"'Dairy Miscellaneous 2'!AH21","v":0},{"$f":"'Dairy Miscellaneous 2'!AI21","v":0}]
[{"$f":"'Cow Housing'!$C$6","v":"C-3333"},{"$f":"$B$52","v":0},{"$f":"$C$52","v":2},{"$f":"$D$52","v":36},764410,null,{"$f":"'Dairy Miscellaneous 2'!AH47","v":0},{"$f":"'Dairy Miscellaneous 2'!AI47","v":0}]
[{"$f":"'Cow Housing'!$C$6","v":"C-3333"},{"$f":"$B$52","v":0},{"$f":"$C$52","v":2},{"$f":"$D$52","v":36},1330207,null,{"$f":"'Dairy Miscellaneous 2'!AH51","v":0},{"$f":"'Dairy Miscellaneous 2'!AI51","v":0}]
[{"$f":"'Cow Housing'!$C$6","v":"C-3333"},{"$f":"$B$52","v":0},{"$f":"$C$52","v":2},{"$f":"$D$52","v":36},4170303,null,{"$f":"'Dairy Miscellaneous 2'!AH34","v":0},{"$f":"'Dairy Miscellaneous 2'!AI34","v":0}]
[{"$f":"'Cow Housing'!$C$6","v":"C-3333"},{"$f":"$B$52","v":0},{"$f":"$C$52","v":2},{"$f":"$D$52","v":36},7429905,null,{"$f":"'Livestock PM10 2'!AH14","v":0},{"$f":"'Livestock PM10 2'!AI14","v":0}]
[{"$f":"'Cow Housing'!$C$6","v":"C-3333"},{"$f":"$B$52","v":0},{"$f":"$C$52","v":2},{"$f":"$D$52","v":36},7439921,null,{"$f":"'Livestock PM10 2'!AH22","v":0},{"$f":"'Livestock PM10 2'!AI22","v":0}]
[{"$f":"'Cow Housing'!$C$6","v":"C-3333"},{"$f":"$B$52","v":0},{"$f":"$C$52","v":2},{"$f":"$D$52","v":36},7439965,null,{"$f":"'Livestock PM10 2'!AH23","v":0},{"$f":"'Livestock PM10 2'!AI23","v":0}]
[{"$f":"'Cow Housing'!$C$6","v":"C-3333"},{"$f":"$B$52","v":0},{"$f":"$C$52","v":2},{"$f":"$D$52","v":36},7439976,null,{"$f":"'Livestock PM10 2'!AH24","v":0},{"$f":"'Livestock PM10 2'!AI24","v":0}]
[{"$f":"'Cow Housing'!$C$6","v":"C-3333"},{"$f":"$B$52","v":0},{"$f":"$C$52","v":2},{"$f":"$D$52","v":36},7440020,null,{"$f":"'Livestock PM10 2'!AH25","v":0},{"$f":"'Livestock PM10 2'!AI25","v":0}]
[{"$f":"'Cow Housing'!$C$6","v":"C-3333"},{"$f":"$B$52","v":0},{"$f":"$C$52","v":2},{"$f":"$D$52","v":36},7440360,null,{"$f":"'Livestock PM10 2'!AH15","v":0},{"$f":"'Livestock PM10 2'!AI15","v":0}]
[{"$f":"'Cow Housing'!$C$6","v":"C-3333"},{"$f":"$B$52","v":0},{"$f":"$C$52","v":2},{"$f":"$D$52","v":36},7440382,null,{"$f":"'Livestock PM10 2'!AH16","v":0},{"$f":"'Livestock PM10 2'!AI16","v":0}]
[{"$f":"'Cow Housing'!$C$6","v":"C-3333"},{"$f":"$B$52","v":0},{"$f":"$C$52","v":2},{"$f":"$D$52","v":36},7440393,null,{"$f":"'Livestock PM10 2'!AH17","v":0},{"$f":"'Livestock PM10 2'!AI17","v":0}]
[{"$f":"'Cow Housing'!$C$6","v":"C-3333"},{"$f":"$B$52","v":0},{"$f":"$C$52","v":2},{"$f":"$D$52","v":36},7440473,null,{"$f":"'Livestock PM10 2'!AH19","v":0},{"$f":"'Livestock PM10 2'!AI19","v":0}]
[{"$f":"'Cow Housing'!$C$6","v":"C-3333"},{"$f":"$B$52","v":0},{"$f":"$C$52","v":2},{"$f":"$D$52","v":36},7440508,null,{"$f":"'Livestock PM10 2'!AH20","v":0},{"$f":"'Livestock PM10 2'!AI20","v":0}]
[{"$f":"'Cow Housing'!$C$6","v":"C-3333"},{"$f":"$B$52","v":0},{"$f":"$C$52","v":2},{"$f":"$D$52","v":36},7440622,null,{"$f":"'Livestock PM10 2'!AH29","v":0},{"$f":"'Livestock PM10 2'!AI29","v":0}]
[{"$f":"'Cow Housing'!$C$6","v":"C-3333"},{"$f":"$B$52","v":0},{"$f":"$C$52","v":2},{"$f":"$D$52","v":36},7440666,null,{"$f":"'Livestock PM10 2'!AH30","v":0},{"$f":"'Livestock PM10 2'!AI30","v":0}]
[{"$f":"'Cow Housing'!$C$6","v":"C-3333"},{"$f":"$B$52","v":0},{"$f":"$C$52","v":2},{"$f":"$D$52","v":36},7664417,null,{"$f":"'Livestock PM10 2'!AH31","v":0},{"$f":"'Livestock PM10 2'!AI31","v":0}]
[{"$f":"'Cow Housing'!$C$6","v":"C-3333"},{"$f":"$B$52","v":0},{"$f":"$C$52","v":2},{"$f":"$D$52","v":36},7723140,null,{"$f":"'Livestock PM10 2'!AH26","v":0},{"$f":"'Livestock PM10 2'!AI26","v":0}]
[{"$f":"'Cow Housing'!$C$6","v":"C-3333"},{"$f":"$B$52","v":0},{"$f":"$C$52","v":2},{"$f":"$D$52","v":36},7726956,null,{"$f":"'Livestock PM10 2'!AH18","v":0},{"$f":"'Livestock PM10 2'!AI18","v":0}]
[{"$f":"'Cow Housing'!$C$6","v":"C-3333"},{"$f":"$B$52","v":0},{"$f":"$C$52","v":2},{"$f":"$D$52","v":36},7782492,null,{"$f":"'Livestock PM10 2'!AH27","v":0},{"$f":"'Livestock PM10 2'!AI27","v":0}]
[{"$f":"'Cow Housing'!$C$6","v":"C-3333"},{"$f":"$B$52","v":0},{"$f":"$C$52","v":2},{"$f":"$D$52","v":36},18540299,null,{"$f":"'Livestock PM10 2'!AH21","v":0},{"$f":"'Livestock PM10 2'!AI21","v":0}]
[{"$f":"'Cow Housing'!$C$6","v":"C-3333"},{"$f":"$B$53","v":0},{"$f":"$C$53","v":2},{"$f":"$D$53","v":37},9960,null,{"$f":"'Livestock PM10 2'!AJ28","v":0},{"$f":"'Livestock PM10 2'!AK28","v":0}]
[{"$f":"'Cow Housing'!$C$6","v":"C-3333"},{"$f":"$B$53","v":0},{"$f":"$C$53","v":2},{"$f":"$D$53","v":37},50000,null,{"$f":"'Dairy Miscellaneous 2'!AJ40","v":0},{"$f":"'Dairy Miscellaneous 2'!AK40","v":0}]
[{"$f":"'Cow Housing'!$C$6","v":"C-3333"},{"$f":"$B$53","v":0},{"$f":"$C$53","v":2},{"$f":"$D$53","v":37},56235,null,{"$f":"'Dairy Miscellaneous 2'!AJ30","v":0},{"$f":"'Dairy Miscellaneous 2'!AK30","v":0}]
[{"$f":"'Cow Housing'!$C$6","v":"C-3333"},{"$f":"$B$53","v":0},{"$f":"$C$53","v":2},{"$f":"$D$53","v":37},67630,null,{"$f":"'Dairy Miscellaneous 2'!AJ42","v":0},{"$f":"'Dairy Miscellaneous 2'!AK42","v":0}]
[{"$f":"'Cow Housing'!$C$6","v":"C-3333"},{"$f":"$B$53","v":0},{"$f":"$C$53","v":2},{"$f":"$D$53","v":37},67663,null,{"$f":"'Dairy Miscellaneous 2'!AJ32","v":0},{"$f":"'Dairy Miscellaneous 2'!AK32","v":0}]
[{"$f":"'Cow Housing'!$C$6","v":"C-3333"},{"$f":"$B$53","v":0},{"$f":"$C$53","v":2},{"$f":"$D$53","v":37},71432,null,{"$f":"'Dairy Miscellaneous 2'!AJ26","v":0},{"$f":"'Dairy Miscellaneous 2'!AK26","v":0}]
[{"$f":"'Cow Housing'!$C$6","v":"C-3333"},{"$f":"$B$53","v":0},{"$f":"$C$53","v":2},{"$f":"$D$53","v":37},74873,null,{"$f":"'Dairy Miscellaneous 2'!AJ33","v":0},{"$f":"'Dairy Miscellaneous 2'!AK33","v":0}]
[{"$f":"'Cow Housing'!$C$6","v":"C-3333"},{"$f":"$B$53","v":0},{"$f":"$C$53","v":2},{"$f":"$D$53","v":37},75003,null,{"$f":"'Dairy Miscellaneous 2'!AJ36","v":0},{"$f":"'Dairy Miscellaneous 2'!AK36","v":0}]
[{"$f":"'Cow Housing'!$C$6","v":"C-3333"},{"$f":"$B$53","v":0},{"$f":"$C$53","v":2},{"$f":"$D$53","v":37},75070,null,{"$f":"'Dairy Miscellaneous 2'!AJ24","v":0},{"$f":"'Dairy Miscellaneous 2'!AK24","v":0}]
[{"$f":"'Cow Housing'!$C$6","v":"C-3333"},{"$f":"$B$53","v":0},{"$f":"$C$53","v":2},{"$f":"$D$53","v":37},75150,null,{"$f":"'Dairy Miscellaneous 2'!AJ29","v":0},{"$f":"'Dairy Miscellaneous 2'!AK29","v":0}]
[{"$f":"'Cow Housing'!$C$6","v":"C-3333"},{"$f":"$B$53","v":0},{"$f":"$C$53","v":2},{"$f":"$D$53","v":37},75694,null,{"$f":"'Dairy Miscellaneous 2'!AJ49","v":0},{"$f":"'Dairy Miscellaneous 2'!AK49","v":0}]
[{"$f":"'Cow Housing'!$C$6","v":"C-3333"},{"$f":"$B$53","v":0},{"$f":"$C$53","v":2},{"$f":"$D$53","v":37},78933,null,{"$f":"'Dairy Miscellaneous 2'!AJ44","v":0},{"$f":"'Dairy Miscellaneous 2'!AK44","v":0}]
[{"$f":"'Cow Housing'!$C$6","v":"C-3333"},{"$f":"$B$53","v":0},{"$f":"$C$53","v":2},{"$f":"$D$53","v":37},79005,null,{"$f":"'Dairy Miscellaneous 2'!AJ16","v":0},{"$f":"'Dairy Miscellaneous 2'!AK16","v":0}]
[{"$f":"'Cow Housing'!$C$6","v":"C-3333"},{"$f":"$B$53","v":0},{"$f":"$C$53","v":2},{"$f":"$D$53","v":37},79345,null,{"$f":"'Dairy Miscellaneous 2'!AJ15","v":0},{"$f":"'Dairy Miscellaneous 2'!AK15","v":0}]
[{"$f":"'Cow Housing'!$C$6","v":"C-3333"},{"$f":"$B$53","v":0},{"$f":"$C$53","v":2},{"$f":"$D$53","v":37},95501,null,{"$f":"'Dairy Miscellaneous 2'!AJ20","v":0},{"$f":"'Dairy Miscellaneous 2'!AK20","v":0}]
[{"$f":"'Cow Housing'!$C$6","v":"C-3333"},{"$f":"$B$53","v":0},{"$f":"$C$53","v":2},{"$f":"$D$53","v":37},96128,null,{"$f":"'Dairy Miscellaneous 2'!AJ19","v":0},{"$f":"'Dairy Miscellaneous 2'!AK19","v":0}]
[{"$f":"'Cow Housing'!$C$6","v":"C-3333"},{"$f":"$B$53","v":0},{"$f":"$C$53","v":2},{"$f":"$D$53","v":37},96184,null,{"$f":"'Dairy Miscellaneous 2'!AJ17","v":0},{"$f":"'Dairy Miscellaneous 2'!AK17","v":0}]
[{"$f":"'Cow Housing'!$C$6","v":"C-3333"},{"$f":"$B$53","v":0},{"$f":"$C$53","v":2},{"$f":"$D$53","v":37},98828,null,{"$f":"'Dairy Miscellaneous 2'!AJ43","v":0},{"$f":"'Dairy Miscellaneous 2'!AK43","v":0}]
[{"$f":"'Cow Housing'!$C$6","v":"C-3333"},{"$f":"$B$53","v":0},{"$f":"$C$53","v":2},{"$f":"$D$53","v":37},100414,null,{"$f":"'Dairy Miscellaneous 2'!AJ37","v":0},{"$f":"'Dairy Miscellaneous 2'!AK37","v":0}]
[{"$f":"'Cow Housing'!$C$6","v":"C-3333"},{"$f":"$B$53","v":0},{"$f":"$C$53","v":2},{"$f":"$D$53","v":37},100425,null,{"$f":"'Dairy Miscellaneous 2'!AJ46","v":0},{"$f":"'Dairy Miscellaneous 2'!AK46","v":0}]
[{"$f":"'Cow Housing'!$C$6","v":"C-3333"},{"$f":"$B$53","v":0},{"$f":"$C$53","v":2},{"$f":"$D$53","v":37},100447,null,{"$f":"'Dairy Miscellaneous 2'!AJ27","v":0},{"$f":"'Dairy Miscellaneous 2'!AK27","v":0}]
[{"$f":"'Cow Housing'!$C$6","v":"C-3333"},{"$f":"$B$53","v":0},{"$f":"$C$53","v":2},{"$f":"$D$53","v":37},106467,null,{"$f":"'Dairy Miscellaneous 2'!AJ23","v":0},{"$f":"'Dairy Miscellaneous 2'!AK23","v":0}]
[{"$f":"'Cow Housing'!$C$6","v":"C-3333"},{"$f":"$B$53","v":0},{"$f":"$C$53","v":2},{"$f":"$D$53","v":37},106934,null,{"$f":"'Dairy Miscellaneous 2'!AJ38","v":0},{"$f":"'Dairy Miscellaneous 2'!AK38","v":0}]
[{"$f":"'Cow Housing'!$C$6","v":"C-3333"},{"$f":"$B$53","v":0},{"$f":"$C$53","v":2},{"$f":"$D$53","v":37},107062,null,{"$f":"'Dairy Miscellaneous 2'!AJ39","v":0},{"$f":"'Dairy Miscellaneous 2'!AK39","v":0}]
[{"$f":"'Cow Housing'!$C$6","v":"C-3333"},{"$f":"$B$53","v":0},{"$f":"$C$53","v":2},{"$f":"$D$53","v":37},107131,null,{"$f":"'Dairy Miscellaneous 2'!AJ25","v":0},{"$f":"'Dairy Miscellaneous 2'!AK25","v":0}]
[{"$f":"'Cow Housing'!$C$6","v":"C-3333"},{"$f":"$B$53","v":0},{"$f":"$C$53","v":2},{"$f":"$D$53","v":37},108054,null,{"$f":"'Dairy Miscellaneous 2'!AJ50","v":0},{"$f":"'Dairy Miscellaneous 2'!AK50","v":0}]
[{"$f":"'Cow Housing'!$C$6","v":"C-3333"},{"$f":"$B$53","v":0},{"$f":"$C$53","v":2},{"$f":"$D$53","v":37},108101,null,{"$f":"'Dairy Miscellaneous 2'!AJ45","v":0},{"$f":"'Dairy Miscellaneous 2'!AK45","v":0}]
[{"$f":"'Cow Housing'!$C$6","v":"C-3333"},{"$f":"$B$53","v":0},{"$f":"$C$53","v":2},{"$f":"$D$53","v":37},108883,null,{"$f":"'Dairy Miscellaneous 2'!AJ48","v":0},{"$f":"'Dairy Miscellaneous 2'!AK48","v":0}]
[{"$f":"'Cow Housing'!$C$6","v":"C-3333"},{"$f":"$B$53","v":0},{"$f":"$C$53","v":2},{"$f":"$D$53","v":37},108907,null,{"$f":"'Dairy Miscellaneous 2'!AJ31","v":0},{"$f":"'Dairy Miscellaneous 2'!AK31","v":0}]
[{"$f":"'Cow Housing'!$C$6","v":"C-3333"},{"$f":"$B$53","v":0},{"$f":"$C$53","v":2},{"$f":"$D$53","v":37},110543,null,{"$f":"'Dairy Miscellaneous 2'!AJ41","v":0},{"$f":"'Dairy Miscellaneous 2'!AK41","v":0}]
[{"$f":"'Cow Housing'!$C$6","v":"C-3333"},{"$f":"$B$53","v":0},{"$f":"$C$53","v":2},{"$f":"$D$53","v":37},110827,null,{"$f":"'Dairy Miscellaneous 2'!AJ35","v":0},{"$f":"'Dairy Miscellaneous 2'!AK35","v":0}]
[{"$f":"'Cow Housing'!$C$6","v":"C-3333"},{"$f":"$B$53","v":0},{"$f":"$C$53","v":2},{"$f":"$D$53","v":37},120821,null,{"$f":"'Dairy Miscellaneous 2'!AJ18","v":0},{"$f":"'Dairy Miscellaneous 2'!AK18","v":0}]
[{"$f":"'Cow Housing'!$C$6","v":"C-3333"},{"$f":"$B$53","v":0},{"$f":"$C$53","v":2},{"$f":"$D$53","v":37},123728,null,{"$f":"'Dairy Miscellaneous 2'!AJ28","v":0},{"$f":"'Dairy Miscellaneous 2'!AK28","v":0}]
[{"$f":"'Cow Housing'!$C$6","v":"C-3333"},{"$f":"$B$53","v":0},{"$f":"$C$53","v":2},{"$f":"$D$53","v":37},123911,null,{"$f":"'Dairy Miscellaneous 2'!AJ22","v":0},{"$f":"'Dairy Miscellaneous 2'!AK22","v":0}]
[{"$f":"'Cow Housing'!$C$6","v":"C-3333"},{"$f":"$B$53","v":0},{"$f":"$C$53","v":2},{"$f":"$D$53","v":37},541731,null,{"$f":"'Dairy Miscellaneous 2'!AJ21","v":0},{"$f":"'Dairy Miscellaneous 2'!AK21","v":0}]
[{"$f":"'Cow Housing'!$C$6","v":"C-3333"},{"$f":"$B$53","v":0},{"$f":"$C$53","v":2},{"$f":"$D$53","v":37},764410,null,{"$f":"'Dairy Miscellaneous 2'!AJ47","v":0},{"$f":"'Dairy Miscellaneous 2'!AK47","v":0}]
[{"$f":"'Cow Housing'!$C$6","v":"C-3333"},{"$f":"$B$53","v":0},{"$f":"$C$53","v":2},{"$f":"$D$53","v":37},1330207,null,{"$f":"'Dairy Miscellaneous 2'!AJ51","v":0},{"$f":"'Dairy Miscellaneous 2'!AK51","v":0}]
[{"$f":"'Cow Housing'!$C$6","v":"C-3333"},{"$f":"$B$53","v":0},{"$f":"$C$53","v":2},{"$f":"$D$53","v":37},4170303,null,{"$f":"'Dairy Miscellaneous 2'!AJ34","v":0},{"$f":"'Dairy Miscellaneous 2'!AK34","v":0}]
[{"$f":"'Cow Housing'!$C$6","v":"C-3333"},{"$f":"$B$53","v":0},{"$f":"$C$53","v":2},{"$f":"$D$53","v":37},7429905,null,{"$f":"'Livestock PM10 2'!AJ14","v":0},{"$f":"'Livestock PM10 2'!AK14","v":0}]
[{"$f":"'Cow Housing'!$C$6","v":"C-3333"},{"$f":"$B$53","v":0},{"$f":"$C$53","v":2},{"$f":"$D$53","v":37},7439921,null,{"$f":"'Livestock PM10 2'!AJ22","v":0},{"$f":"'Livestock PM10 2'!AK22","v":0}]
[{"$f":"'Cow Housing'!$C$6","v":"C-3333"},{"$f":"$B$53","v":0},{"$f":"$C$53","v":2},{"$f":"$D$53","v":37},7439965,null,{"$f":"'Livestock PM10 2'!AJ23","v":0},{"$f":"'Livestock PM10 2'!AK23","v":0}]
[{"$f":"'Cow Housing'!$C$6","v":"C-3333"},{"$f":"$B$53","v":0},{"$f":"$C$53","v":2},{"$f":"$D$53","v":37},7439976,null,{"$f":"'Livestock PM10 2'!AJ24","v":0},{"$f":"'Livestock PM10 2'!AK24","v":0}]
[{"$f":"'Cow Housing'!$C$6","v":"C-3333"},{"$f":"$B$53","v":0},{"$f":"$C$53","v":2},{"$f":"$D$53","v":37},7440020,null,{"$f":"'Livestock PM10 2'!AJ25","v":0},{"$f":"'Livestock PM10 2'!AK25","v":0}]
[{"$f":"'Cow Housing'!$C$6","v":"C-3333"},{"$f":"$B$53","v":0},{"$f":"$C$53","v":2},{"$f":"$D$53","v":37},7440360,null,{"$f":"'Livestock PM10 2'!AJ15","v":0},{"$f":"'Livestock PM10 2'!AK15","v":0}]
[{"$f":"'Cow Housing'!$C$6","v":"C-3333"},{"$f":"$B$53","v":0},{"$f":"$C$53","v":2},{"$f":"$D$53","v":37},7440382,null,{"$f":"'Livestock PM10 2'!AJ16","v":0},{"$f":"'Livestock PM10 2'!AK16","v":0}]
[{"$f":"'Cow Housing'!$C$6","v":"C-3333"},{"$f":"$B$53","v":0},{"$f":"$C$53","v":2},{"$f":"$D$53","v":37},7440393,null,{"$f":"'Livestock PM10 2'!AJ17","v":0},{"$f":"'Livestock PM10 2'!AK17","v":0}]
[{"$f":"'Cow Housing'!$C$6","v":"C-3333"},{"$f":"$B$53","v":0},{"$f":"$C$53","v":2},{"$f":"$D$53","v":37},7440473,null,{"$f":"'Livestock PM10 2'!AJ19","v":0},{"$f":"'Livestock PM10 2'!AK19","v":0}]
[{"$f":"'Cow Housing'!$C$6","v":"C-3333"},{"$f":"$B$53","v":0},{"$f":"$C$53","v":2},{"$f":"$D$53","v":37},7440508,null,{"$f":"'Livestock PM10 2'!AJ20","v":0},{"$f":"'Livestock PM10 2'!AK20","v":0}]
[{"$f":"'Cow Housing'!$C$6","v":"C-3333"},{"$f":"$B$53","v":0},{"$f":"$C$53","v":2},{"$f":"$D$53","v":37},7440622,null,{"$f":"'Livestock PM10 2'!AJ29","v":0},{"$f":"'Livestock PM10 2'!AK29","v":0}]
[{"$f":"'Cow Housing'!$C$6","v":"C-3333"},{"$f":"$B$53","v":0},{"$f":"$C$53","v":2},{"$f":"$D$53","v":37},7440666,null,{"$f":"'Livestock PM10 2'!AJ30","v":0},{"$f":"'Livestock PM10 2'!AK30","v":0}]
[{"$f":"'Cow Housing'!$C$6","v":"C-3333"},{"$f":"$B$53","v":0},{"$f":"$C$53","v":2},{"$f":"$D$53","v":37},7664417,null,{"$f":"'Livestock PM10 2'!AJ31","v":0},{"$f":"'Livestock PM10 2'!AK31","v":0}]
[{"$f":"'Cow Housing'!$C$6","v":"C-3333"},{"$f":"$B$53","v":0},{"$f":"$C$53","v":2},{"$f":"$D$53","v":37},7723140,null,{"$f":"'Livestock PM10 2'!AJ26","v":0},{"$f":"'Livestock PM10 2'!AK26","v":0}]
[{"$f":"'Cow Housing'!$C$6","v":"C-3333"},{"$f":"$B$53","v":0},{"$f":"$C$53","v":2},{"$f":"$D$53","v":37},7726956,null,{"$f":"'Livestock PM10 2'!AJ18","v":0},{"$f":"'Livestock PM10 2'!AK18","v":0}]
[{"$f":"'Cow Housing'!$C$6","v":"C-3333"},{"$f":"$B$53","v":0},{"$f":"$C$53","v":2},{"$f":"$D$53","v":37},7782492,null,{"$f":"'Livestock PM10 2'!AJ27","v":0},{"$f":"'Livestock PM10 2'!AK27","v":0}]
[{"$f":"'Cow Housing'!$C$6","v":"C-3333"},{"$f":"$B$53","v":0},{"$f":"$C$53","v":2},{"$f":"$D$53","v":37},18540299,null,{"$f":"'Livestock PM10 2'!AJ21","v":0},{"$f":"'Livestock PM10 2'!AK21","v":0}]
[{"$f":"'Cow Housing'!$C$6","v":"C-3333"},{"$f":"$B$54","v":0},{"$f":"$C$54","v":2},{"$f":"$D$54","v":38},9960,null,{"$f":"'Livestock PM10 2'!AL28","v":0},{"$f":"'Livestock PM10 2'!AM28","v":0}]
[{"$f":"'Cow Housing'!$C$6","v":"C-3333"},{"$f":"$B$54","v":0},{"$f":"$C$54","v":2},{"$f":"$D$54","v":38},50000,null,{"$f":"'Dairy Miscellaneous 2'!AL40","v":0},{"$f":"'Dairy Miscellaneous 2'!AM40","v":0}]
[{"$f":"'Cow Housing'!$C$6","v":"C-3333"},{"$f":"$B$54","v":0},{"$f":"$C$54","v":2},{"$f":"$D$54","v":38},56235,null,{"$f":"'Dairy Miscellaneous 2'!AL30","v":0},{"$f":"'Dairy Miscellaneous 2'!AM30","v":0}]
[{"$f":"'Cow Housing'!$C$6","v":"C-3333"},{"$f":"$B$54","v":0},{"$f":"$C$54","v":2},{"$f":"$D$54","v":38},67630,null,{"$f":"'Dairy Miscellaneous 2'!AL42","v":0},{"$f":"'Dairy Miscellaneous 2'!AM42","v":0}]
[{"$f":"'Cow Housing'!$C$6","v":"C-3333"},{"$f":"$B$54","v":0},{"$f":"$C$54","v":2},{"$f":"$D$54","v":38},67663,null,{"$f":"'Dairy Miscellaneous 2'!AL32","v":0},{"$f":"'Dairy Miscellaneous 2'!AM32","v":0}]
[{"$f":"'Cow Housing'!$C$6","v":"C-3333"},{"$f":"$B$54","v":0},{"$f":"$C$54","v":2},{"$f":"$D$54","v":38},71432,null,{"$f":"'Dairy Miscellaneous 2'!AL26","v":0},{"$f":"'Dairy Miscellaneous 2'!AM26","v":0}]
[{"$f":"'Cow Housing'!$C$6","v":"C-3333"},{"$f":"$B$54","v":0},{"$f":"$C$54","v":2},{"$f":"$D$54","v":38},74873,null,{"$f":"'Dairy Miscellaneous 2'!AL33","v":0},{"$f":"'Dairy Miscellaneous 2'!AM33","v":0}]
[{"$f":"'Cow Housing'!$C$6","v":"C-3333"},{"$f":"$B$54","v":0},{"$f":"$C$54","v":2},{"$f":"$D$54","v":38},75003,null,{"$f":"'Dairy Miscellaneous 2'!AL36","v":0},{"$f":"'Dairy Miscellaneous 2'!AM36","v":0}]
[{"$f":"'Cow Housing'!$C$6","v":"C-3333"},{"$f":"$B$54","v":0},{"$f":"$C$54","v":2},{"$f":"$D$54","v":38},75070,null,{"$f":"'Dairy Miscellaneous 2'!AL24","v":0},{"$f":"'Dairy Miscellaneous 2'!AM24","v":0}]
[{"$f":"'Cow Housing'!$C$6","v":"C-3333"},{"$f":"$B$54","v":0},{"$f":"$C$54","v":2},{"$f":"$D$54","v":38},75150,null,{"$f":"'Dairy Miscellaneous 2'!AL29","v":0},{"$f":"'Dairy Miscellaneous 2'!AM29","v":0}]
[{"$f":"'Cow Housing'!$C$6","v":"C-3333"},{"$f":"$B$54","v":0},{"$f":"$C$54","v":2},{"$f":"$D$54","v":38},75694,null,{"$f":"'Dairy Miscellaneous 2'!AL49","v":0},{"$f":"'Dairy Miscellaneous 2'!AM49","v":0}]
[{"$f":"'Cow Housing'!$C$6","v":"C-3333"},{"$f":"$B$54","v":0},{"$f":"$C$54","v":2},{"$f":"$D$54","v":38},78933,null,{"$f":"'Dairy Miscellaneous 2'!AL44","v":0},{"$f":"'Dairy Miscellaneous 2'!AM44","v":0}]
[{"$f":"'Cow Housing'!$C$6","v":"C-3333"},{"$f":"$B$54","v":0},{"$f":"$C$54","v":2},{"$f":"$D$54","v":38},79005,null,{"$f":"'Dairy Miscellaneous 2'!AL16","v":0},{"$f":"'Dairy Miscellaneous 2'!AM16","v":0}]
[{"$f":"'Cow Housing'!$C$6","v":"C-3333"},{"$f":"$B$54","v":0},{"$f":"$C$54","v":2},{"$f":"$D$54","v":38},79345,null,{"$f":"'Dairy Miscellaneous 2'!AL15","v":0},{"$f":"'Dairy Miscellaneous 2'!AM15","v":0}]
[{"$f":"'Cow Housing'!$C$6","v":"C-3333"},{"$f":"$B$54","v":0},{"$f":"$C$54","v":2},{"$f":"$D$54","v":38},95501,null,{"$f":"'Dairy Miscellaneous 2'!AL20","v":0},{"$f":"'Dairy Miscellaneous 2'!AM20","v":0}]
[{"$f":"'Cow Housing'!$C$6","v":"C-3333"},{"$f":"$B$54","v":0},{"$f":"$C$54","v":2},{"$f":"$D$54","v":38},96128,null,{"$f":"'Dairy Miscellaneous 2'!AL19","v":0},{"$f":"'Dairy Miscellaneous 2'!AM19","v":0}]
[{"$f":"'Cow Housing'!$C$6","v":"C-3333"},{"$f":"$B$54","v":0},{"$f":"$C$54","v":2},{"$f":"$D$54","v":38},96184,null,{"$f":"'Dairy Miscellaneous 2'!AL17","v":0},{"$f":"'Dairy Miscellaneous 2'!AM17","v":0}]
[{"$f":"'Cow Housing'!$C$6","v":"C-3333"},{"$f":"$B$54","v":0},{"$f":"$C$54","v":2},{"$f":"$D$54","v":38},98828,null,{"$f":"'Dairy Miscellaneous 2'!AL43","v":0},{"$f":"'Dairy Miscellaneous 2'!AM43","v":0}]
[{"$f":"'Cow Housing'!$C$6","v":"C-3333"},{"$f":"$B$54","v":0},{"$f":"$C$54","v":2},{"$f":"$D$54","v":38},100414,null,{"$f":"'Dairy Miscellaneous 2'!AL37","v":0},{"$f":"'Dairy Miscellaneous 2'!AM37","v":0}]
[{"$f":"'Cow Housing'!$C$6","v":"C-3333"},{"$f":"$B$54","v":0},{"$f":"$C$54","v":2},{"$f":"$D$54","v":38},100425,null,{"$f":"'Dairy Miscellaneous 2'!AL46","v":0},{"$f":"'Dairy Miscellaneous 2'!AM46","v":0}]
[{"$f":"'Cow Housing'!$C$6","v":"C-3333"},{"$f":"$B$54","v":0},{"$f":"$C$54","v":2},{"$f":"$D$54","v":38},100447,null,{"$f":"'Dairy Miscellaneous 2'!AL27","v":0},{"$f":"'Dairy Miscellaneous 2'!AM27","v":0}]
[{"$f":"'Cow Housing'!$C$6","v":"C-3333"},{"$f":"$B$54","v":0},{"$f":"$C$54","v":2},{"$f":"$D$54","v":38},106467,null,{"$f":"'Dairy Miscellaneous 2'!AL23","v":0},{"$f":"'Dairy Miscellaneous 2'!AM23","v":0}]
[{"$f":"'Cow Housing'!$C$6","v":"C-3333"},{"$f":"$B$54","v":0},{"$f":"$C$54","v":2},{"$f":"$D$54","v":38},106934,null,{"$f":"'Dairy Miscellaneous 2'!AL38","v":0},{"$f":"'Dairy Miscellaneous 2'!AM38","v":0}]
[{"$f":"'Cow Housing'!$C$6","v":"C-3333"},{"$f":"$B$54","v":0},{"$f":"$C$54","v":2},{"$f":"$D$54","v":38},107062,null,{"$f":"'Dairy Miscellaneous 2'!AL39","v":0},{"$f":"'Dairy Miscellaneous 2'!AM39","v":0}]
[{"$f":"'Cow Housing'!$C$6","v":"C-3333"},{"$f":"$B$54","v":0},{"$f":"$C$54","v":2},{"$f":"$D$54","v":38},107131,null,{"$f":"'Dairy Miscellaneous 2'!AL25","v":0},{"$f":"'Dairy Miscellaneous 2'!AM25","v":0}]
[{"$f":"'Cow Housing'!$C$6","v":"C-3333"},{"$f":"$B$54","v":0},{"$f":"$C$54","v":2},{"$f":"$D$54","v":38},108054,null,{"$f":"'Dairy Miscellaneous 2'!AL50","v":0},{"$f":"'Dairy Miscellaneous 2'!AM50","v":0}]
[{"$f":"'Cow Housing'!$C$6","v":"C-3333"},{"$f":"$B$54","v":0},{"$f":"$C$54","v":2},{"$f":"$D$54","v":38},108101,null,{"$f":"'Dairy Miscellaneous 2'!AL45","v":0},{"$f":"'Dairy Miscellaneous 2'!AM45","v":0}]
[{"$f":"'Cow Housing'!$C$6","v":"C-3333"},{"$f":"$B$54","v":0},{"$f":"$C$54","v":2},{"$f":"$D$54","v":38},108883,null,{"$f":"'Dairy Miscellaneous 2'!AL48","v":0},{"$f":"'Dairy Miscellaneous 2'!AM48","v":0}]
[{"$f":"'Cow Housing'!$C$6","v":"C-3333"},{"$f":"$B$54","v":0},{"$f":"$C$54","v":2},{"$f":"$D$54","v":38},108907,null,{"$f":"'Dairy Miscellaneous 2'!AL31","v":0},{"$f":"'Dairy Miscellaneous 2'!AM31","v":0}]
[{"$f":"'Cow Housing'!$C$6","v":"C-3333"},{"$f":"$B$54","v":0},{"$f":"$C$54","v":2},{"$f":"$D$54","v":38},110543,null,{"$f":"'Dairy Miscellaneous 2'!AL41","v":0},{"$f":"'Dairy Miscellaneous 2'!AM41","v":0}]
[{"$f":"'Cow Housing'!$C$6","v":"C-3333"},{"$f":"$B$54","v":0},{"$f":"$C$54","v":2},{"$f":"$D$54","v":38},110827,null,{"$f":"'Dairy Miscellaneous 2'!AL35","v":0},{"$f":"'Dairy Miscellaneous 2'!AM35","v":0}]
[{"$f":"'Cow Housing'!$C$6","v":"C-3333"},{"$f":"$B$54","v":0},{"$f":"$C$54","v":2},{"$f":"$D$54","v":38},120821,null,{"$f":"'Dairy Miscellaneous 2'!AL18","v":0},{"$f":"'Dairy Miscellaneous 2'!AM18","v":0}]
[{"$f":"'Cow Housing'!$C$6","v":"C-3333"},{"$f":"$B$54","v":0},{"$f":"$C$54","v":2},{"$f":"$D$54","v":38},123728,null,{"$f":"'Dairy Miscellaneous 2'!AL28","v":0},{"$f":"'Dairy Miscellaneous 2'!AM28","v":0}]
[{"$f":"'Cow Housing'!$C$6","v":"C-3333"},{"$f":"$B$54","v":0},{"$f":"$C$54","v":2},{"$f":"$D$54","v":38},123911,null,{"$f":"'Dairy Miscellaneous 2'!AL22","v":0},{"$f":"'Dairy Miscellaneous 2'!AM22","v":0}]
[{"$f":"'Cow Housing'!$C$6","v":"C-3333"},{"$f":"$B$54","v":0},{"$f":"$C$54","v":2},{"$f":"$D$54","v":38},541731,null,{"$f":"'Dairy Miscellaneous 2'!AL21","v":0},{"$f":"'Dairy Miscellaneous 2'!AM21","v":0}]
[{"$f":"'Cow Housing'!$C$6","v":"C-3333"},{"$f":"$B$54","v":0},{"$f":"$C$54","v":2},{"$f":"$D$54","v":38},764410,null,{"$f":"'Dairy Miscellaneous 2'!AL47","v":0},{"$f":"'Dairy Miscellaneous 2'!AM47","v":0}]
[{"$f":"'Cow Housing'!$C$6","v":"C-3333"},{"$f":"$B$54","v":0},{"$f":"$C$54","v":2},{"$f":"$D$54","v":38},1330207,null,{"$f":"'Dairy Miscellaneous 2'!AL51","v":0},{"$f":"'Dairy Miscellaneous 2'!AM51","v":0}]
[{"$f":"'Cow Housing'!$C$6","v":"C-3333"},{"$f":"$B$54","v":0},{"$f":"$C$54","v":2},{"$f":"$D$54","v":38},4170303,null,{"$f":"'Dairy Miscellaneous 2'!AL34","v":0},{"$f":"'Dairy Miscellaneous 2'!AM34","v":0}]
[{"$f":"'Cow Housing'!$C$6","v":"C-3333"},{"$f":"$B$54","v":0},{"$f":"$C$54","v":2},{"$f":"$D$54","v":38},7429905,null,{"$f":"'Livestock PM10 2'!AL14","v":0},{"$f":"'Livestock PM10 2'!AM14","v":0}]
[{"$f":"'Cow Housing'!$C$6","v":"C-3333"},{"$f":"$B$54","v":0},{"$f":"$C$54","v":2},{"$f":"$D$54","v":38},7439921,null,{"$f":"'Livestock PM10 2'!AL22","v":0},{"$f":"'Livestock PM10 2'!AM22","v":0}]
[{"$f":"'Cow Housing'!$C$6","v":"C-3333"},{"$f":"$B$54","v":0},{"$f":"$C$54","v":2},{"$f":"$D$54","v":38},7439965,null,{"$f":"'Livestock PM10 2'!AL23","v":0},{"$f":"'Livestock PM10 2'!AM23","v":0}]
[{"$f":"'Cow Housing'!$C$6","v":"C-3333"},{"$f":"$B$54","v":0},{"$f":"$C$54","v":2},{"$f":"$D$54","v":38},7439976,null,{"$f":"'Livestock PM10 2'!AL24","v":0},{"$f":"'Livestock PM10 2'!AM24","v":0}]
[{"$f":"'Cow Housing'!$C$6","v":"C-3333"},{"$f":"$B$54","v":0},{"$f":"$C$54","v":2},{"$f":"$D$54","v":38},7440020,null,{"$f":"'Livestock PM10 2'!AL25","v":0},{"$f":"'Livestock PM10 2'!AM25","v":0}]
[{"$f":"'Cow Housing'!$C$6","v":"C-3333"},{"$f":"$B$54","v":0},{"$f":"$C$54","v":2},{"$f":"$D$54","v":38},7440360,null,{"$f":"'Livestock PM10 2'!AL15","v":0},{"$f":"'Livestock PM10 2'!AM15","v":0}]
[{"$f":"'Cow Housing'!$C$6","v":"C-3333"},{"$f":"$B$54","v":0},{"$f":"$C$54","v":2},{"$f":"$D$54","v":38},7440382,null,{"$f":"'Livestock PM10 2'!AL16","v":0},{"$f":"'Livestock PM10 2'!AM16","v":0}]
[{"$f":"'Cow Housing'!$C$6","v":"C-3333"},{"$f":"$B$54","v":0},{"$f":"$C$54","v":2},{"$f":"$D$54","v":38},7440393,null,{"$f":"'Livestock PM10 2'!AL17","v":0},{"$f":"'Livestock PM10 2'!AM17","v":0}]
[{"$f":"'Cow Housing'!$C$6","v":"C-3333"},{"$f":"$B$54","v":0},{"$f":"$C$54","v":2},{"$f":"$D$54","v":38},7440473,null,{"$f":"'Livestock PM10 2'!AL19","v":0},{"$f":"'Livestock PM10 2'!AM19","v":0}]
[{"$f":"'Cow Housing'!$C$6","v":"C-3333"},{"$f":"$B$54","v":0},{"$f":"$C$54","v":2},{"$f":"$D$54","v":38},7440508,null,{"$f":"'Livestock PM10 2'!AL20","v":0},{"$f":"'Livestock PM10 2'!AM20","v":0}]
[{"$f":"'Cow Housing'!$C$6","v":"C-3333"},{"$f":"$B$54","v":0},{"$f":"$C$54","v":2},{"$f":"$D$54","v":38},7440622,null,{"$f":"'Livestock PM10 2'!AL29","v":0},{"$f":"'Livestock PM10 2'!AM29","v":0}]
[{"$f":"'Cow Housing'!$C$6","v":"C-3333"},{"$f":"$B$54","v":0},{"$f":"$C$54","v":2},{"$f":"$D$54","v":38},7440666,null,{"$f":"'Livestock PM10 2'!AL30","v":0},{"$f":"'Livestock PM10 2'!AM30","v":0}]
[{"$f":"'Cow Housing'!$C$6","v":"C-3333"},{"$f":"$B$54","v":0},{"$f":"$C$54","v":2},{"$f":"$D$54","v":38},7664417,null,{"$f":"'Livestock PM10 2'!AL31","v":0},{"$f":"'Livestock PM10 2'!AM31","v":0}]
[{"$f":"'Cow Housing'!$C$6","v":"C-3333"},{"$f":"$B$54","v":0},{"$f":"$C$54","v":2},{"$f":"$D$54","v":38},7723140,null,{"$f":"'Livestock PM10 2'!AL26","v":0},{"$f":"'Livestock PM10 2'!AM26","v":0}]
[{"$f":"'Cow Housing'!$C$6","v":"C-3333"},{"$f":"$B$54","v":0},{"$f":"$C$54","v":2},{"$f":"$D$54","v":38},7726956,null,{"$f":"'Livestock PM10 2'!AL18","v":0},{"$f":"'Livestock PM10 2'!AM18","v":0}]
[{"$f":"'Cow Housing'!$C$6","v":"C-3333"},{"$f":"$B$54","v":0},{"$f":"$C$54","v":2},{"$f":"$D$54","v":38},7782492,null,{"$f":"'Livestock PM10 2'!AL27","v":0},{"$f":"'Livestock PM10 2'!AM27","v":0}]
[{"$f":"'Cow Housing'!$C$6","v":"C-3333"},{"$f":"$B$54","v":0},{"$f":"$C$54","v":2},{"$f":"$D$54","v":38},18540299,null,{"$f":"'Livestock PM10 2'!AL21","v":0},{"$f":"'Livestock PM10 2'!AM21","v":0}]
[{"$f":"'Cow Housing'!$C$6","v":"C-3333"},{"$f":"$B$55","v":0},{"$f":"$C$55","v":2},{"$f":"$D$55","v":39},9960,null,{"$f":"'Livestock PM10 2'!AN28","v":0},{"$f":"'Livestock PM10 2'!AO28","v":0}]
[{"$f":"'Cow Housing'!$C$6","v":"C-3333"},{"$f":"$B$55","v":0},{"$f":"$C$55","v":2},{"$f":"$D$55","v":39},50000,null,{"$f":"'Dairy Miscellaneous 2'!AN40","v":0},{"$f":"'Dairy Miscellaneous 2'!AO40","v":0}]
[{"$f":"'Cow Housing'!$C$6","v":"C-3333"},{"$f":"$B$55","v":0},{"$f":"$C$55","v":2},{"$f":"$D$55","v":39},56235,null,{"$f":"'Dairy Miscellaneous 2'!AN30","v":0},{"$f":"'Dairy Miscellaneous 2'!AO30","v":0}]
[{"$f":"'Cow Housing'!$C$6","v":"C-3333"},{"$f":"$B$55","v":0},{"$f":"$C$55","v":2},{"$f":"$D$55","v":39},67630,null,{"$f":"'Dairy Miscellaneous 2'!AN42","v":0},{"$f":"'Dairy Miscellaneous 2'!AO42","v":0}]
[{"$f":"'Cow Housing'!$C$6","v":"C-3333"},{"$f":"$B$55","v":0},{"$f":"$C$55","v":2},{"$f":"$D$55","v":39},67663,null,{"$f":"'Dairy Miscellaneous 2'!AN32","v":0},{"$f":"'Dairy Miscellaneous 2'!AO32","v":0}]
[{"$f":"'Cow Housing'!$C$6","v":"C-3333"},{"$f":"$B$55","v":0},{"$f":"$C$55","v":2},{"$f":"$D$55","v":39},71432,null,{"$f":"'Dairy Miscellaneous 2'!AN26","v":0},{"$f":"'Dairy Miscellaneous 2'!AO26","v":0}]
[{"$f":"'Cow Housing'!$C$6","v":"C-3333"},{"$f":"$B$55","v":0},{"$f":"$C$55","v":2},{"$f":"$D$55","v":39},74873,null,{"$f":"'Dairy Miscellaneous 2'!AN33","v":0},{"$f":"'Dairy Miscellaneous 2'!AO33","v":0}]
[{"$f":"'Cow Housing'!$C$6","v":"C-3333"},{"$f":"$B$55","v":0},{"$f":"$C$55","v":2},{"$f":"$D$55","v":39},75003,null,{"$f":"'Dairy Miscellaneous 2'!AN36","v":0},{"$f":"'Dairy Miscellaneous 2'!AO36","v":0}]
[{"$f":"'Cow Housing'!$C$6","v":"C-3333"},{"$f":"$B$55","v":0},{"$f":"$C$55","v":2},{"$f":"$D$55","v":39},75070,null,{"$f":"'Dairy Miscellaneous 2'!AN24","v":0},{"$f":"'Dairy Miscellaneous 2'!AO24","v":0}]
[{"$f":"'Cow Housing'!$C$6","v":"C-3333"},{"$f":"$B$55","v":0},{"$f":"$C$55","v":2},{"$f":"$D$55","v":39},75150,null,{"$f":"'Dairy Miscellaneous 2'!AN29","v":0},{"$f":"'Dairy Miscellaneous 2'!AO29","v":0}]
[{"$f":"'Cow Housing'!$C$6","v":"C-3333"},{"$f":"$B$55","v":0},{"$f":"$C$55","v":2},{"$f":"$D$55","v":39},75694,null,{"$f":"'Dairy Miscellaneous 2'!AN49","v":0},{"$f":"'Dairy Miscellaneous 2'!AO49","v":0}]
[{"$f":"'Cow Housing'!$C$6","v":"C-3333"},{"$f":"$B$55","v":0},{"$f":"$C$55","v":2},{"$f":"$D$55","v":39},78933,null,{"$f":"'Dairy Miscellaneous 2'!AN44","v":0},{"$f":"'Dairy Miscellaneous 2'!AO44","v":0}]
[{"$f":"'Cow Housing'!$C$6","v":"C-3333"},{"$f":"$B$55","v":0},{"$f":"$C$55","v":2},{"$f":"$D$55","v":39},79005,null,{"$f":"'Dairy Miscellaneous 2'!AN16","v":0},{"$f":"'Dairy Miscellaneous 2'!AO16","v":0}]
[{"$f":"'Cow Housing'!$C$6","v":"C-3333"},{"$f":"$B$55","v":0},{"$f":"$C$55","v":2},{"$f":"$D$55","v":39},79345,null,{"$f":"'Dairy Miscellaneous 2'!AN15","v":0},{"$f":"'Dairy Miscellaneous 2'!AO15","v":0}]
[{"$f":"'Cow Housing'!$C$6","v":"C-3333"},{"$f":"$B$55","v":0},{"$f":"$C$55","v":2},{"$f":"$D$55","v":39},95501,null,{"$f":"'Dairy Miscellaneous 2'!AN20","v":0},{"$f":"'Dairy Miscellaneous 2'!AO20","v":0}]
[{"$f":"'Cow Housing'!$C$6","v":"C-3333"},{"$f":"$B$55","v":0},{"$f":"$C$55","v":2},{"$f":"$D$55","v":39},96128,null,{"$f":"'Dairy Miscellaneous 2'!AN19","v":0},{"$f":"'Dairy Miscellaneous 2'!AO19","v":0}]
[{"$f":"'Cow Housing'!$C$6","v":"C-3333"},{"$f":"$B$55","v":0},{"$f":"$C$55","v":2},{"$f":"$D$55","v":39},96184,null,{"$f":"'Dairy Miscellaneous 2'!AN17","v":0},{"$f":"'Dairy Miscellaneous 2'!AO17","v":0}]
[{"$f":"'Cow Housing'!$C$6","v":"C-3333"},{"$f":"$B$55","v":0},{"$f":"$C$55","v":2},{"$f":"$D$55","v":39},98828,null,{"$f":"'Dairy Miscellaneous 2'!AN43","v":0},{"$f":"'Dairy Miscellaneous 2'!AO43","v":0}]
[{"$f":"'Cow Housing'!$C$6","v":"C-3333"},{"$f":"$B$55","v":0},{"$f":"$C$55","v":2},{"$f":"$D$55","v":39},100414,null,{"$f":"'Dairy Miscellaneous 2'!AN37","v":0},{"$f":"'Dairy Miscellaneous 2'!AO37","v":0}]
[{"$f":"'Cow Housing'!$C$6","v":"C-3333"},{"$f":"$B$55","v":0},{"$f":"$C$55","v":2},{"$f":"$D$55","v":39},100425,null,{"$f":"'Dairy Miscellaneous 2'!AN46","v":0},{"$f":"'Dairy Miscellaneous 2'!AO46","v":0}]
[{"$f":"'Cow Housing'!$C$6","v":"C-3333"},{"$f":"$B$55","v":0},{"$f":"$C$55","v":2},{"$f":"$D$55","v":39},100447,null,{"$f":"'Dairy Miscellaneous 2'!AN27","v":0},{"$f":"'Dairy Miscellaneous 2'!AO27","v":0}]
[{"$f":"'Cow Housing'!$C$6","v":"C-3333"},{"$f":"$B$55","v":0},{"$f":"$C$55","v":2},{"$f":"$D$55","v":39},106467,null,{"$f":"'Dairy Miscellaneous 2'!AN23","v":0},{"$f":"'Dairy Miscellaneous 2'!AO23","v":0}]
[{"$f":"'Cow Housing'!$C$6","v":"C-3333"},{"$f":"$B$55","v":0},{"$f":"$C$55","v":2},{"$f":"$D$55","v":39},106934,null,{"$f":"'Dairy Miscellaneous 2'!AN38","v":0},{"$f":"'Dairy Miscellaneous 2'!AO38","v":0}]
[{"$f":"'Cow Housing'!$C$6","v":"C-3333"},{"$f":"$B$55","v":0},{"$f":"$C$55","v":2},{"$f":"$D$55","v":39},107062,null,{"$f":"'Dairy Miscellaneous 2'!AN39","v":0},{"$f":"'Dairy Miscellaneous 2'!AO39","v":0}]
[{"$f":"'Cow Housing'!$C$6","v":"C-3333"},{"$f":"$B$55","v":0},{"$f":"$C$55","v":2},{"$f":"$D$55","v":39},107131,null,{"$f":"'Dairy Miscellaneous 2'!AN25","v":0},{"$f":"'Dairy Miscellaneous 2'!AO25","v":0}]
[{"$f":"'Cow Housing'!$C$6","v":"C-3333"},{"$f":"$B$55","v":0},{"$f":"$C$55","v":2},{"$f":"$D$55","v":39},108054,null,{"$f":"'Dairy Miscellaneous 2'!AN50","v":0},{"$f":"'Dairy Miscellaneous 2'!AO50","v":0}]
[{"$f":"'Cow Housing'!$C$6","v":"C-3333"},{"$f":"$B$55","v":0},{"$f":"$C$55","v":2},{"$f":"$D$55","v":39},108101,null,{"$f":"'Dairy Miscellaneous 2'!AN45","v":0},{"$f":"'Dairy Miscellaneous 2'!AO45","v":0}]
[{"$f":"'Cow Housing'!$C$6","v":"C-3333"},{"$f":"$B$55","v":0},{"$f":"$C$55","v":2},{"$f":"$D$55","v":39},108883,null,{"$f":"'Dairy Miscellaneous 2'!AN48","v":0},{"$f":"'Dairy Miscellaneous 2'!AO48","v":0}]
[{"$f":"'Cow Housing'!$C$6","v":"C-3333"},{"$f":"$B$55","v":0},{"$f":"$C$55","v":2},{"$f":"$D$55","v":39},108907,null,{"$f":"'Dairy Miscellaneous 2'!AN31","v":0},{"$f":"'Dairy Miscellaneous 2'!AO31","v":0}]
[{"$f":"'Cow Housing'!$C$6","v":"C-3333"},{"$f":"$B$55","v":0},{"$f":"$C$55","v":2},{"$f":"$D$55","v":39},110543,null,{"$f":"'Dairy Miscellaneous 2'!AN41","v":0},{"$f":"'Dairy Miscellaneous 2'!AO41","v":0}]
[{"$f":"'Cow Housing'!$C$6","v":"C-3333"},{"$f":"$B$55","v":0},{"$f":"$C$55","v":2},{"$f":"$D$55","v":39},110827,null,{"$f":"'Dairy Miscellaneous 2'!AN35","v":0},{"$f":"'Dairy Miscellaneous 2'!AO35","v":0}]
[{"$f":"'Cow Housing'!$C$6","v":"C-3333"},{"$f":"$B$55","v":0},{"$f":"$C$55","v":2},{"$f":"$D$55","v":39},120821,null,{"$f":"'Dairy Miscellaneous 2'!AN18","v":0},{"$f":"'Dairy Miscellaneous 2'!AO18","v":0}]
[{"$f":"'Cow Housing'!$C$6","v":"C-3333"},{"$f":"$B$55","v":0},{"$f":"$C$55","v":2},{"$f":"$D$55","v":39},123728,null,{"$f":"'Dairy Miscellaneous 2'!AN28","v":0},{"$f":"'Dairy Miscellaneous 2'!AO28","v":0}]
[{"$f":"'Cow Housing'!$C$6","v":"C-3333"},{"$f":"$B$55","v":0},{"$f":"$C$55","v":2},{"$f":"$D$55","v":39},123911,null,{"$f":"'Dairy Miscellaneous 2'!AN22","v":0},{"$f":"'Dairy Miscellaneous 2'!AO22","v":0}]
[{"$f":"'Cow Housing'!$C$6","v":"C-3333"},{"$f":"$B$55","v":0},{"$f":"$C$55","v":2},{"$f":"$D$55","v":39},541731,null,{"$f":"'Dairy Miscellaneous 2'!AN21","v":0},{"$f":"'Dairy Miscellaneous 2'!AO21","v":0}]
[{"$f":"'Cow Housing'!$C$6","v":"C-3333"},{"$f":"$B$55","v":0},{"$f":"$C$55","v":2},{"$f":"$D$55","v":39},764410,null,{"$f":"'Dairy Miscellaneous 2'!AN47","v":0},{"$f":"'Dairy Miscellaneous 2'!AO47","v":0}]
[{"$f":"'Cow Housing'!$C$6","v":"C-3333"},{"$f":"$B$55","v":0},{"$f":"$C$55","v":2},{"$f":"$D$55","v":39},1330207,null,{"$f":"'Dairy Miscellaneous 2'!AN51","v":0},{"$f":"'Dairy Miscellaneous 2'!AO51","v":0}]
[{"$f":"'Cow Housing'!$C$6","v":"C-3333"},{"$f":"$B$55","v":0},{"$f":"$C$55","v":2},{"$f":"$D$55","v":39},4170303,null,{"$f":"'Dairy Miscellaneous 2'!AN34","v":0},{"$f":"'Dairy Miscellaneous 2'!AO34","v":0}]
[{"$f":"'Cow Housing'!$C$6","v":"C-3333"},{"$f":"$B$55","v":0},{"$f":"$C$55","v":2},{"$f":"$D$55","v":39},7429905,null,{"$f":"'Livestock PM10 2'!AN14","v":0},{"$f":"'Livestock PM10 2'!AO14","v":0}]
[{"$f":"'Cow Housing'!$C$6","v":"C-3333"},{"$f":"$B$55","v":0},{"$f":"$C$55","v":2},{"$f":"$D$55","v":39},7439921,null,{"$f":"'Livestock PM10 2'!AN22","v":0},{"$f":"'Livestock PM10 2'!AO22","v":0}]
[{"$f":"'Cow Housing'!$C$6","v":"C-3333"},{"$f":"$B$55","v":0},{"$f":"$C$55","v":2},{"$f":"$D$55","v":39},7439965,null,{"$f":"'Livestock PM10 2'!AN23","v":0},{"$f":"'Livestock PM10 2'!AO23","v":0}]
[{"$f":"'Cow Housing'!$C$6","v":"C-3333"},{"$f":"$B$55","v":0},{"$f":"$C$55","v":2},{"$f":"$D$55","v":39},7439976,null,{"$f":"'Livestock PM10 2'!AN24","v":0},{"$f":"'Livestock PM10 2'!AO24","v":0}]
[{"$f":"'Cow Housing'!$C$6","v":"C-3333"},{"$f":"$B$55","v":0},{"$f":"$C$55","v":2},{"$f":"$D$55","v":39},7440020,null,{"$f":"'Livestock PM10 2'!AN25","v":0},{"$f":"'Livestock PM10 2'!AO25","v":0}]
[{"$f":"'Cow Housing'!$C$6","v":"C-3333"},{"$f":"$B$55","v":0},{"$f":"$C$55","v":2},{"$f":"$D$55","v":39},7440360,null,{"$f":"'Livestock PM10 2'!AN15","v":0},{"$f":"'Livestock PM10 2'!AO15","v":0}]
[{"$f":"'Cow Housing'!$C$6","v":"C-3333"},{"$f":"$B$55","v":0},{"$f":"$C$55","v":2},{"$f":"$D$55","v":39},7440382,null,{"$f":"'Livestock PM10 2'!AN16","v":0},{"$f":"'Livestock PM10 2'!AO16","v":0}]
[{"$f":"'Cow Housing'!$C$6","v":"C-3333"},{"$f":"$B$55","v":0},{"$f":"$C$55","v":2},{"$f":"$D$55","v":39},7440393,null,{"$f":"'Livestock PM10 2'!AN17","v":0},{"$f":"'Livestock PM10 2'!AO17","v":0}]
[{"$f":"'Cow Housing'!$C$6","v":"C-3333"},{"$f":"$B$55","v":0},{"$f":"$C$55","v":2},{"$f":"$D$55","v":39},7440473,null,{"$f":"'Livestock PM10 2'!AN19","v":0},{"$f":"'Livestock PM10 2'!AO19","v":0}]
[{"$f":"'Cow Housing'!$C$6","v":"C-3333"},{"$f":"$B$55","v":0},{"$f":"$C$55","v":2},{"$f":"$D$55","v":39},7440508,null,{"$f":"'Livestock PM10 2'!AN20","v":0},{"$f":"'Livestock PM10 2'!AO20","v":0}]
[{"$f":"'Cow Housing'!$C$6","v":"C-3333"},{"$f":"$B$55","v":0},{"$f":"$C$55","v":2},{"$f":"$D$55","v":39},7440622,null,{"$f":"'Livestock PM10 2'!AN29","v":0},{"$f":"'Livestock PM10 2'!AO29","v":0}]
[{"$f":"'Cow Housing'!$C$6","v":"C-3333"},{"$f":"$B$55","v":0},{"$f":"$C$55","v":2},{"$f":"$D$55","v":39},7440666,null,{"$f":"'Livestock PM10 2'!AN30","v":0},{"$f":"'Livestock PM10 2'!AO30","v":0}]
[{"$f":"'Cow Housing'!$C$6","v":"C-3333"},{"$f":"$B$55","v":0},{"$f":"$C$55","v":2},{"$f":"$D$55","v":39},7664417,null,{"$f":"'Livestock PM10 2'!AN31","v":0},{"$f":"'Livestock PM10 2'!AO31","v":0}]
[{"$f":"'Cow Housing'!$C$6","v":"C-3333"},{"$f":"$B$55","v":0},{"$f":"$C$55","v":2},{"$f":"$D$55","v":39},7723140,null,{"$f":"'Livestock PM10 2'!AN26","v":0},{"$f":"'Livestock PM10 2'!AO26","v":0}]
[{"$f":"'Cow Housing'!$C$6","v":"C-3333"},{"$f":"$B$55","v":0},{"$f":"$C$55","v":2},{"$f":"$D$55","v":39},7726956,null,{"$f":"'Livestock PM10 2'!AN18","v":0},{"$f":"'Livestock PM10 2'!AO18","v":0}]
[{"$f":"'Cow Housing'!$C$6","v":"C-3333"},{"$f":"$B$55","v":0},{"$f":"$C$55","v":2},{"$f":"$D$55","v":39},7782492,null,{"$f":"'Livestock PM10 2'!AN27","v":0},{"$f":"'Livestock PM10 2'!AO27","v":0}]
[{"$f":"'Cow Housing'!$C$6","v":"C-3333"},{"$f":"$B$55","v":0},{"$f":"$C$55","v":2},{"$f":"$D$55","v":39},18540299,null,{"$f":"'Livestock PM10 2'!AN21","v":0},{"$f":"'Livestock PM10 2'!AO21","v":0}]
[{"$f":"'Cow Housing'!$C$6","v":"C-3333"},{"$f":"$B$56","v":0},{"$f":"$C$56","v":2},{"$f":"$D$56","v":40},9960,null,{"$f":"'Livestock PM10 2'!AP28","v":0},{"$f":"'Livestock PM10 2'!AQ28","v":0}]
[{"$f":"'Cow Housing'!$C$6","v":"C-3333"},{"$f":"$B$56","v":0},{"$f":"$C$56","v":2},{"$f":"$D$56","v":40},50000,null,{"$f":"'Dairy Miscellaneous 2'!AP40","v":0},{"$f":"'Dairy Miscellaneous 2'!AQ40","v":0}]
[{"$f":"'Cow Housing'!$C$6","v":"C-3333"},{"$f":"$B$56","v":0},{"$f":"$C$56","v":2},{"$f":"$D$56","v":40},56235,null,{"$f":"'Dairy Miscellaneous 2'!AP30","v":0},{"$f":"'Dairy Miscellaneous 2'!AQ30","v":0}]
[{"$f":"'Cow Housing'!$C$6","v":"C-3333"},{"$f":"$B$56","v":0},{"$f":"$C$56","v":2},{"$f":"$D$56","v":40},67630,null,{"$f":"'Dairy Miscellaneous 2'!AP42","v":0},{"$f":"'Dairy Miscellaneous 2'!AQ42","v":0}]
[{"$f":"'Cow Housing'!$C$6","v":"C-3333"},{"$f":"$B$56","v":0},{"$f":"$C$56","v":2},{"$f":"$D$56","v":40},67663,null,{"$f":"'Dairy Miscellaneous 2'!AP32","v":0},{"$f":"'Dairy Miscellaneous 2'!AQ32","v":0}]
[{"$f":"'Cow Housing'!$C$6","v":"C-3333"},{"$f":"$B$56","v":0},{"$f":"$C$56","v":2},{"$f":"$D$56","v":40},71432,null,{"$f":"'Dairy Miscellaneous 2'!AP26","v":0},{"$f":"'Dairy Miscellaneous 2'!AQ26","v":0}]
[{"$f":"'Cow Housing'!$C$6","v":"C-3333"},{"$f":"$B$56","v":0},{"$f":"$C$56","v":2},{"$f":"$D$56","v":40},74873,null,{"$f":"'Dairy Miscellaneous 2'!AP33","v":0},{"$f":"'Dairy Miscellaneous 2'!AQ33","v":0}]
[{"$f":"'Cow Housing'!$C$6","v":"C-3333"},{"$f":"$B$56","v":0},{"$f":"$C$56","v":2},{"$f":"$D$56","v":40},75003,null,{"$f":"'Dairy Miscellaneous 2'!AP36","v":0},{"$f":"'Dairy Miscellaneous 2'!AQ36","v":0}]
[{"$f":"'Cow Housing'!$C$6","v":"C-3333"},{"$f":"$B$56","v":0},{"$f":"$C$56","v":2},{"$f":"$D$56","v":40},75070,null,{"$f":"'Dairy Miscellaneous 2'!AP24","v":0},{"$f":"'Dairy Miscellaneous 2'!AQ24","v":0}]
[{"$f":"'Cow Housing'!$C$6","v":"C-3333"},{"$f":"$B$56","v":0},{"$f":"$C$56","v":2},{"$f":"$D$56","v":40},75150,null,{"$f":"'Dairy Miscellaneous 2'!AP29","v":0},{"$f":"'Dairy Miscellaneous 2'!AQ29","v":0}]
[{"$f":"'Cow Housing'!$C$6","v":"C-3333"},{"$f":"$B$56","v":0},{"$f":"$C$56","v":2},{"$f":"$D$56","v":40},75694,null,{"$f":"'Dairy Miscellaneous 2'!AP49","v":0},{"$f":"'Dairy Miscellaneous 2'!AQ49","v":0}]
[{"$f":"'Cow Housing'!$C$6","v":"C-3333"},{"$f":"$B$56","v":0},{"$f":"$C$56","v":2},{"$f":"$D$56","v":40},78933,null,{"$f":"'Dairy Miscellaneous 2'!AP44","v":0},{"$f":"'Dairy Miscellaneous 2'!AQ44","v":0}]
[{"$f":"'Cow Housing'!$C$6","v":"C-3333"},{"$f":"$B$56","v":0},{"$f":"$C$56","v":2},{"$f":"$D$56","v":40},79005,null,{"$f":"'Dairy Miscellaneous 2'!AP16","v":0},{"$f":"'Dairy Miscellaneous 2'!AQ16","v":0}]
[{"$f":"'Cow Housing'!$C$6","v":"C-3333"},{"$f":"$B$56","v":0},{"$f":"$C$56","v":2},{"$f":"$D$56","v":40},79345,null,{"$f":"'Dairy Miscellaneous 2'!AP15","v":0},{"$f":"'Dairy Miscellaneous 2'!AQ15","v":0}]
[{"$f":"'Cow Housing'!$C$6","v":"C-3333"},{"$f":"$B$56","v":0},{"$f":"$C$56","v":2},{"$f":"$D$56","v":40},95501,null,{"$f":"'Dairy Miscellaneous 2'!AP20","v":0},{"$f":"'Dairy Miscellaneous 2'!AQ20","v":0}]
[{"$f":"'Cow Housing'!$C$6","v":"C-3333"},{"$f":"$B$56","v":0},{"$f":"$C$56","v":2},{"$f":"$D$56","v":40},96128,null,{"$f":"'Dairy Miscellaneous 2'!AP19","v":0},{"$f":"'Dairy Miscellaneous 2'!AQ19","v":0}]
[{"$f":"'Cow Housing'!$C$6","v":"C-3333"},{"$f":"$B$56","v":0},{"$f":"$C$56","v":2},{"$f":"$D$56","v":40},96184,null,{"$f":"'Dairy Miscellaneous 2'!AP17","v":0},{"$f":"'Dairy Miscellaneous 2'!AQ17","v":0}]
[{"$f":"'Cow Housing'!$C$6","v":"C-3333"},{"$f":"$B$56","v":0},{"$f":"$C$56","v":2},{"$f":"$D$56","v":40},98828,null,{"$f":"'Dairy Miscellaneous 2'!AP43","v":0},{"$f":"'Dairy Miscellaneous 2'!AQ43","v":0}]
[{"$f":"'Cow Housing'!$C$6","v":"C-3333"},{"$f":"$B$56","v":0},{"$f":"$C$56","v":2},{"$f":"$D$56","v":40},100414,null,{"$f":"'Dairy Miscellaneous 2'!AP37","v":0},{"$f":"'Dairy Miscellaneous 2'!AQ37","v":0}]
[{"$f":"'Cow Housing'!$C$6","v":"C-3333"},{"$f":"$B$56","v":0},{"$f":"$C$56","v":2},{"$f":"$D$56","v":40},100425,null,{"$f":"'Dairy Miscellaneous 2'!AP46","v":0},{"$f":"'Dairy Miscellaneous 2'!AQ46","v":0}]
[{"$f":"'Cow Housing'!$C$6","v":"C-3333"},{"$f":"$B$56","v":0},{"$f":"$C$56","v":2},{"$f":"$D$56","v":40},100447,null,{"$f":"'Dairy Miscellaneous 2'!AP27","v":0},{"$f":"'Dairy Miscellaneous 2'!AQ27","v":0}]
[{"$f":"'Cow Housing'!$C$6","v":"C-3333"},{"$f":"$B$56","v":0},{"$f":"$C$56","v":2},{"$f":"$D$56","v":40},106467,null,{"$f":"'Dairy Miscellaneous 2'!AP23","v":0},{"$f":"'Dairy Miscellaneous 2'!AQ23","v":0}]
[{"$f":"'Cow Housing'!$C$6","v":"C-3333"},{"$f":"$B$56","v":0},{"$f":"$C$56","v":2},{"$f":"$D$56","v":40},106934,null,{"$f":"'Dairy Miscellaneous 2'!AP38","v":0},{"$f":"'Dairy Miscellaneous 2'!AQ38","v":0}]
[{"$f":"'Cow Housing'!$C$6","v":"C-3333"},{"$f":"$B$56","v":0},{"$f":"$C$56","v":2},{"$f":"$D$56","v":40},107062,null,{"$f":"'Dairy Miscellaneous 2'!AP39","v":0},{"$f":"'Dairy Miscellaneous 2'!AQ39","v":0}]
[{"$f":"'Cow Housing'!$C$6","v":"C-3333"},{"$f":"$B$56","v":0},{"$f":"$C$56","v":2},{"$f":"$D$56","v":40},107131,null,{"$f":"'Dairy Miscellaneous 2'!AP25","v":0},{"$f":"'Dairy Miscellaneous 2'!AQ25","v":0}]
[{"$f":"'Cow Housing'!$C$6","v":"C-3333"},{"$f":"$B$56","v":0},{"$f":"$C$56","v":2},{"$f":"$D$56","v":40},108054,null,{"$f":"'Dairy Miscellaneous 2'!AP50","v":0},{"$f":"'Dairy Miscellaneous 2'!AQ50","v":0}]
[{"$f":"'Cow Housing'!$C$6","v":"C-3333"},{"$f":"$B$56","v":0},{"$f":"$C$56","v":2},{"$f":"$D$56","v":40},108101,null,{"$f":"'Dairy Miscellaneous 2'!AP45","v":0},{"$f":"'Dairy Miscellaneous 2'!AQ45","v":0}]
[{"$f":"'Cow Housing'!$C$6","v":"C-3333"},{"$f":"$B$56","v":0},{"$f":"$C$56","v":2},{"$f":"$D$56","v":40},108883,null,{"$f":"'Dairy Miscellaneous 2'!AP48","v":0},{"$f":"'Dairy Miscellaneous 2'!AQ48","v":0}]
[{"$f":"'Cow Housing'!$C$6","v":"C-3333"},{"$f":"$B$56","v":0},{"$f":"$C$56","v":2},{"$f":"$D$56","v":40},108907,null,{"$f":"'Dairy Miscellaneous 2'!AP31","v":0},{"$f":"'Dairy Miscellaneous 2'!AQ31","v":0}]
[{"$f":"'Cow Housing'!$C$6","v":"C-3333"},{"$f":"$B$56","v":0},{"$f":"$C$56","v":2},{"$f":"$D$56","v":40},110543,null,{"$f":"'Dairy Miscellaneous 2'!AP41","v":0},{"$f":"'Dairy Miscellaneous 2'!AQ41","v":0}]
[{"$f":"'Cow Housing'!$C$6","v":"C-3333"},{"$f":"$B$56","v":0},{"$f":"$C$56","v":2},{"$f":"$D$56","v":40},110827,null,{"$f":"'Dairy Miscellaneous 2'!AP35","v":0},{"$f":"'Dairy Miscellaneous 2'!AQ35","v":0}]
[{"$f":"'Cow Housing'!$C$6","v":"C-3333"},{"$f":"$B$56","v":0},{"$f":"$C$56","v":2},{"$f":"$D$56","v":40},120821,null,{"$f":"'Dairy Miscellaneous 2'!AP18","v":0},{"$f":"'Dairy Miscellaneous 2'!AQ18","v":0}]
[{"$f":"'Cow Housing'!$C$6","v":"C-3333"},{"$f":"$B$56","v":0},{"$f":"$C$56","v":2},{"$f":"$D$56","v":40},123728,null,{"$f":"'Dairy Miscellaneous 2'!AP28","v":0},{"$f":"'Dairy Miscellaneous 2'!AQ28","v":0}]
[{"$f":"'Cow Housing'!$C$6","v":"C-3333"},{"$f":"$B$56","v":0},{"$f":"$C$56","v":2},{"$f":"$D$56","v":40},123911,null,{"$f":"'Dairy Miscellaneous 2'!AP22","v":0},{"$f":"'Dairy Miscellaneous 2'!AQ22","v":0}]
[{"$f":"'Cow Housing'!$C$6","v":"C-3333"},{"$f":"$B$56","v":0},{"$f":"$C$56","v":2},{"$f":"$D$56","v":40},541731,null,{"$f":"'Dairy Miscellaneous 2'!AP21","v":0},{"$f":"'Dairy Miscellaneous 2'!AQ21","v":0}]
[{"$f":"'Cow Housing'!$C$6","v":"C-3333"},{"$f":"$B$56","v":0},{"$f":"$C$56","v":2},{"$f":"$D$56","v":40},764410,null,{"$f":"'Dairy Miscellaneous 2'!AP47","v":0},{"$f":"'Dairy Miscellaneous 2'!AQ47","v":0}]
[{"$f":"'Cow Housing'!$C$6","v":"C-3333"},{"$f":"$B$56","v":0},{"$f":"$C$56","v":2},{"$f":"$D$56","v":40},1330207,null,{"$f":"'Dairy Miscellaneous 2'!AP51","v":0},{"$f":"'Dairy Miscellaneous 2'!AQ51","v":0}]
[{"$f":"'Cow Housing'!$C$6","v":"C-3333"},{"$f":"$B$56","v":0},{"$f":"$C$56","v":2},{"$f":"$D$56","v":40},4170303,null,{"$f":"'Dairy Miscellaneous 2'!AP34","v":0},{"$f":"'Dairy Miscellaneous 2'!AQ34","v":0}]
[{"$f":"'Cow Housing'!$C$6","v":"C-3333"},{"$f":"$B$56","v":0},{"$f":"$C$56","v":2},{"$f":"$D$56","v":40},7429905,null,{"$f":"'Livestock PM10 2'!AP14","v":0},{"$f":"'Livestock PM10 2'!AQ14","v":0}]
[{"$f":"'Cow Housing'!$C$6","v":"C-3333"},{"$f":"$B$56","v":0},{"$f":"$C$56","v":2},{"$f":"$D$56","v":40},7439921,null,{"$f":"'Livestock PM10 2'!AP22","v":0},{"$f":"'Livestock PM10 2'!AQ22","v":0}]
[{"$f":"'Cow Housing'!$C$6","v":"C-3333"},{"$f":"$B$56","v":0},{"$f":"$C$56","v":2},{"$f":"$D$56","v":40},7439965,null,{"$f":"'Livestock PM10 2'!AP23","v":0},{"$f":"'Livestock PM10 2'!AQ23","v":0}]
[{"$f":"'Cow Housing'!$C$6","v":"C-3333"},{"$f":"$B$56","v":0},{"$f":"$C$56","v":2},{"$f":"$D$56","v":40},7439976,null,{"$f":"'Livestock PM10 2'!AP24","v":0},{"$f":"'Livestock PM10 2'!AQ24","v":0}]
[{"$f":"'Cow Housing'!$C$6","v":"C-3333"},{"$f":"$B$56","v":0},{"$f":"$C$56","v":2},{"$f":"$D$56","v":40},7440020,null,{"$f":"'Livestock PM10 2'!AP25","v":0},{"$f":"'Livestock PM10 2'!AQ25","v":0}]
[{"$f":"'Cow Housing'!$C$6","v":"C-3333"},{"$f":"$B$56","v":0},{"$f":"$C$56","v":2},{"$f":"$D$56","v":40},7440360,null,{"$f":"'Livestock PM10 2'!AP15","v":0},{"$f":"'Livestock PM10 2'!AQ15","v":0}]
[{"$f":"'Cow Housing'!$C$6","v":"C-3333"},{"$f":"$B$56","v":0},{"$f":"$C$56","v":2},{"$f":"$D$56","v":40},7440382,null,{"$f":"'Livestock PM10 2'!AP16","v":0},{"$f":"'Livestock PM10 2'!AQ16","v":0}]
[{"$f":"'Cow Housing'!$C$6","v":"C-3333"},{"$f":"$B$56","v":0},{"$f":"$C$56","v":2},{"$f":"$D$56","v":40},7440393,null,{"$f":"'Livestock PM10 2'!AP17","v":0},{"$f":"'Livestock PM10 2'!AQ17","v":0}]
[{"$f":"'Cow Housing'!$C$6","v":"C-3333"},{"$f":"$B$56","v":0},{"$f":"$C$56","v":2},{"$f":"$D$56","v":40},7440473,null,{"$f":"'Livestock PM10 2'!AP19","v":0},{"$f":"'Livestock PM10 2'!AQ19","v":0}]
[{"$f":"'Cow Housing'!$C$6","v":"C-3333"},{"$f":"$B$56","v":0},{"$f":"$C$56","v":2},{"$f":"$D$56","v":40},7440508,null,{"$f":"'Livestock PM10 2'!AP20","v":0},{"$f":"'Livestock PM10 2'!AQ20","v":0}]
[{"$f":"'Cow Housing'!$C$6","v":"C-3333"},{"$f":"$B$56","v":0},{"$f":"$C$56","v":2},{"$f":"$D$56","v":40},7440622,null,{"$f":"'Livestock PM10 2'!AP29","v":0},{"$f":"'Livestock PM10 2'!AQ29","v":0}]
[{"$f":"'Cow Housing'!$C$6","v":"C-3333"},{"$f":"$B$56","v":0},{"$f":"$C$56","v":2},{"$f":"$D$56","v":40},7440666,null,{"$f":"'Livestock PM10 2'!AP30","v":0},{"$f":"'Livestock PM10 2'!AQ30","v":0}]
[{"$f":"'Cow Housing'!$C$6","v":"C-3333"},{"$f":"$B$56","v":0},{"$f":"$C$56","v":2},{"$f":"$D$56","v":40},7664417,null,{"$f":"'Livestock PM10 2'!AP31","v":0},{"$f":"'Livestock PM10 2'!AQ31","v":0}]
[{"$f":"'Cow Housing'!$C$6","v":"C-3333"},{"$f":"$B$56","v":0},{"$f":"$C$56","v":2},{"$f":"$D$56","v":40},7723140,null,{"$f":"'Livestock PM10 2'!AP26","v":0},{"$f":"'Livestock PM10 2'!AQ26","v":0}]
[{"$f":"'Cow Housing'!$C$6","v":"C-3333"},{"$f":"$B$56","v":0},{"$f":"$C$56","v":2},{"$f":"$D$56","v":40},7726956,null,{"$f":"'Livestock PM10 2'!AP18","v":0},{"$f":"'Livestock PM10 2'!AQ18","v":0}]
[{"$f":"'Cow Housing'!$C$6","v":"C-3333"},{"$f":"$B$56","v":0},{"$f":"$C$56","v":2},{"$f":"$D$56","v":40},7782492,null,{"$f":"'Livestock PM10 2'!AP27","v":0},{"$f":"'Livestock PM10 2'!AQ27","v":0}]
[{"$f":"'Cow Housing'!$C$6","v":"C-3333"},{"$f":"$B$56","v":0},{"$f":"$C$56","v":2},{"$f":"$D$56","v":40},18540299,null,{"$f":"'Livestock PM10 2'!AP21","v":0},{"$f":"'Livestock PM10 2'!AQ21","v":0}]
[{"$f":"'Cow Housing'!$C$6","v":"C-3333"},{"$f":"$B$57","v":0},{"$f":"$C$57","v":2},{"$f":"$D$57","v":41},9960,null,{"$f":"'Livestock PM10 3'!D28","v":0},{"$f":"'Livestock PM10 3'!E28","v":0}]
[{"$f":"'Cow Housing'!$C$6","v":"C-3333"},{"$f":"$B$57","v":0},{"$f":"$C$57","v":2},{"$f":"$D$57","v":41},50000,null,{"$f":"'Dairy Miscellaneous 3'!D40","v":0},{"$f":"'Dairy Miscellaneous 3'!E40","v":0}]
[{"$f":"'Cow Housing'!$C$6","v":"C-3333"},{"$f":"$B$57","v":0},{"$f":"$C$57","v":2},{"$f":"$D$57","v":41},56235,null,{"$f":"'Dairy Miscellaneous 3'!D30","v":0},{"$f":"'Dairy Miscellaneous 3'!E30","v":0}]
[{"$f":"'Cow Housing'!$C$6","v":"C-3333"},{"$f":"$B$57","v":0},{"$f":"$C$57","v":2},{"$f":"$D$57","v":41},67630,null,{"$f":"'Dairy Miscellaneous 3'!D42","v":0},{"$f":"'Dairy Miscellaneous 3'!E42","v":0}]
[{"$f":"'Cow Housing'!$C$6","v":"C-3333"},{"$f":"$B$57","v":0},{"$f":"$C$57","v":2},{"$f":"$D$57","v":41},67663,null,{"$f":"'Dairy Miscellaneous 3'!D32","v":0},{"$f":"'Dairy Miscellaneous 3'!E32","v":0}]
[{"$f":"'Cow Housing'!$C$6","v":"C-3333"},{"$f":"$B$57","v":0},{"$f":"$C$57","v":2},{"$f":"$D$57","v":41},71432,null,{"$f":"'Dairy Miscellaneous 3'!D26","v":0},{"$f":"'Dairy Miscellaneous 3'!E26","v":0}]
[{"$f":"'Cow Housing'!$C$6","v":"C-3333"},{"$f":"$B$57","v":0},{"$f":"$C$57","v":2},{"$f":"$D$57","v":41},74873,null,{"$f":"'Dairy Miscellaneous 3'!D33","v":0},{"$f":"'Dairy Miscellaneous 3'!E33","v":0}]
[{"$f":"'Cow Housing'!$C$6","v":"C-3333"},{"$f":"$B$57","v":0},{"$f":"$C$57","v":2},{"$f":"$D$57","v":41},75003,null,{"$f":"'Dairy Miscellaneous 3'!D36","v":0},{"$f":"'Dairy Miscellaneous 3'!E36","v":0}]
[{"$f":"'Cow Housing'!$C$6","v":"C-3333"},{"$f":"$B$57","v":0},{"$f":"$C$57","v":2},{"$f":"$D$57","v":41},75070,null,{"$f":"'Dairy Miscellaneous 3'!D24","v":0},{"$f":"'Dairy Miscellaneous 3'!E24","v":0}]
[{"$f":"'Cow Housing'!$C$6","v":"C-3333"},{"$f":"$B$57","v":0},{"$f":"$C$57","v":2},{"$f":"$D$57","v":41},75150,null,{"$f":"'Dairy Miscellaneous 3'!D29","v":0},{"$f":"'Dairy Miscellaneous 3'!E29","v":0}]
[{"$f":"'Cow Housing'!$C$6","v":"C-3333"},{"$f":"$B$57","v":0},{"$f":"$C$57","v":2},{"$f":"$D$57","v":41},75694,null,{"$f":"'Dairy Miscellaneous 3'!D49","v":0},{"$f":"'Dairy Miscellaneous 3'!E49","v":0}]
[{"$f":"'Cow Housing'!$C$6","v":"C-3333"},{"$f":"$B$57","v":0},{"$f":"$C$57","v":2},{"$f":"$D$57","v":41},78933,null,{"$f":"'Dairy Miscellaneous 3'!D44","v":0},{"$f":"'Dairy Miscellaneous 3'!E44","v":0}]
[{"$f":"'Cow Housing'!$C$6","v":"C-3333"},{"$f":"$B$57","v":0},{"$f":"$C$57","v":2},{"$f":"$D$57","v":41},79005,null,{"$f":"'Dairy Miscellaneous 3'!D16","v":0},{"$f":"'Dairy Miscellaneous 3'!E16","v":0}]
[{"$f":"'Cow Housing'!$C$6","v":"C-3333"},{"$f":"$B$57","v":0},{"$f":"$C$57","v":2},{"$f":"$D$57","v":41},79345,null,{"$f":"'Dairy Miscellaneous 3'!D15","v":0},{"$f":"'Dairy Miscellaneous 3'!E15","v":0}]
[{"$f":"'Cow Housing'!$C$6","v":"C-3333"},{"$f":"$B$57","v":0},{"$f":"$C$57","v":2},{"$f":"$D$57","v":41},95501,null,{"$f":"'Dairy Miscellaneous 3'!D20","v":0},{"$f":"'Dairy Miscellaneous 3'!E20","v":0}]
[{"$f":"'Cow Housing'!$C$6","v":"C-3333"},{"$f":"$B$57","v":0},{"$f":"$C$57","v":2},{"$f":"$D$57","v":41},96128,null,{"$f":"'Dairy Miscellaneous 3'!D19","v":0},{"$f":"'Dairy Miscellaneous 3'!E19","v":0}]
[{"$f":"'Cow Housing'!$C$6","v":"C-3333"},{"$f":"$B$57","v":0},{"$f":"$C$57","v":2},{"$f":"$D$57","v":41},96184,null,{"$f":"'Dairy Miscellaneous 3'!D17","v":0},{"$f":"'Dairy Miscellaneous 3'!E17","v":0}]
[{"$f":"'Cow Housing'!$C$6","v":"C-3333"},{"$f":"$B$57","v":0},{"$f":"$C$57","v":2},{"$f":"$D$57","v":41},98828,null,{"$f":"'Dairy Miscellaneous 3'!D43","v":0},{"$f":"'Dairy Miscellaneous 3'!E43","v":0}]
[{"$f":"'Cow Housing'!$C$6","v":"C-3333"},{"$f":"$B$57","v":0},{"$f":"$C$57","v":2},{"$f":"$D$57","v":41},100414,null,{"$f":"'Dairy Miscellaneous 3'!D37","v":0},{"$f":"'Dairy Miscellaneous 3'!E37","v":0}]
[{"$f":"'Cow Housing'!$C$6","v":"C-3333"},{"$f":"$B$57","v":0},{"$f":"$C$57","v":2},{"$f":"$D$57","v":41},100425,null,{"$f":"'Dairy Miscellaneous 3'!D46","v":0},{"$f":"'Dairy Miscellaneous 3'!E46","v":0}]
[{"$f":"'Cow Housing'!$C$6","v":"C-3333"},{"$f":"$B$57","v":0},{"$f":"$C$57","v":2},{"$f":"$D$57","v":41},100447,null,{"$f":"'Dairy Miscellaneous 3'!D27","v":0},{"$f":"'Dairy Miscellaneous 3'!E27","v":0}]
[{"$f":"'Cow Housing'!$C$6","v":"C-3333"},{"$f":"$B$57","v":0},{"$f":"$C$57","v":2},{"$f":"$D$57","v":41},106467,null,{"$f":"'Dairy Miscellaneous 3'!D23","v":0},{"$f":"'Dairy Miscellaneous 3'!E23","v":0}]
[{"$f":"'Cow Housing'!$C$6","v":"C-3333"},{"$f":"$B$57","v":0},{"$f":"$C$57","v":2},{"$f":"$D$57","v":41},106934,null,{"$f":"'Dairy Miscellaneous 3'!D38","v":0},{"$f":"'Dairy Miscellaneous 3'!E38","v":0}]
[{"$f":"'Cow Housing'!$C$6","v":"C-3333"},{"$f":"$B$57","v":0},{"$f":"$C$57","v":2},{"$f":"$D$57","v":41},107062,null,{"$f":"'Dairy Miscellaneous 3'!D39","v":0},{"$f":"'Dairy Miscellaneous 3'!E39","v":0}]
[{"$f":"'Cow Housing'!$C$6","v":"C-3333"},{"$f":"$B$57","v":0},{"$f":"$C$57","v":2},{"$f":"$D$57","v":41},107131,null,{"$f":"'Dairy Miscellaneous 3'!D25","v":0},{"$f":"'Dairy Miscellaneous 3'!E25","v":0}]
[{"$f":"'Cow Housing'!$C$6","v":"C-3333"},{"$f":"$B$57","v":0},{"$f":"$C$57","v":2},{"$f":"$D$57","v":41},108054,null,{"$f":"'Dairy Miscellaneous 3'!D50","v":0},{"$f":"'Dairy Miscellaneous 3'!E50","v":0}]
[{"$f":"'Cow Housing'!$C$6","v":"C-3333"},{"$f":"$B$57","v":0},{"$f":"$C$57","v":2},{"$f":"$D$57","v":41},108101,null,{"$f":"'Dairy Miscellaneous 3'!D45","v":0},{"$f":"'Dairy Miscellaneous 3'!E45","v":0}]
[{"$f":"'Cow Housing'!$C$6","v":"C-3333"},{"$f":"$B$57","v":0},{"$f":"$C$57","v":2},{"$f":"$D$57","v":41},108883,null,{"$f":"'Dairy Miscellaneous 3'!D48","v":0},{"$f":"'Dairy Miscellaneous 3'!E48","v":0}]
[{"$f":"'Cow Housing'!$C$6","v":"C-3333"},{"$f":"$B$57","v":0},{"$f":"$C$57","v":2},{"$f":"$D$57","v":41},108907,null,{"$f":"'Dairy Miscellaneous 3'!D31","v":0},{"$f":"'Dairy Miscellaneous 3'!E31","v":0}]
[{"$f":"'Cow Housing'!$C$6","v":"C-3333"},{"$f":"$B$57","v":0},{"$f":"$C$57","v":2},{"$f":"$D$57","v":41},110543,null,{"$f":"'Dairy Miscellaneous 3'!D41","v":0},{"$f":"'Dairy Miscellaneous 3'!E41","v":0}]
[{"$f":"'Cow Housing'!$C$6","v":"C-3333"},{"$f":"$B$57","v":0},{"$f":"$C$57","v":2},{"$f":"$D$57","v":41},110827,null,{"$f":"'Dairy Miscellaneous 3'!D35","v":0},{"$f":"'Dairy Miscellaneous 3'!E35","v":0}]
[{"$f":"'Cow Housing'!$C$6","v":"C-3333"},{"$f":"$B$57","v":0},{"$f":"$C$57","v":2},{"$f":"$D$57","v":41},120821,null,{"$f":"'Dairy Miscellaneous 3'!D18","v":0},{"$f":"'Dairy Miscellaneous 3'!E18","v":0}]
[{"$f":"'Cow Housing'!$C$6","v":"C-3333"},{"$f":"$B$57","v":0},{"$f":"$C$57","v":2},{"$f":"$D$57","v":41},123728,null,{"$f":"'Dairy Miscellaneous 3'!D28","v":0},{"$f":"'Dairy Miscellaneous 3'!E28","v":0}]
[{"$f":"'Cow Housing'!$C$6","v":"C-3333"},{"$f":"$B$57","v":0},{"$f":"$C$57","v":2},{"$f":"$D$57","v":41},123911,null,{"$f":"'Dairy Miscellaneous 3'!D22","v":0},{"$f":"'Dairy Miscellaneous 3'!E22","v":0}]
[{"$f":"'Cow Housing'!$C$6","v":"C-3333"},{"$f":"$B$57","v":0},{"$f":"$C$57","v":2},{"$f":"$D$57","v":41},541731,null,{"$f":"'Dairy Miscellaneous 3'!D21","v":0},{"$f":"'Dairy Miscellaneous 3'!E21","v":0}]
[{"$f":"'Cow Housing'!$C$6","v":"C-3333"},{"$f":"$B$57","v":0},{"$f":"$C$57","v":2},{"$f":"$D$57","v":41},764410,null,{"$f":"'Dairy Miscellaneous 3'!D47","v":0},{"$f":"'Dairy Miscellaneous 3'!E47","v":0}]
[{"$f":"'Cow Housing'!$C$6","v":"C-3333"},{"$f":"$B$57","v":0},{"$f":"$C$57","v":2},{"$f":"$D$57","v":41},1330207,null,{"$f":"'Dairy Miscellaneous 3'!D51","v":0},{"$f":"'Dairy Miscellaneous 3'!E51","v":0}]
[{"$f":"'Cow Housing'!$C$6","v":"C-3333"},{"$f":"$B$57","v":0},{"$f":"$C$57","v":2},{"$f":"$D$57","v":41},4170303,null,{"$f":"'Dairy Miscellaneous 3'!D34","v":0},{"$f":"'Dairy Miscellaneous 3'!E34","v":0}]
[{"$f":"'Cow Housing'!$C$6","v":"C-3333"},{"$f":"$B$57","v":0},{"$f":"$C$57","v":2},{"$f":"$D$57","v":41},7429905,null,{"$f":"'Livestock PM10 3'!D14","v":0},{"$f":"'Livestock PM10 3'!E14","v":0}]
[{"$f":"'Cow Housing'!$C$6","v":"C-3333"},{"$f":"$B$57","v":0},{"$f":"$C$57","v":2},{"$f":"$D$57","v":41},7439921,null,{"$f":"'Livestock PM10 3'!D22","v":0},{"$f":"'Livestock PM10 3'!E22","v":0}]
[{"$f":"'Cow Housing'!$C$6","v":"C-3333"},{"$f":"$B$57","v":0},{"$f":"$C$57","v":2},{"$f":"$D$57","v":41},7439965,null,{"$f":"'Livestock PM10 3'!D23","v":0},{"$f":"'Livestock PM10 3'!E23","v":0}]
[{"$f":"'Cow Housing'!$C$6","v":"C-3333"},{"$f":"$B$57","v":0},{"$f":"$C$57","v":2},{"$f":"$D$57","v":41},7439976,null,{"$f":"'Livestock PM10 3'!D24","v":0},{"$f":"'Livestock PM10 3'!E24","v":0}]
[{"$f":"'Cow Housing'!$C$6","v":"C-3333"},{"$f":"$B$57","v":0},{"$f":"$C$57","v":2},{"$f":"$D$57","v":41},7440020,null,{"$f":"'Livestock PM10 3'!D25","v":0},{"$f":"'Livestock PM10 3'!E25","v":0}]
[{"$f":"'Cow Housing'!$C$6","v":"C-3333"},{"$f":"$B$57","v":0},{"$f":"$C$57","v":2},{"$f":"$D$57","v":41},7440360,null,{"$f":"'Livestock PM10 3'!D15","v":0},{"$f":"'Livestock PM10 3'!E15","v":0}]
[{"$f":"'Cow Housing'!$C$6","v":"C-3333"},{"$f":"$B$57","v":0},{"$f":"$C$57","v":2},{"$f":"$D$57","v":41},7440382,null,{"$f":"'Livestock PM10 3'!D16","v":0},{"$f":"'Livestock PM10 3'!E16","v":0}]
[{"$f":"'Cow Housing'!$C$6","v":"C-3333"},{"$f":"$B$57","v":0},{"$f":"$C$57","v":2},{"$f":"$D$57","v":41},7440393,null,{"$f":"'Livestock PM10 3'!D17","v":0},{"$f":"'Livestock PM10 3'!E17","v":0}]
[{"$f":"'Cow Housing'!$C$6","v":"C-3333"},{"$f":"$B$57","v":0},{"$f":"$C$57","v":2},{"$f":"$D$57","v":41},7440473,null,{"$f":"'Livestock PM10 3'!D19","v":0},{"$f":"'Livestock PM10 3'!E19","v":0}]
[{"$f":"'Cow Housing'!$C$6","v":"C-3333"},{"$f":"$B$57","v":0},{"$f":"$C$57","v":2},{"$f":"$D$57","v":41},7440508,null,{"$f":"'Livestock PM10 3'!D20","v":0},{"$f":"'Livestock PM10 3'!E20","v":0}]
[{"$f":"'Cow Housing'!$C$6","v":"C-3333"},{"$f":"$B$57","v":0},{"$f":"$C$57","v":2},{"$f":"$D$57","v":41},7440622,null,{"$f":"'Livestock PM10 3'!D29","v":0},{"$f":"'Livestock PM10 3'!E29","v":0}]
[{"$f":"'Cow Housing'!$C$6","v":"C-3333"},{"$f":"$B$57","v":0},{"$f":"$C$57","v":2},{"$f":"$D$57","v":41},7440666,null,{"$f":"'Livestock PM10 3'!D30","v":0},{"$f":"'Livestock PM10 3'!E30","v":0}]
[{"$f":"'Cow Housing'!$C$6","v":"C-3333"},{"$f":"$B$57","v":0},{"$f":"$C$57","v":2},{"$f":"$D$57","v":41},7664417,null,{"$f":"'Livestock PM10 3'!D31","v":0},{"$f":"'Livestock PM10 3'!E31","v":0}]
[{"$f":"'Cow Housing'!$C$6","v":"C-3333"},{"$f":"$B$57","v":0},{"$f":"$C$57","v":2},{"$f":"$D$57","v":41},7723140,null,{"$f":"'Livestock PM10 3'!D26","v":0},{"$f":"'Livestock PM10 3'!E26","v":0}]
[{"$f":"'Cow Housing'!$C$6","v":"C-3333"},{"$f":"$B$57","v":0},{"$f":"$C$57","v":2},{"$f":"$D$57","v":41},7726956,null,{"$f":"'Livestock PM10 3'!D18","v":0},{"$f":"'Livestock PM10 3'!E18","v":0}]
[{"$f":"'Cow Housing'!$C$6","v":"C-3333"},{"$f":"$B$57","v":0},{"$f":"$C$57","v":2},{"$f":"$D$57","v":41},7782492,null,{"$f":"'Livestock PM10 3'!D27","v":0},{"$f":"'Livestock PM10 3'!E27","v":0}]
[{"$f":"'Cow Housing'!$C$6","v":"C-3333"},{"$f":"$B$57","v":0},{"$f":"$C$57","v":2},{"$f":"$D$57","v":41},18540299,null,{"$f":"'Livestock PM10 3'!D21","v":0},{"$f":"'Livestock PM10 3'!E21","v":0}]
[{"$f":"'Cow Housing'!$C$6","v":"C-3333"},{"$f":"$B$58","v":0},{"$f":"$C$58","v":2},{"$f":"$D$58","v":42},9960,null,{"$f":"'Livestock PM10 3'!F28","v":0},{"$f":"'Livestock PM10 3'!G28","v":0}]
[{"$f":"'Cow Housing'!$C$6","v":"C-3333"},{"$f":"$B$58","v":0},{"$f":"$C$58","v":2},{"$f":"$D$58","v":42},50000,null,{"$f":"'Dairy Miscellaneous 3'!F40","v":0},{"$f":"'Dairy Miscellaneous 3'!G40","v":0}]
[{"$f":"'Cow Housing'!$C$6","v":"C-3333"},{"$f":"$B$58","v":0},{"$f":"$C$58","v":2},{"$f":"$D$58","v":42},56235,null,{"$f":"'Dairy Miscellaneous 3'!F30","v":0},{"$f":"'Dairy Miscellaneous 3'!G30","v":0}]
[{"$f":"'Cow Housing'!$C$6","v":"C-3333"},{"$f":"$B$58","v":0},{"$f":"$C$58","v":2},{"$f":"$D$58","v":42},67630,null,{"$f":"'Dairy Miscellaneous 3'!F42","v":0},{"$f":"'Dairy Miscellaneous 3'!G42","v":0}]
[{"$f":"'Cow Housing'!$C$6","v":"C-3333"},{"$f":"$B$58","v":0},{"$f":"$C$58","v":2},{"$f":"$D$58","v":42},67663,null,{"$f":"'Dairy Miscellaneous 3'!F32","v":0},{"$f":"'Dairy Miscellaneous 3'!G32","v":0}]
[{"$f":"'Cow Housing'!$C$6","v":"C-3333"},{"$f":"$B$58","v":0},{"$f":"$C$58","v":2},{"$f":"$D$58","v":42},71432,null,{"$f":"'Dairy Miscellaneous 3'!F26","v":0},{"$f":"'Dairy Miscellaneous 3'!G26","v":0}]
[{"$f":"'Cow Housing'!$C$6","v":"C-3333"},{"$f":"$B$58","v":0},{"$f":"$C$58","v":2},{"$f":"$D$58","v":42},74873,null,{"$f":"'Dairy Miscellaneous 3'!F33","v":0},{"$f":"'Dairy Miscellaneous 3'!G33","v":0}]
[{"$f":"'Cow Housing'!$C$6","v":"C-3333"},{"$f":"$B$58","v":0},{"$f":"$C$58","v":2},{"$f":"$D$58","v":42},75003,null,{"$f":"'Dairy Miscellaneous 3'!F36","v":0},{"$f":"'Dairy Miscellaneous 3'!G36","v":0}]
[{"$f":"'Cow Housing'!$C$6","v":"C-3333"},{"$f":"$B$58","v":0},{"$f":"$C$58","v":2},{"$f":"$D$58","v":42},75070,null,{"$f":"'Dairy Miscellaneous 3'!F24","v":0},{"$f":"'Dairy Miscellaneous 3'!G24","v":0}]
[{"$f":"'Cow Housing'!$C$6","v":"C-3333"},{"$f":"$B$58","v":0},{"$f":"$C$58","v":2},{"$f":"$D$58","v":42},75150,null,{"$f":"'Dairy Miscellaneous 3'!F29","v":0},{"$f":"'Dairy Miscellaneous 3'!G29","v":0}]
[{"$f":"'Cow Housing'!$C$6","v":"C-3333"},{"$f":"$B$58","v":0},{"$f":"$C$58","v":2},{"$f":"$D$58","v":42},75694,null,{"$f":"'Dairy Miscellaneous 3'!F49","v":0},{"$f":"'Dairy Miscellaneous 3'!G49","v":0}]
[{"$f":"'Cow Housing'!$C$6","v":"C-3333"},{"$f":"$B$58","v":0},{"$f":"$C$58","v":2},{"$f":"$D$58","v":42},78933,null,{"$f":"'Dairy Miscellaneous 3'!F44","v":0},{"$f":"'Dairy Miscellaneous 3'!G44","v":0}]
[{"$f":"'Cow Housing'!$C$6","v":"C-3333"},{"$f":"$B$58","v":0},{"$f":"$C$58","v":2},{"$f":"$D$58","v":42},79005,null,{"$f":"'Dairy Miscellaneous 3'!F16","v":0},{"$f":"'Dairy Miscellaneous 3'!G16","v":0}]
[{"$f":"'Cow Housing'!$C$6","v":"C-3333"},{"$f":"$B$58","v":0},{"$f":"$C$58","v":2},{"$f":"$D$58","v":42},79345,null,{"$f":"'Dairy Miscellaneous 3'!F15","v":0},{"$f":"'Dairy Miscellaneous 3'!G15","v":0}]
[{"$f":"'Cow Housing'!$C$6","v":"C-3333"},{"$f":"$B$58","v":0},{"$f":"$C$58","v":2},{"$f":"$D$58","v":42},95501,null,{"$f":"'Dairy Miscellaneous 3'!F20","v":0},{"$f":"'Dairy Miscellaneous 3'!G20","v":0}]
[{"$f":"'Cow Housing'!$C$6","v":"C-3333"},{"$f":"$B$58","v":0},{"$f":"$C$58","v":2},{"$f":"$D$58","v":42},96128,null,{"$f":"'Dairy Miscellaneous 3'!F19","v":0},{"$f":"'Dairy Miscellaneous 3'!G19","v":0}]
[{"$f":"'Cow Housing'!$C$6","v":"C-3333"},{"$f":"$B$58","v":0},{"$f":"$C$58","v":2},{"$f":"$D$58","v":42},96184,null,{"$f":"'Dairy Miscellaneous 3'!F17","v":0},{"$f":"'Dairy Miscellaneous 3'!G17","v":0}]
[{"$f":"'Cow Housing'!$C$6","v":"C-3333"},{"$f":"$B$58","v":0},{"$f":"$C$58","v":2},{"$f":"$D$58","v":42},98828,null,{"$f":"'Dairy Miscellaneous 3'!F43","v":0},{"$f":"'Dairy Miscellaneous 3'!G43","v":0}]
[{"$f":"'Cow Housing'!$C$6","v":"C-3333"},{"$f":"$B$58","v":0},{"$f":"$C$58","v":2},{"$f":"$D$58","v":42},100414,null,{"$f":"'Dairy Miscellaneous 3'!F37","v":0},{"$f":"'Dairy Miscellaneous 3'!G37","v":0}]
[{"$f":"'Cow Housing'!$C$6","v":"C-3333"},{"$f":"$B$58","v":0},{"$f":"$C$58","v":2},{"$f":"$D$58","v":42},100425,null,{"$f":"'Dairy Miscellaneous 3'!F46","v":0},{"$f":"'Dairy Miscellaneous 3'!G46","v":0}]
[{"$f":"'Cow Housing'!$C$6","v":"C-3333"},{"$f":"$B$58","v":0},{"$f":"$C$58","v":2},{"$f":"$D$58","v":42},100447,null,{"$f":"'Dairy Miscellaneous 3'!F27","v":0},{"$f":"'Dairy Miscellaneous 3'!G27","v":0}]
[{"$f":"'Cow Housing'!$C$6","v":"C-3333"},{"$f":"$B$58","v":0},{"$f":"$C$58","v":2},{"$f":"$D$58","v":42},106467,null,{"$f":"'Dairy Miscellaneous 3'!F23","v":0},{"$f":"'Dairy Miscellaneous 3'!G23","v":0}]
[{"$f":"'Cow Housing'!$C$6","v":"C-3333"},{"$f":"$B$58","v":0},{"$f":"$C$58","v":2},{"$f":"$D$58","v":42},106934,null,{"$f":"'Dairy Miscellaneous 3'!F38","v":0},{"$f":"'Dairy Miscellaneous 3'!G38","v":0}]
[{"$f":"'Cow Housing'!$C$6","v":"C-3333"},{"$f":"$B$58","v":0},{"$f":"$C$58","v":2},{"$f":"$D$58","v":42},107062,null,{"$f":"'Dairy Miscellaneous 3'!F39","v":0},{"$f":"'Dairy Miscellaneous 3'!G39","v":0}]
[{"$f":"'Cow Housing'!$C$6","v":"C-3333"},{"$f":"$B$58","v":0},{"$f":"$C$58","v":2},{"$f":"$D$58","v":42},107131,null,{"$f":"'Dairy Miscellaneous 3'!F25","v":0},{"$f":"'Dairy Miscellaneous 3'!G25","v":0}]
[{"$f":"'Cow Housing'!$C$6","v":"C-3333"},{"$f":"$B$58","v":0},{"$f":"$C$58","v":2},{"$f":"$D$58","v":42},108054,null,{"$f":"'Dairy Miscellaneous 3'!F50","v":0},{"$f":"'Dairy Miscellaneous 3'!G50","v":0}]
[{"$f":"'Cow Housing'!$C$6","v":"C-3333"},{"$f":"$B$58","v":0},{"$f":"$C$58","v":2},{"$f":"$D$58","v":42},108101,null,{"$f":"'Dairy Miscellaneous 3'!F45","v":0},{"$f":"'Dairy Miscellaneous 3'!G45","v":0}]
[{"$f":"'Cow Housing'!$C$6","v":"C-3333"},{"$f":"$B$58","v":0},{"$f":"$C$58","v":2},{"$f":"$D$58","v":42},108883,null,{"$f":"'Dairy Miscellaneous 3'!F48","v":0},{"$f":"'Dairy Miscellaneous 3'!G48","v":0}]
[{"$f":"'Cow Housing'!$C$6","v":"C-3333"},{"$f":"$B$58","v":0},{"$f":"$C$58","v":2},{"$f":"$D$58","v":42},108907,null,{"$f":"'Dairy Miscellaneous 3'!F31","v":0},{"$f":"'Dairy Miscellaneous 3'!G31","v":0}]
[{"$f":"'Cow Housing'!$C$6","v":"C-3333"},{"$f":"$B$58","v":0},{"$f":"$C$58","v":2},{"$f":"$D$58","v":42},110543,null,{"$f":"'Dairy Miscellaneous 3'!F41","v":0},{"$f":"'Dairy Miscellaneous 3'!G41","v":0}]
[{"$f":"'Cow Housing'!$C$6","v":"C-3333"},{"$f":"$B$58","v":0},{"$f":"$C$58","v":2},{"$f":"$D$58","v":42},110827,null,{"$f":"'Dairy Miscellaneous 3'!F35","v":0},{"$f":"'Dairy Miscellaneous 3'!G35","v":0}]
[{"$f":"'Cow Housing'!$C$6","v":"C-3333"},{"$f":"$B$58","v":0},{"$f":"$C$58","v":2},{"$f":"$D$58","v":42},120821,null,{"$f":"'Dairy Miscellaneous 3'!F18","v":0},{"$f":"'Dairy Miscellaneous 3'!G18","v":0}]
[{"$f":"'Cow Housing'!$C$6","v":"C-3333"},{"$f":"$B$58","v":0},{"$f":"$C$58","v":2},{"$f":"$D$58","v":42},123728,null,{"$f":"'Dairy Miscellaneous 3'!F28","v":0},{"$f":"'Dairy Miscellaneous 3'!G28","v":0}]
[{"$f":"'Cow Housing'!$C$6","v":"C-3333"},{"$f":"$B$58","v":0},{"$f":"$C$58","v":2},{"$f":"$D$58","v":42},123911,null,{"$f":"'Dairy Miscellaneous 3'!F22","v":0},{"$f":"'Dairy Miscellaneous 3'!G22","v":0}]
[{"$f":"'Cow Housing'!$C$6","v":"C-3333"},{"$f":"$B$58","v":0},{"$f":"$C$58","v":2},{"$f":"$D$58","v":42},541731,null,{"$f":"'Dairy Miscellaneous 3'!F21","v":0},{"$f":"'Dairy Miscellaneous 3'!G21","v":0}]
[{"$f":"'Cow Housing'!$C$6","v":"C-3333"},{"$f":"$B$58","v":0},{"$f":"$C$58","v":2},{"$f":"$D$58","v":42},764410,null,{"$f":"'Dairy Miscellaneous 3'!F47","v":0},{"$f":"'Dairy Miscellaneous 3'!G47","v":0}]
[{"$f":"'Cow Housing'!$C$6","v":"C-3333"},{"$f":"$B$58","v":0},{"$f":"$C$58","v":2},{"$f":"$D$58","v":42},1330207,null,{"$f":"'Dairy Miscellaneous 3'!F51","v":0},{"$f":"'Dairy Miscellaneous 3'!G51","v":0}]
[{"$f":"'Cow Housing'!$C$6","v":"C-3333"},{"$f":"$B$58","v":0},{"$f":"$C$58","v":2},{"$f":"$D$58","v":42},4170303,null,{"$f":"'Dairy Miscellaneous 3'!F34","v":0},{"$f":"'Dairy Miscellaneous 3'!G34","v":0}]
[{"$f":"'Cow Housing'!$C$6","v":"C-3333"},{"$f":"$B$58","v":0},{"$f":"$C$58","v":2},{"$f":"$D$58","v":42},7429905,null,{"$f":"'Livestock PM10 3'!F14","v":0},{"$f":"'Livestock PM10 3'!G14","v":0}]
[{"$f":"'Cow Housing'!$C$6","v":"C-3333"},{"$f":"$B$58","v":0},{"$f":"$C$58","v":2},{"$f":"$D$58","v":42},7439921,null,{"$f":"'Livestock PM10 3'!F22","v":0},{"$f":"'Livestock PM10 3'!G22","v":0}]
[{"$f":"'Cow Housing'!$C$6","v":"C-3333"},{"$f":"$B$58","v":0},{"$f":"$C$58","v":2},{"$f":"$D$58","v":42},7439965,null,{"$f":"'Livestock PM10 3'!F23","v":0},{"$f":"'Livestock PM10 3'!G23","v":0}]
[{"$f":"'Cow Housing'!$C$6","v":"C-3333"},{"$f":"$B$58","v":0},{"$f":"$C$58","v":2},{"$f":"$D$58","v":42},7439976,null,{"$f":"'Livestock PM10 3'!F24","v":0},{"$f":"'Livestock PM10 3'!G24","v":0}]
[{"$f":"'Cow Housing'!$C$6","v":"C-3333"},{"$f":"$B$58","v":0},{"$f":"$C$58","v":2},{"$f":"$D$58","v":42},7440020,null,{"$f":"'Livestock PM10 3'!F25","v":0},{"$f":"'Livestock PM10 3'!G25","v":0}]
[{"$f":"'Cow Housing'!$C$6","v":"C-3333"},{"$f":"$B$58","v":0},{"$f":"$C$58","v":2},{"$f":"$D$58","v":42},7440360,null,{"$f":"'Livestock PM10 3'!F15","v":0},{"$f":"'Livestock PM10 3'!G15","v":0}]
[{"$f":"'Cow Housing'!$C$6","v":"C-3333"},{"$f":"$B$58","v":0},{"$f":"$C$58","v":2},{"$f":"$D$58","v":42},7440382,null,{"$f":"'Livestock PM10 3'!F16","v":0},{"$f":"'Livestock PM10 3'!G16","v":0}]
[{"$f":"'Cow Housing'!$C$6","v":"C-3333"},{"$f":"$B$58","v":0},{"$f":"$C$58","v":2},{"$f":"$D$58","v":42},7440393,null,{"$f":"'Livestock PM10 3'!F17","v":0},{"$f":"'Livestock PM10 3'!G17","v":0}]
[{"$f":"'Cow Housing'!$C$6","v":"C-3333"},{"$f":"$B$58","v":0},{"$f":"$C$58","v":2},{"$f":"$D$58","v":42},7440473,null,{"$f":"'Livestock PM10 3'!F19","v":0},{"$f":"'Livestock PM10 3'!G19","v":0}]
[{"$f":"'Cow Housing'!$C$6","v":"C-3333"},{"$f":"$B$58","v":0},{"$f":"$C$58","v":2},{"$f":"$D$58","v":42},7440508,null,{"$f":"'Livestock PM10 3'!F20","v":0},{"$f":"'Livestock PM10 3'!G20","v":0}]
[{"$f":"'Cow Housing'!$C$6","v":"C-3333"},{"$f":"$B$58","v":0},{"$f":"$C$58","v":2},{"$f":"$D$58","v":42},7440622,null,{"$f":"'Livestock PM10 3'!F29","v":0},{"$f":"'Livestock PM10 3'!G29","v":0}]
[{"$f":"'Cow Housing'!$C$6","v":"C-3333"},{"$f":"$B$58","v":0},{"$f":"$C$58","v":2},{"$f":"$D$58","v":42},7440666,null,{"$f":"'Livestock PM10 3'!F30","v":0},{"$f":"'Livestock PM10 3'!G30","v":0}]
[{"$f":"'Cow Housing'!$C$6","v":"C-3333"},{"$f":"$B$58","v":0},{"$f":"$C$58","v":2},{"$f":"$D$58","v":42},7664417,null,{"$f":"'Livestock PM10 3'!F31","v":0},{"$f":"'Livestock PM10 3'!G31","v":0}]
[{"$f":"'Cow Housing'!$C$6","v":"C-3333"},{"$f":"$B$58","v":0},{"$f":"$C$58","v":2},{"$f":"$D$58","v":42},7723140,null,{"$f":"'Livestock PM10 3'!F26","v":0},{"$f":"'Livestock PM10 3'!G26","v":0}]
[{"$f":"'Cow Housing'!$C$6","v":"C-3333"},{"$f":"$B$58","v":0},{"$f":"$C$58","v":2},{"$f":"$D$58","v":42},7726956,null,{"$f":"'Livestock PM10 3'!F18","v":0},{"$f":"'Livestock PM10 3'!G18","v":0}]
[{"$f":"'Cow Housing'!$C$6","v":"C-3333"},{"$f":"$B$58","v":0},{"$f":"$C$58","v":2},{"$f":"$D$58","v":42},7782492,null,{"$f":"'Livestock PM10 3'!F27","v":0},{"$f":"'Livestock PM10 3'!G27","v":0}]
[{"$f":"'Cow Housing'!$C$6","v":"C-3333"},{"$f":"$B$58","v":0},{"$f":"$C$58","v":2},{"$f":"$D$58","v":42},18540299,null,{"$f":"'Livestock PM10 3'!F21","v":0},{"$f":"'Livestock PM10 3'!G21","v":0}]
[{"$f":"'Cow Housing'!$C$6","v":"C-3333"},{"$f":"$B$59","v":0},{"$f":"$C$59","v":2},{"$f":"$D$59","v":43},9960,null,{"$f":"'Livestock PM10 3'!H28","v":0},{"$f":"'Livestock PM10 3'!I28","v":0}]
[{"$f":"'Cow Housing'!$C$6","v":"C-3333"},{"$f":"$B$59","v":0},{"$f":"$C$59","v":2},{"$f":"$D$59","v":43},50000,null,{"$f":"'Dairy Miscellaneous 3'!H40","v":0},{"$f":"'Dairy Miscellaneous 3'!I40","v":0}]
[{"$f":"'Cow Housing'!$C$6","v":"C-3333"},{"$f":"$B$59","v":0},{"$f":"$C$59","v":2},{"$f":"$D$59","v":43},56235,null,{"$f":"'Dairy Miscellaneous 3'!H30","v":0},{"$f":"'Dairy Miscellaneous 3'!I30","v":0}]
[{"$f":"'Cow Housing'!$C$6","v":"C-3333"},{"$f":"$B$59","v":0},{"$f":"$C$59","v":2},{"$f":"$D$59","v":43},67630,null,{"$f":"'Dairy Miscellaneous 3'!H42","v":0},{"$f":"'Dairy Miscellaneous 3'!I42","v":0}]
[{"$f":"'Cow Housing'!$C$6","v":"C-3333"},{"$f":"$B$59","v":0},{"$f":"$C$59","v":2},{"$f":"$D$59","v":43},67663,null,{"$f":"'Dairy Miscellaneous 3'!H32","v":0},{"$f":"'Dairy Miscellaneous 3'!I32","v":0}]
[{"$f":"'Cow Housing'!$C$6","v":"C-3333"},{"$f":"$B$59","v":0},{"$f":"$C$59","v":2},{"$f":"$D$59","v":43},71432,null,{"$f":"'Dairy Miscellaneous 3'!H26","v":0},{"$f":"'Dairy Miscellaneous 3'!I26","v":0}]
[{"$f":"'Cow Housing'!$C$6","v":"C-3333"},{"$f":"$B$59","v":0},{"$f":"$C$59","v":2},{"$f":"$D$59","v":43},74873,null,{"$f":"'Dairy Miscellaneous 3'!H33","v":0},{"$f":"'Dairy Miscellaneous 3'!I33","v":0}]
[{"$f":"'Cow Housing'!$C$6","v":"C-3333"},{"$f":"$B$59","v":0},{"$f":"$C$59","v":2},{"$f":"$D$59","v":43},75003,null,{"$f":"'Dairy Miscellaneous 3'!H36","v":0},{"$f":"'Dairy Miscellaneous 3'!I36","v":0}]
[{"$f":"'Cow Housing'!$C$6","v":"C-3333"},{"$f":"$B$59","v":0},{"$f":"$C$59","v":2},{"$f":"$D$59","v":43},75070,null,{"$f":"'Dairy Miscellaneous 3'!H24","v":0},{"$f":"'Dairy Miscellaneous 3'!I24","v":0}]
[{"$f":"'Cow Housing'!$C$6","v":"C-3333"},{"$f":"$B$59","v":0},{"$f":"$C$59","v":2},{"$f":"$D$59","v":43},75150,null,{"$f":"'Dairy Miscellaneous 3'!H29","v":0},{"$f":"'Dairy Miscellaneous 3'!I29","v":0}]
[{"$f":"'Cow Housing'!$C$6","v":"C-3333"},{"$f":"$B$59","v":0},{"$f":"$C$59","v":2},{"$f":"$D$59","v":43},75694,null,{"$f":"'Dairy Miscellaneous 3'!H49","v":0},{"$f":"'Dairy Miscellaneous 3'!I49","v":0}]
[{"$f":"'Cow Housing'!$C$6","v":"C-3333"},{"$f":"$B$59","v":0},{"$f":"$C$59","v":2},{"$f":"$D$59","v":43},78933,null,{"$f":"'Dairy Miscellaneous 3'!H44","v":0},{"$f":"'Dairy Miscellaneous 3'!I44","v":0}]
[{"$f":"'Cow Housing'!$C$6","v":"C-3333"},{"$f":"$B$59","v":0},{"$f":"$C$59","v":2},{"$f":"$D$59","v":43},79005,null,{"$f":"'Dairy Miscellaneous 3'!H16","v":0},{"$f":"'Dairy Miscellaneous 3'!I16","v":0}]
[{"$f":"'Cow Housing'!$C$6","v":"C-3333"},{"$f":"$B$59","v":0},{"$f":"$C$59","v":2},{"$f":"$D$59","v":43},79345,null,{"$f":"'Dairy Miscellaneous 3'!H15","v":0},{"$f":"'Dairy Miscellaneous 3'!I15","v":0}]
[{"$f":"'Cow Housing'!$C$6","v":"C-3333"},{"$f":"$B$59","v":0},{"$f":"$C$59","v":2},{"$f":"$D$59","v":43},95501,null,{"$f":"'Dairy Miscellaneous 3'!H20","v":0},{"$f":"'Dairy Miscellaneous 3'!I20","v":0}]
[{"$f":"'Cow Housing'!$C$6","v":"C-3333"},{"$f":"$B$59","v":0},{"$f":"$C$59","v":2},{"$f":"$D$59","v":43},96128,null,{"$f":"'Dairy Miscellaneous 3'!H19","v":0},{"$f":"'Dairy Miscellaneous 3'!I19","v":0}]
[{"$f":"'Cow Housing'!$C$6","v":"C-3333"},{"$f":"$B$59","v":0},{"$f":"$C$59","v":2},{"$f":"$D$59","v":43},96184,null,{"$f":"'Dairy Miscellaneous 3'!H17","v":0},{"$f":"'Dairy Miscellaneous 3'!I17","v":0}]
[{"$f":"'Cow Housing'!$C$6","v":"C-3333"},{"$f":"$B$59","v":0},{"$f":"$C$59","v":2},{"$f":"$D$59","v":43},98828,null,{"$f":"'Dairy Miscellaneous 3'!H43","v":0},{"$f":"'Dairy Miscellaneous 3'!I43","v":0}]
[{"$f":"'Cow Housing'!$C$6","v":"C-3333"},{"$f":"$B$59","v":0},{"$f":"$C$59","v":2},{"$f":"$D$59","v":43},100414,null,{"$f":"'Dairy Miscellaneous 3'!H37","v":0},{"$f":"'Dairy Miscellaneous 3'!I37","v":0}]
[{"$f":"'Cow Housing'!$C$6","v":"C-3333"},{"$f":"$B$59","v":0},{"$f":"$C$59","v":2},{"$f":"$D$59","v":43},100425,null,{"$f":"'Dairy Miscellaneous 3'!H46","v":0},{"$f":"'Dairy Miscellaneous 3'!I46","v":0}]
[{"$f":"'Cow Housing'!$C$6","v":"C-3333"},{"$f":"$B$59","v":0},{"$f":"$C$59","v":2},{"$f":"$D$59","v":43},100447,null,{"$f":"'Dairy Miscellaneous 3'!H27","v":0},{"$f":"'Dairy Miscellaneous 3'!I27","v":0}]
[{"$f":"'Cow Housing'!$C$6","v":"C-3333"},{"$f":"$B$59","v":0},{"$f":"$C$59","v":2},{"$f":"$D$59","v":43},106467,null,{"$f":"'Dairy Miscellaneous 3'!H23","v":0},{"$f":"'Dairy Miscellaneous 3'!I23","v":0}]
[{"$f":"'Cow Housing'!$C$6","v":"C-3333"},{"$f":"$B$59","v":0},{"$f":"$C$59","v":2},{"$f":"$D$59","v":43},106934,null,{"$f":"'Dairy Miscellaneous 3'!H38","v":0},{"$f":"'Dairy Miscellaneous 3'!I38","v":0}]
[{"$f":"'Cow Housing'!$C$6","v":"C-3333"},{"$f":"$B$59","v":0},{"$f":"$C$59","v":2},{"$f":"$D$59","v":43},107062,null,{"$f":"'Dairy Miscellaneous 3'!H39","v":0},{"$f":"'Dairy Miscellaneous 3'!I39","v":0}]
[{"$f":"'Cow Housing'!$C$6","v":"C-3333"},{"$f":"$B$59","v":0},{"$f":"$C$59","v":2},{"$f":"$D$59","v":43},107131,null,{"$f":"'Dairy Miscellaneous 3'!H25","v":0},{"$f":"'Dairy Miscellaneous 3'!I25","v":0}]
[{"$f":"'Cow Housing'!$C$6","v":"C-3333"},{"$f":"$B$59","v":0},{"$f":"$C$59","v":2},{"$f":"$D$59","v":43},108054,null,{"$f":"'Dairy Miscellaneous 3'!H50","v":0},{"$f":"'Dairy Miscellaneous 3'!I50","v":0}]
[{"$f":"'Cow Housing'!$C$6","v":"C-3333"},{"$f":"$B$59","v":0},{"$f":"$C$59","v":2},{"$f":"$D$59","v":43},108101,null,{"$f":"'Dairy Miscellaneous 3'!H45","v":0},{"$f":"'Dairy Miscellaneous 3'!I45","v":0}]
[{"$f":"'Cow Housing'!$C$6","v":"C-3333"},{"$f":"$B$59","v":0},{"$f":"$C$59","v":2},{"$f":"$D$59","v":43},108883,null,{"$f":"'Dairy Miscellaneous 3'!H48","v":0},{"$f":"'Dairy Miscellaneous 3'!I48","v":0}]
[{"$f":"'Cow Housing'!$C$6","v":"C-3333"},{"$f":"$B$59","v":0},{"$f":"$C$59","v":2},{"$f":"$D$59","v":43},108907,null,{"$f":"'Dairy Miscellaneous 3'!H31","v":0},{"$f":"'Dairy Miscellaneous 3'!I31","v":0}]
[{"$f":"'Cow Housing'!$C$6","v":"C-3333"},{"$f":"$B$59","v":0},{"$f":"$C$59","v":2},{"$f":"$D$59","v":43},110543,null,{"$f":"'Dairy Miscellaneous 3'!H41","v":0},{"$f":"'Dairy Miscellaneous 3'!I41","v":0}]
[{"$f":"'Cow Housing'!$C$6","v":"C-3333"},{"$f":"$B$59","v":0},{"$f":"$C$59","v":2},{"$f":"$D$59","v":43},110827,null,{"$f":"'Dairy Miscellaneous 3'!H35","v":0},{"$f":"'Dairy Miscellaneous 3'!I35","v":0}]
[{"$f":"'Cow Housing'!$C$6","v":"C-3333"},{"$f":"$B$59","v":0},{"$f":"$C$59","v":2},{"$f":"$D$59","v":43},120821,null,{"$f":"'Dairy Miscellaneous 3'!H18","v":0},{"$f":"'Dairy Miscellaneous 3'!I18","v":0}]
[{"$f":"'Cow Housing'!$C$6","v":"C-3333"},{"$f":"$B$59","v":0},{"$f":"$C$59","v":2},{"$f":"$D$59","v":43},123728,null,{"$f":"'Dairy Miscellaneous 3'!H28","v":0},{"$f":"'Dairy Miscellaneous 3'!I28","v":0}]
[{"$f":"'Cow Housing'!$C$6","v":"C-3333"},{"$f":"$B$59","v":0},{"$f":"$C$59","v":2},{"$f":"$D$59","v":43},123911,null,{"$f":"'Dairy Miscellaneous 3'!H22","v":0},{"$f":"'Dairy Miscellaneous 3'!I22","v":0}]
[{"$f":"'Cow Housing'!$C$6","v":"C-3333"},{"$f":"$B$59","v":0},{"$f":"$C$59","v":2},{"$f":"$D$59","v":43},541731,null,{"$f":"'Dairy Miscellaneous 3'!H21","v":0},{"$f":"'Dairy Miscellaneous 3'!I21","v":0}]
[{"$f":"'Cow Housing'!$C$6","v":"C-3333"},{"$f":"$B$59","v":0},{"$f":"$C$59","v":2},{"$f":"$D$59","v":43},764410,null,{"$f":"'Dairy Miscellaneous 3'!H47","v":0},{"$f":"'Dairy Miscellaneous 3'!I47","v":0}]
[{"$f":"'Cow Housing'!$C$6","v":"C-3333"},{"$f":"$B$59","v":0},{"$f":"$C$59","v":2},{"$f":"$D$59","v":43},1330207,null,{"$f":"'Dairy Miscellaneous 3'!H51","v":0},{"$f":"'Dairy Miscellaneous 3'!I51","v":0}]
[{"$f":"'Cow Housing'!$C$6","v":"C-3333"},{"$f":"$B$59","v":0},{"$f":"$C$59","v":2},{"$f":"$D$59","v":43},4170303,null,{"$f":"'Dairy Miscellaneous 3'!H34","v":0},{"$f":"'Dairy Miscellaneous 3'!I34","v":0}]
[{"$f":"'Cow Housing'!$C$6","v":"C-3333"},{"$f":"$B$59","v":0},{"$f":"$C$59","v":2},{"$f":"$D$59","v":43},7429905,null,{"$f":"'Livestock PM10 3'!H14","v":0},{"$f":"'Livestock PM10 3'!I14","v":0}]
[{"$f":"'Cow Housing'!$C$6","v":"C-3333"},{"$f":"$B$59","v":0},{"$f":"$C$59","v":2},{"$f":"$D$59","v":43},7439921,null,{"$f":"'Livestock PM10 3'!H22","v":0},{"$f":"'Livestock PM10 3'!I22","v":0}]
[{"$f":"'Cow Housing'!$C$6","v":"C-3333"},{"$f":"$B$59","v":0},{"$f":"$C$59","v":2},{"$f":"$D$59","v":43},7439965,null,{"$f":"'Livestock PM10 3'!H23","v":0},{"$f":"'Livestock PM10 3'!I23","v":0}]
[{"$f":"'Cow Housing'!$C$6","v":"C-3333"},{"$f":"$B$59","v":0},{"$f":"$C$59","v":2},{"$f":"$D$59","v":43},7439976,null,{"$f":"'Livestock PM10 3'!H24","v":0},{"$f":"'Livestock PM10 3'!I24","v":0}]
[{"$f":"'Cow Housing'!$C$6","v":"C-3333"},{"$f":"$B$59","v":0},{"$f":"$C$59","v":2},{"$f":"$D$59","v":43},7440020,null,{"$f":"'Livestock PM10 3'!H25","v":0},{"$f":"'Livestock PM10 3'!I25","v":0}]
[{"$f":"'Cow Housing'!$C$6","v":"C-3333"},{"$f":"$B$59","v":0},{"$f":"$C$59","v":2},{"$f":"$D$59","v":43},7440360,null,{"$f":"'Livestock PM10 3'!H15","v":0},{"$f":"'Livestock PM10 3'!I15","v":0}]
[{"$f":"'Cow Housing'!$C$6","v":"C-3333"},{"$f":"$B$59","v":0},{"$f":"$C$59","v":2},{"$f":"$D$59","v":43},7440382,null,{"$f":"'Livestock PM10 3'!H16","v":0},{"$f":"'Livestock PM10 3'!I16","v":0}]
[{"$f":"'Cow Housing'!$C$6","v":"C-3333"},{"$f":"$B$59","v":0},{"$f":"$C$59","v":2},{"$f":"$D$59","v":43},7440393,null,{"$f":"'Livestock PM10 3'!H17","v":0},{"$f":"'Livestock PM10 3'!I17","v":0}]
[{"$f":"'Cow Housing'!$C$6","v":"C-3333"},{"$f":"$B$59","v":0},{"$f":"$C$59","v":2},{"$f":"$D$59","v":43},7440473,null,{"$f":"'Livestock PM10 3'!H19","v":0},{"$f":"'Livestock PM10 3'!I19","v":0}]
[{"$f":"'Cow Housing'!$C$6","v":"C-3333"},{"$f":"$B$59","v":0},{"$f":"$C$59","v":2},{"$f":"$D$59","v":43},7440508,null,{"$f":"'Livestock PM10 3'!H20","v":0},{"$f":"'Livestock PM10 3'!I20","v":0}]
[{"$f":"'Cow Housing'!$C$6","v":"C-3333"},{"$f":"$B$59","v":0},{"$f":"$C$59","v":2},{"$f":"$D$59","v":43},7440622,null,{"$f":"'Livestock PM10 3'!H29","v":0},{"$f":"'Livestock PM10 3'!I29","v":0}]
[{"$f":"'Cow Housing'!$C$6","v":"C-3333"},{"$f":"$B$59","v":0},{"$f":"$C$59","v":2},{"$f":"$D$59","v":43},7440666,null,{"$f":"'Livestock PM10 3'!H30","v":0},{"$f":"'Livestock PM10 3'!I30","v":0}]
[{"$f":"'Cow Housing'!$C$6","v":"C-3333"},{"$f":"$B$59","v":0},{"$f":"$C$59","v":2},{"$f":"$D$59","v":43},7664417,null,{"$f":"'Livestock PM10 3'!H31","v":0},{"$f":"'Livestock PM10 3'!I31","v":0}]
[{"$f":"'Cow Housing'!$C$6","v":"C-3333"},{"$f":"$B$59","v":0},{"$f":"$C$59","v":2},{"$f":"$D$59","v":43},7723140,null,{"$f":"'Livestock PM10 3'!H26","v":0},{"$f":"'Livestock PM10 3'!I26","v":0}]
[{"$f":"'Cow Housing'!$C$6","v":"C-3333"},{"$f":"$B$59","v":0},{"$f":"$C$59","v":2},{"$f":"$D$59","v":43},7726956,null,{"$f":"'Livestock PM10 3'!H18","v":0},{"$f":"'Livestock PM10 3'!I18","v":0}]
[{"$f":"'Cow Housing'!$C$6","v":"C-3333"},{"$f":"$B$59","v":0},{"$f":"$C$59","v":2},{"$f":"$D$59","v":43},7782492,null,{"$f":"'Livestock PM10 3'!H27","v":0},{"$f":"'Livestock PM10 3'!I27","v":0}]
[{"$f":"'Cow Housing'!$C$6","v":"C-3333"},{"$f":"$B$59","v":0},{"$f":"$C$59","v":2},{"$f":"$D$59","v":43},18540299,null,{"$f":"'Livestock PM10 3'!H21","v":0},{"$f":"'Livestock PM10 3'!I21","v":0}]
[{"$f":"'Cow Housing'!$C$6","v":"C-3333"},{"$f":"$B$60","v":0},{"$f":"$C$60","v":2},{"$f":"$D$60","v":44},9960,null,{"$f":"'Livestock PM10 3'!J28","v":0},{"$f":"'Livestock PM10 3'!K28","v":0}]
[{"$f":"'Cow Housing'!$C$6","v":"C-3333"},{"$f":"$B$60","v":0},{"$f":"$C$60","v":2},{"$f":"$D$60","v":44},50000,null,{"$f":"'Dairy Miscellaneous 3'!J40","v":0},{"$f":"'Dairy Miscellaneous 3'!K40","v":0}]
[{"$f":"'Cow Housing'!$C$6","v":"C-3333"},{"$f":"$B$60","v":0},{"$f":"$C$60","v":2},{"$f":"$D$60","v":44},56235,null,{"$f":"'Dairy Miscellaneous 3'!J30","v":0},{"$f":"'Dairy Miscellaneous 3'!K30","v":0}]
[{"$f":"'Cow Housing'!$C$6","v":"C-3333"},{"$f":"$B$60","v":0},{"$f":"$C$60","v":2},{"$f":"$D$60","v":44},67630,null,{"$f":"'Dairy Miscellaneous 3'!J42","v":0},{"$f":"'Dairy Miscellaneous 3'!K42","v":0}]
[{"$f":"'Cow Housing'!$C$6","v":"C-3333"},{"$f":"$B$60","v":0},{"$f":"$C$60","v":2},{"$f":"$D$60","v":44},67663,null,{"$f":"'Dairy Miscellaneous 3'!J32","v":0},{"$f":"'Dairy Miscellaneous 3'!K32","v":0}]
[{"$f":"'Cow Housing'!$C$6","v":"C-3333"},{"$f":"$B$60","v":0},{"$f":"$C$60","v":2},{"$f":"$D$60","v":44},71432,null,{"$f":"'Dairy Miscellaneous 3'!J26","v":0},{"$f":"'Dairy Miscellaneous 3'!K26","v":0}]
[{"$f":"'Cow Housing'!$C$6","v":"C-3333"},{"$f":"$B$60","v":0},{"$f":"$C$60","v":2},{"$f":"$D$60","v":44},74873,null,{"$f":"'Dairy Miscellaneous 3'!J33","v":0},{"$f":"'Dairy Miscellaneous 3'!K33","v":0}]
[{"$f":"'Cow Housing'!$C$6","v":"C-3333"},{"$f":"$B$60","v":0},{"$f":"$C$60","v":2},{"$f":"$D$60","v":44},75003,null,{"$f":"'Dairy Miscellaneous 3'!J36","v":0},{"$f":"'Dairy Miscellaneous 3'!K36","v":0}]
[{"$f":"'Cow Housing'!$C$6","v":"C-3333"},{"$f":"$B$60","v":0},{"$f":"$C$60","v":2},{"$f":"$D$60","v":44},75070,null,{"$f":"'Dairy Miscellaneous 3'!J24","v":0},{"$f":"'Dairy Miscellaneous 3'!K24","v":0}]
[{"$f":"'Cow Housing'!$C$6","v":"C-3333"},{"$f":"$B$60","v":0},{"$f":"$C$60","v":2},{"$f":"$D$60","v":44},75150,null,{"$f":"'Dairy Miscellaneous 3'!J29","v":0},{"$f":"'Dairy Miscellaneous 3'!K29","v":0}]
[{"$f":"'Cow Housing'!$C$6","v":"C-3333"},{"$f":"$B$60","v":0},{"$f":"$C$60","v":2},{"$f":"$D$60","v":44},75694,null,{"$f":"'Dairy Miscellaneous 3'!J49","v":0},{"$f":"'Dairy Miscellaneous 3'!K49","v":0}]
[{"$f":"'Cow Housing'!$C$6","v":"C-3333"},{"$f":"$B$60","v":0},{"$f":"$C$60","v":2},{"$f":"$D$60","v":44},78933,null,{"$f":"'Dairy Miscellaneous 3'!J44","v":0},{"$f":"'Dairy Miscellaneous 3'!K44","v":0}]
[{"$f":"'Cow Housing'!$C$6","v":"C-3333"},{"$f":"$B$60","v":0},{"$f":"$C$60","v":2},{"$f":"$D$60","v":44},79005,null,{"$f":"'Dairy Miscellaneous 3'!J16","v":0},{"$f":"'Dairy Miscellaneous 3'!K16","v":0}]
[{"$f":"'Cow Housing'!$C$6","v":"C-3333"},{"$f":"$B$60","v":0},{"$f":"$C$60","v":2},{"$f":"$D$60","v":44},79345,null,{"$f":"'Dairy Miscellaneous 3'!J15","v":0},{"$f":"'Dairy Miscellaneous 3'!K15","v":0}]
[{"$f":"'Cow Housing'!$C$6","v":"C-3333"},{"$f":"$B$60","v":0},{"$f":"$C$60","v":2},{"$f":"$D$60","v":44},95501,null,{"$f":"'Dairy Miscellaneous 3'!J20","v":0},{"$f":"'Dairy Miscellaneous 3'!K20","v":0}]
[{"$f":"'Cow Housing'!$C$6","v":"C-3333"},{"$f":"$B$60","v":0},{"$f":"$C$60","v":2},{"$f":"$D$60","v":44},96128,null,{"$f":"'Dairy Miscellaneous 3'!J19","v":0},{"$f":"'Dairy Miscellaneous 3'!K19","v":0}]
[{"$f":"'Cow Housing'!$C$6","v":"C-3333"},{"$f":"$B$60","v":0},{"$f":"$C$60","v":2},{"$f":"$D$60","v":44},96184,null,{"$f":"'Dairy Miscellaneous 3'!J17","v":0},{"$f":"'Dairy Miscellaneous 3'!K17","v":0}]
[{"$f":"'Cow Housing'!$C$6","v":"C-3333"},{"$f":"$B$60","v":0},{"$f":"$C$60","v":2},{"$f":"$D$60","v":44},98828,null,{"$f":"'Dairy Miscellaneous 3'!J43","v":0},{"$f":"'Dairy Miscellaneous 3'!K43","v":0}]
[{"$f":"'Cow Housing'!$C$6","v":"C-3333"},{"$f":"$B$60","v":0},{"$f":"$C$60","v":2},{"$f":"$D$60","v":44},100414,null,{"$f":"'Dairy Miscellaneous 3'!J37","v":0},{"$f":"'Dairy Miscellaneous 3'!K37","v":0}]
[{"$f":"'Cow Housing'!$C$6","v":"C-3333"},{"$f":"$B$60","v":0},{"$f":"$C$60","v":2},{"$f":"$D$60","v":44},100425,null,{"$f":"'Dairy Miscellaneous 3'!J46","v":0},{"$f":"'Dairy Miscellaneous 3'!K46","v":0}]
[{"$f":"'Cow Housing'!$C$6","v":"C-3333"},{"$f":"$B$60","v":0},{"$f":"$C$60","v":2},{"$f":"$D$60","v":44},100447,null,{"$f":"'Dairy Miscellaneous 3'!J27","v":0},{"$f":"'Dairy Miscellaneous 3'!K27","v":0}]
[{"$f":"'Cow Housing'!$C$6","v":"C-3333"},{"$f":"$B$60","v":0},{"$f":"$C$60","v":2},{"$f":"$D$60","v":44},106467,null,{"$f":"'Dairy Miscellaneous 3'!J23","v":0},{"$f":"'Dairy Miscellaneous 3'!K23","v":0}]
[{"$f":"'Cow Housing'!$C$6","v":"C-3333"},{"$f":"$B$60","v":0},{"$f":"$C$60","v":2},{"$f":"$D$60","v":44},106934,null,{"$f":"'Dairy Miscellaneous 3'!J38","v":0},{"$f":"'Dairy Miscellaneous 3'!K38","v":0}]
[{"$f":"'Cow Housing'!$C$6","v":"C-3333"},{"$f":"$B$60","v":0},{"$f":"$C$60","v":2},{"$f":"$D$60","v":44},107062,null,{"$f":"'Dairy Miscellaneous 3'!J39","v":0},{"$f":"'Dairy Miscellaneous 3'!K39","v":0}]
[{"$f":"'Cow Housing'!$C$6","v":"C-3333"},{"$f":"$B$60","v":0},{"$f":"$C$60","v":2},{"$f":"$D$60","v":44},107131,null,{"$f":"'Dairy Miscellaneous 3'!J25","v":0},{"$f":"'Dairy Miscellaneous 3'!K25","v":0}]
[{"$f":"'Cow Housing'!$C$6","v":"C-3333"},{"$f":"$B$60","v":0},{"$f":"$C$60","v":2},{"$f":"$D$60","v":44},108054,null,{"$f":"'Dairy Miscellaneous 3'!J50","v":0},{"$f":"'Dairy Miscellaneous 3'!K50","v":0}]
[{"$f":"'Cow Housing'!$C$6","v":"C-3333"},{"$f":"$B$60","v":0},{"$f":"$C$60","v":2},{"$f":"$D$60","v":44},108101,null,{"$f":"'Dairy Miscellaneous 3'!J45","v":0},{"$f":"'Dairy Miscellaneous 3'!K45","v":0}]
[{"$f":"'Cow Housing'!$C$6","v":"C-3333"},{"$f":"$B$60","v":0},{"$f":"$C$60","v":2},{"$f":"$D$60","v":44},108883,null,{"$f":"'Dairy Miscellaneous 3'!J48","v":0},{"$f":"'Dairy Miscellaneous 3'!K48","v":0}]
[{"$f":"'Cow Housing'!$C$6","v":"C-3333"},{"$f":"$B$60","v":0},{"$f":"$C$60","v":2},{"$f":"$D$60","v":44},108907,null,{"$f":"'Dairy Miscellaneous 3'!J31","v":0},{"$f":"'Dairy Miscellaneous 3'!K31","v":0}]
[{"$f":"'Cow Housing'!$C$6","v":"C-3333"},{"$f":"$B$60","v":0},{"$f":"$C$60","v":2},{"$f":"$D$60","v":44},110543,null,{"$f":"'Dairy Miscellaneous 3'!J41","v":0},{"$f":"'Dairy Miscellaneous 3'!K41","v":0}]
[{"$f":"'Cow Housing'!$C$6","v":"C-3333"},{"$f":"$B$60","v":0},{"$f":"$C$60","v":2},{"$f":"$D$60","v":44},110827,null,{"$f":"'Dairy Miscellaneous 3'!J35","v":0},{"$f":"'Dairy Miscellaneous 3'!K35","v":0}]
[{"$f":"'Cow Housing'!$C$6","v":"C-3333"},{"$f":"$B$60","v":0},{"$f":"$C$60","v":2},{"$f":"$D$60","v":44},120821,null,{"$f":"'Dairy Miscellaneous 3'!J18","v":0},{"$f":"'Dairy Miscellaneous 3'!K18","v":0}]
[{"$f":"'Cow Housing'!$C$6","v":"C-3333"},{"$f":"$B$60","v":0},{"$f":"$C$60","v":2},{"$f":"$D$60","v":44},123728,null,{"$f":"'Dairy Miscellaneous 3'!J28","v":0},{"$f":"'Dairy Miscellaneous 3'!K28","v":0}]
[{"$f":"'Cow Housing'!$C$6","v":"C-3333"},{"$f":"$B$60","v":0},{"$f":"$C$60","v":2},{"$f":"$D$60","v":44},123911,null,{"$f":"'Dairy Miscellaneous 3'!J22","v":0},{"$f":"'Dairy Miscellaneous 3'!K22","v":0}]
[{"$f":"'Cow Housing'!$C$6","v":"C-3333"},{"$f":"$B$60","v":0},{"$f":"$C$60","v":2},{"$f":"$D$60","v":44},541731,null,{"$f":"'Dairy Miscellaneous 3'!J21","v":0},{"$f":"'Dairy Miscellaneous 3'!K21","v":0}]
[{"$f":"'Cow Housing'!$C$6","v":"C-3333"},{"$f":"$B$60","v":0},{"$f":"$C$60","v":2},{"$f":"$D$60","v":44},764410,null,{"$f":"'Dairy Miscellaneous 3'!J47","v":0},{"$f":"'Dairy Miscellaneous 3'!K47","v":0}]
[{"$f":"'Cow Housing'!$C$6","v":"C-3333"},{"$f":"$B$60","v":0},{"$f":"$C$60","v":2},{"$f":"$D$60","v":44},1330207,null,{"$f":"'Dairy Miscellaneous 3'!J51","v":0},{"$f":"'Dairy Miscellaneous 3'!K51","v":0}]
[{"$f":"'Cow Housing'!$C$6","v":"C-3333"},{"$f":"$B$60","v":0},{"$f":"$C$60","v":2},{"$f":"$D$60","v":44},4170303,null,{"$f":"'Dairy Miscellaneous 3'!J34","v":0},{"$f":"'Dairy Miscellaneous 3'!K34","v":0}]
[{"$f":"'Cow Housing'!$C$6","v":"C-3333"},{"$f":"$B$60","v":0},{"$f":"$C$60","v":2},{"$f":"$D$60","v":44},7429905,null,{"$f":"'Livestock PM10 3'!J14","v":0},{"$f":"'Livestock PM10 3'!K14","v":0}]
[{"$f":"'Cow Housing'!$C$6","v":"C-3333"},{"$f":"$B$60","v":0},{"$f":"$C$60","v":2},{"$f":"$D$60","v":44},7439921,null,{"$f":"'Livestock PM10 3'!J22","v":0},{"$f":"'Livestock PM10 3'!K22","v":0}]
[{"$f":"'Cow Housing'!$C$6","v":"C-3333"},{"$f":"$B$60","v":0},{"$f":"$C$60","v":2},{"$f":"$D$60","v":44},7439965,null,{"$f":"'Livestock PM10 3'!J23","v":0},{"$f":"'Livestock PM10 3'!K23","v":0}]
[{"$f":"'Cow Housing'!$C$6","v":"C-3333"},{"$f":"$B$60","v":0},{"$f":"$C$60","v":2},{"$f":"$D$60","v":44},7439976,null,{"$f":"'Livestock PM10 3'!J24","v":0},{"$f":"'Livestock PM10 3'!K24","v":0}]
[{"$f":"'Cow Housing'!$C$6","v":"C-3333"},{"$f":"$B$60","v":0},{"$f":"$C$60","v":2},{"$f":"$D$60","v":44},7440020,null,{"$f":"'Livestock PM10 3'!J25","v":0},{"$f":"'Livestock PM10 3'!K25","v":0}]
[{"$f":"'Cow Housing'!$C$6","v":"C-3333"},{"$f":"$B$60","v":0},{"$f":"$C$60","v":2},{"$f":"$D$60","v":44},7440360,null,{"$f":"'Livestock PM10 3'!J15","v":0},{"$f":"'Livestock PM10 3'!K15","v":0}]
[{"$f":"'Cow Housing'!$C$6","v":"C-3333"},{"$f":"$B$60","v":0},{"$f":"$C$60","v":2},{"$f":"$D$60","v":44},7440382,null,{"$f":"'Livestock PM10 3'!J16","v":0},{"$f":"'Livestock PM10 3'!K16","v":0}]
[{"$f":"'Cow Housing'!$C$6","v":"C-3333"},{"$f":"$B$60","v":0},{"$f":"$C$60","v":2},{"$f":"$D$60","v":44},7440393,null,{"$f":"'Livestock PM10 3'!J17","v":0},{"$f":"'Livestock PM10 3'!K17","v":0}]
[{"$f":"'Cow Housing'!$C$6","v":"C-3333"},{"$f":"$B$60","v":0},{"$f":"$C$60","v":2},{"$f":"$D$60","v":44},7440473,null,{"$f":"'Livestock PM10 3'!J19","v":0},{"$f":"'Livestock PM10 3'!K19","v":0}]
[{"$f":"'Cow Housing'!$C$6","v":"C-3333"},{"$f":"$B$60","v":0},{"$f":"$C$60","v":2},{"$f":"$D$60","v":44},7440508,null,{"$f":"'Livestock PM10 3'!J20","v":0},{"$f":"'Livestock PM10 3'!K20","v":0}]
[{"$f":"'Cow Housing'!$C$6","v":"C-3333"},{"$f":"$B$60","v":0},{"$f":"$C$60","v":2},{"$f":"$D$60","v":44},7440622,null,{"$f":"'Livestock PM10 3'!J29","v":0},{"$f":"'Livestock PM10 3'!K29","v":0}]
[{"$f":"'Cow Housing'!$C$6","v":"C-3333"},{"$f":"$B$60","v":0},{"$f":"$C$60","v":2},{"$f":"$D$60","v":44},7440666,null,{"$f":"'Livestock PM10 3'!J30","v":0},{"$f":"'Livestock PM10 3'!K30","v":0}]
[{"$f":"'Cow Housing'!$C$6","v":"C-3333"},{"$f":"$B$60","v":0},{"$f":"$C$60","v":2},{"$f":"$D$60","v":44},7664417,null,{"$f":"'Livestock PM10 3'!J31","v":0},{"$f":"'Livestock PM10 3'!K31","v":0}]
[{"$f":"'Cow Housing'!$C$6","v":"C-3333"},{"$f":"$B$60","v":0},{"$f":"$C$60","v":2},{"$f":"$D$60","v":44},7723140,null,{"$f":"'Livestock PM10 3'!J26","v":0},{"$f":"'Livestock PM10 3'!K26","v":0}]
[{"$f":"'Cow Housing'!$C$6","v":"C-3333"},{"$f":"$B$60","v":0},{"$f":"$C$60","v":2},{"$f":"$D$60","v":44},7726956,null,{"$f":"'Livestock PM10 3'!J18","v":0},{"$f":"'Livestock PM10 3'!K18","v":0}]
[{"$f":"'Cow Housing'!$C$6","v":"C-3333"},{"$f":"$B$60","v":0},{"$f":"$C$60","v":2},{"$f":"$D$60","v":44},7782492,null,{"$f":"'Livestock PM10 3'!J27","v":0},{"$f":"'Livestock PM10 3'!K27","v":0}]
[{"$f":"'Cow Housing'!$C$6","v":"C-3333"},{"$f":"$B$60","v":0},{"$f":"$C$60","v":2},{"$f":"$D$60","v":44},18540299,null,{"$f":"'Livestock PM10 3'!J21","v":0},{"$f":"'Livestock PM10 3'!K21","v":0}]
[{"$f":"'Cow Housing'!$C$6","v":"C-3333"},{"$f":"$B$61","v":0},{"$f":"$C$61","v":2},{"$f":"$D$61","v":45},9960,null,{"$f":"'Livestock PM10 3'!L28","v":0},{"$f":"'Livestock PM10 3'!M28","v":0}]
[{"$f":"'Cow Housing'!$C$6","v":"C-3333"},{"$f":"$B$61","v":0},{"$f":"$C$61","v":2},{"$f":"$D$61","v":45},50000,null,{"$f":"'Dairy Miscellaneous 3'!L40","v":0},{"$f":"'Dairy Miscellaneous 3'!M40","v":0}]
[{"$f":"'Cow Housing'!$C$6","v":"C-3333"},{"$f":"$B$61","v":0},{"$f":"$C$61","v":2},{"$f":"$D$61","v":45},56235,null,{"$f":"'Dairy Miscellaneous 3'!L30","v":0},{"$f":"'Dairy Miscellaneous 3'!M30","v":0}]
[{"$f":"'Cow Housing'!$C$6","v":"C-3333"},{"$f":"$B$61","v":0},{"$f":"$C$61","v":2},{"$f":"$D$61","v":45},67630,null,{"$f":"'Dairy Miscellaneous 3'!L42","v":0},{"$f":"'Dairy Miscellaneous 3'!M42","v":0}]
[{"$f":"'Cow Housing'!$C$6","v":"C-3333"},{"$f":"$B$61","v":0},{"$f":"$C$61","v":2},{"$f":"$D$61","v":45},67663,null,{"$f":"'Dairy Miscellaneous 3'!L32","v":0},{"$f":"'Dairy Miscellaneous 3'!M32","v":0}]
[{"$f":"'Cow Housing'!$C$6","v":"C-3333"},{"$f":"$B$61","v":0},{"$f":"$C$61","v":2},{"$f":"$D$61","v":45},71432,null,{"$f":"'Dairy Miscellaneous 3'!L26","v":0},{"$f":"'Dairy Miscellaneous 3'!M26","v":0}]
[{"$f":"'Cow Housing'!$C$6","v":"C-3333"},{"$f":"$B$61","v":0},{"$f":"$C$61","v":2},{"$f":"$D$61","v":45},74873,null,{"$f":"'Dairy Miscellaneous 3'!L33","v":0},{"$f":"'Dairy Miscellaneous 3'!M33","v":0}]
[{"$f":"'Cow Housing'!$C$6","v":"C-3333"},{"$f":"$B$61","v":0},{"$f":"$C$61","v":2},{"$f":"$D$61","v":45},75003,null,{"$f":"'Dairy Miscellaneous 3'!L36","v":0},{"$f":"'Dairy Miscellaneous 3'!M36","v":0}]
[{"$f":"'Cow Housing'!$C$6","v":"C-3333"},{"$f":"$B$61","v":0},{"$f":"$C$61","v":2},{"$f":"$D$61","v":45},75070,null,{"$f":"'Dairy Miscellaneous 3'!L24","v":0},{"$f":"'Dairy Miscellaneous 3'!M24","v":0}]
[{"$f":"'Cow Housing'!$C$6","v":"C-3333"},{"$f":"$B$61","v":0},{"$f":"$C$61","v":2},{"$f":"$D$61","v":45},75150,null,{"$f":"'Dairy Miscellaneous 3'!L29","v":0},{"$f":"'Dairy Miscellaneous 3'!M29","v":0}]
[{"$f":"'Cow Housing'!$C$6","v":"C-3333"},{"$f":"$B$61","v":0},{"$f":"$C$61","v":2},{"$f":"$D$61","v":45},75694,null,{"$f":"'Dairy Miscellaneous 3'!L49","v":0},{"$f":"'Dairy Miscellaneous 3'!M49","v":0}]
[{"$f":"'Cow Housing'!$C$6","v":"C-3333"},{"$f":"$B$61","v":0},{"$f":"$C$61","v":2},{"$f":"$D$61","v":45},78933,null,{"$f":"'Dairy Miscellaneous 3'!L44","v":0},{"$f":"'Dairy Miscellaneous 3'!M44","v":0}]
[{"$f":"'Cow Housing'!$C$6","v":"C-3333"},{"$f":"$B$61","v":0},{"$f":"$C$61","v":2},{"$f":"$D$61","v":45},79005,null,{"$f":"'Dairy Miscellaneous 3'!L16","v":0},{"$f":"'Dairy Miscellaneous 3'!M16","v":0}]
[{"$f":"'Cow Housing'!$C$6","v":"C-3333"},{"$f":"$B$61","v":0},{"$f":"$C$61","v":2},{"$f":"$D$61","v":45},79345,null,{"$f":"'Dairy Miscellaneous 3'!L15","v":0},{"$f":"'Dairy Miscellaneous 3'!M15","v":0}]
[{"$f":"'Cow Housing'!$C$6","v":"C-3333"},{"$f":"$B$61","v":0},{"$f":"$C$61","v":2},{"$f":"$D$61","v":45},95501,null,{"$f":"'Dairy Miscellaneous 3'!L20","v":0},{"$f":"'Dairy Miscellaneous 3'!M20","v":0}]
[{"$f":"'Cow Housing'!$C$6","v":"C-3333"},{"$f":"$B$61","v":0},{"$f":"$C$61","v":2},{"$f":"$D$61","v":45},96128,null,{"$f":"'Dairy Miscellaneous 3'!L19","v":0},{"$f":"'Dairy Miscellaneous 3'!M19","v":0}]
[{"$f":"'Cow Housing'!$C$6","v":"C-3333"},{"$f":"$B$61","v":0},{"$f":"$C$61","v":2},{"$f":"$D$61","v":45},96184,null,{"$f":"'Dairy Miscellaneous 3'!L17","v":0},{"$f":"'Dairy Miscellaneous 3'!M17","v":0}]
[{"$f":"'Cow Housing'!$C$6","v":"C-3333"},{"$f":"$B$61","v":0},{"$f":"$C$61","v":2},{"$f":"$D$61","v":45},98828,null,{"$f":"'Dairy Miscellaneous 3'!L43","v":0},{"$f":"'Dairy Miscellaneous 3'!M43","v":0}]
[{"$f":"'Cow Housing'!$C$6","v":"C-3333"},{"$f":"$B$61","v":0},{"$f":"$C$61","v":2},{"$f":"$D$61","v":45},100414,null,{"$f":"'Dairy Miscellaneous 3'!L37","v":0},{"$f":"'Dairy Miscellaneous 3'!M37","v":0}]
[{"$f":"'Cow Housing'!$C$6","v":"C-3333"},{"$f":"$B$61","v":0},{"$f":"$C$61","v":2},{"$f":"$D$61","v":45},100425,null,{"$f":"'Dairy Miscellaneous 3'!L46","v":0},{"$f":"'Dairy Miscellaneous 3'!M46","v":0}]
[{"$f":"'Cow Housing'!$C$6","v":"C-3333"},{"$f":"$B$61","v":0},{"$f":"$C$61","v":2},{"$f":"$D$61","v":45},100447,null,{"$f":"'Dairy Miscellaneous 3'!L27","v":0},{"$f":"'Dairy Miscellaneous 3'!M27","v":0}]
[{"$f":"'Cow Housing'!$C$6","v":"C-3333"},{"$f":"$B$61","v":0},{"$f":"$C$61","v":2},{"$f":"$D$61","v":45},106467,null,{"$f":"'Dairy Miscellaneous 3'!L23","v":0},{"$f":"'Dairy Miscellaneous 3'!M23","v":0}]
[{"$f":"'Cow Housing'!$C$6","v":"C-3333"},{"$f":"$B$61","v":0},{"$f":"$C$61","v":2},{"$f":"$D$61","v":45},106934,null,{"$f":"'Dairy Miscellaneous 3'!L38","v":0},{"$f":"'Dairy Miscellaneous 3'!M38","v":0}]
[{"$f":"'Cow Housing'!$C$6","v":"C-3333"},{"$f":"$B$61","v":0},{"$f":"$C$61","v":2},{"$f":"$D$61","v":45},107062,null,{"$f":"'Dairy Miscellaneous 3'!L39","v":0},{"$f":"'Dairy Miscellaneous 3'!M39","v":0}]
[{"$f":"'Cow Housing'!$C$6","v":"C-3333"},{"$f":"$B$61","v":0},{"$f":"$C$61","v":2},{"$f":"$D$61","v":45},107131,null,{"$f":"'Dairy Miscellaneous 3'!L25","v":0},{"$f":"'Dairy Miscellaneous 3'!M25","v":0}]
[{"$f":"'Cow Housing'!$C$6","v":"C-3333"},{"$f":"$B$61","v":0},{"$f":"$C$61","v":2},{"$f":"$D$61","v":45},108054,null,{"$f":"'Dairy Miscellaneous 3'!L50","v":0},{"$f":"'Dairy Miscellaneous 3'!M50","v":0}]
[{"$f":"'Cow Housing'!$C$6","v":"C-3333"},{"$f":"$B$61","v":0},{"$f":"$C$61","v":2},{"$f":"$D$61","v":45},108101,null,{"$f":"'Dairy Miscellaneous 3'!L45","v":0},{"$f":"'Dairy Miscellaneous 3'!M45","v":0}]
[{"$f":"'Cow Housing'!$C$6","v":"C-3333"},{"$f":"$B$61","v":0},{"$f":"$C$61","v":2},{"$f":"$D$61","v":45},108883,null,{"$f":"'Dairy Miscellaneous 3'!L48","v":0},{"$f":"'Dairy Miscellaneous 3'!M48","v":0}]
[{"$f":"'Cow Housing'!$C$6","v":"C-3333"},{"$f":"$B$61","v":0},{"$f":"$C$61","v":2},{"$f":"$D$61","v":45},108907,null,{"$f":"'Dairy Miscellaneous 3'!L31","v":0},{"$f":"'Dairy Miscellaneous 3'!M31","v":0}]
[{"$f":"'Cow Housing'!$C$6","v":"C-3333"},{"$f":"$B$61","v":0},{"$f":"$C$61","v":2},{"$f":"$D$61","v":45},110543,null,{"$f":"'Dairy Miscellaneous 3'!L41","v":0},{"$f":"'Dairy Miscellaneous 3'!M41","v":0}]
[{"$f":"'Cow Housing'!$C$6","v":"C-3333"},{"$f":"$B$61","v":0},{"$f":"$C$61","v":2},{"$f":"$D$61","v":45},110827,null,{"$f":"'Dairy Miscellaneous 3'!L35","v":0},{"$f":"'Dairy Miscellaneous 3'!M35","v":0}]
[{"$f":"'Cow Housing'!$C$6","v":"C-3333"},{"$f":"$B$61","v":0},{"$f":"$C$61","v":2},{"$f":"$D$61","v":45},120821,null,{"$f":"'Dairy Miscellaneous 3'!L18","v":0},{"$f":"'Dairy Miscellaneous 3'!M18","v":0}]
[{"$f":"'Cow Housing'!$C$6","v":"C-3333"},{"$f":"$B$61","v":0},{"$f":"$C$61","v":2},{"$f":"$D$61","v":45},123728,null,{"$f":"'Dairy Miscellaneous 3'!L28","v":0},{"$f":"'Dairy Miscellaneous 3'!M28","v":0}]
[{"$f":"'Cow Housing'!$C$6","v":"C-3333"},{"$f":"$B$61","v":0},{"$f":"$C$61","v":2},{"$f":"$D$61","v":45},123911,null,{"$f":"'Dairy Miscellaneous 3'!L22","v":0},{"$f":"'Dairy Miscellaneous 3'!M22","v":0}]
[{"$f":"'Cow Housing'!$C$6","v":"C-3333"},{"$f":"$B$61","v":0},{"$f":"$C$61","v":2},{"$f":"$D$61","v":45},541731,null,{"$f":"'Dairy Miscellaneous 3'!L21","v":0},{"$f":"'Dairy Miscellaneous 3'!M21","v":0}]
[{"$f":"'Cow Housing'!$C$6","v":"C-3333"},{"$f":"$B$61","v":0},{"$f":"$C$61","v":2},{"$f":"$D$61","v":45},764410,null,{"$f":"'Dairy Miscellaneous 3'!L47","v":0},{"$f":"'Dairy Miscellaneous 3'!M47","v":0}]
[{"$f":"'Cow Housing'!$C$6","v":"C-3333"},{"$f":"$B$61","v":0},{"$f":"$C$61","v":2},{"$f":"$D$61","v":45},1330207,null,{"$f":"'Dairy Miscellaneous 3'!L51","v":0},{"$f":"'Dairy Miscellaneous 3'!M51","v":0}]
[{"$f":"'Cow Housing'!$C$6","v":"C-3333"},{"$f":"$B$61","v":0},{"$f":"$C$61","v":2},{"$f":"$D$61","v":45},4170303,null,{"$f":"'Dairy Miscellaneous 3'!L34","v":0},{"$f":"'Dairy Miscellaneous 3'!M34","v":0}]
[{"$f":"'Cow Housing'!$C$6","v":"C-3333"},{"$f":"$B$61","v":0},{"$f":"$C$61","v":2},{"$f":"$D$61","v":45},7429905,null,{"$f":"'Livestock PM10 3'!L14","v":0},{"$f":"'Livestock PM10 3'!M14","v":0}]
[{"$f":"'Cow Housing'!$C$6","v":"C-3333"},{"$f":"$B$61","v":0},{"$f":"$C$61","v":2},{"$f":"$D$61","v":45},7439921,null,{"$f":"'Livestock PM10 3'!L22","v":0},{"$f":"'Livestock PM10 3'!M22","v":0}]
[{"$f":"'Cow Housing'!$C$6","v":"C-3333"},{"$f":"$B$61","v":0},{"$f":"$C$61","v":2},{"$f":"$D$61","v":45},7439965,null,{"$f":"'Livestock PM10 3'!L23","v":0},{"$f":"'Livestock PM10 3'!M23","v":0}]
[{"$f":"'Cow Housing'!$C$6","v":"C-3333"},{"$f":"$B$61","v":0},{"$f":"$C$61","v":2},{"$f":"$D$61","v":45},7439976,null,{"$f":"'Livestock PM10 3'!L24","v":0},{"$f":"'Livestock PM10 3'!M24","v":0}]
[{"$f":"'Cow Housing'!$C$6","v":"C-3333"},{"$f":"$B$61","v":0},{"$f":"$C$61","v":2},{"$f":"$D$61","v":45},7440020,null,{"$f":"'Livestock PM10 3'!L25","v":0},{"$f":"'Livestock PM10 3'!M25","v":0}]
[{"$f":"'Cow Housing'!$C$6","v":"C-3333"},{"$f":"$B$61","v":0},{"$f":"$C$61","v":2},{"$f":"$D$61","v":45},7440360,null,{"$f":"'Livestock PM10 3'!L15","v":0},{"$f":"'Livestock PM10 3'!M15","v":0}]
[{"$f":"'Cow Housing'!$C$6","v":"C-3333"},{"$f":"$B$61","v":0},{"$f":"$C$61","v":2},{"$f":"$D$61","v":45},7440382,null,{"$f":"'Livestock PM10 3'!L16","v":0},{"$f":"'Livestock PM10 3'!M16","v":0}]
[{"$f":"'Cow Housing'!$C$6","v":"C-3333"},{"$f":"$B$61","v":0},{"$f":"$C$61","v":2},{"$f":"$D$61","v":45},7440393,null,{"$f":"'Livestock PM10 3'!L17","v":0},{"$f":"'Livestock PM10 3'!M17","v":0}]
[{"$f":"'Cow Housing'!$C$6","v":"C-3333"},{"$f":"$B$61","v":0},{"$f":"$C$61","v":2},{"$f":"$D$61","v":45},7440473,null,{"$f":"'Livestock PM10 3'!L19","v":0},{"$f":"'Livestock PM10 3'!M19","v":0}]
[{"$f":"'Cow Housing'!$C$6","v":"C-3333"},{"$f":"$B$61","v":0},{"$f":"$C$61","v":2},{"$f":"$D$61","v":45},7440508,null,{"$f":"'Livestock PM10 3'!L20","v":0},{"$f":"'Livestock PM10 3'!M20","v":0}]
[{"$f":"'Cow Housing'!$C$6","v":"C-3333"},{"$f":"$B$61","v":0},{"$f":"$C$61","v":2},{"$f":"$D$61","v":45},7440622,null,{"$f":"'Livestock PM10 3'!L29","v":0},{"$f":"'Livestock PM10 3'!M29","v":0}]
[{"$f":"'Cow Housing'!$C$6","v":"C-3333"},{"$f":"$B$61","v":0},{"$f":"$C$61","v":2},{"$f":"$D$61","v":45},7440666,null,{"$f":"'Livestock PM10 3'!L30","v":0},{"$f":"'Livestock PM10 3'!M30","v":0}]
[{"$f":"'Cow Housing'!$C$6","v":"C-3333"},{"$f":"$B$61","v":0},{"$f":"$C$61","v":2},{"$f":"$D$61","v":45},7664417,null,{"$f":"'Livestock PM10 3'!L31","v":0},{"$f":"'Livestock PM10 3'!M31","v":0}]
[{"$f":"'Cow Housing'!$C$6","v":"C-3333"},{"$f":"$B$61","v":0},{"$f":"$C$61","v":2},{"$f":"$D$61","v":45},7723140,null,{"$f":"'Livestock PM10 3'!L26","v":0},{"$f":"'Livestock PM10 3'!M26","v":0}]
[{"$f":"'Cow Housing'!$C$6","v":"C-3333"},{"$f":"$B$61","v":0},{"$f":"$C$61","v":2},{"$f":"$D$61","v":45},7726956,null,{"$f":"'Livestock PM10 3'!L18","v":0},{"$f":"'Livestock PM10 3'!M18","v":0}]
[{"$f":"'Cow Housing'!$C$6","v":"C-3333"},{"$f":"$B$61","v":0},{"$f":"$C$61","v":2},{"$f":"$D$61","v":45},7782492,null,{"$f":"'Livestock PM10 3'!L27","v":0},{"$f":"'Livestock PM10 3'!M27","v":0}]
[{"$f":"'Cow Housing'!$C$6","v":"C-3333"},{"$f":"$B$61","v":0},{"$f":"$C$61","v":2},{"$f":"$D$61","v":45},18540299,null,{"$f":"'Livestock PM10 3'!L21","v":0},{"$f":"'Livestock PM10 3'!M21","v":0}]
[{"$f":"'Cow Housing'!$C$6","v":"C-3333"},{"$f":"$B$62","v":0},{"$f":"$C$62","v":2},{"$f":"$D$62","v":46},9960,null,{"$f":"'Livestock PM10 3'!N28","v":0},{"$f":"'Livestock PM10 3'!O28","v":0}]
[{"$f":"'Cow Housing'!$C$6","v":"C-3333"},{"$f":"$B$62","v":0},{"$f":"$C$62","v":2},{"$f":"$D$62","v":46},50000,null,{"$f":"'Dairy Miscellaneous 3'!N40","v":0},{"$f":"'Dairy Miscellaneous 3'!O40","v":0}]
[{"$f":"'Cow Housing'!$C$6","v":"C-3333"},{"$f":"$B$62","v":0},{"$f":"$C$62","v":2},{"$f":"$D$62","v":46},56235,null,{"$f":"'Dairy Miscellaneous 3'!N30","v":0},{"$f":"'Dairy Miscellaneous 3'!O30","v":0}]
[{"$f":"'Cow Housing'!$C$6","v":"C-3333"},{"$f":"$B$62","v":0},{"$f":"$C$62","v":2},{"$f":"$D$62","v":46},67630,null,{"$f":"'Dairy Miscellaneous 3'!N42","v":0},{"$f":"'Dairy Miscellaneous 3'!O42","v":0}]
[{"$f":"'Cow Housing'!$C$6","v":"C-3333"},{"$f":"$B$62","v":0},{"$f":"$C$62","v":2},{"$f":"$D$62","v":46},67663,null,{"$f":"'Dairy Miscellaneous 3'!N32","v":0},{"$f":"'Dairy Miscellaneous 3'!O32","v":0}]
[{"$f":"'Cow Housing'!$C$6","v":"C-3333"},{"$f":"$B$62","v":0},{"$f":"$C$62","v":2},{"$f":"$D$62","v":46},71432,null,{"$f":"'Dairy Miscellaneous 3'!N26","v":0},{"$f":"'Dairy Miscellaneous 3'!O26","v":0}]
[{"$f":"'Cow Housing'!$C$6","v":"C-3333"},{"$f":"$B$62","v":0},{"$f":"$C$62","v":2},{"$f":"$D$62","v":46},74873,null,{"$f":"'Dairy Miscellaneous 3'!N33","v":0},{"$f":"'Dairy Miscellaneous 3'!O33","v":0}]
[{"$f":"'Cow Housing'!$C$6","v":"C-3333"},{"$f":"$B$62","v":0},{"$f":"$C$62","v":2},{"$f":"$D$62","v":46},75003,null,{"$f":"'Dairy Miscellaneous 3'!N36","v":0},{"$f":"'Dairy Miscellaneous 3'!O36","v":0}]
[{"$f":"'Cow Housing'!$C$6","v":"C-3333"},{"$f":"$B$62","v":0},{"$f":"$C$62","v":2},{"$f":"$D$62","v":46},75070,null,{"$f":"'Dairy Miscellaneous 3'!N24","v":0},{"$f":"'Dairy Miscellaneous 3'!O24","v":0}]
[{"$f":"'Cow Housing'!$C$6","v":"C-3333"},{"$f":"$B$62","v":0},{"$f":"$C$62","v":2},{"$f":"$D$62","v":46},75150,null,{"$f":"'Dairy Miscellaneous 3'!N29","v":0},{"$f":"'Dairy Miscellaneous 3'!O29","v":0}]
[{"$f":"'Cow Housing'!$C$6","v":"C-3333"},{"$f":"$B$62","v":0},{"$f":"$C$62","v":2},{"$f":"$D$62","v":46},75694,null,{"$f":"'Dairy Miscellaneous 3'!N49","v":0},{"$f":"'Dairy Miscellaneous 3'!O49","v":0}]
[{"$f":"'Cow Housing'!$C$6","v":"C-3333"},{"$f":"$B$62","v":0},{"$f":"$C$62","v":2},{"$f":"$D$62","v":46},78933,null,{"$f":"'Dairy Miscellaneous 3'!N44","v":0},{"$f":"'Dairy Miscellaneous 3'!O44","v":0}]
[{"$f":"'Cow Housing'!$C$6","v":"C-3333"},{"$f":"$B$62","v":0},{"$f":"$C$62","v":2},{"$f":"$D$62","v":46},79005,null,{"$f":"'Dairy Miscellaneous 3'!N16","v":0},{"$f":"'Dairy Miscellaneous 3'!O16","v":0}]
[{"$f":"'Cow Housing'!$C$6","v":"C-3333"},{"$f":"$B$62","v":0},{"$f":"$C$62","v":2},{"$f":"$D$62","v":46},79345,null,{"$f":"'Dairy Miscellaneous 3'!N15","v":0},{"$f":"'Dairy Miscellaneous 3'!O15","v":0}]
[{"$f":"'Cow Housing'!$C$6","v":"C-3333"},{"$f":"$B$62","v":0},{"$f":"$C$62","v":2},{"$f":"$D$62","v":46},95501,null,{"$f":"'Dairy Miscellaneous 3'!N20","v":0},{"$f":"'Dairy Miscellaneous 3'!O20","v":0}]
[{"$f":"'Cow Housing'!$C$6","v":"C-3333"},{"$f":"$B$62","v":0},{"$f":"$C$62","v":2},{"$f":"$D$62","v":46},96128,null,{"$f":"'Dairy Miscellaneous 3'!N19","v":0},{"$f":"'Dairy Miscellaneous 3'!O19","v":0}]
[{"$f":"'Cow Housing'!$C$6","v":"C-3333"},{"$f":"$B$62","v":0},{"$f":"$C$62","v":2},{"$f":"$D$62","v":46},96184,null,{"$f":"'Dairy Miscellaneous 3'!N17","v":0},{"$f":"'Dairy Miscellaneous 3'!O17","v":0}]
[{"$f":"'Cow Housing'!$C$6","v":"C-3333"},{"$f":"$B$62","v":0},{"$f":"$C$62","v":2},{"$f":"$D$62","v":46},98828,null,{"$f":"'Dairy Miscellaneous 3'!N43","v":0},{"$f":"'Dairy Miscellaneous 3'!O43","v":0}]
[{"$f":"'Cow Housing'!$C$6","v":"C-3333"},{"$f":"$B$62","v":0},{"$f":"$C$62","v":2},{"$f":"$D$62","v":46},100414,null,{"$f":"'Dairy Miscellaneous 3'!N37","v":0},{"$f":"'Dairy Miscellaneous 3'!O37","v":0}]
[{"$f":"'Cow Housing'!$C$6","v":"C-3333"},{"$f":"$B$62","v":0},{"$f":"$C$62","v":2},{"$f":"$D$62","v":46},100425,null,{"$f":"'Dairy Miscellaneous 3'!N46","v":0},{"$f":"'Dairy Miscellaneous 3'!O46","v":0}]
[{"$f":"'Cow Housing'!$C$6","v":"C-3333"},{"$f":"$B$62","v":0},{"$f":"$C$62","v":2},{"$f":"$D$62","v":46},100447,null,{"$f":"'Dairy Miscellaneous 3'!N27","v":0},{"$f":"'Dairy Miscellaneous 3'!O27","v":0}]
[{"$f":"'Cow Housing'!$C$6","v":"C-3333"},{"$f":"$B$62","v":0},{"$f":"$C$62","v":2},{"$f":"$D$62","v":46},106467,null,{"$f":"'Dairy Miscellaneous 3'!N23","v":0},{"$f":"'Dairy Miscellaneous 3'!O23","v":0}]
[{"$f":"'Cow Housing'!$C$6","v":"C-3333"},{"$f":"$B$62","v":0},{"$f":"$C$62","v":2},{"$f":"$D$62","v":46},106934,null,{"$f":"'Dairy Miscellaneous 3'!N38","v":0},{"$f":"'Dairy Miscellaneous 3'!O38","v":0}]
[{"$f":"'Cow Housing'!$C$6","v":"C-3333"},{"$f":"$B$62","v":0},{"$f":"$C$62","v":2},{"$f":"$D$62","v":46},107062,null,{"$f":"'Dairy Miscellaneous 3'!N39","v":0},{"$f":"'Dairy Miscellaneous 3'!O39","v":0}]
[{"$f":"'Cow Housing'!$C$6","v":"C-3333"},{"$f":"$B$62","v":0},{"$f":"$C$62","v":2},{"$f":"$D$62","v":46},107131,null,{"$f":"'Dairy Miscellaneous 3'!N25","v":0},{"$f":"'Dairy Miscellaneous 3'!O25","v":0}]
[{"$f":"'Cow Housing'!$C$6","v":"C-3333"},{"$f":"$B$62","v":0},{"$f":"$C$62","v":2},{"$f":"$D$62","v":46},108054,null,{"$f":"'Dairy Miscellaneous 3'!N50","v":0},{"$f":"'Dairy Miscellaneous 3'!O50","v":0}]
[{"$f":"'Cow Housing'!$C$6","v":"C-3333"},{"$f":"$B$62","v":0},{"$f":"$C$62","v":2},{"$f":"$D$62","v":46},108101,null,{"$f":"'Dairy Miscellaneous 3'!N45","v":0},{"$f":"'Dairy Miscellaneous 3'!O45","v":0}]
[{"$f":"'Cow Housing'!$C$6","v":"C-3333"},{"$f":"$B$62","v":0},{"$f":"$C$62","v":2},{"$f":"$D$62","v":46},108883,null,{"$f":"'Dairy Miscellaneous 3'!N48","v":0},{"$f":"'Dairy Miscellaneous 3'!O48","v":0}]
[{"$f":"'Cow Housing'!$C$6","v":"C-3333"},{"$f":"$B$62","v":0},{"$f":"$C$62","v":2},{"$f":"$D$62","v":46},108907,null,{"$f":"'Dairy Miscellaneous 3'!N31","v":0},{"$f":"'Dairy Miscellaneous 3'!O31","v":0}]
[{"$f":"'Cow Housing'!$C$6","v":"C-3333"},{"$f":"$B$62","v":0},{"$f":"$C$62","v":2},{"$f":"$D$62","v":46},110543,null,{"$f":"'Dairy Miscellaneous 3'!N41","v":0},{"$f":"'Dairy Miscellaneous 3'!O41","v":0}]
[{"$f":"'Cow Housing'!$C$6","v":"C-3333"},{"$f":"$B$62","v":0},{"$f":"$C$62","v":2},{"$f":"$D$62","v":46},110827,null,{"$f":"'Dairy Miscellaneous 3'!N35","v":0},{"$f":"'Dairy Miscellaneous 3'!O35","v":0}]
[{"$f":"'Cow Housing'!$C$6","v":"C-3333"},{"$f":"$B$62","v":0},{"$f":"$C$62","v":2},{"$f":"$D$62","v":46},120821,null,{"$f":"'Dairy Miscellaneous 3'!N18","v":0},{"$f":"'Dairy Miscellaneous 3'!O18","v":0}]
[{"$f":"'Cow Housing'!$C$6","v":"C-3333"},{"$f":"$B$62","v":0},{"$f":"$C$62","v":2},{"$f":"$D$62","v":46},123728,null,{"$f":"'Dairy Miscellaneous 3'!N28","v":0},{"$f":"'Dairy Miscellaneous 3'!O28","v":0}]
[{"$f":"'Cow Housing'!$C$6","v":"C-3333"},{"$f":"$B$62","v":0},{"$f":"$C$62","v":2},{"$f":"$D$62","v":46},123911,null,{"$f":"'Dairy Miscellaneous 3'!N22","v":0},{"$f":"'Dairy Miscellaneous 3'!O22","v":0}]
[{"$f":"'Cow Housing'!$C$6","v":"C-3333"},{"$f":"$B$62","v":0},{"$f":"$C$62","v":2},{"$f":"$D$62","v":46},541731,null,{"$f":"'Dairy Miscellaneous 3'!N21","v":0},{"$f":"'Dairy Miscellaneous 3'!O21","v":0}]
[{"$f":"'Cow Housing'!$C$6","v":"C-3333"},{"$f":"$B$62","v":0},{"$f":"$C$62","v":2},{"$f":"$D$62","v":46},764410,null,{"$f":"'Dairy Miscellaneous 3'!N47","v":0},{"$f":"'Dairy Miscellaneous 3'!O47","v":0}]
[{"$f":"'Cow Housing'!$C$6","v":"C-3333"},{"$f":"$B$62","v":0},{"$f":"$C$62","v":2},{"$f":"$D$62","v":46},1330207,null,{"$f":"'Dairy Miscellaneous 3'!N51","v":0},{"$f":"'Dairy Miscellaneous 3'!O51","v":0}]
[{"$f":"'Cow Housing'!$C$6","v":"C-3333"},{"$f":"$B$62","v":0},{"$f":"$C$62","v":2},{"$f":"$D$62","v":46},4170303,null,{"$f":"'Dairy Miscellaneous 3'!N34","v":0},{"$f":"'Dairy Miscellaneous 3'!O34","v":0}]
[{"$f":"'Cow Housing'!$C$6","v":"C-3333"},{"$f":"$B$62","v":0},{"$f":"$C$62","v":2},{"$f":"$D$62","v":46},7429905,null,{"$f":"'Livestock PM10 3'!N14","v":0},{"$f":"'Livestock PM10 3'!O14","v":0}]
[{"$f":"'Cow Housing'!$C$6","v":"C-3333"},{"$f":"$B$62","v":0},{"$f":"$C$62","v":2},{"$f":"$D$62","v":46},7439921,null,{"$f":"'Livestock PM10 3'!N22","v":0},{"$f":"'Livestock PM10 3'!O22","v":0}]
[{"$f":"'Cow Housing'!$C$6","v":"C-3333"},{"$f":"$B$62","v":0},{"$f":"$C$62","v":2},{"$f":"$D$62","v":46},7439965,null,{"$f":"'Livestock PM10 3'!N23","v":0},{"$f":"'Livestock PM10 3'!O23","v":0}]
[{"$f":"'Cow Housing'!$C$6","v":"C-3333"},{"$f":"$B$62","v":0},{"$f":"$C$62","v":2},{"$f":"$D$62","v":46},7439976,null,{"$f":"'Livestock PM10 3'!N24","v":0},{"$f":"'Livestock PM10 3'!O24","v":0}]
[{"$f":"'Cow Housing'!$C$6","v":"C-3333"},{"$f":"$B$62","v":0},{"$f":"$C$62","v":2},{"$f":"$D$62","v":46},7440020,null,{"$f":"'Livestock PM10 3'!N25","v":0},{"$f":"'Livestock PM10 3'!O25","v":0}]
[{"$f":"'Cow Housing'!$C$6","v":"C-3333"},{"$f":"$B$62","v":0},{"$f":"$C$62","v":2},{"$f":"$D$62","v":46},7440360,null,{"$f":"'Livestock PM10 3'!N15","v":0},{"$f":"'Livestock PM10 3'!O15","v":0}]
[{"$f":"'Cow Housing'!$C$6","v":"C-3333"},{"$f":"$B$62","v":0},{"$f":"$C$62","v":2},{"$f":"$D$62","v":46},7440382,null,{"$f":"'Livestock PM10 3'!N16","v":0},{"$f":"'Livestock PM10 3'!O16","v":0}]
[{"$f":"'Cow Housing'!$C$6","v":"C-3333"},{"$f":"$B$62","v":0},{"$f":"$C$62","v":2},{"$f":"$D$62","v":46},7440393,null,{"$f":"'Livestock PM10 3'!N17","v":0},{"$f":"'Livestock PM10 3'!O17","v":0}]
[{"$f":"'Cow Housing'!$C$6","v":"C-3333"},{"$f":"$B$62","v":0},{"$f":"$C$62","v":2},{"$f":"$D$62","v":46},7440473,null,{"$f":"'Livestock PM10 3'!N19","v":0},{"$f":"'Livestock PM10 3'!O19","v":0}]
[{"$f":"'Cow Housing'!$C$6","v":"C-3333"},{"$f":"$B$62","v":0},{"$f":"$C$62","v":2},{"$f":"$D$62","v":46},7440508,null,{"$f":"'Livestock PM10 3'!N20","v":0},{"$f":"'Livestock PM10 3'!O20","v":0}]
[{"$f":"'Cow Housing'!$C$6","v":"C-3333"},{"$f":"$B$62","v":0},{"$f":"$C$62","v":2},{"$f":"$D$62","v":46},7440622,null,{"$f":"'Livestock PM10 3'!N29","v":0},{"$f":"'Livestock PM10 3'!O29","v":0}]
[{"$f":"'Cow Housing'!$C$6","v":"C-3333"},{"$f":"$B$62","v":0},{"$f":"$C$62","v":2},{"$f":"$D$62","v":46},7440666,null,{"$f":"'Livestock PM10 3'!N30","v":0},{"$f":"'Livestock PM10 3'!O30","v":0}]
[{"$f":"'Cow Housing'!$C$6","v":"C-3333"},{"$f":"$B$62","v":0},{"$f":"$C$62","v":2},{"$f":"$D$62","v":46},7664417,null,{"$f":"'Livestock PM10 3'!N31","v":0},{"$f":"'Livestock PM10 3'!O31","v":0}]
[{"$f":"'Cow Housing'!$C$6","v":"C-3333"},{"$f":"$B$62","v":0},{"$f":"$C$62","v":2},{"$f":"$D$62","v":46},7723140,null,{"$f":"'Livestock PM10 3'!N26","v":0},{"$f":"'Livestock PM10 3'!O26","v":0}]
[{"$f":"'Cow Housing'!$C$6","v":"C-3333"},{"$f":"$B$62","v":0},{"$f":"$C$62","v":2},{"$f":"$D$62","v":46},7726956,null,{"$f":"'Livestock PM10 3'!N18","v":0},{"$f":"'Livestock PM10 3'!O18","v":0}]
[{"$f":"'Cow Housing'!$C$6","v":"C-3333"},{"$f":"$B$62","v":0},{"$f":"$C$62","v":2},{"$f":"$D$62","v":46},7782492,null,{"$f":"'Livestock PM10 3'!N27","v":0},{"$f":"'Livestock PM10 3'!O27","v":0}]
[{"$f":"'Cow Housing'!$C$6","v":"C-3333"},{"$f":"$B$62","v":0},{"$f":"$C$62","v":2},{"$f":"$D$62","v":46},18540299,null,{"$f":"'Livestock PM10 3'!N21","v":0},{"$f":"'Livestock PM10 3'!O21","v":0}]
[{"$f":"'Cow Housing'!$C$6","v":"C-3333"},{"$f":"$B$63","v":0},{"$f":"$C$63","v":2},{"$f":"$D$63","v":47},9960,null,{"$f":"'Livestock PM10 3'!P28","v":0},{"$f":"'Livestock PM10 3'!Q28","v":0}]
[{"$f":"'Cow Housing'!$C$6","v":"C-3333"},{"$f":"$B$63","v":0},{"$f":"$C$63","v":2},{"$f":"$D$63","v":47},50000,null,{"$f":"'Dairy Miscellaneous 3'!P40","v":0},{"$f":"'Dairy Miscellaneous 3'!Q40","v":0}]
[{"$f":"'Cow Housing'!$C$6","v":"C-3333"},{"$f":"$B$63","v":0},{"$f":"$C$63","v":2},{"$f":"$D$63","v":47},56235,null,{"$f":"'Dairy Miscellaneous 3'!P30","v":0},{"$f":"'Dairy Miscellaneous 3'!Q30","v":0}]
[{"$f":"'Cow Housing'!$C$6","v":"C-3333"},{"$f":"$B$63","v":0},{"$f":"$C$63","v":2},{"$f":"$D$63","v":47},67630,null,{"$f":"'Dairy Miscellaneous 3'!P42","v":0},{"$f":"'Dairy Miscellaneous 3'!Q42","v":0}]
[{"$f":"'Cow Housing'!$C$6","v":"C-3333"},{"$f":"$B$63","v":0},{"$f":"$C$63","v":2},{"$f":"$D$63","v":47},67663,null,{"$f":"'Dairy Miscellaneous 3'!P32","v":0},{"$f":"'Dairy Miscellaneous 3'!Q32","v":0}]
[{"$f":"'Cow Housing'!$C$6","v":"C-3333"},{"$f":"$B$63","v":0},{"$f":"$C$63","v":2},{"$f":"$D$63","v":47},71432,null,{"$f":"'Dairy Miscellaneous 3'!P26","v":0},{"$f":"'Dairy Miscellaneous 3'!Q26","v":0}]
[{"$f":"'Cow Housing'!$C$6","v":"C-3333"},{"$f":"$B$63","v":0},{"$f":"$C$63","v":2},{"$f":"$D$63","v":47},74873,null,{"$f":"'Dairy Miscellaneous 3'!P33","v":0},{"$f":"'Dairy Miscellaneous 3'!Q33","v":0}]
[{"$f":"'Cow Housing'!$C$6","v":"C-3333"},{"$f":"$B$63","v":0},{"$f":"$C$63","v":2},{"$f":"$D$63","v":47},75003,null,{"$f":"'Dairy Miscellaneous 3'!P36","v":0},{"$f":"'Dairy Miscellaneous 3'!Q36","v":0}]
[{"$f":"'Cow Housing'!$C$6","v":"C-3333"},{"$f":"$B$63","v":0},{"$f":"$C$63","v":2},{"$f":"$D$63","v":47},75070,null,{"$f":"'Dairy Miscellaneous 3'!P24","v":0},{"$f":"'Dairy Miscellaneous 3'!Q24","v":0}]
[{"$f":"'Cow Housing'!$C$6","v":"C-3333"},{"$f":"$B$63","v":0},{"$f":"$C$63","v":2},{"$f":"$D$63","v":47},75150,null,{"$f":"'Dairy Miscellaneous 3'!P29","v":0},{"$f":"'Dairy Miscellaneous 3'!Q29","v":0}]
[{"$f":"'Cow Housing'!$C$6","v":"C-3333"},{"$f":"$B$63","v":0},{"$f":"$C$63","v":2},{"$f":"$D$63","v":47},75694,null,{"$f":"'Dairy Miscellaneous 3'!P49","v":0},{"$f":"'Dairy Miscellaneous 3'!Q49","v":0}]
[{"$f":"'Cow Housing'!$C$6","v":"C-3333"},{"$f":"$B$63","v":0},{"$f":"$C$63","v":2},{"$f":"$D$63","v":47},78933,null,{"$f":"'Dairy Miscellaneous 3'!P44","v":0},{"$f":"'Dairy Miscellaneous 3'!Q44","v":0}]
[{"$f":"'Cow Housing'!$C$6","v":"C-3333"},{"$f":"$B$63","v":0},{"$f":"$C$63","v":2},{"$f":"$D$63","v":47},79005,null,{"$f":"'Dairy Miscellaneous 3'!P16","v":0},{"$f":"'Dairy Miscellaneous 3'!Q16","v":0}]
[{"$f":"'Cow Housing'!$C$6","v":"C-3333"},{"$f":"$B$63","v":0},{"$f":"$C$63","v":2},{"$f":"$D$63","v":47},79345,null,{"$f":"'Dairy Miscellaneous 3'!P15","v":0},{"$f":"'Dairy Miscellaneous 3'!Q15","v":0}]
[{"$f":"'Cow Housing'!$C$6","v":"C-3333"},{"$f":"$B$63","v":0},{"$f":"$C$63","v":2},{"$f":"$D$63","v":47},95501,null,{"$f":"'Dairy Miscellaneous 3'!P20","v":0},{"$f":"'Dairy Miscellaneous 3'!Q20","v":0}]
[{"$f":"'Cow Housing'!$C$6","v":"C-3333"},{"$f":"$B$63","v":0},{"$f":"$C$63","v":2},{"$f":"$D$63","v":47},96128,null,{"$f":"'Dairy Miscellaneous 3'!P19","v":0},{"$f":"'Dairy Miscellaneous 3'!Q19","v":0}]
[{"$f":"'Cow Housing'!$C$6","v":"C-3333"},{"$f":"$B$63","v":0},{"$f":"$C$63","v":2},{"$f":"$D$63","v":47},96184,null,{"$f":"'Dairy Miscellaneous 3'!P17","v":0},{"$f":"'Dairy Miscellaneous 3'!Q17","v":0}]
[{"$f":"'Cow Housing'!$C$6","v":"C-3333"},{"$f":"$B$63","v":0},{"$f":"$C$63","v":2},{"$f":"$D$63","v":47},98828,null,{"$f":"'Dairy Miscellaneous 3'!P43","v":0},{"$f":"'Dairy Miscellaneous 3'!Q43","v":0}]
[{"$f":"'Cow Housing'!$C$6","v":"C-3333"},{"$f":"$B$63","v":0},{"$f":"$C$63","v":2},{"$f":"$D$63","v":47},100414,null,{"$f":"'Dairy Miscellaneous 3'!P37","v":0},{"$f":"'Dairy Miscellaneous 3'!Q37","v":0}]
[{"$f":"'Cow Housing'!$C$6","v":"C-3333"},{"$f":"$B$63","v":0},{"$f":"$C$63","v":2},{"$f":"$D$63","v":47},100425,null,{"$f":"'Dairy Miscellaneous 3'!P46","v":0},{"$f":"'Dairy Miscellaneous 3'!Q46","v":0}]
[{"$f":"'Cow Housing'!$C$6","v":"C-3333"},{"$f":"$B$63","v":0},{"$f":"$C$63","v":2},{"$f":"$D$63","v":47},100447,null,{"$f":"'Dairy Miscellaneous 3'!P27","v":0},{"$f":"'Dairy Miscellaneous 3'!Q27","v":0}]
[{"$f":"'Cow Housing'!$C$6","v":"C-3333"},{"$f":"$B$63","v":0},{"$f":"$C$63","v":2},{"$f":"$D$63","v":47},106467,null,{"$f":"'Dairy Miscellaneous 3'!P23","v":0},{"$f":"'Dairy Miscellaneous 3'!Q23","v":0}]
[{"$f":"'Cow Housing'!$C$6","v":"C-3333"},{"$f":"$B$63","v":0},{"$f":"$C$63","v":2},{"$f":"$D$63","v":47},106934,null,{"$f":"'Dairy Miscellaneous 3'!P38","v":0},{"$f":"'Dairy Miscellaneous 3'!Q38","v":0}]
[{"$f":"'Cow Housing'!$C$6","v":"C-3333"},{"$f":"$B$63","v":0},{"$f":"$C$63","v":2},{"$f":"$D$63","v":47},107062,null,{"$f":"'Dairy Miscellaneous 3'!P39","v":0},{"$f":"'Dairy Miscellaneous 3'!Q39","v":0}]
[{"$f":"'Cow Housing'!$C$6","v":"C-3333"},{"$f":"$B$63","v":0},{"$f":"$C$63","v":2},{"$f":"$D$63","v":47},107131,null,{"$f":"'Dairy Miscellaneous 3'!P25","v":0},{"$f":"'Dairy Miscellaneous 3'!Q25","v":0}]
[{"$f":"'Cow Housing'!$C$6","v":"C-3333"},{"$f":"$B$63","v":0},{"$f":"$C$63","v":2},{"$f":"$D$63","v":47},108054,null,{"$f":"'Dairy Miscellaneous 3'!P50","v":0},{"$f":"'Dairy Miscellaneous 3'!Q50","v":0}]
[{"$f":"'Cow Housing'!$C$6","v":"C-3333"},{"$f":"$B$63","v":0},{"$f":"$C$63","v":2},{"$f":"$D$63","v":47},108101,null,{"$f":"'Dairy Miscellaneous 3'!P45","v":0},{"$f":"'Dairy Miscellaneous 3'!Q45","v":0}]
[{"$f":"'Cow Housing'!$C$6","v":"C-3333"},{"$f":"$B$63","v":0},{"$f":"$C$63","v":2},{"$f":"$D$63","v":47},108883,null,{"$f":"'Dairy Miscellaneous 3'!P48","v":0},{"$f":"'Dairy Miscellaneous 3'!Q48","v":0}]
[{"$f":"'Cow Housing'!$C$6","v":"C-3333"},{"$f":"$B$63","v":0},{"$f":"$C$63","v":2},{"$f":"$D$63","v":47},108907,null,{"$f":"'Dairy Miscellaneous 3'!P31","v":0},{"$f":"'Dairy Miscellaneous 3'!Q31","v":0}]
[{"$f":"'Cow Housing'!$C$6","v":"C-3333"},{"$f":"$B$63","v":0},{"$f":"$C$63","v":2},{"$f":"$D$63","v":47},110543,null,{"$f":"'Dairy Miscellaneous 3'!P41","v":0},{"$f":"'Dairy Miscellaneous 3'!Q41","v":0}]
[{"$f":"'Cow Housing'!$C$6","v":"C-3333"},{"$f":"$B$63","v":0},{"$f":"$C$63","v":2},{"$f":"$D$63","v":47},110827,null,{"$f":"'Dairy Miscellaneous 3'!P35","v":0},{"$f":"'Dairy Miscellaneous 3'!Q35","v":0}]
[{"$f":"'Cow Housing'!$C$6","v":"C-3333"},{"$f":"$B$63","v":0},{"$f":"$C$63","v":2},{"$f":"$D$63","v":47},120821,null,{"$f":"'Dairy Miscellaneous 3'!P18","v":0},{"$f":"'Dairy Miscellaneous 3'!Q18","v":0}]
[{"$f":"'Cow Housing'!$C$6","v":"C-3333"},{"$f":"$B$63","v":0},{"$f":"$C$63","v":2},{"$f":"$D$63","v":47},123728,null,{"$f":"'Dairy Miscellaneous 3'!P28","v":0},{"$f":"'Dairy Miscellaneous 3'!Q28","v":0}]
[{"$f":"'Cow Housing'!$C$6","v":"C-3333"},{"$f":"$B$63","v":0},{"$f":"$C$63","v":2},{"$f":"$D$63","v":47},123911,null,{"$f":"'Dairy Miscellaneous 3'!P22","v":0},{"$f":"'Dairy Miscellaneous 3'!Q22","v":0}]
[{"$f":"'Cow Housing'!$C$6","v":"C-3333"},{"$f":"$B$63","v":0},{"$f":"$C$63","v":2},{"$f":"$D$63","v":47},541731,null,{"$f":"'Dairy Miscellaneous 3'!P21","v":0},{"$f":"'Dairy Miscellaneous 3'!Q21","v":0}]
[{"$f":"'Cow Housing'!$C$6","v":"C-3333"},{"$f":"$B$63","v":0},{"$f":"$C$63","v":2},{"$f":"$D$63","v":47},764410,null,{"$f":"'Dairy Miscellaneous 3'!P47","v":0},{"$f":"'Dairy Miscellaneous 3'!Q47","v":0}]
[{"$f":"'Cow Housing'!$C$6","v":"C-3333"},{"$f":"$B$63","v":0},{"$f":"$C$63","v":2},{"$f":"$D$63","v":47},1330207,null,{"$f":"'Dairy Miscellaneous 3'!P51","v":0},{"$f":"'Dairy Miscellaneous 3'!Q51","v":0}]
[{"$f":"'Cow Housing'!$C$6","v":"C-3333"},{"$f":"$B$63","v":0},{"$f":"$C$63","v":2},{"$f":"$D$63","v":47},4170303,null,{"$f":"'Dairy Miscellaneous 3'!P34","v":0},{"$f":"'Dairy Miscellaneous 3'!Q34","v":0}]
[{"$f":"'Cow Housing'!$C$6","v":"C-3333"},{"$f":"$B$63","v":0},{"$f":"$C$63","v":2},{"$f":"$D$63","v":47},7429905,null,{"$f":"'Livestock PM10 3'!P14","v":0},{"$f":"'Livestock PM10 3'!Q14","v":0}]
[{"$f":"'Cow Housing'!$C$6","v":"C-3333"},{"$f":"$B$63","v":0},{"$f":"$C$63","v":2},{"$f":"$D$63","v":47},7439921,null,{"$f":"'Livestock PM10 3'!P22","v":0},{"$f":"'Livestock PM10 3'!Q22","v":0}]
[{"$f":"'Cow Housing'!$C$6","v":"C-3333"},{"$f":"$B$63","v":0},{"$f":"$C$63","v":2},{"$f":"$D$63","v":47},7439965,null,{"$f":"'Livestock PM10 3'!P23","v":0},{"$f":"'Livestock PM10 3'!Q23","v":0}]
[{"$f":"'Cow Housing'!$C$6","v":"C-3333"},{"$f":"$B$63","v":0},{"$f":"$C$63","v":2},{"$f":"$D$63","v":47},7439976,null,{"$f":"'Livestock PM10 3'!P24","v":0},{"$f":"'Livestock PM10 3'!Q24","v":0}]
[{"$f":"'Cow Housing'!$C$6","v":"C-3333"},{"$f":"$B$63","v":0},{"$f":"$C$63","v":2},{"$f":"$D$63","v":47},7440020,null,{"$f":"'Livestock PM10 3'!P25","v":0},{"$f":"'Livestock PM10 3'!Q25","v":0}]
[{"$f":"'Cow Housing'!$C$6","v":"C-3333"},{"$f":"$B$63","v":0},{"$f":"$C$63","v":2},{"$f":"$D$63","v":47},7440360,null,{"$f":"'Livestock PM10 3'!P15","v":0},{"$f":"'Livestock PM10 3'!Q15","v":0}]
[{"$f":"'Cow Housing'!$C$6","v":"C-3333"},{"$f":"$B$63","v":0},{"$f":"$C$63","v":2},{"$f":"$D$63","v":47},7440382,null,{"$f":"'Livestock PM10 3'!P16","v":0},{"$f":"'Livestock PM10 3'!Q16","v":0}]
[{"$f":"'Cow Housing'!$C$6","v":"C-3333"},{"$f":"$B$63","v":0},{"$f":"$C$63","v":2},{"$f":"$D$63","v":47},7440393,null,{"$f":"'Livestock PM10 3'!P17","v":0},{"$f":"'Livestock PM10 3'!Q17","v":0}]
[{"$f":"'Cow Housing'!$C$6","v":"C-3333"},{"$f":"$B$63","v":0},{"$f":"$C$63","v":2},{"$f":"$D$63","v":47},7440473,null,{"$f":"'Livestock PM10 3'!P19","v":0},{"$f":"'Livestock PM10 3'!Q19","v":0}]
[{"$f":"'Cow Housing'!$C$6","v":"C-3333"},{"$f":"$B$63","v":0},{"$f":"$C$63","v":2},{"$f":"$D$63","v":47},7440508,null,{"$f":"'Livestock PM10 3'!P20","v":0},{"$f":"'Livestock PM10 3'!Q20","v":0}]
[{"$f":"'Cow Housing'!$C$6","v":"C-3333"},{"$f":"$B$63","v":0},{"$f":"$C$63","v":2},{"$f":"$D$63","v":47},7440622,null,{"$f":"'Livestock PM10 3'!P29","v":0},{"$f":"'Livestock PM10 3'!Q29","v":0}]
[{"$f":"'Cow Housing'!$C$6","v":"C-3333"},{"$f":"$B$63","v":0},{"$f":"$C$63","v":2},{"$f":"$D$63","v":47},7440666,null,{"$f":"'Livestock PM10 3'!P30","v":0},{"$f":"'Livestock PM10 3'!Q30","v":0}]
[{"$f":"'Cow Housing'!$C$6","v":"C-3333"},{"$f":"$B$63","v":0},{"$f":"$C$63","v":2},{"$f":"$D$63","v":47},7664417,null,{"$f":"'Livestock PM10 3'!P31","v":0},{"$f":"'Livestock PM10 3'!Q31","v":0}]
[{"$f":"'Cow Housing'!$C$6","v":"C-3333"},{"$f":"$B$63","v":0},{"$f":"$C$63","v":2},{"$f":"$D$63","v":47},7723140,null,{"$f":"'Livestock PM10 3'!P26","v":0},{"$f":"'Livestock PM10 3'!Q26","v":0}]
[{"$f":"'Cow Housing'!$C$6","v":"C-3333"},{"$f":"$B$63","v":0},{"$f":"$C$63","v":2},{"$f":"$D$63","v":47},7726956,null,{"$f":"'Livestock PM10 3'!P18","v":0},{"$f":"'Livestock PM10 3'!Q18","v":0}]
[{"$f":"'Cow Housing'!$C$6","v":"C-3333"},{"$f":"$B$63","v":0},{"$f":"$C$63","v":2},{"$f":"$D$63","v":47},7782492,null,{"$f":"'Livestock PM10 3'!P27","v":0},{"$f":"'Livestock PM10 3'!Q27","v":0}]
[{"$f":"'Cow Housing'!$C$6","v":"C-3333"},{"$f":"$B$63","v":0},{"$f":"$C$63","v":2},{"$f":"$D$63","v":47},18540299,null,{"$f":"'Livestock PM10 3'!P21","v":0},{"$f":"'Livestock PM10 3'!Q21","v":0}]
[{"$f":"'Cow Housing'!$C$6","v":"C-3333"},{"$f":"$B$64","v":0},{"$f":"$C$64","v":2},{"$f":"$D$64","v":48},9960,null,{"$f":"'Livestock PM10 3'!R28","v":0},{"$f":"'Livestock PM10 3'!S28","v":0}]
[{"$f":"'Cow Housing'!$C$6","v":"C-3333"},{"$f":"$B$64","v":0},{"$f":"$C$64","v":2},{"$f":"$D$64","v":48},50000,null,{"$f":"'Dairy Miscellaneous 3'!R40","v":0},{"$f":"'Dairy Miscellaneous 3'!S40","v":0}]
[{"$f":"'Cow Housing'!$C$6","v":"C-3333"},{"$f":"$B$64","v":0},{"$f":"$C$64","v":2},{"$f":"$D$64","v":48},56235,null,{"$f":"'Dairy Miscellaneous 3'!R30","v":0},{"$f":"'Dairy Miscellaneous 3'!S30","v":0}]
[{"$f":"'Cow Housing'!$C$6","v":"C-3333"},{"$f":"$B$64","v":0},{"$f":"$C$64","v":2},{"$f":"$D$64","v":48},67630,null,{"$f":"'Dairy Miscellaneous 3'!R42","v":0},{"$f":"'Dairy Miscellaneous 3'!S42","v":0}]
[{"$f":"'Cow Housing'!$C$6","v":"C-3333"},{"$f":"$B$64","v":0},{"$f":"$C$64","v":2},{"$f":"$D$64","v":48},67663,null,{"$f":"'Dairy Miscellaneous 3'!R32","v":0},{"$f":"'Dairy Miscellaneous 3'!S32","v":0}]
[{"$f":"'Cow Housing'!$C$6","v":"C-3333"},{"$f":"$B$64","v":0},{"$f":"$C$64","v":2},{"$f":"$D$64","v":48},71432,null,{"$f":"'Dairy Miscellaneous 3'!R26","v":0},{"$f":"'Dairy Miscellaneous 3'!S26","v":0}]
[{"$f":"'Cow Housing'!$C$6","v":"C-3333"},{"$f":"$B$64","v":0},{"$f":"$C$64","v":2},{"$f":"$D$64","v":48},74873,null,{"$f":"'Dairy Miscellaneous 3'!R33","v":0},{"$f":"'Dairy Miscellaneous 3'!S33","v":0}]
[{"$f":"'Cow Housing'!$C$6","v":"C-3333"},{"$f":"$B$64","v":0},{"$f":"$C$64","v":2},{"$f":"$D$64","v":48},75003,null,{"$f":"'Dairy Miscellaneous 3'!R36","v":0},{"$f":"'Dairy Miscellaneous 3'!S36","v":0}]
[{"$f":"'Cow Housing'!$C$6","v":"C-3333"},{"$f":"$B$64","v":0},{"$f":"$C$64","v":2},{"$f":"$D$64","v":48},75070,null,{"$f":"'Dairy Miscellaneous 3'!R24","v":0},{"$f":"'Dairy Miscellaneous 3'!S24","v":0}]
[{"$f":"'Cow Housing'!$C$6","v":"C-3333"},{"$f":"$B$64","v":0},{"$f":"$C$64","v":2},{"$f":"$D$64","v":48},75150,null,{"$f":"'Dairy Miscellaneous 3'!R29","v":0},{"$f":"'Dairy Miscellaneous 3'!S29","v":0}]
[{"$f":"'Cow Housing'!$C$6","v":"C-3333"},{"$f":"$B$64","v":0},{"$f":"$C$64","v":2},{"$f":"$D$64","v":48},75694,null,{"$f":"'Dairy Miscellaneous 3'!R49","v":0},{"$f":"'Dairy Miscellaneous 3'!S49","v":0}]
[{"$f":"'Cow Housing'!$C$6","v":"C-3333"},{"$f":"$B$64","v":0},{"$f":"$C$64","v":2},{"$f":"$D$64","v":48},78933,null,{"$f":"'Dairy Miscellaneous 3'!R44","v":0},{"$f":"'Dairy Miscellaneous 3'!S44","v":0}]
[{"$f":"'Cow Housing'!$C$6","v":"C-3333"},{"$f":"$B$64","v":0},{"$f":"$C$64","v":2},{"$f":"$D$64","v":48},79005,null,{"$f":"'Dairy Miscellaneous 3'!R16","v":0},{"$f":"'Dairy Miscellaneous 3'!S16","v":0}]
[{"$f":"'Cow Housing'!$C$6","v":"C-3333"},{"$f":"$B$64","v":0},{"$f":"$C$64","v":2},{"$f":"$D$64","v":48},79345,null,{"$f":"'Dairy Miscellaneous 3'!R15","v":0},{"$f":"'Dairy Miscellaneous 3'!S15","v":0}]
[{"$f":"'Cow Housing'!$C$6","v":"C-3333"},{"$f":"$B$64","v":0},{"$f":"$C$64","v":2},{"$f":"$D$64","v":48},95501,null,{"$f":"'Dairy Miscellaneous 3'!R20","v":0},{"$f":"'Dairy Miscellaneous 3'!S20","v":0}]
[{"$f":"'Cow Housing'!$C$6","v":"C-3333"},{"$f":"$B$64","v":0},{"$f":"$C$64","v":2},{"$f":"$D$64","v":48},96128,null,{"$f":"'Dairy Miscellaneous 3'!R19","v":0},{"$f":"'Dairy Miscellaneous 3'!S19","v":0}]
[{"$f":"'Cow Housing'!$C$6","v":"C-3333"},{"$f":"$B$64","v":0},{"$f":"$C$64","v":2},{"$f":"$D$64","v":48},96184,null,{"$f":"'Dairy Miscellaneous 3'!R17","v":0},{"$f":"'Dairy Miscellaneous 3'!S17","v":0}]
[{"$f":"'Cow Housing'!$C$6","v":"C-3333"},{"$f":"$B$64","v":0},{"$f":"$C$64","v":2},{"$f":"$D$64","v":48},98828,null,{"$f":"'Dairy Miscellaneous 3'!R43","v":0},{"$f":"'Dairy Miscellaneous 3'!S43","v":0}]
[{"$f":"'Cow Housing'!$C$6","v":"C-3333"},{"$f":"$B$64","v":0},{"$f":"$C$64","v":2},{"$f":"$D$64","v":48},100414,null,{"$f":"'Dairy Miscellaneous 3'!R37","v":0},{"$f":"'Dairy Miscellaneous 3'!S37","v":0}]
[{"$f":"'Cow Housing'!$C$6","v":"C-3333"},{"$f":"$B$64","v":0},{"$f":"$C$64","v":2},{"$f":"$D$64","v":48},100425,null,{"$f":"'Dairy Miscellaneous 3'!R46","v":0},{"$f":"'Dairy Miscellaneous 3'!S46","v":0}]
[{"$f":"'Cow Housing'!$C$6","v":"C-3333"},{"$f":"$B$64","v":0},{"$f":"$C$64","v":2},{"$f":"$D$64","v":48},100447,null,{"$f":"'Dairy Miscellaneous 3'!R27","v":0},{"$f":"'Dairy Miscellaneous 3'!S27","v":0}]
[{"$f":"'Cow Housing'!$C$6","v":"C-3333"},{"$f":"$B$64","v":0},{"$f":"$C$64","v":2},{"$f":"$D$64","v":48},106467,null,{"$f":"'Dairy Miscellaneous 3'!R23","v":0},{"$f":"'Dairy Miscellaneous 3'!S23","v":0}]
[{"$f":"'Cow Housing'!$C$6","v":"C-3333"},{"$f":"$B$64","v":0},{"$f":"$C$64","v":2},{"$f":"$D$64","v":48},106934,null,{"$f":"'Dairy Miscellaneous 3'!R38","v":0},{"$f":"'Dairy Miscellaneous 3'!S38","v":0}]
[{"$f":"'Cow Housing'!$C$6","v":"C-3333"},{"$f":"$B$64","v":0},{"$f":"$C$64","v":2},{"$f":"$D$64","v":48},107062,null,{"$f":"'Dairy Miscellaneous 3'!R39","v":0},{"$f":"'Dairy Miscellaneous 3'!S39","v":0}]
[{"$f":"'Cow Housing'!$C$6","v":"C-3333"},{"$f":"$B$64","v":0},{"$f":"$C$64","v":2},{"$f":"$D$64","v":48},107131,null,{"$f":"'Dairy Miscellaneous 3'!R25","v":0},{"$f":"'Dairy Miscellaneous 3'!S25","v":0}]
[{"$f":"'Cow Housing'!$C$6","v":"C-3333"},{"$f":"$B$64","v":0},{"$f":"$C$64","v":2},{"$f":"$D$64","v":48},108054,null,{"$f":"'Dairy Miscellaneous 3'!R50","v":0},{"$f":"'Dairy Miscellaneous 3'!S50","v":0}]
[{"$f":"'Cow Housing'!$C$6","v":"C-3333"},{"$f":"$B$64","v":0},{"$f":"$C$64","v":2},{"$f":"$D$64","v":48},108101,null,{"$f":"'Dairy Miscellaneous 3'!R45","v":0},{"$f":"'Dairy Miscellaneous 3'!S45","v":0}]
[{"$f":"'Cow Housing'!$C$6","v":"C-3333"},{"$f":"$B$64","v":0},{"$f":"$C$64","v":2},{"$f":"$D$64","v":48},108883,null,{"$f":"'Dairy Miscellaneous 3'!R48","v":0},{"$f":"'Dairy Miscellaneous 3'!S48","v":0}]
[{"$f":"'Cow Housing'!$C$6","v":"C-3333"},{"$f":"$B$64","v":0},{"$f":"$C$64","v":2},{"$f":"$D$64","v":48},108907,null,{"$f":"'Dairy Miscellaneous 3'!R31","v":0},{"$f":"'Dairy Miscellaneous 3'!S31","v":0}]
[{"$f":"'Cow Housing'!$C$6","v":"C-3333"},{"$f":"$B$64","v":0},{"$f":"$C$64","v":2},{"$f":"$D$64","v":48},110543,null,{"$f":"'Dairy Miscellaneous 3'!R41","v":0},{"$f":"'Dairy Miscellaneous 3'!S41","v":0}]
[{"$f":"'Cow Housing'!$C$6","v":"C-3333"},{"$f":"$B$64","v":0},{"$f":"$C$64","v":2},{"$f":"$D$64","v":48},110827,null,{"$f":"'Dairy Miscellaneous 3'!R35","v":0},{"$f":"'Dairy Miscellaneous 3'!S35","v":0}]
[{"$f":"'Cow Housing'!$C$6","v":"C-3333"},{"$f":"$B$64","v":0},{"$f":"$C$64","v":2},{"$f":"$D$64","v":48},120821,null,{"$f":"'Dairy Miscellaneous 3'!R18","v":0},{"$f":"'Dairy Miscellaneous 3'!S18","v":0}]
[{"$f":"'Cow Housing'!$C$6","v":"C-3333"},{"$f":"$B$64","v":0},{"$f":"$C$64","v":2},{"$f":"$D$64","v":48},123728,null,{"$f":"'Dairy Miscellaneous 3'!R28","v":0},{"$f":"'Dairy Miscellaneous 3'!S28","v":0}]
[{"$f":"'Cow Housing'!$C$6","v":"C-3333"},{"$f":"$B$64","v":0},{"$f":"$C$64","v":2},{"$f":"$D$64","v":48},123911,null,{"$f":"'Dairy Miscellaneous 3'!R22","v":0},{"$f":"'Dairy Miscellaneous 3'!S22","v":0}]
[{"$f":"'Cow Housing'!$C$6","v":"C-3333"},{"$f":"$B$64","v":0},{"$f":"$C$64","v":2},{"$f":"$D$64","v":48},541731,null,{"$f":"'Dairy Miscellaneous 3'!R21","v":0},{"$f":"'Dairy Miscellaneous 3'!S21","v":0}]
[{"$f":"'Cow Housing'!$C$6","v":"C-3333"},{"$f":"$B$64","v":0},{"$f":"$C$64","v":2},{"$f":"$D$64","v":48},764410,null,{"$f":"'Dairy Miscellaneous 3'!R47","v":0},{"$f":"'Dairy Miscellaneous 3'!S47","v":0}]
[{"$f":"'Cow Housing'!$C$6","v":"C-3333"},{"$f":"$B$64","v":0},{"$f":"$C$64","v":2},{"$f":"$D$64","v":48},1330207,null,{"$f":"'Dairy Miscellaneous 3'!R51","v":0},{"$f":"'Dairy Miscellaneous 3'!S51","v":0}]
[{"$f":"'Cow Housing'!$C$6","v":"C-3333"},{"$f":"$B$64","v":0},{"$f":"$C$64","v":2},{"$f":"$D$64","v":48},4170303,null,{"$f":"'Dairy Miscellaneous 3'!R34","v":0},{"$f":"'Dairy Miscellaneous 3'!S34","v":0}]
[{"$f":"'Cow Housing'!$C$6","v":"C-3333"},{"$f":"$B$64","v":0},{"$f":"$C$64","v":2},{"$f":"$D$64","v":48},7429905,null,{"$f":"'Livestock PM10 3'!R14","v":0},{"$f":"'Livestock PM10 3'!S14","v":0}]
[{"$f":"'Cow Housing'!$C$6","v":"C-3333"},{"$f":"$B$64","v":0},{"$f":"$C$64","v":2},{"$f":"$D$64","v":48},7439921,null,{"$f":"'Livestock PM10 3'!R22","v":0},{"$f":"'Livestock PM10 3'!S22","v":0}]
[{"$f":"'Cow Housing'!$C$6","v":"C-3333"},{"$f":"$B$64","v":0},{"$f":"$C$64","v":2},{"$f":"$D$64","v":48},7439965,null,{"$f":"'Livestock PM10 3'!R23","v":0},{"$f":"'Livestock PM10 3'!S23","v":0}]
[{"$f":"'Cow Housing'!$C$6","v":"C-3333"},{"$f":"$B$64","v":0},{"$f":"$C$64","v":2},{"$f":"$D$64","v":48},7439976,null,{"$f":"'Livestock PM10 3'!R24","v":0},{"$f":"'Livestock PM10 3'!S24","v":0}]
[{"$f":"'Cow Housing'!$C$6","v":"C-3333"},{"$f":"$B$64","v":0},{"$f":"$C$64","v":2},{"$f":"$D$64","v":48},7440020,null,{"$f":"'Livestock PM10 3'!R25","v":0},{"$f":"'Livestock PM10 3'!S25","v":0}]
[{"$f":"'Cow Housing'!$C$6","v":"C-3333"},{"$f":"$B$64","v":0},{"$f":"$C$64","v":2},{"$f":"$D$64","v":48},7440360,null,{"$f":"'Livestock PM10 3'!R15","v":0},{"$f":"'Livestock PM10 3'!S15","v":0}]
[{"$f":"'Cow Housing'!$C$6","v":"C-3333"},{"$f":"$B$64","v":0},{"$f":"$C$64","v":2},{"$f":"$D$64","v":48},7440382,null,{"$f":"'Livestock PM10 3'!R16","v":0},{"$f":"'Livestock PM10 3'!S16","v":0}]
[{"$f":"'Cow Housing'!$C$6","v":"C-3333"},{"$f":"$B$64","v":0},{"$f":"$C$64","v":2},{"$f":"$D$64","v":48},7440393,null,{"$f":"'Livestock PM10 3'!R17","v":0},{"$f":"'Livestock PM10 3'!S17","v":0}]
[{"$f":"'Cow Housing'!$C$6","v":"C-3333"},{"$f":"$B$64","v":0},{"$f":"$C$64","v":2},{"$f":"$D$64","v":48},7440473,null,{"$f":"'Livestock PM10 3'!R19","v":0},{"$f":"'Livestock PM10 3'!S19","v":0}]
[{"$f":"'Cow Housing'!$C$6","v":"C-3333"},{"$f":"$B$64","v":0},{"$f":"$C$64","v":2},{"$f":"$D$64","v":48},7440508,null,{"$f":"'Livestock PM10 3'!R20","v":0},{"$f":"'Livestock PM10 3'!S20","v":0}]
[{"$f":"'Cow Housing'!$C$6","v":"C-3333"},{"$f":"$B$64","v":0},{"$f":"$C$64","v":2},{"$f":"$D$64","v":48},7440622,null,{"$f":"'Livestock PM10 3'!R29","v":0},{"$f":"'Livestock PM10 3'!S29","v":0}]
[{"$f":"'Cow Housing'!$C$6","v":"C-3333"},{"$f":"$B$64","v":0},{"$f":"$C$64","v":2},{"$f":"$D$64","v":48},7440666,null,{"$f":"'Livestock PM10 3'!R30","v":0},{"$f":"'Livestock PM10 3'!S30","v":0}]
[{"$f":"'Cow Housing'!$C$6","v":"C-3333"},{"$f":"$B$64","v":0},{"$f":"$C$64","v":2},{"$f":"$D$64","v":48},7664417,null,{"$f":"'Livestock PM10 3'!R31","v":0},{"$f":"'Livestock PM10 3'!S31","v":0}]
[{"$f":"'Cow Housing'!$C$6","v":"C-3333"},{"$f":"$B$64","v":0},{"$f":"$C$64","v":2},{"$f":"$D$64","v":48},7723140,null,{"$f":"'Livestock PM10 3'!R26","v":0},{"$f":"'Livestock PM10 3'!S26","v":0}]
[{"$f":"'Cow Housing'!$C$6","v":"C-3333"},{"$f":"$B$64","v":0},{"$f":"$C$64","v":2},{"$f":"$D$64","v":48},7726956,null,{"$f":"'Livestock PM10 3'!R18","v":0},{"$f":"'Livestock PM10 3'!S18","v":0}]
[{"$f":"'Cow Housing'!$C$6","v":"C-3333"},{"$f":"$B$64","v":0},{"$f":"$C$64","v":2},{"$f":"$D$64","v":48},7782492,null,{"$f":"'Livestock PM10 3'!R27","v":0},{"$f":"'Livestock PM10 3'!S27","v":0}]
[{"$f":"'Cow Housing'!$C$6","v":"C-3333"},{"$f":"$B$64","v":0},{"$f":"$C$64","v":2},{"$f":"$D$64","v":48},18540299,null,{"$f":"'Livestock PM10 3'!R21","v":0},{"$f":"'Livestock PM10 3'!S21","v":0}]
[{"$f":"'Cow Housing'!$C$6","v":"C-3333"},{"$f":"$B$65","v":0},{"$f":"$C$65","v":2},{"$f":"$D$65","v":49},9960,null,{"$f":"'Livestock PM10 3'!T28","v":0},{"$f":"'Livestock PM10 3'!U28","v":0}]
[{"$f":"'Cow Housing'!$C$6","v":"C-3333"},{"$f":"$B$65","v":0},{"$f":"$C$65","v":2},{"$f":"$D$65","v":49},50000,null,{"$f":"'Dairy Miscellaneous 3'!T40","v":0},{"$f":"'Dairy Miscellaneous 3'!U40","v":0}]
[{"$f":"'Cow Housing'!$C$6","v":"C-3333"},{"$f":"$B$65","v":0},{"$f":"$C$65","v":2},{"$f":"$D$65","v":49},56235,null,{"$f":"'Dairy Miscellaneous 3'!T30","v":0},{"$f":"'Dairy Miscellaneous 3'!U30","v":0}]
[{"$f":"'Cow Housing'!$C$6","v":"C-3333"},{"$f":"$B$65","v":0},{"$f":"$C$65","v":2},{"$f":"$D$65","v":49},67630,null,{"$f":"'Dairy Miscellaneous 3'!T42","v":0},{"$f":"'Dairy Miscellaneous 3'!U42","v":0}]
[{"$f":"'Cow Housing'!$C$6","v":"C-3333"},{"$f":"$B$65","v":0},{"$f":"$C$65","v":2},{"$f":"$D$65","v":49},67663,null,{"$f":"'Dairy Miscellaneous 3'!T32","v":0},{"$f":"'Dairy Miscellaneous 3'!U32","v":0}]
[{"$f":"'Cow Housing'!$C$6","v":"C-3333"},{"$f":"$B$65","v":0},{"$f":"$C$65","v":2},{"$f":"$D$65","v":49},71432,null,{"$f":"'Dairy Miscellaneous 3'!T26","v":0},{"$f":"'Dairy Miscellaneous 3'!U26","v":0}]
[{"$f":"'Cow Housing'!$C$6","v":"C-3333"},{"$f":"$B$65","v":0},{"$f":"$C$65","v":2},{"$f":"$D$65","v":49},74873,null,{"$f":"'Dairy Miscellaneous 3'!T33","v":0},{"$f":"'Dairy Miscellaneous 3'!U33","v":0}]
[{"$f":"'Cow Housing'!$C$6","v":"C-3333"},{"$f":"$B$65","v":0},{"$f":"$C$65","v":2},{"$f":"$D$65","v":49},75003,null,{"$f":"'Dairy Miscellaneous 3'!T36","v":0},{"$f":"'Dairy Miscellaneous 3'!U36","v":0}]
[{"$f":"'Cow Housing'!$C$6","v":"C-3333"},{"$f":"$B$65","v":0},{"$f":"$C$65","v":2},{"$f":"$D$65","v":49},75070,null,{"$f":"'Dairy Miscellaneous 3'!T24","v":0},{"$f":"'Dairy Miscellaneous 3'!U24","v":0}]
[{"$f":"'Cow Housing'!$C$6","v":"C-3333"},{"$f":"$B$65","v":0},{"$f":"$C$65","v":2},{"$f":"$D$65","v":49},75150,null,{"$f":"'Dairy Miscellaneous 3'!T29","v":0},{"$f":"'Dairy Miscellaneous 3'!U29","v":0}]
[{"$f":"'Cow Housing'!$C$6","v":"C-3333"},{"$f":"$B$65","v":0},{"$f":"$C$65","v":2},{"$f":"$D$65","v":49},75694,null,{"$f":"'Dairy Miscellaneous 3'!T49","v":0},{"$f":"'Dairy Miscellaneous 3'!U49","v":0}]
[{"$f":"'Cow Housing'!$C$6","v":"C-3333"},{"$f":"$B$65","v":0},{"$f":"$C$65","v":2},{"$f":"$D$65","v":49},78933,null,{"$f":"'Dairy Miscellaneous 3'!T44","v":0},{"$f":"'Dairy Miscellaneous 3'!U44","v":0}]
[{"$f":"'Cow Housing'!$C$6","v":"C-3333"},{"$f":"$B$65","v":0},{"$f":"$C$65","v":2},{"$f":"$D$65","v":49},79005,null,{"$f":"'Dairy Miscellaneous 3'!T16","v":0},{"$f":"'Dairy Miscellaneous 3'!U16","v":0}]
[{"$f":"'Cow Housing'!$C$6","v":"C-3333"},{"$f":"$B$65","v":0},{"$f":"$C$65","v":2},{"$f":"$D$65","v":49},79345,null,{"$f":"'Dairy Miscellaneous 3'!T15","v":0},{"$f":"'Dairy Miscellaneous 3'!U15","v":0}]
[{"$f":"'Cow Housing'!$C$6","v":"C-3333"},{"$f":"$B$65","v":0},{"$f":"$C$65","v":2},{"$f":"$D$65","v":49},95501,null,{"$f":"'Dairy Miscellaneous 3'!T20","v":0},{"$f":"'Dairy Miscellaneous 3'!U20","v":0}]
[{"$f":"'Cow Housing'!$C$6","v":"C-3333"},{"$f":"$B$65","v":0},{"$f":"$C$65","v":2},{"$f":"$D$65","v":49},96128,null,{"$f":"'Dairy Miscellaneous 3'!T19","v":0},{"$f":"'Dairy Miscellaneous 3'!U19","v":0}]
[{"$f":"'Cow Housing'!$C$6","v":"C-3333"},{"$f":"$B$65","v":0},{"$f":"$C$65","v":2},{"$f":"$D$65","v":49},96184,null,{"$f":"'Dairy Miscellaneous 3'!T17","v":0},{"$f":"'Dairy Miscellaneous 3'!U17","v":0}]
[{"$f":"'Cow Housing'!$C$6","v":"C-3333"},{"$f":"$B$65","v":0},{"$f":"$C$65","v":2},{"$f":"$D$65","v":49},98828,null,{"$f":"'Dairy Miscellaneous 3'!T43","v":0},{"$f":"'Dairy Miscellaneous 3'!U43","v":0}]
[{"$f":"'Cow Housing'!$C$6","v":"C-3333"},{"$f":"$B$65","v":0},{"$f":"$C$65","v":2},{"$f":"$D$65","v":49},100414,null,{"$f":"'Dairy Miscellaneous 3'!T37","v":0},{"$f":"'Dairy Miscellaneous 3'!U37","v":0}]
[{"$f":"'Cow Housing'!$C$6","v":"C-3333"},{"$f":"$B$65","v":0},{"$f":"$C$65","v":2},{"$f":"$D$65","v":49},100425,null,{"$f":"'Dairy Miscellaneous 3'!T46","v":0},{"$f":"'Dairy Miscellaneous 3'!U46","v":0}]
[{"$f":"'Cow Housing'!$C$6","v":"C-3333"},{"$f":"$B$65","v":0},{"$f":"$C$65","v":2},{"$f":"$D$65","v":49},100447,null,{"$f":"'Dairy Miscellaneous 3'!T27","v":0},{"$f":"'Dairy Miscellaneous 3'!U27","v":0}]
[{"$f":"'Cow Housing'!$C$6","v":"C-3333"},{"$f":"$B$65","v":0},{"$f":"$C$65","v":2},{"$f":"$D$65","v":49},106467,null,{"$f":"'Dairy Miscellaneous 3'!T23","v":0},{"$f":"'Dairy Miscellaneous 3'!U23","v":0}]
[{"$f":"'Cow Housing'!$C$6","v":"C-3333"},{"$f":"$B$65","v":0},{"$f":"$C$65","v":2},{"$f":"$D$65","v":49},106934,null,{"$f":"'Dairy Miscellaneous 3'!T38","v":0},{"$f":"'Dairy Miscellaneous 3'!U38","v":0}]
[{"$f":"'Cow Housing'!$C$6","v":"C-3333"},{"$f":"$B$65","v":0},{"$f":"$C$65","v":2},{"$f":"$D$65","v":49},107062,null,{"$f":"'Dairy Miscellaneous 3'!T39","v":0},{"$f":"'Dairy Miscellaneous 3'!U39","v":0}]
[{"$f":"'Cow Housing'!$C$6","v":"C-3333"},{"$f":"$B$65","v":0},{"$f":"$C$65","v":2},{"$f":"$D$65","v":49},107131,null,{"$f":"'Dairy Miscellaneous 3'!T25","v":0},{"$f":"'Dairy Miscellaneous 3'!U25","v":0}]
[{"$f":"'Cow Housing'!$C$6","v":"C-3333"},{"$f":"$B$65","v":0},{"$f":"$C$65","v":2},{"$f":"$D$65","v":49},108054,null,{"$f":"'Dairy Miscellaneous 3'!T50","v":0},{"$f":"'Dairy Miscellaneous 3'!U50","v":0}]
[{"$f":"'Cow Housing'!$C$6","v":"C-3333"},{"$f":"$B$65","v":0},{"$f":"$C$65","v":2},{"$f":"$D$65","v":49},108101,null,{"$f":"'Dairy Miscellaneous 3'!T45","v":0},{"$f":"'Dairy Miscellaneous 3'!U45","v":0}]
[{"$f":"'Cow Housing'!$C$6","v":"C-3333"},{"$f":"$B$65","v":0},{"$f":"$C$65","v":2},{"$f":"$D$65","v":49},108883,null,{"$f":"'Dairy Miscellaneous 3'!T48","v":0},{"$f":"'Dairy Miscellaneous 3'!U48","v":0}]
[{"$f":"'Cow Housing'!$C$6","v":"C-3333"},{"$f":"$B$65","v":0},{"$f":"$C$65","v":2},{"$f":"$D$65","v":49},108907,null,{"$f":"'Dairy Miscellaneous 3'!T31","v":0},{"$f":"'Dairy Miscellaneous 3'!U31","v":0}]
[{"$f":"'Cow Housing'!$C$6","v":"C-3333"},{"$f":"$B$65","v":0},{"$f":"$C$65","v":2},{"$f":"$D$65","v":49},110543,null,{"$f":"'Dairy Miscellaneous 3'!T41","v":0},{"$f":"'Dairy Miscellaneous 3'!U41","v":0}]
[{"$f":"'Cow Housing'!$C$6","v":"C-3333"},{"$f":"$B$65","v":0},{"$f":"$C$65","v":2},{"$f":"$D$65","v":49},110827,null,{"$f":"'Dairy Miscellaneous 3'!T35","v":0},{"$f":"'Dairy Miscellaneous 3'!U35","v":0}]
[{"$f":"'Cow Housing'!$C$6","v":"C-3333"},{"$f":"$B$65","v":0},{"$f":"$C$65","v":2},{"$f":"$D$65","v":49},120821,null,{"$f":"'Dairy Miscellaneous 3'!T18","v":0},{"$f":"'Dairy Miscellaneous 3'!U18","v":0}]
[{"$f":"'Cow Housing'!$C$6","v":"C-3333"},{"$f":"$B$65","v":0},{"$f":"$C$65","v":2},{"$f":"$D$65","v":49},123728,null,{"$f":"'Dairy Miscellaneous 3'!T28","v":0},{"$f":"'Dairy Miscellaneous 3'!U28","v":0}]
[{"$f":"'Cow Housing'!$C$6","v":"C-3333"},{"$f":"$B$65","v":0},{"$f":"$C$65","v":2},{"$f":"$D$65","v":49},123911,null,{"$f":"'Dairy Miscellaneous 3'!T22","v":0},{"$f":"'Dairy Miscellaneous 3'!U22","v":0}]
[{"$f":"'Cow Housing'!$C$6","v":"C-3333"},{"$f":"$B$65","v":0},{"$f":"$C$65","v":2},{"$f":"$D$65","v":49},541731,null,{"$f":"'Dairy Miscellaneous 3'!T21","v":0},{"$f":"'Dairy Miscellaneous 3'!U21","v":0}]
[{"$f":"'Cow Housing'!$C$6","v":"C-3333"},{"$f":"$B$65","v":0},{"$f":"$C$65","v":2},{"$f":"$D$65","v":49},764410,null,{"$f":"'Dairy Miscellaneous 3'!T47","v":0},{"$f":"'Dairy Miscellaneous 3'!U47","v":0}]
[{"$f":"'Cow Housing'!$C$6","v":"C-3333"},{"$f":"$B$65","v":0},{"$f":"$C$65","v":2},{"$f":"$D$65","v":49},1330207,null,{"$f":"'Dairy Miscellaneous 3'!T51","v":0},{"$f":"'Dairy Miscellaneous 3'!U51","v":0}]
[{"$f":"'Cow Housing'!$C$6","v":"C-3333"},{"$f":"$B$65","v":0},{"$f":"$C$65","v":2},{"$f":"$D$65","v":49},4170303,null,{"$f":"'Dairy Miscellaneous 3'!T34","v":0},{"$f":"'Dairy Miscellaneous 3'!U34","v":0}]
[{"$f":"'Cow Housing'!$C$6","v":"C-3333"},{"$f":"$B$65","v":0},{"$f":"$C$65","v":2},{"$f":"$D$65","v":49},7429905,null,{"$f":"'Livestock PM10 3'!T14","v":0},{"$f":"'Livestock PM10 3'!U14","v":0}]
[{"$f":"'Cow Housing'!$C$6","v":"C-3333"},{"$f":"$B$65","v":0},{"$f":"$C$65","v":2},{"$f":"$D$65","v":49},7439921,null,{"$f":"'Livestock PM10 3'!T22","v":0},{"$f":"'Livestock PM10 3'!U22","v":0}]
[{"$f":"'Cow Housing'!$C$6","v":"C-3333"},{"$f":"$B$65","v":0},{"$f":"$C$65","v":2},{"$f":"$D$65","v":49},7439965,null,{"$f":"'Livestock PM10 3'!T23","v":0},{"$f":"'Livestock PM10 3'!U23","v":0}]
[{"$f":"'Cow Housing'!$C$6","v":"C-3333"},{"$f":"$B$65","v":0},{"$f":"$C$65","v":2},{"$f":"$D$65","v":49},7439976,null,{"$f":"'Livestock PM10 3'!T24","v":0},{"$f":"'Livestock PM10 3'!U24","v":0}]
[{"$f":"'Cow Housing'!$C$6","v":"C-3333"},{"$f":"$B$65","v":0},{"$f":"$C$65","v":2},{"$f":"$D$65","v":49},7440020,null,{"$f":"'Livestock PM10 3'!T25","v":0},{"$f":"'Livestock PM10 3'!U25","v":0}]
[{"$f":"'Cow Housing'!$C$6","v":"C-3333"},{"$f":"$B$65","v":0},{"$f":"$C$65","v":2},{"$f":"$D$65","v":49},7440360,null,{"$f":"'Livestock PM10 3'!T15","v":0},{"$f":"'Livestock PM10 3'!U15","v":0}]
[{"$f":"'Cow Housing'!$C$6","v":"C-3333"},{"$f":"$B$65","v":0},{"$f":"$C$65","v":2},{"$f":"$D$65","v":49},7440382,null,{"$f":"'Livestock PM10 3'!T16","v":0},{"$f":"'Livestock PM10 3'!U16","v":0}]
[{"$f":"'Cow Housing'!$C$6","v":"C-3333"},{"$f":"$B$65","v":0},{"$f":"$C$65","v":2},{"$f":"$D$65","v":49},7440393,null,{"$f":"'Livestock PM10 3'!T17","v":0},{"$f":"'Livestock PM10 3'!U17","v":0}]
[{"$f":"'Cow Housing'!$C$6","v":"C-3333"},{"$f":"$B$65","v":0},{"$f":"$C$65","v":2},{"$f":"$D$65","v":49},7440473,null,{"$f":"'Livestock PM10 3'!T19","v":0},{"$f":"'Livestock PM10 3'!U19","v":0}]
[{"$f":"'Cow Housing'!$C$6","v":"C-3333"},{"$f":"$B$65","v":0},{"$f":"$C$65","v":2},{"$f":"$D$65","v":49},7440508,null,{"$f":"'Livestock PM10 3'!T20","v":0},{"$f":"'Livestock PM10 3'!U20","v":0}]
[{"$f":"'Cow Housing'!$C$6","v":"C-3333"},{"$f":"$B$65","v":0},{"$f":"$C$65","v":2},{"$f":"$D$65","v":49},7440622,null,{"$f":"'Livestock PM10 3'!T29","v":0},{"$f":"'Livestock PM10 3'!U29","v":0}]
[{"$f":"'Cow Housing'!$C$6","v":"C-3333"},{"$f":"$B$65","v":0},{"$f":"$C$65","v":2},{"$f":"$D$65","v":49},7440666,null,{"$f":"'Livestock PM10 3'!T30","v":0},{"$f":"'Livestock PM10 3'!U30","v":0}]
[{"$f":"'Cow Housing'!$C$6","v":"C-3333"},{"$f":"$B$65","v":0},{"$f":"$C$65","v":2},{"$f":"$D$65","v":49},7664417,null,{"$f":"'Livestock PM10 3'!T31","v":0},{"$f":"'Livestock PM10 3'!U31","v":0}]
[{"$f":"'Cow Housing'!$C$6","v":"C-3333"},{"$f":"$B$65","v":0},{"$f":"$C$65","v":2},{"$f":"$D$65","v":49},7723140,null,{"$f":"'Livestock PM10 3'!T26","v":0},{"$f":"'Livestock PM10 3'!U26","v":0}]
[{"$f":"'Cow Housing'!$C$6","v":"C-3333"},{"$f":"$B$65","v":0},{"$f":"$C$65","v":2},{"$f":"$D$65","v":49},7726956,null,{"$f":"'Livestock PM10 3'!T18","v":0},{"$f":"'Livestock PM10 3'!U18","v":0}]
[{"$f":"'Cow Housing'!$C$6","v":"C-3333"},{"$f":"$B$65","v":0},{"$f":"$C$65","v":2},{"$f":"$D$65","v":49},7782492,null,{"$f":"'Livestock PM10 3'!T27","v":0},{"$f":"'Livestock PM10 3'!U27","v":0}]
[{"$f":"'Cow Housing'!$C$6","v":"C-3333"},{"$f":"$B$65","v":0},{"$f":"$C$65","v":2},{"$f":"$D$65","v":49},18540299,null,{"$f":"'Livestock PM10 3'!T21","v":0},{"$f":"'Livestock PM10 3'!U21","v":0}]
[{"$f":"'Cow Housing'!$C$6","v":"C-3333"},{"$f":"$B$66","v":0},{"$f":"$C$66","v":2},{"$f":"$D$66","v":50},9960,null,{"$f":"'Livestock PM10 3'!V28","v":0},{"$f":"'Livestock PM10 3'!W28","v":0}]
[{"$f":"'Cow Housing'!$C$6","v":"C-3333"},{"$f":"$B$66","v":0},{"$f":"$C$66","v":2},{"$f":"$D$66","v":50},50000,null,{"$f":"'Dairy Miscellaneous 3'!V40","v":0},{"$f":"'Dairy Miscellaneous 3'!W40","v":0}]
[{"$f":"'Cow Housing'!$C$6","v":"C-3333"},{"$f":"$B$66","v":0},{"$f":"$C$66","v":2},{"$f":"$D$66","v":50},56235,null,{"$f":"'Dairy Miscellaneous 3'!V30","v":0},{"$f":"'Dairy Miscellaneous 3'!W30","v":0}]
[{"$f":"'Cow Housing'!$C$6","v":"C-3333"},{"$f":"$B$66","v":0},{"$f":"$C$66","v":2},{"$f":"$D$66","v":50},67630,null,{"$f":"'Dairy Miscellaneous 3'!V42","v":0},{"$f":"'Dairy Miscellaneous 3'!W42","v":0}]
[{"$f":"'Cow Housing'!$C$6","v":"C-3333"},{"$f":"$B$66","v":0},{"$f":"$C$66","v":2},{"$f":"$D$66","v":50},67663,null,{"$f":"'Dairy Miscellaneous 3'!V32","v":0},{"$f":"'Dairy Miscellaneous 3'!W32","v":0}]
[{"$f":"'Cow Housing'!$C$6","v":"C-3333"},{"$f":"$B$66","v":0},{"$f":"$C$66","v":2},{"$f":"$D$66","v":50},71432,null,{"$f":"'Dairy Miscellaneous 3'!V26","v":0},{"$f":"'Dairy Miscellaneous 3'!W26","v":0}]
[{"$f":"'Cow Housing'!$C$6","v":"C-3333"},{"$f":"$B$66","v":0},{"$f":"$C$66","v":2},{"$f":"$D$66","v":50},74873,null,{"$f":"'Dairy Miscellaneous 3'!V33","v":0},{"$f":"'Dairy Miscellaneous 3'!W33","v":0}]
[{"$f":"'Cow Housing'!$C$6","v":"C-3333"},{"$f":"$B$66","v":0},{"$f":"$C$66","v":2},{"$f":"$D$66","v":50},75003,null,{"$f":"'Dairy Miscellaneous 3'!V36","v":0},{"$f":"'Dairy Miscellaneous 3'!W36","v":0}]
[{"$f":"'Cow Housing'!$C$6","v":"C-3333"},{"$f":"$B$66","v":0},{"$f":"$C$66","v":2},{"$f":"$D$66","v":50},75070,null,{"$f":"'Dairy Miscellaneous 3'!V24","v":0},{"$f":"'Dairy Miscellaneous 3'!W24","v":0}]
[{"$f":"'Cow Housing'!$C$6","v":"C-3333"},{"$f":"$B$66","v":0},{"$f":"$C$66","v":2},{"$f":"$D$66","v":50},75150,null,{"$f":"'Dairy Miscellaneous 3'!V29","v":0},{"$f":"'Dairy Miscellaneous 3'!W29","v":0}]
[{"$f":"'Cow Housing'!$C$6","v":"C-3333"},{"$f":"$B$66","v":0},{"$f":"$C$66","v":2},{"$f":"$D$66","v":50},75694,null,{"$f":"'Dairy Miscellaneous 3'!V49","v":0},{"$f":"'Dairy Miscellaneous 3'!W49","v":0}]
[{"$f":"'Cow Housing'!$C$6","v":"C-3333"},{"$f":"$B$66","v":0},{"$f":"$C$66","v":2},{"$f":"$D$66","v":50},78933,null,{"$f":"'Dairy Miscellaneous 3'!V44","v":0},{"$f":"'Dairy Miscellaneous 3'!W44","v":0}]
[{"$f":"'Cow Housing'!$C$6","v":"C-3333"},{"$f":"$B$66","v":0},{"$f":"$C$66","v":2},{"$f":"$D$66","v":50},79005,null,{"$f":"'Dairy Miscellaneous 3'!V16","v":0},{"$f":"'Dairy Miscellaneous 3'!W16","v":0}]
[{"$f":"'Cow Housing'!$C$6","v":"C-3333"},{"$f":"$B$66","v":0},{"$f":"$C$66","v":2},{"$f":"$D$66","v":50},79345,null,{"$f":"'Dairy Miscellaneous 3'!V15","v":0},{"$f":"'Dairy Miscellaneous 3'!W15","v":0}]
[{"$f":"'Cow Housing'!$C$6","v":"C-3333"},{"$f":"$B$66","v":0},{"$f":"$C$66","v":2},{"$f":"$D$66","v":50},95501,null,{"$f":"'Dairy Miscellaneous 3'!V20","v":0},{"$f":"'Dairy Miscellaneous 3'!W20","v":0}]
[{"$f":"'Cow Housing'!$C$6","v":"C-3333"},{"$f":"$B$66","v":0},{"$f":"$C$66","v":2},{"$f":"$D$66","v":50},96128,null,{"$f":"'Dairy Miscellaneous 3'!V19","v":0},{"$f":"'Dairy Miscellaneous 3'!W19","v":0}]
[{"$f":"'Cow Housing'!$C$6","v":"C-3333"},{"$f":"$B$66","v":0},{"$f":"$C$66","v":2},{"$f":"$D$66","v":50},96184,null,{"$f":"'Dairy Miscellaneous 3'!V17","v":0},{"$f":"'Dairy Miscellaneous 3'!W17","v":0}]
[{"$f":"'Cow Housing'!$C$6","v":"C-3333"},{"$f":"$B$66","v":0},{"$f":"$C$66","v":2},{"$f":"$D$66","v":50},98828,null,{"$f":"'Dairy Miscellaneous 3'!V43","v":0},{"$f":"'Dairy Miscellaneous 3'!W43","v":0}]
[{"$f":"'Cow Housing'!$C$6","v":"C-3333"},{"$f":"$B$66","v":0},{"$f":"$C$66","v":2},{"$f":"$D$66","v":50},100414,null,{"$f":"'Dairy Miscellaneous 3'!V37","v":0},{"$f":"'Dairy Miscellaneous 3'!W37","v":0}]
[{"$f":"'Cow Housing'!$C$6","v":"C-3333"},{"$f":"$B$66","v":0},{"$f":"$C$66","v":2},{"$f":"$D$66","v":50},100425,null,{"$f":"'Dairy Miscellaneous 3'!V46","v":0},{"$f":"'Dairy Miscellaneous 3'!W46","v":0}]
[{"$f":"'Cow Housing'!$C$6","v":"C-3333"},{"$f":"$B$66","v":0},{"$f":"$C$66","v":2},{"$f":"$D$66","v":50},100447,null,{"$f":"'Dairy Miscellaneous 3'!V27","v":0},{"$f":"'Dairy Miscellaneous 3'!W27","v":0}]
[{"$f":"'Cow Housing'!$C$6","v":"C-3333"},{"$f":"$B$66","v":0},{"$f":"$C$66","v":2},{"$f":"$D$66","v":50},106467,null,{"$f":"'Dairy Miscellaneous 3'!V23","v":0},{"$f":"'Dairy Miscellaneous 3'!W23","v":0}]
[{"$f":"'Cow Housing'!$C$6","v":"C-3333"},{"$f":"$B$66","v":0},{"$f":"$C$66","v":2},{"$f":"$D$66","v":50},106934,null,{"$f":"'Dairy Miscellaneous 3'!V38","v":0},{"$f":"'Dairy Miscellaneous 3'!W38","v":0}]
[{"$f":"'Cow Housing'!$C$6","v":"C-3333"},{"$f":"$B$66","v":0},{"$f":"$C$66","v":2},{"$f":"$D$66","v":50},107062,null,{"$f":"'Dairy Miscellaneous 3'!V39","v":0},{"$f":"'Dairy Miscellaneous 3'!W39","v":0}]
[{"$f":"'Cow Housing'!$C$6","v":"C-3333"},{"$f":"$B$66","v":0},{"$f":"$C$66","v":2},{"$f":"$D$66","v":50},107131,null,{"$f":"'Dairy Miscellaneous 3'!V25","v":0},{"$f":"'Dairy Miscellaneous 3'!W25","v":0}]
[{"$f":"'Cow Housing'!$C$6","v":"C-3333"},{"$f":"$B$66","v":0},{"$f":"$C$66","v":2},{"$f":"$D$66","v":50},108054,null,{"$f":"'Dairy Miscellaneous 3'!V50","v":0},{"$f":"'Dairy Miscellaneous 3'!W50","v":0}]
[{"$f":"'Cow Housing'!$C$6","v":"C-3333"},{"$f":"$B$66","v":0},{"$f":"$C$66","v":2},{"$f":"$D$66","v":50},108101,null,{"$f":"'Dairy Miscellaneous 3'!V45","v":0},{"$f":"'Dairy Miscellaneous 3'!W45","v":0}]
[{"$f":"'Cow Housing'!$C$6","v":"C-3333"},{"$f":"$B$66","v":0},{"$f":"$C$66","v":2},{"$f":"$D$66","v":50},108883,null,{"$f":"'Dairy Miscellaneous 3'!V48","v":0},{"$f":"'Dairy Miscellaneous 3'!W48","v":0}]
[{"$f":"'Cow Housing'!$C$6","v":"C-3333"},{"$f":"$B$66","v":0},{"$f":"$C$66","v":2},{"$f":"$D$66","v":50},108907,null,{"$f":"'Dairy Miscellaneous 3'!V31","v":0},{"$f":"'Dairy Miscellaneous 3'!W31","v":0}]
[{"$f":"'Cow Housing'!$C$6","v":"C-3333"},{"$f":"$B$66","v":0},{"$f":"$C$66","v":2},{"$f":"$D$66","v":50},110543,null,{"$f":"'Dairy Miscellaneous 3'!V41","v":0},{"$f":"'Dairy Miscellaneous 3'!W41","v":0}]
[{"$f":"'Cow Housing'!$C$6","v":"C-3333"},{"$f":"$B$66","v":0},{"$f":"$C$66","v":2},{"$f":"$D$66","v":50},110827,null,{"$f":"'Dairy Miscellaneous 3'!V35","v":0},{"$f":"'Dairy Miscellaneous 3'!W35","v":0}]
[{"$f":"'Cow Housing'!$C$6","v":"C-3333"},{"$f":"$B$66","v":0},{"$f":"$C$66","v":2},{"$f":"$D$66","v":50},120821,null,{"$f":"'Dairy Miscellaneous 3'!V18","v":0},{"$f":"'Dairy Miscellaneous 3'!W18","v":0}]
[{"$f":"'Cow Housing'!$C$6","v":"C-3333"},{"$f":"$B$66","v":0},{"$f":"$C$66","v":2},{"$f":"$D$66","v":50},123728,null,{"$f":"'Dairy Miscellaneous 3'!V28","v":0},{"$f":"'Dairy Miscellaneous 3'!W28","v":0}]
[{"$f":"'Cow Housing'!$C$6","v":"C-3333"},{"$f":"$B$66","v":0},{"$f":"$C$66","v":2},{"$f":"$D$66","v":50},123911,null,{"$f":"'Dairy Miscellaneous 3'!V22","v":0},{"$f":"'Dairy Miscellaneous 3'!W22","v":0}]
[{"$f":"'Cow Housing'!$C$6","v":"C-3333"},{"$f":"$B$66","v":0},{"$f":"$C$66","v":2},{"$f":"$D$66","v":50},541731,null,{"$f":"'Dairy Miscellaneous 3'!V21","v":0},{"$f":"'Dairy Miscellaneous 3'!W21","v":0}]
[{"$f":"'Cow Housing'!$C$6","v":"C-3333"},{"$f":"$B$66","v":0},{"$f":"$C$66","v":2},{"$f":"$D$66","v":50},764410,null,{"$f":"'Dairy Miscellaneous 3'!V47","v":0},{"$f":"'Dairy Miscellaneous 3'!W47","v":0}]
[{"$f":"'Cow Housing'!$C$6","v":"C-3333"},{"$f":"$B$66","v":0},{"$f":"$C$66","v":2},{"$f":"$D$66","v":50},1330207,null,{"$f":"'Dairy Miscellaneous 3'!V51","v":0},{"$f":"'Dairy Miscellaneous 3'!W51","v":0}]
[{"$f":"'Cow Housing'!$C$6","v":"C-3333"},{"$f":"$B$66","v":0},{"$f":"$C$66","v":2},{"$f":"$D$66","v":50},4170303,null,{"$f":"'Dairy Miscellaneous 3'!V34","v":0},{"$f":"'Dairy Miscellaneous 3'!W34","v":0}]
[{"$f":"'Cow Housing'!$C$6","v":"C-3333"},{"$f":"$B$66","v":0},{"$f":"$C$66","v":2},{"$f":"$D$66","v":50},7429905,null,{"$f":"'Livestock PM10 3'!V14","v":0},{"$f":"'Livestock PM10 3'!W14","v":0}]
[{"$f":"'Cow Housing'!$C$6","v":"C-3333"},{"$f":"$B$66","v":0},{"$f":"$C$66","v":2},{"$f":"$D$66","v":50},7439921,null,{"$f":"'Livestock PM10 3'!V22","v":0},{"$f":"'Livestock PM10 3'!W22","v":0}]
[{"$f":"'Cow Housing'!$C$6","v":"C-3333"},{"$f":"$B$66","v":0},{"$f":"$C$66","v":2},{"$f":"$D$66","v":50},7439965,null,{"$f":"'Livestock PM10 3'!V23","v":0},{"$f":"'Livestock PM10 3'!W23","v":0}]
[{"$f":"'Cow Housing'!$C$6","v":"C-3333"},{"$f":"$B$66","v":0},{"$f":"$C$66","v":2},{"$f":"$D$66","v":50},7439976,null,{"$f":"'Livestock PM10 3'!V24","v":0},{"$f":"'Livestock PM10 3'!W24","v":0}]
[{"$f":"'Cow Housing'!$C$6","v":"C-3333"},{"$f":"$B$66","v":0},{"$f":"$C$66","v":2},{"$f":"$D$66","v":50},7440020,null,{"$f":"'Livestock PM10 3'!V25","v":0},{"$f":"'Livestock PM10 3'!W25","v":0}]
[{"$f":"'Cow Housing'!$C$6","v":"C-3333"},{"$f":"$B$66","v":0},{"$f":"$C$66","v":2},{"$f":"$D$66","v":50},7440360,null,{"$f":"'Livestock PM10 3'!V15","v":0},{"$f":"'Livestock PM10 3'!W15","v":0}]
[{"$f":"'Cow Housing'!$C$6","v":"C-3333"},{"$f":"$B$66","v":0},{"$f":"$C$66","v":2},{"$f":"$D$66","v":50},7440382,null,{"$f":"'Livestock PM10 3'!V16","v":0},{"$f":"'Livestock PM10 3'!W16","v":0}]
[{"$f":"'Cow Housing'!$C$6","v":"C-3333"},{"$f":"$B$66","v":0},{"$f":"$C$66","v":2},{"$f":"$D$66","v":50},7440393,null,{"$f":"'Livestock PM10 3'!V17","v":0},{"$f":"'Livestock PM10 3'!W17","v":0}]
[{"$f":"'Cow Housing'!$C$6","v":"C-3333"},{"$f":"$B$66","v":0},{"$f":"$C$66","v":2},{"$f":"$D$66","v":50},7440473,null,{"$f":"'Livestock PM10 3'!V19","v":0},{"$f":"'Livestock PM10 3'!W19","v":0}]
[{"$f":"'Cow Housing'!$C$6","v":"C-3333"},{"$f":"$B$66","v":0},{"$f":"$C$66","v":2},{"$f":"$D$66","v":50},7440508,null,{"$f":"'Livestock PM10 3'!V20","v":0},{"$f":"'Livestock PM10 3'!W20","v":0}]
[{"$f":"'Cow Housing'!$C$6","v":"C-3333"},{"$f":"$B$66","v":0},{"$f":"$C$66","v":2},{"$f":"$D$66","v":50},7440622,null,{"$f":"'Livestock PM10 3'!V29","v":0},{"$f":"'Livestock PM10 3'!W29","v":0}]
[{"$f":"'Cow Housing'!$C$6","v":"C-3333"},{"$f":"$B$66","v":0},{"$f":"$C$66","v":2},{"$f":"$D$66","v":50},7440666,null,{"$f":"'Livestock PM10 3'!V30","v":0},{"$f":"'Livestock PM10 3'!W30","v":0}]
[{"$f":"'Cow Housing'!$C$6","v":"C-3333"},{"$f":"$B$66","v":0},{"$f":"$C$66","v":2},{"$f":"$D$66","v":50},7664417,null,{"$f":"'Livestock PM10 3'!V31","v":0},{"$f":"'Livestock PM10 3'!W31","v":0}]
[{"$f":"'Cow Housing'!$C$6","v":"C-3333"},{"$f":"$B$66","v":0},{"$f":"$C$66","v":2},{"$f":"$D$66","v":50},7723140,null,{"$f":"'Livestock PM10 3'!V26","v":0},{"$f":"'Livestock PM10 3'!W26","v":0}]
[{"$f":"'Cow Housing'!$C$6","v":"C-3333"},{"$f":"$B$66","v":0},{"$f":"$C$66","v":2},{"$f":"$D$66","v":50},7726956,null,{"$f":"'Livestock PM10 3'!V18","v":0},{"$f":"'Livestock PM10 3'!W18","v":0}]
[{"$f":"'Cow Housing'!$C$6","v":"C-3333"},{"$f":"$B$66","v":0},{"$f":"$C$66","v":2},{"$f":"$D$66","v":50},7782492,null,{"$f":"'Livestock PM10 3'!V27","v":0},{"$f":"'Livestock PM10 3'!W27","v":0}]
[{"$f":"'Cow Housing'!$C$6","v":"C-3333"},{"$f":"$B$66","v":0},{"$f":"$C$66","v":2},{"$f":"$D$66","v":50},18540299,null,{"$f":"'Livestock PM10 3'!V21","v":0},{"$f":"'Livestock PM10 3'!W21","v":0}]
[{"$f":"'Cow Housing'!$C$6","v":"C-3333"},{"$f":"$B$67","v":0},{"$f":"$C$67","v":2},{"$f":"$D$67","v":51},9960,null,{"$f":"'Livestock PM10 3'!X28","v":0},{"$f":"'Livestock PM10 3'!Y28","v":0}]
[{"$f":"'Cow Housing'!$C$6","v":"C-3333"},{"$f":"$B$67","v":0},{"$f":"$C$67","v":2},{"$f":"$D$67","v":51},50000,null,{"$f":"'Dairy Miscellaneous 3'!X40","v":0},{"$f":"'Dairy Miscellaneous 3'!Y40","v":0}]
[{"$f":"'Cow Housing'!$C$6","v":"C-3333"},{"$f":"$B$67","v":0},{"$f":"$C$67","v":2},{"$f":"$D$67","v":51},56235,null,{"$f":"'Dairy Miscellaneous 3'!X30","v":0},{"$f":"'Dairy Miscellaneous 3'!Y30","v":0}]
[{"$f":"'Cow Housing'!$C$6","v":"C-3333"},{"$f":"$B$67","v":0},{"$f":"$C$67","v":2},{"$f":"$D$67","v":51},67630,null,{"$f":"'Dairy Miscellaneous 3'!X42","v":0},{"$f":"'Dairy Miscellaneous 3'!Y42","v":0}]
[{"$f":"'Cow Housing'!$C$6","v":"C-3333"},{"$f":"$B$67","v":0},{"$f":"$C$67","v":2},{"$f":"$D$67","v":51},67663,null,{"$f":"'Dairy Miscellaneous 3'!X32","v":0},{"$f":"'Dairy Miscellaneous 3'!Y32","v":0}]
[{"$f":"'Cow Housing'!$C$6","v":"C-3333"},{"$f":"$B$67","v":0},{"$f":"$C$67","v":2},{"$f":"$D$67","v":51},71432,null,{"$f":"'Dairy Miscellaneous 3'!X26","v":0},{"$f":"'Dairy Miscellaneous 3'!Y26","v":0}]
[{"$f":"'Cow Housing'!$C$6","v":"C-3333"},{"$f":"$B$67","v":0},{"$f":"$C$67","v":2},{"$f":"$D$67","v":51},74873,null,{"$f":"'Dairy Miscellaneous 3'!X33","v":0},{"$f":"'Dairy Miscellaneous 3'!Y33","v":0}]
[{"$f":"'Cow Housing'!$C$6","v":"C-3333"},{"$f":"$B$67","v":0},{"$f":"$C$67","v":2},{"$f":"$D$67","v":51},75003,null,{"$f":"'Dairy Miscellaneous 3'!X36","v":0},{"$f":"'Dairy Miscellaneous 3'!Y36","v":0}]
[{"$f":"'Cow Housing'!$C$6","v":"C-3333"},{"$f":"$B$67","v":0},{"$f":"$C$67","v":2},{"$f":"$D$67","v":51},75070,null,{"$f":"'Dairy Miscellaneous 3'!X24","v":0},{"$f":"'Dairy Miscellaneous 3'!Y24","v":0}]
[{"$f":"'Cow Housing'!$C$6","v":"C-3333"},{"$f":"$B$67","v":0},{"$f":"$C$67","v":2},{"$f":"$D$67","v":51},75150,null,{"$f":"'Dairy Miscellaneous 3'!X29","v":0},{"$f":"'Dairy Miscellaneous 3'!Y29","v":0}]
[{"$f":"'Cow Housing'!$C$6","v":"C-3333"},{"$f":"$B$67","v":0},{"$f":"$C$67","v":2},{"$f":"$D$67","v":51},75694,null,{"$f":"'Dairy Miscellaneous 3'!X49","v":0},{"$f":"'Dairy Miscellaneous 3'!Y49","v":0}]
[{"$f":"'Cow Housing'!$C$6","v":"C-3333"},{"$f":"$B$67","v":0},{"$f":"$C$67","v":2},{"$f":"$D$67","v":51},78933,null,{"$f":"'Dairy Miscellaneous 3'!X44","v":0},{"$f":"'Dairy Miscellaneous 3'!Y44","v":0}]
[{"$f":"'Cow Housing'!$C$6","v":"C-3333"},{"$f":"$B$67","v":0},{"$f":"$C$67","v":2},{"$f":"$D$67","v":51},79005,null,{"$f":"'Dairy Miscellaneous 3'!X16","v":0},{"$f":"'Dairy Miscellaneous 3'!Y16","v":0}]
[{"$f":"'Cow Housing'!$C$6","v":"C-3333"},{"$f":"$B$67","v":0},{"$f":"$C$67","v":2},{"$f":"$D$67","v":51},79345,null,{"$f":"'Dairy Miscellaneous 3'!X15","v":0},{"$f":"'Dairy Miscellaneous 3'!Y15","v":0}]
[{"$f":"'Cow Housing'!$C$6","v":"C-3333"},{"$f":"$B$67","v":0},{"$f":"$C$67","v":2},{"$f":"$D$67","v":51},95501,null,{"$f":"'Dairy Miscellaneous 3'!X20","v":0},{"$f":"'Dairy Miscellaneous 3'!Y20","v":0}]
[{"$f":"'Cow Housing'!$C$6","v":"C-3333"},{"$f":"$B$67","v":0},{"$f":"$C$67","v":2},{"$f":"$D$67","v":51},96128,null,{"$f":"'Dairy Miscellaneous 3'!X19","v":0},{"$f":"'Dairy Miscellaneous 3'!Y19","v":0}]
[{"$f":"'Cow Housing'!$C$6","v":"C-3333"},{"$f":"$B$67","v":0},{"$f":"$C$67","v":2},{"$f":"$D$67","v":51},96184,null,{"$f":"'Dairy Miscellaneous 3'!X17","v":0},{"$f":"'Dairy Miscellaneous 3'!Y17","v":0}]
[{"$f":"'Cow Housing'!$C$6","v":"C-3333"},{"$f":"$B$67","v":0},{"$f":"$C$67","v":2},{"$f":"$D$67","v":51},98828,null,{"$f":"'Dairy Miscellaneous 3'!X43","v":0},{"$f":"'Dairy Miscellaneous 3'!Y43","v":0}]
[{"$f":"'Cow Housing'!$C$6","v":"C-3333"},{"$f":"$B$67","v":0},{"$f":"$C$67","v":2},{"$f":"$D$67","v":51},100414,null,{"$f":"'Dairy Miscellaneous 3'!X37","v":0},{"$f":"'Dairy Miscellaneous 3'!Y37","v":0}]
[{"$f":"'Cow Housing'!$C$6","v":"C-3333"},{"$f":"$B$67","v":0},{"$f":"$C$67","v":2},{"$f":"$D$67","v":51},100425,null,{"$f":"'Dairy Miscellaneous 3'!X46","v":0},{"$f":"'Dairy Miscellaneous 3'!Y46","v":0}]
[{"$f":"'Cow Housing'!$C$6","v":"C-3333"},{"$f":"$B$67","v":0},{"$f":"$C$67","v":2},{"$f":"$D$67","v":51},100447,null,{"$f":"'Dairy Miscellaneous 3'!X27","v":0},{"$f":"'Dairy Miscellaneous 3'!Y27","v":0}]
[{"$f":"'Cow Housing'!$C$6","v":"C-3333"},{"$f":"$B$67","v":0},{"$f":"$C$67","v":2},{"$f":"$D$67","v":51},106467,null,{"$f":"'Dairy Miscellaneous 3'!X23","v":0},{"$f":"'Dairy Miscellaneous 3'!Y23","v":0}]
[{"$f":"'Cow Housing'!$C$6","v":"C-3333"},{"$f":"$B$67","v":0},{"$f":"$C$67","v":2},{"$f":"$D$67","v":51},106934,null,{"$f":"'Dairy Miscellaneous 3'!X38","v":0},{"$f":"'Dairy Miscellaneous 3'!Y38","v":0}]
[{"$f":"'Cow Housing'!$C$6","v":"C-3333"},{"$f":"$B$67","v":0},{"$f":"$C$67","v":2},{"$f":"$D$67","v":51},107062,null,{"$f":"'Dairy Miscellaneous 3'!X39","v":0},{"$f":"'Dairy Miscellaneous 3'!Y39","v":0}]
[{"$f":"'Cow Housing'!$C$6","v":"C-3333"},{"$f":"$B$67","v":0},{"$f":"$C$67","v":2},{"$f":"$D$67","v":51},107131,null,{"$f":"'Dairy Miscellaneous 3'!X25","v":0},{"$f":"'Dairy Miscellaneous 3'!Y25","v":0}]
[{"$f":"'Cow Housing'!$C$6","v":"C-3333"},{"$f":"$B$67","v":0},{"$f":"$C$67","v":2},{"$f":"$D$67","v":51},108054,null,{"$f":"'Dairy Miscellaneous 3'!X50","v":0},{"$f":"'Dairy Miscellaneous 3'!Y50","v":0}]
[{"$f":"'Cow Housing'!$C$6","v":"C-3333"},{"$f":"$B$67","v":0},{"$f":"$C$67","v":2},{"$f":"$D$67","v":51},108101,null,{"$f":"'Dairy Miscellaneous 3'!X45","v":0},{"$f":"'Dairy Miscellaneous 3'!Y45","v":0}]
[{"$f":"'Cow Housing'!$C$6","v":"C-3333"},{"$f":"$B$67","v":0},{"$f":"$C$67","v":2},{"$f":"$D$67","v":51},108883,null,{"$f":"'Dairy Miscellaneous 3'!X48","v":0},{"$f":"'Dairy Miscellaneous 3'!Y48","v":0}]
[{"$f":"'Cow Housing'!$C$6","v":"C-3333"},{"$f":"$B$67","v":0},{"$f":"$C$67","v":2},{"$f":"$D$67","v":51},108907,null,{"$f":"'Dairy Miscellaneous 3'!X31","v":0},{"$f":"'Dairy Miscellaneous 3'!Y31","v":0}]
[{"$f":"'Cow Housing'!$C$6","v":"C-3333"},{"$f":"$B$67","v":0},{"$f":"$C$67","v":2},{"$f":"$D$67","v":51},110543,null,{"$f":"'Dairy Miscellaneous 3'!X41","v":0},{"$f":"'Dairy Miscellaneous 3'!Y41","v":0}]
[{"$f":"'Cow Housing'!$C$6","v":"C-3333"},{"$f":"$B$67","v":0},{"$f":"$C$67","v":2},{"$f":"$D$67","v":51},110827,null,{"$f":"'Dairy Miscellaneous 3'!X35","v":0},{"$f":"'Dairy Miscellaneous 3'!Y35","v":0}]
[{"$f":"'Cow Housing'!$C$6","v":"C-3333"},{"$f":"$B$67","v":0},{"$f":"$C$67","v":2},{"$f":"$D$67","v":51},120821,null,{"$f":"'Dairy Miscellaneous 3'!X18","v":0},{"$f":"'Dairy Miscellaneous 3'!Y18","v":0}]
[{"$f":"'Cow Housing'!$C$6","v":"C-3333"},{"$f":"$B$67","v":0},{"$f":"$C$67","v":2},{"$f":"$D$67","v":51},123728,null,{"$f":"'Dairy Miscellaneous 3'!X28","v":0},{"$f":"'Dairy Miscellaneous 3'!Y28","v":0}]
[{"$f":"'Cow Housing'!$C$6","v":"C-3333"},{"$f":"$B$67","v":0},{"$f":"$C$67","v":2},{"$f":"$D$67","v":51},123911,null,{"$f":"'Dairy Miscellaneous 3'!X22","v":0},{"$f":"'Dairy Miscellaneous 3'!Y22","v":0}]
[{"$f":"'Cow Housing'!$C$6","v":"C-3333"},{"$f":"$B$67","v":0},{"$f":"$C$67","v":2},{"$f":"$D$67","v":51},541731,null,{"$f":"'Dairy Miscellaneous 3'!X21","v":0},{"$f":"'Dairy Miscellaneous 3'!Y21","v":0}]
[{"$f":"'Cow Housing'!$C$6","v":"C-3333"},{"$f":"$B$67","v":0},{"$f":"$C$67","v":2},{"$f":"$D$67","v":51},764410,null,{"$f":"'Dairy Miscellaneous 3'!X47","v":0},{"$f":"'Dairy Miscellaneous 3'!Y47","v":0}]
[{"$f":"'Cow Housing'!$C$6","v":"C-3333"},{"$f":"$B$67","v":0},{"$f":"$C$67","v":2},{"$f":"$D$67","v":51},1330207,null,{"$f":"'Dairy Miscellaneous 3'!X51","v":0},{"$f":"'Dairy Miscellaneous 3'!Y51","v":0}]
[{"$f":"'Cow Housing'!$C$6","v":"C-3333"},{"$f":"$B$67","v":0},{"$f":"$C$67","v":2},{"$f":"$D$67","v":51},4170303,null,{"$f":"'Dairy Miscellaneous 3'!X34","v":0},{"$f":"'Dairy Miscellaneous 3'!Y34","v":0}]
[{"$f":"'Cow Housing'!$C$6","v":"C-3333"},{"$f":"$B$67","v":0},{"$f":"$C$67","v":2},{"$f":"$D$67","v":51},7429905,null,{"$f":"'Livestock PM10 3'!X14","v":0},{"$f":"'Livestock PM10 3'!Y14","v":0}]
[{"$f":"'Cow Housing'!$C$6","v":"C-3333"},{"$f":"$B$67","v":0},{"$f":"$C$67","v":2},{"$f":"$D$67","v":51},7439921,null,{"$f":"'Livestock PM10 3'!X22","v":0},{"$f":"'Livestock PM10 3'!Y22","v":0}]
[{"$f":"'Cow Housing'!$C$6","v":"C-3333"},{"$f":"$B$67","v":0},{"$f":"$C$67","v":2},{"$f":"$D$67","v":51},7439965,null,{"$f":"'Livestock PM10 3'!X23","v":0},{"$f":"'Livestock PM10 3'!Y23","v":0}]
[{"$f":"'Cow Housing'!$C$6","v":"C-3333"},{"$f":"$B$67","v":0},{"$f":"$C$67","v":2},{"$f":"$D$67","v":51},7439976,null,{"$f":"'Livestock PM10 3'!X24","v":0},{"$f":"'Livestock PM10 3'!Y24","v":0}]
[{"$f":"'Cow Housing'!$C$6","v":"C-3333"},{"$f":"$B$67","v":0},{"$f":"$C$67","v":2},{"$f":"$D$67","v":51},7440020,null,{"$f":"'Livestock PM10 3'!X25","v":0},{"$f":"'Livestock PM10 3'!Y25","v":0}]
[{"$f":"'Cow Housing'!$C$6","v":"C-3333"},{"$f":"$B$67","v":0},{"$f":"$C$67","v":2},{"$f":"$D$67","v":51},7440360,null,{"$f":"'Livestock PM10 3'!X15","v":0},{"$f":"'Livestock PM10 3'!Y15","v":0}]
[{"$f":"'Cow Housing'!$C$6","v":"C-3333"},{"$f":"$B$67","v":0},{"$f":"$C$67","v":2},{"$f":"$D$67","v":51},7440382,null,{"$f":"'Livestock PM10 3'!X16","v":0},{"$f":"'Livestock PM10 3'!Y16","v":0}]
[{"$f":"'Cow Housing'!$C$6","v":"C-3333"},{"$f":"$B$67","v":0},{"$f":"$C$67","v":2},{"$f":"$D$67","v":51},7440393,null,{"$f":"'Livestock PM10 3'!X17","v":0},{"$f":"'Livestock PM10 3'!Y17","v":0}]
[{"$f":"'Cow Housing'!$C$6","v":"C-3333"},{"$f":"$B$67","v":0},{"$f":"$C$67","v":2},{"$f":"$D$67","v":51},7440473,null,{"$f":"'Livestock PM10 3'!X19","v":0},{"$f":"'Livestock PM10 3'!Y19","v":0}]
[{"$f":"'Cow Housing'!$C$6","v":"C-3333"},{"$f":"$B$67","v":0},{"$f":"$C$67","v":2},{"$f":"$D$67","v":51},7440508,null,{"$f":"'Livestock PM10 3'!X20","v":0},{"$f":"'Livestock PM10 3'!Y20","v":0}]
[{"$f":"'Cow Housing'!$C$6","v":"C-3333"},{"$f":"$B$67","v":0},{"$f":"$C$67","v":2},{"$f":"$D$67","v":51},7440622,null,{"$f":"'Livestock PM10 3'!X29","v":0},{"$f":"'Livestock PM10 3'!Y29","v":0}]
[{"$f":"'Cow Housing'!$C$6","v":"C-3333"},{"$f":"$B$67","v":0},{"$f":"$C$67","v":2},{"$f":"$D$67","v":51},7440666,null,{"$f":"'Livestock PM10 3'!X30","v":0},{"$f":"'Livestock PM10 3'!Y30","v":0}]
[{"$f":"'Cow Housing'!$C$6","v":"C-3333"},{"$f":"$B$67","v":0},{"$f":"$C$67","v":2},{"$f":"$D$67","v":51},7664417,null,{"$f":"'Livestock PM10 3'!X31","v":0},{"$f":"'Livestock PM10 3'!Y31","v":0}]
[{"$f":"'Cow Housing'!$C$6","v":"C-3333"},{"$f":"$B$67","v":0},{"$f":"$C$67","v":2},{"$f":"$D$67","v":51},7723140,null,{"$f":"'Livestock PM10 3'!X26","v":0},{"$f":"'Livestock PM10 3'!Y26","v":0}]
[{"$f":"'Cow Housing'!$C$6","v":"C-3333"},{"$f":"$B$67","v":0},{"$f":"$C$67","v":2},{"$f":"$D$67","v":51},7726956,null,{"$f":"'Livestock PM10 3'!X18","v":0},{"$f":"'Livestock PM10 3'!Y18","v":0}]
[{"$f":"'Cow Housing'!$C$6","v":"C-3333"},{"$f":"$B$67","v":0},{"$f":"$C$67","v":2},{"$f":"$D$67","v":51},7782492,null,{"$f":"'Livestock PM10 3'!X27","v":0},{"$f":"'Livestock PM10 3'!Y27","v":0}]
[{"$f":"'Cow Housing'!$C$6","v":"C-3333"},{"$f":"$B$67","v":0},{"$f":"$C$67","v":2},{"$f":"$D$67","v":51},18540299,null,{"$f":"'Livestock PM10 3'!X21","v":0},{"$f":"'Livestock PM10 3'!Y21","v":0}]
[{"$f":"'Cow Housing'!$C$6","v":"C-3333"},{"$f":"$B$68","v":0},{"$f":"$C$68","v":2},{"$f":"$D$68","v":52},9960,null,{"$f":"'Livestock PM10 3'!Z28","v":0},{"$f":"'Livestock PM10 3'!AA28","v":0}]
[{"$f":"'Cow Housing'!$C$6","v":"C-3333"},{"$f":"$B$68","v":0},{"$f":"$C$68","v":2},{"$f":"$D$68","v":52},50000,null,{"$f":"'Dairy Miscellaneous 3'!Z40","v":0},{"$f":"'Dairy Miscellaneous 3'!AA40","v":0}]
[{"$f":"'Cow Housing'!$C$6","v":"C-3333"},{"$f":"$B$68","v":0},{"$f":"$C$68","v":2},{"$f":"$D$68","v":52},56235,null,{"$f":"'Dairy Miscellaneous 3'!Z30","v":0},{"$f":"'Dairy Miscellaneous 3'!AA30","v":0}]
[{"$f":"'Cow Housing'!$C$6","v":"C-3333"},{"$f":"$B$68","v":0},{"$f":"$C$68","v":2},{"$f":"$D$68","v":52},67630,null,{"$f":"'Dairy Miscellaneous 3'!Z42","v":0},{"$f":"'Dairy Miscellaneous 3'!AA42","v":0}]
[{"$f":"'Cow Housing'!$C$6","v":"C-3333"},{"$f":"$B$68","v":0},{"$f":"$C$68","v":2},{"$f":"$D$68","v":52},67663,null,{"$f":"'Dairy Miscellaneous 3'!Z32","v":0},{"$f":"'Dairy Miscellaneous 3'!AA32","v":0}]
[{"$f":"'Cow Housing'!$C$6","v":"C-3333"},{"$f":"$B$68","v":0},{"$f":"$C$68","v":2},{"$f":"$D$68","v":52},71432,null,{"$f":"'Dairy Miscellaneous 3'!Z26","v":0},{"$f":"'Dairy Miscellaneous 3'!AA26","v":0}]
[{"$f":"'Cow Housing'!$C$6","v":"C-3333"},{"$f":"$B$68","v":0},{"$f":"$C$68","v":2},{"$f":"$D$68","v":52},74873,null,{"$f":"'Dairy Miscellaneous 3'!Z33","v":0},{"$f":"'Dairy Miscellaneous 3'!AA33","v":0}]
[{"$f":"'Cow Housing'!$C$6","v":"C-3333"},{"$f":"$B$68","v":0},{"$f":"$C$68","v":2},{"$f":"$D$68","v":52},75003,null,{"$f":"'Dairy Miscellaneous 3'!Z36","v":0},{"$f":"'Dairy Miscellaneous 3'!AA36","v":0}]
[{"$f":"'Cow Housing'!$C$6","v":"C-3333"},{"$f":"$B$68","v":0},{"$f":"$C$68","v":2},{"$f":"$D$68","v":52},75070,null,{"$f":"'Dairy Miscellaneous 3'!Z24","v":0},{"$f":"'Dairy Miscellaneous 3'!AA24","v":0}]
[{"$f":"'Cow Housing'!$C$6","v":"C-3333"},{"$f":"$B$68","v":0},{"$f":"$C$68","v":2},{"$f":"$D$68","v":52},75150,null,{"$f":"'Dairy Miscellaneous 3'!Z29","v":0},{"$f":"'Dairy Miscellaneous 3'!AA29","v":0}]
[{"$f":"'Cow Housing'!$C$6","v":"C-3333"},{"$f":"$B$68","v":0},{"$f":"$C$68","v":2},{"$f":"$D$68","v":52},75694,null,{"$f":"'Dairy Miscellaneous 3'!Z49","v":0},{"$f":"'Dairy Miscellaneous 3'!AA49","v":0}]
[{"$f":"'Cow Housing'!$C$6","v":"C-3333"},{"$f":"$B$68","v":0},{"$f":"$C$68","v":2},{"$f":"$D$68","v":52},78933,null,{"$f":"'Dairy Miscellaneous 3'!Z44","v":0},{"$f":"'Dairy Miscellaneous 3'!AA44","v":0}]
[{"$f":"'Cow Housing'!$C$6","v":"C-3333"},{"$f":"$B$68","v":0},{"$f":"$C$68","v":2},{"$f":"$D$68","v":52},79005,null,{"$f":"'Dairy Miscellaneous 3'!Z16","v":0},{"$f":"'Dairy Miscellaneous 3'!AA16","v":0}]
[{"$f":"'Cow Housing'!$C$6","v":"C-3333"},{"$f":"$B$68","v":0},{"$f":"$C$68","v":2},{"$f":"$D$68","v":52},79345,null,{"$f":"'Dairy Miscellaneous 3'!Z15","v":0},{"$f":"'Dairy Miscellaneous 3'!AA15","v":0}]
[{"$f":"'Cow Housing'!$C$6","v":"C-3333"},{"$f":"$B$68","v":0},{"$f":"$C$68","v":2},{"$f":"$D$68","v":52},95501,null,{"$f":"'Dairy Miscellaneous 3'!Z20","v":0},{"$f":"'Dairy Miscellaneous 3'!AA20","v":0}]
[{"$f":"'Cow Housing'!$C$6","v":"C-3333"},{"$f":"$B$68","v":0},{"$f":"$C$68","v":2},{"$f":"$D$68","v":52},96128,null,{"$f":"'Dairy Miscellaneous 3'!Z19","v":0},{"$f":"'Dairy Miscellaneous 3'!AA19","v":0}]
[{"$f":"'Cow Housing'!$C$6","v":"C-3333"},{"$f":"$B$68","v":0},{"$f":"$C$68","v":2},{"$f":"$D$68","v":52},96184,null,{"$f":"'Dairy Miscellaneous 3'!Z17","v":0},{"$f":"'Dairy Miscellaneous 3'!AA17","v":0}]
[{"$f":"'Cow Housing'!$C$6","v":"C-3333"},{"$f":"$B$68","v":0},{"$f":"$C$68","v":2},{"$f":"$D$68","v":52},98828,null,{"$f":"'Dairy Miscellaneous 3'!Z43","v":0},{"$f":"'Dairy Miscellaneous 3'!AA43","v":0}]
[{"$f":"'Cow Housing'!$C$6","v":"C-3333"},{"$f":"$B$68","v":0},{"$f":"$C$68","v":2},{"$f":"$D$68","v":52},100414,null,{"$f":"'Dairy Miscellaneous 3'!Z37","v":0},{"$f":"'Dairy Miscellaneous 3'!AA37","v":0}]
[{"$f":"'Cow Housing'!$C$6","v":"C-3333"},{"$f":"$B$68","v":0},{"$f":"$C$68","v":2},{"$f":"$D$68","v":52},100425,null,{"$f":"'Dairy Miscellaneous 3'!Z46","v":0},{"$f":"'Dairy Miscellaneous 3'!AA46","v":0}]
[{"$f":"'Cow Housing'!$C$6","v":"C-3333"},{"$f":"$B$68","v":0},{"$f":"$C$68","v":2},{"$f":"$D$68","v":52},100447,null,{"$f":"'Dairy Miscellaneous 3'!Z27","v":0},{"$f":"'Dairy Miscellaneous 3'!AA27","v":0}]
[{"$f":"'Cow Housing'!$C$6","v":"C-3333"},{"$f":"$B$68","v":0},{"$f":"$C$68","v":2},{"$f":"$D$68","v":52},106467,null,{"$f":"'Dairy Miscellaneous 3'!Z23","v":0},{"$f":"'Dairy Miscellaneous 3'!AA23","v":0}]
[{"$f":"'Cow Housing'!$C$6","v":"C-3333"},{"$f":"$B$68","v":0},{"$f":"$C$68","v":2},{"$f":"$D$68","v":52},106934,null,{"$f":"'Dairy Miscellaneous 3'!Z38","v":0},{"$f":"'Dairy Miscellaneous 3'!AA38","v":0}]
[{"$f":"'Cow Housing'!$C$6","v":"C-3333"},{"$f":"$B$68","v":0},{"$f":"$C$68","v":2},{"$f":"$D$68","v":52},107062,null,{"$f":"'Dairy Miscellaneous 3'!Z39","v":0},{"$f":"'Dairy Miscellaneous 3'!AA39","v":0}]
[{"$f":"'Cow Housing'!$C$6","v":"C-3333"},{"$f":"$B$68","v":0},{"$f":"$C$68","v":2},{"$f":"$D$68","v":52},107131,null,{"$f":"'Dairy Miscellaneous 3'!Z25","v":0},{"$f":"'Dairy Miscellaneous 3'!AA25","v":0}]
[{"$f":"'Cow Housing'!$C$6","v":"C-3333"},{"$f":"$B$68","v":0},{"$f":"$C$68","v":2},{"$f":"$D$68","v":52},108054,null,{"$f":"'Dairy Miscellaneous 3'!Z50","v":0},{"$f":"'Dairy Miscellaneous 3'!AA50","v":0}]
[{"$f":"'Cow Housing'!$C$6","v":"C-3333"},{"$f":"$B$68","v":0},{"$f":"$C$68","v":2},{"$f":"$D$68","v":52},108101,null,{"$f":"'Dairy Miscellaneous 3'!Z45","v":0},{"$f":"'Dairy Miscellaneous 3'!AA45","v":0}]
[{"$f":"'Cow Housing'!$C$6","v":"C-3333"},{"$f":"$B$68","v":0},{"$f":"$C$68","v":2},{"$f":"$D$68","v":52},108883,null,{"$f":"'Dairy Miscellaneous 3'!Z48","v":0},{"$f":"'Dairy Miscellaneous 3'!AA48","v":0}]
[{"$f":"'Cow Housing'!$C$6","v":"C-3333"},{"$f":"$B$68","v":0},{"$f":"$C$68","v":2},{"$f":"$D$68","v":52},108907,null,{"$f":"'Dairy Miscellaneous 3'!Z31","v":0},{"$f":"'Dairy Miscellaneous 3'!AA31","v":0}]
[{"$f":"'Cow Housing'!$C$6","v":"C-3333"},{"$f":"$B$68","v":0},{"$f":"$C$68","v":2},{"$f":"$D$68","v":52},110543,null,{"$f":"'Dairy Miscellaneous 3'!Z41","v":0},{"$f":"'Dairy Miscellaneous 3'!AA41","v":0}]
[{"$f":"'Cow Housing'!$C$6","v":"C-3333"},{"$f":"$B$68","v":0},{"$f":"$C$68","v":2},{"$f":"$D$68","v":52},110827,null,{"$f":"'Dairy Miscellaneous 3'!Z35","v":0},{"$f":"'Dairy Miscellaneous 3'!AA35","v":0}]
[{"$f":"'Cow Housing'!$C$6","v":"C-3333"},{"$f":"$B$68","v":0},{"$f":"$C$68","v":2},{"$f":"$D$68","v":52},120821,null,{"$f":"'Dairy Miscellaneous 3'!Z18","v":0},{"$f":"'Dairy Miscellaneous 3'!AA18","v":0}]
[{"$f":"'Cow Housing'!$C$6","v":"C-3333"},{"$f":"$B$68","v":0},{"$f":"$C$68","v":2},{"$f":"$D$68","v":52},123728,null,{"$f":"'Dairy Miscellaneous 3'!Z28","v":0},{"$f":"'Dairy Miscellaneous 3'!AA28","v":0}]
[{"$f":"'Cow Housing'!$C$6","v":"C-3333"},{"$f":"$B$68","v":0},{"$f":"$C$68","v":2},{"$f":"$D$68","v":52},123911,null,{"$f":"'Dairy Miscellaneous 3'!Z22","v":0},{"$f":"'Dairy Miscellaneous 3'!AA22","v":0}]
[{"$f":"'Cow Housing'!$C$6","v":"C-3333"},{"$f":"$B$68","v":0},{"$f":"$C$68","v":2},{"$f":"$D$68","v":52},541731,null,{"$f":"'Dairy Miscellaneous 3'!Z21","v":0},{"$f":"'Dairy Miscellaneous 3'!AA21","v":0}]
[{"$f":"'Cow Housing'!$C$6","v":"C-3333"},{"$f":"$B$68","v":0},{"$f":"$C$68","v":2},{"$f":"$D$68","v":52},764410,null,{"$f":"'Dairy Miscellaneous 3'!Z47","v":0},{"$f":"'Dairy Miscellaneous 3'!AA47","v":0}]
[{"$f":"'Cow Housing'!$C$6","v":"C-3333"},{"$f":"$B$68","v":0},{"$f":"$C$68","v":2},{"$f":"$D$68","v":52},1330207,null,{"$f":"'Dairy Miscellaneous 3'!Z51","v":0},{"$f":"'Dairy Miscellaneous 3'!AA51","v":0}]
[{"$f":"'Cow Housing'!$C$6","v":"C-3333"},{"$f":"$B$68","v":0},{"$f":"$C$68","v":2},{"$f":"$D$68","v":52},4170303,null,{"$f":"'Dairy Miscellaneous 3'!Z34","v":0},{"$f":"'Dairy Miscellaneous 3'!AA34","v":0}]
[{"$f":"'Cow Housing'!$C$6","v":"C-3333"},{"$f":"$B$68","v":0},{"$f":"$C$68","v":2},{"$f":"$D$68","v":52},7429905,null,{"$f":"'Livestock PM10 3'!Z14","v":0},{"$f":"'Livestock PM10 3'!AA14","v":0}]
[{"$f":"'Cow Housing'!$C$6","v":"C-3333"},{"$f":"$B$68","v":0},{"$f":"$C$68","v":2},{"$f":"$D$68","v":52},7439921,null,{"$f":"'Livestock PM10 3'!Z22","v":0},{"$f":"'Livestock PM10 3'!AA22","v":0}]
[{"$f":"'Cow Housing'!$C$6","v":"C-3333"},{"$f":"$B$68","v":0},{"$f":"$C$68","v":2},{"$f":"$D$68","v":52},7439965,null,{"$f":"'Livestock PM10 3'!Z23","v":0},{"$f":"'Livestock PM10 3'!AA23","v":0}]
[{"$f":"'Cow Housing'!$C$6","v":"C-3333"},{"$f":"$B$68","v":0},{"$f":"$C$68","v":2},{"$f":"$D$68","v":52},7439976,null,{"$f":"'Livestock PM10 3'!Z24","v":0},{"$f":"'Livestock PM10 3'!AA24","v":0}]
[{"$f":"'Cow Housing'!$C$6","v":"C-3333"},{"$f":"$B$68","v":0},{"$f":"$C$68","v":2},{"$f":"$D$68","v":52},7440020,null,{"$f":"'Livestock PM10 3'!Z25","v":0},{"$f":"'Livestock PM10 3'!AA25","v":0}]
[{"$f":"'Cow Housing'!$C$6","v":"C-3333"},{"$f":"$B$68","v":0},{"$f":"$C$68","v":2},{"$f":"$D$68","v":52},7440360,null,{"$f":"'Livestock PM10 3'!Z15","v":0},{"$f":"'Livestock PM10 3'!AA15","v":0}]
[{"$f":"'Cow Housing'!$C$6","v":"C-3333"},{"$f":"$B$68","v":0},{"$f":"$C$68","v":2},{"$f":"$D$68","v":52},7440382,null,{"$f":"'Livestock PM10 3'!Z16","v":0},{"$f":"'Livestock PM10 3'!AA16","v":0}]
[{"$f":"'Cow Housing'!$C$6","v":"C-3333"},{"$f":"$B$68","v":0},{"$f":"$C$68","v":2},{"$f":"$D$68","v":52},7440393,null,{"$f":"'Livestock PM10 3'!Z17","v":0},{"$f":"'Livestock PM10 3'!AA17","v":0}]
[{"$f":"'Cow Housing'!$C$6","v":"C-3333"},{"$f":"$B$68","v":0},{"$f":"$C$68","v":2},{"$f":"$D$68","v":52},7440473,null,{"$f":"'Livestock PM10 3'!Z19","v":0},{"$f":"'Livestock PM10 3'!AA19","v":0}]
[{"$f":"'Cow Housing'!$C$6","v":"C-3333"},{"$f":"$B$68","v":0},{"$f":"$C$68","v":2},{"$f":"$D$68","v":52},7440508,null,{"$f":"'Livestock PM10 3'!Z20","v":0},{"$f":"'Livestock PM10 3'!AA20","v":0}]
[{"$f":"'Cow Housing'!$C$6","v":"C-3333"},{"$f":"$B$68","v":0},{"$f":"$C$68","v":2},{"$f":"$D$68","v":52},7440622,null,{"$f":"'Livestock PM10 3'!Z29","v":0},{"$f":"'Livestock PM10 3'!AA29","v":0}]
[{"$f":"'Cow Housing'!$C$6","v":"C-3333"},{"$f":"$B$68","v":0},{"$f":"$C$68","v":2},{"$f":"$D$68","v":52},7440666,null,{"$f":"'Livestock PM10 3'!Z30","v":0},{"$f":"'Livestock PM10 3'!AA30","v":0}]
[{"$f":"'Cow Housing'!$C$6","v":"C-3333"},{"$f":"$B$68","v":0},{"$f":"$C$68","v":2},{"$f":"$D$68","v":52},7664417,null,{"$f":"'Livestock PM10 3'!Z31","v":0},{"$f":"'Livestock PM10 3'!AA31","v":0}]
[{"$f":"'Cow Housing'!$C$6","v":"C-3333"},{"$f":"$B$68","v":0},{"$f":"$C$68","v":2},{"$f":"$D$68","v":52},7723140,null,{"$f":"'Livestock PM10 3'!Z26","v":0},{"$f":"'Livestock PM10 3'!AA26","v":0}]
[{"$f":"'Cow Housing'!$C$6","v":"C-3333"},{"$f":"$B$68","v":0},{"$f":"$C$68","v":2},{"$f":"$D$68","v":52},7726956,null,{"$f":"'Livestock PM10 3'!Z18","v":0},{"$f":"'Livestock PM10 3'!AA18","v":0}]
[{"$f":"'Cow Housing'!$C$6","v":"C-3333"},{"$f":"$B$68","v":0},{"$f":"$C$68","v":2},{"$f":"$D$68","v":52},7782492,null,{"$f":"'Livestock PM10 3'!Z27","v":0},{"$f":"'Livestock PM10 3'!AA27","v":0}]
[{"$f":"'Cow Housing'!$C$6","v":"C-3333"},{"$f":"$B$68","v":0},{"$f":"$C$68","v":2},{"$f":"$D$68","v":52},18540299,null,{"$f":"'Livestock PM10 3'!Z21","v":0},{"$f":"'Livestock PM10 3'!AA21","v":0}]
[{"$f":"'Cow Housing'!$C$6","v":"C-3333"},{"$f":"$B$69","v":0},{"$f":"$C$69","v":2},{"$f":"$D$69","v":53},9960,null,{"$f":"'Livestock PM10 3'!AB28","v":0},{"$f":"'Livestock PM10 3'!AC28","v":0}]
[{"$f":"'Cow Housing'!$C$6","v":"C-3333"},{"$f":"$B$69","v":0},{"$f":"$C$69","v":2},{"$f":"$D$69","v":53},50000,null,{"$f":"'Dairy Miscellaneous 3'!AB40","v":0},{"$f":"'Dairy Miscellaneous 3'!AC40","v":0}]
[{"$f":"'Cow Housing'!$C$6","v":"C-3333"},{"$f":"$B$69","v":0},{"$f":"$C$69","v":2},{"$f":"$D$69","v":53},56235,null,{"$f":"'Dairy Miscellaneous 3'!AB30","v":0},{"$f":"'Dairy Miscellaneous 3'!AC30","v":0}]
[{"$f":"'Cow Housing'!$C$6","v":"C-3333"},{"$f":"$B$69","v":0},{"$f":"$C$69","v":2},{"$f":"$D$69","v":53},67630,null,{"$f":"'Dairy Miscellaneous 3'!AB42","v":0},{"$f":"'Dairy Miscellaneous 3'!AC42","v":0}]
[{"$f":"'Cow Housing'!$C$6","v":"C-3333"},{"$f":"$B$69","v":0},{"$f":"$C$69","v":2},{"$f":"$D$69","v":53},67663,null,{"$f":"'Dairy Miscellaneous 3'!AB32","v":0},{"$f":"'Dairy Miscellaneous 3'!AC32","v":0}]
[{"$f":"'Cow Housing'!$C$6","v":"C-3333"},{"$f":"$B$69","v":0},{"$f":"$C$69","v":2},{"$f":"$D$69","v":53},71432,null,{"$f":"'Dairy Miscellaneous 3'!AB26","v":0},{"$f":"'Dairy Miscellaneous 3'!AC26","v":0}]
[{"$f":"'Cow Housing'!$C$6","v":"C-3333"},{"$f":"$B$69","v":0},{"$f":"$C$69","v":2},{"$f":"$D$69","v":53},74873,null,{"$f":"'Dairy Miscellaneous 3'!AB33","v":0},{"$f":"'Dairy Miscellaneous 3'!AC33","v":0}]
[{"$f":"'Cow Housing'!$C$6","v":"C-3333"},{"$f":"$B$69","v":0},{"$f":"$C$69","v":2},{"$f":"$D$69","v":53},75003,null,{"$f":"'Dairy Miscellaneous 3'!AB36","v":0},{"$f":"'Dairy Miscellaneous 3'!AC36","v":0}]
[{"$f":"'Cow Housing'!$C$6","v":"C-3333"},{"$f":"$B$69","v":0},{"$f":"$C$69","v":2},{"$f":"$D$69","v":53},75070,null,{"$f":"'Dairy Miscellaneous 3'!AB24","v":0},{"$f":"'Dairy Miscellaneous 3'!AC24","v":0}]
[{"$f":"'Cow Housing'!$C$6","v":"C-3333"},{"$f":"$B$69","v":0},{"$f":"$C$69","v":2},{"$f":"$D$69","v":53},75150,null,{"$f":"'Dairy Miscellaneous 3'!AB29","v":0},{"$f":"'Dairy Miscellaneous 3'!AC29","v":0}]
[{"$f":"'Cow Housing'!$C$6","v":"C-3333"},{"$f":"$B$69","v":0},{"$f":"$C$69","v":2},{"$f":"$D$69","v":53},75694,null,{"$f":"'Dairy Miscellaneous 3'!AB49","v":0},{"$f":"'Dairy Miscellaneous 3'!AC49","v":0}]
[{"$f":"'Cow Housing'!$C$6","v":"C-3333"},{"$f":"$B$69","v":0},{"$f":"$C$69","v":2},{"$f":"$D$69","v":53},78933,null,{"$f":"'Dairy Miscellaneous 3'!AB44","v":0},{"$f":"'Dairy Miscellaneous 3'!AC44","v":0}]
[{"$f":"'Cow Housing'!$C$6","v":"C-3333"},{"$f":"$B$69","v":0},{"$f":"$C$69","v":2},{"$f":"$D$69","v":53},79005,null,{"$f":"'Dairy Miscellaneous 3'!AB16","v":0},{"$f":"'Dairy Miscellaneous 3'!AC16","v":0}]
[{"$f":"'Cow Housing'!$C$6","v":"C-3333"},{"$f":"$B$69","v":0},{"$f":"$C$69","v":2},{"$f":"$D$69","v":53},79345,null,{"$f":"'Dairy Miscellaneous 3'!AB15","v":0},{"$f":"'Dairy Miscellaneous 3'!AC15","v":0}]
[{"$f":"'Cow Housing'!$C$6","v":"C-3333"},{"$f":"$B$69","v":0},{"$f":"$C$69","v":2},{"$f":"$D$69","v":53},95501,null,{"$f":"'Dairy Miscellaneous 3'!AB20","v":0},{"$f":"'Dairy Miscellaneous 3'!AC20","v":0}]
[{"$f":"'Cow Housing'!$C$6","v":"C-3333"},{"$f":"$B$69","v":0},{"$f":"$C$69","v":2},{"$f":"$D$69","v":53},96128,null,{"$f":"'Dairy Miscellaneous 3'!AB19","v":0},{"$f":"'Dairy Miscellaneous 3'!AC19","v":0}]
[{"$f":"'Cow Housing'!$C$6","v":"C-3333"},{"$f":"$B$69","v":0},{"$f":"$C$69","v":2},{"$f":"$D$69","v":53},96184,null,{"$f":"'Dairy Miscellaneous 3'!AB17","v":0},{"$f":"'Dairy Miscellaneous 3'!AC17","v":0}]
[{"$f":"'Cow Housing'!$C$6","v":"C-3333"},{"$f":"$B$69","v":0},{"$f":"$C$69","v":2},{"$f":"$D$69","v":53},98828,null,{"$f":"'Dairy Miscellaneous 3'!AB43","v":0},{"$f":"'Dairy Miscellaneous 3'!AC43","v":0}]
[{"$f":"'Cow Housing'!$C$6","v":"C-3333"},{"$f":"$B$69","v":0},{"$f":"$C$69","v":2},{"$f":"$D$69","v":53},100414,null,{"$f":"'Dairy Miscellaneous 3'!AB37","v":0},{"$f":"'Dairy Miscellaneous 3'!AC37","v":0}]
[{"$f":"'Cow Housing'!$C$6","v":"C-3333"},{"$f":"$B$69","v":0},{"$f":"$C$69","v":2},{"$f":"$D$69","v":53},100425,null,{"$f":"'Dairy Miscellaneous 3'!AB46","v":0},{"$f":"'Dairy Miscellaneous 3'!AC46","v":0}]
[{"$f":"'Cow Housing'!$C$6","v":"C-3333"},{"$f":"$B$69","v":0},{"$f":"$C$69","v":2},{"$f":"$D$69","v":53},100447,null,{"$f":"'Dairy Miscellaneous 3'!AB27","v":0},{"$f":"'Dairy Miscellaneous 3'!AC27","v":0}]
[{"$f":"'Cow Housing'!$C$6","v":"C-3333"},{"$f":"$B$69","v":0},{"$f":"$C$69","v":2},{"$f":"$D$69","v":53},106467,null,{"$f":"'Dairy Miscellaneous 3'!AB23","v":0},{"$f":"'Dairy Miscellaneous 3'!AC23","v":0}]
[{"$f":"'Cow Housing'!$C$6","v":"C-3333"},{"$f":"$B$69","v":0},{"$f":"$C$69","v":2},{"$f":"$D$69","v":53},106934,null,{"$f":"'Dairy Miscellaneous 3'!AB38","v":0},{"$f":"'Dairy Miscellaneous 3'!AC38","v":0}]
[{"$f":"'Cow Housing'!$C$6","v":"C-3333"},{"$f":"$B$69","v":0},{"$f":"$C$69","v":2},{"$f":"$D$69","v":53},107062,null,{"$f":"'Dairy Miscellaneous 3'!AB39","v":0},{"$f":"'Dairy Miscellaneous 3'!AC39","v":0}]
[{"$f":"'Cow Housing'!$C$6","v":"C-3333"},{"$f":"$B$69","v":0},{"$f":"$C$69","v":2},{"$f":"$D$69","v":53},107131,null,{"$f":"'Dairy Miscellaneous 3'!AB25","v":0},{"$f":"'Dairy Miscellaneous 3'!AC25","v":0}]
[{"$f":"'Cow Housing'!$C$6","v":"C-3333"},{"$f":"$B$69","v":0},{"$f":"$C$69","v":2},{"$f":"$D$69","v":53},108054,null,{"$f":"'Dairy Miscellaneous 3'!AB50","v":0},{"$f":"'Dairy Miscellaneous 3'!AC50","v":0}]
[{"$f":"'Cow Housing'!$C$6","v":"C-3333"},{"$f":"$B$69","v":0},{"$f":"$C$69","v":2},{"$f":"$D$69","v":53},108101,null,{"$f":"'Dairy Miscellaneous 3'!AB45","v":0},{"$f":"'Dairy Miscellaneous 3'!AC45","v":0}]
[{"$f":"'Cow Housing'!$C$6","v":"C-3333"},{"$f":"$B$69","v":0},{"$f":"$C$69","v":2},{"$f":"$D$69","v":53},108883,null,{"$f":"'Dairy Miscellaneous 3'!AB48","v":0},{"$f":"'Dairy Miscellaneous 3'!AC48","v":0}]
[{"$f":"'Cow Housing'!$C$6","v":"C-3333"},{"$f":"$B$69","v":0},{"$f":"$C$69","v":2},{"$f":"$D$69","v":53},108907,null,{"$f":"'Dairy Miscellaneous 3'!AB31","v":0},{"$f":"'Dairy Miscellaneous 3'!AC31","v":0}]
[{"$f":"'Cow Housing'!$C$6","v":"C-3333"},{"$f":"$B$69","v":0},{"$f":"$C$69","v":2},{"$f":"$D$69","v":53},110543,null,{"$f":"'Dairy Miscellaneous 3'!AB41","v":0},{"$f":"'Dairy Miscellaneous 3'!AC41","v":0}]
[{"$f":"'Cow Housing'!$C$6","v":"C-3333"},{"$f":"$B$69","v":0},{"$f":"$C$69","v":2},{"$f":"$D$69","v":53},110827,null,{"$f":"'Dairy Miscellaneous 3'!AB35","v":0},{"$f":"'Dairy Miscellaneous 3'!AC35","v":0}]
[{"$f":"'Cow Housing'!$C$6","v":"C-3333"},{"$f":"$B$69","v":0},{"$f":"$C$69","v":2},{"$f":"$D$69","v":53},120821,null,{"$f":"'Dairy Miscellaneous 3'!AB18","v":0},{"$f":"'Dairy Miscellaneous 3'!AC18","v":0}]
[{"$f":"'Cow Housing'!$C$6","v":"C-3333"},{"$f":"$B$69","v":0},{"$f":"$C$69","v":2},{"$f":"$D$69","v":53},123728,null,{"$f":"'Dairy Miscellaneous 3'!AB28","v":0},{"$f":"'Dairy Miscellaneous 3'!AC28","v":0}]
[{"$f":"'Cow Housing'!$C$6","v":"C-3333"},{"$f":"$B$69","v":0},{"$f":"$C$69","v":2},{"$f":"$D$69","v":53},123911,null,{"$f":"'Dairy Miscellaneous 3'!AB22","v":0},{"$f":"'Dairy Miscellaneous 3'!AC22","v":0}]
[{"$f":"'Cow Housing'!$C$6","v":"C-3333"},{"$f":"$B$69","v":0},{"$f":"$C$69","v":2},{"$f":"$D$69","v":53},541731,null,{"$f":"'Dairy Miscellaneous 3'!AB21","v":0},{"$f":"'Dairy Miscellaneous 3'!AC21","v":0}]
[{"$f":"'Cow Housing'!$C$6","v":"C-3333"},{"$f":"$B$69","v":0},{"$f":"$C$69","v":2},{"$f":"$D$69","v":53},764410,null,{"$f":"'Dairy Miscellaneous 3'!AB47","v":0},{"$f":"'Dairy Miscellaneous 3'!AC47","v":0}]
[{"$f":"'Cow Housing'!$C$6","v":"C-3333"},{"$f":"$B$69","v":0},{"$f":"$C$69","v":2},{"$f":"$D$69","v":53},1330207,null,{"$f":"'Dairy Miscellaneous 3'!AB51","v":0},{"$f":"'Dairy Miscellaneous 3'!AC51","v":0}]
[{"$f":"'Cow Housing'!$C$6","v":"C-3333"},{"$f":"$B$69","v":0},{"$f":"$C$69","v":2},{"$f":"$D$69","v":53},4170303,null,{"$f":"'Dairy Miscellaneous 3'!AB34","v":0},{"$f":"'Dairy Miscellaneous 3'!AC34","v":0}]
[{"$f":"'Cow Housing'!$C$6","v":"C-3333"},{"$f":"$B$69","v":0},{"$f":"$C$69","v":2},{"$f":"$D$69","v":53},7429905,null,{"$f":"'Livestock PM10 3'!AB14","v":0},{"$f":"'Livestock PM10 3'!AC14","v":0}]
[{"$f":"'Cow Housing'!$C$6","v":"C-3333"},{"$f":"$B$69","v":0},{"$f":"$C$69","v":2},{"$f":"$D$69","v":53},7439921,null,{"$f":"'Livestock PM10 3'!AB22","v":0},{"$f":"'Livestock PM10 3'!AC22","v":0}]
[{"$f":"'Cow Housing'!$C$6","v":"C-3333"},{"$f":"$B$69","v":0},{"$f":"$C$69","v":2},{"$f":"$D$69","v":53},7439965,null,{"$f":"'Livestock PM10 3'!AB23","v":0},{"$f":"'Livestock PM10 3'!AC23","v":0}]
[{"$f":"'Cow Housing'!$C$6","v":"C-3333"},{"$f":"$B$69","v":0},{"$f":"$C$69","v":2},{"$f":"$D$69","v":53},7439976,null,{"$f":"'Livestock PM10 3'!AB24","v":0},{"$f":"'Livestock PM10 3'!AC24","v":0}]
[{"$f":"'Cow Housing'!$C$6","v":"C-3333"},{"$f":"$B$69","v":0},{"$f":"$C$69","v":2},{"$f":"$D$69","v":53},7440020,null,{"$f":"'Livestock PM10 3'!AB25","v":0},{"$f":"'Livestock PM10 3'!AC25","v":0}]
[{"$f":"'Cow Housing'!$C$6","v":"C-3333"},{"$f":"$B$69","v":0},{"$f":"$C$69","v":2},{"$f":"$D$69","v":53},7440360,null,{"$f":"'Livestock PM10 3'!AB15","v":0},{"$f":"'Livestock PM10 3'!AC15","v":0}]
[{"$f":"'Cow Housing'!$C$6","v":"C-3333"},{"$f":"$B$69","v":0},{"$f":"$C$69","v":2},{"$f":"$D$69","v":53},7440382,null,{"$f":"'Livestock PM10 3'!AB16","v":0},{"$f":"'Livestock PM10 3'!AC16","v":0}]
[{"$f":"'Cow Housing'!$C$6","v":"C-3333"},{"$f":"$B$69","v":0},{"$f":"$C$69","v":2},{"$f":"$D$69","v":53},7440393,null,{"$f":"'Livestock PM10 3'!AB17","v":0},{"$f":"'Livestock PM10 3'!AC17","v":0}]
[{"$f":"'Cow Housing'!$C$6","v":"C-3333"},{"$f":"$B$69","v":0},{"$f":"$C$69","v":2},{"$f":"$D$69","v":53},7440473,null,{"$f":"'Livestock PM10 3'!AB19","v":0},{"$f":"'Livestock PM10 3'!AC19","v":0}]
[{"$f":"'Cow Housing'!$C$6","v":"C-3333"},{"$f":"$B$69","v":0},{"$f":"$C$69","v":2},{"$f":"$D$69","v":53},7440508,null,{"$f":"'Livestock PM10 3'!AB20","v":0},{"$f":"'Livestock PM10 3'!AC20","v":0}]
[{"$f":"'Cow Housing'!$C$6","v":"C-3333"},{"$f":"$B$69","v":0},{"$f":"$C$69","v":2},{"$f":"$D$69","v":53},7440622,null,{"$f":"'Livestock PM10 3'!AB29","v":0},{"$f":"'Livestock PM10 3'!AC29","v":0}]
[{"$f":"'Cow Housing'!$C$6","v":"C-3333"},{"$f":"$B$69","v":0},{"$f":"$C$69","v":2},{"$f":"$D$69","v":53},7440666,null,{"$f":"'Livestock PM10 3'!AB30","v":0},{"$f":"'Livestock PM10 3'!AC30","v":0}]
[{"$f":"'Cow Housing'!$C$6","v":"C-3333"},{"$f":"$B$69","v":0},{"$f":"$C$69","v":2},{"$f":"$D$69","v":53},7664417,null,{"$f":"'Livestock PM10 3'!AB31","v":0},{"$f":"'Livestock PM10 3'!AC31","v":0}]
[{"$f":"'Cow Housing'!$C$6","v":"C-3333"},{"$f":"$B$69","v":0},{"$f":"$C$69","v":2},{"$f":"$D$69","v":53},7723140,null,{"$f":"'Livestock PM10 3'!AB26","v":0},{"$f":"'Livestock PM10 3'!AC26","v":0}]
[{"$f":"'Cow Housing'!$C$6","v":"C-3333"},{"$f":"$B$69","v":0},{"$f":"$C$69","v":2},{"$f":"$D$69","v":53},7726956,null,{"$f":"'Livestock PM10 3'!AB18","v":0},{"$f":"'Livestock PM10 3'!AC18","v":0}]
[{"$f":"'Cow Housing'!$C$6","v":"C-3333"},{"$f":"$B$69","v":0},{"$f":"$C$69","v":2},{"$f":"$D$69","v":53},7782492,null,{"$f":"'Livestock PM10 3'!AB27","v":0},{"$f":"'Livestock PM10 3'!AC27","v":0}]
[{"$f":"'Cow Housing'!$C$6","v":"C-3333"},{"$f":"$B$69","v":0},{"$f":"$C$69","v":2},{"$f":"$D$69","v":53},18540299,null,{"$f":"'Livestock PM10 3'!AB21","v":0},{"$f":"'Livestock PM10 3'!AC21","v":0}]
[{"$f":"'Cow Housing'!$C$6","v":"C-3333"},{"$f":"$B$70","v":0},{"$f":"$C$70","v":2},{"$f":"$D$70","v":54},9960,null,{"$f":"'Livestock PM10 3'!AD28","v":0},{"$f":"'Livestock PM10 3'!AE28","v":0}]
[{"$f":"'Cow Housing'!$C$6","v":"C-3333"},{"$f":"$B$70","v":0},{"$f":"$C$70","v":2},{"$f":"$D$70","v":54},50000,null,{"$f":"'Dairy Miscellaneous 3'!AD40","v":0},{"$f":"'Dairy Miscellaneous 3'!AE40","v":0}]
[{"$f":"'Cow Housing'!$C$6","v":"C-3333"},{"$f":"$B$70","v":0},{"$f":"$C$70","v":2},{"$f":"$D$70","v":54},56235,null,{"$f":"'Dairy Miscellaneous 3'!AD30","v":0},{"$f":"'Dairy Miscellaneous 3'!AE30","v":0}]
[{"$f":"'Cow Housing'!$C$6","v":"C-3333"},{"$f":"$B$70","v":0},{"$f":"$C$70","v":2},{"$f":"$D$70","v":54},67630,null,{"$f":"'Dairy Miscellaneous 3'!AD42","v":0},{"$f":"'Dairy Miscellaneous 3'!AE42","v":0}]
[{"$f":"'Cow Housing'!$C$6","v":"C-3333"},{"$f":"$B$70","v":0},{"$f":"$C$70","v":2},{"$f":"$D$70","v":54},67663,null,{"$f":"'Dairy Miscellaneous 3'!AD32","v":0},{"$f":"'Dairy Miscellaneous 3'!AE32","v":0}]
[{"$f":"'Cow Housing'!$C$6","v":"C-3333"},{"$f":"$B$70","v":0},{"$f":"$C$70","v":2},{"$f":"$D$70","v":54},71432,null,{"$f":"'Dairy Miscellaneous 3'!AD26","v":0},{"$f":"'Dairy Miscellaneous 3'!AE26","v":0}]
[{"$f":"'Cow Housing'!$C$6","v":"C-3333"},{"$f":"$B$70","v":0},{"$f":"$C$70","v":2},{"$f":"$D$70","v":54},74873,null,{"$f":"'Dairy Miscellaneous 3'!AD33","v":0},{"$f":"'Dairy Miscellaneous 3'!AE33","v":0}]
[{"$f":"'Cow Housing'!$C$6","v":"C-3333"},{"$f":"$B$70","v":0},{"$f":"$C$70","v":2},{"$f":"$D$70","v":54},75003,null,{"$f":"'Dairy Miscellaneous 3'!AD36","v":0},{"$f":"'Dairy Miscellaneous 3'!AE36","v":0}]
[{"$f":"'Cow Housing'!$C$6","v":"C-3333"},{"$f":"$B$70","v":0},{"$f":"$C$70","v":2},{"$f":"$D$70","v":54},75070,null,{"$f":"'Dairy Miscellaneous 3'!AD24","v":0},{"$f":"'Dairy Miscellaneous 3'!AE24","v":0}]
[{"$f":"'Cow Housing'!$C$6","v":"C-3333"},{"$f":"$B$70","v":0},{"$f":"$C$70","v":2},{"$f":"$D$70","v":54},75150,null,{"$f":"'Dairy Miscellaneous 3'!AD29","v":0},{"$f":"'Dairy Miscellaneous 3'!AE29","v":0}]
[{"$f":"'Cow Housing'!$C$6","v":"C-3333"},{"$f":"$B$70","v":0},{"$f":"$C$70","v":2},{"$f":"$D$70","v":54},75694,null,{"$f":"'Dairy Miscellaneous 3'!AD49","v":0},{"$f":"'Dairy Miscellaneous 3'!AE49","v":0}]
[{"$f":"'Cow Housing'!$C$6","v":"C-3333"},{"$f":"$B$70","v":0},{"$f":"$C$70","v":2},{"$f":"$D$70","v":54},78933,null,{"$f":"'Dairy Miscellaneous 3'!AD44","v":0},{"$f":"'Dairy Miscellaneous 3'!AE44","v":0}]
[{"$f":"'Cow Housing'!$C$6","v":"C-3333"},{"$f":"$B$70","v":0},{"$f":"$C$70","v":2},{"$f":"$D$70","v":54},79005,null,{"$f":"'Dairy Miscellaneous 3'!AD16","v":0},{"$f":"'Dairy Miscellaneous 3'!AE16","v":0}]
[{"$f":"'Cow Housing'!$C$6","v":"C-3333"},{"$f":"$B$70","v":0},{"$f":"$C$70","v":2},{"$f":"$D$70","v":54},79345,null,{"$f":"'Dairy Miscellaneous 3'!AD15","v":0},{"$f":"'Dairy Miscellaneous 3'!AE15","v":0}]
[{"$f":"'Cow Housing'!$C$6","v":"C-3333"},{"$f":"$B$70","v":0},{"$f":"$C$70","v":2},{"$f":"$D$70","v":54},95501,null,{"$f":"'Dairy Miscellaneous 3'!AD20","v":0},{"$f":"'Dairy Miscellaneous 3'!AE20","v":0}]
[{"$f":"'Cow Housing'!$C$6","v":"C-3333"},{"$f":"$B$70","v":0},{"$f":"$C$70","v":2},{"$f":"$D$70","v":54},96128,null,{"$f":"'Dairy Miscellaneous 3'!AD19","v":0},{"$f":"'Dairy Miscellaneous 3'!AE19","v":0}]
[{"$f":"'Cow Housing'!$C$6","v":"C-3333"},{"$f":"$B$70","v":0},{"$f":"$C$70","v":2},{"$f":"$D$70","v":54},96184,null,{"$f":"'Dairy Miscellaneous 3'!AD17","v":0},{"$f":"'Dairy Miscellaneous 3'!AE17","v":0}]
[{"$f":"'Cow Housing'!$C$6","v":"C-3333"},{"$f":"$B$70","v":0},{"$f":"$C$70","v":2},{"$f":"$D$70","v":54},98828,null,{"$f":"'Dairy Miscellaneous 3'!AD43","v":0},{"$f":"'Dairy Miscellaneous 3'!AE43","v":0}]
[{"$f":"'Cow Housing'!$C$6","v":"C-3333"},{"$f":"$B$70","v":0},{"$f":"$C$70","v":2},{"$f":"$D$70","v":54},100414,null,{"$f":"'Dairy Miscellaneous 3'!AD37","v":0},{"$f":"'Dairy Miscellaneous 3'!AE37","v":0}]
[{"$f":"'Cow Housing'!$C$6","v":"C-3333"},{"$f":"$B$70","v":0},{"$f":"$C$70","v":2},{"$f":"$D$70","v":54},100425,null,{"$f":"'Dairy Miscellaneous 3'!AD46","v":0},{"$f":"'Dairy Miscellaneous 3'!AE46","v":0}]
[{"$f":"'Cow Housing'!$C$6","v":"C-3333"},{"$f":"$B$70","v":0},{"$f":"$C$70","v":2},{"$f":"$D$70","v":54},100447,null,{"$f":"'Dairy Miscellaneous 3'!AD27","v":0},{"$f":"'Dairy Miscellaneous 3'!AE27","v":0}]
[{"$f":"'Cow Housing'!$C$6","v":"C-3333"},{"$f":"$B$70","v":0},{"$f":"$C$70","v":2},{"$f":"$D$70","v":54},106467,null,{"$f":"'Dairy Miscellaneous 3'!AD23","v":0},{"$f":"'Dairy Miscellaneous 3'!AE23","v":0}]
[{"$f":"'Cow Housing'!$C$6","v":"C-3333"},{"$f":"$B$70","v":0},{"$f":"$C$70","v":2},{"$f":"$D$70","v":54},106934,null,{"$f":"'Dairy Miscellaneous 3'!AD38","v":0},{"$f":"'Dairy Miscellaneous 3'!AE38","v":0}]
[{"$f":"'Cow Housing'!$C$6","v":"C-3333"},{"$f":"$B$70","v":0},{"$f":"$C$70","v":2},{"$f":"$D$70","v":54},107062,null,{"$f":"'Dairy Miscellaneous 3'!AD39","v":0},{"$f":"'Dairy Miscellaneous 3'!AE39","v":0}]
[{"$f":"'Cow Housing'!$C$6","v":"C-3333"},{"$f":"$B$70","v":0},{"$f":"$C$70","v":2},{"$f":"$D$70","v":54},107131,null,{"$f":"'Dairy Miscellaneous 3'!AD25","v":0},{"$f":"'Dairy Miscellaneous 3'!AE25","v":0}]
[{"$f":"'Cow Housing'!$C$6","v":"C-3333"},{"$f":"$B$70","v":0},{"$f":"$C$70","v":2},{"$f":"$D$70","v":54},108054,null,{"$f":"'Dairy Miscellaneous 3'!AD50","v":0},{"$f":"'Dairy Miscellaneous 3'!AE50","v":0}]
[{"$f":"'Cow Housing'!$C$6","v":"C-3333"},{"$f":"$B$70","v":0},{"$f":"$C$70","v":2},{"$f":"$D$70","v":54},108101,null,{"$f":"'Dairy Miscellaneous 3'!AD45","v":0},{"$f":"'Dairy Miscellaneous 3'!AE45","v":0}]
[{"$f":"'Cow Housing'!$C$6","v":"C-3333"},{"$f":"$B$70","v":0},{"$f":"$C$70","v":2},{"$f":"$D$70","v":54},108883,null,{"$f":"'Dairy Miscellaneous 3'!AD48","v":0},{"$f":"'Dairy Miscellaneous 3'!AE48","v":0}]
[{"$f":"'Cow Housing'!$C$6","v":"C-3333"},{"$f":"$B$70","v":0},{"$f":"$C$70","v":2},{"$f":"$D$70","v":54},108907,null,{"$f":"'Dairy Miscellaneous 3'!AD31","v":0},{"$f":"'Dairy Miscellaneous 3'!AE31","v":0}]
[{"$f":"'Cow Housing'!$C$6","v":"C-3333"},{"$f":"$B$70","v":0},{"$f":"$C$70","v":2},{"$f":"$D$70","v":54},110543,null,{"$f":"'Dairy Miscellaneous 3'!AD41","v":0},{"$f":"'Dairy Miscellaneous 3'!AE41","v":0}]
[{"$f":"'Cow Housing'!$C$6","v":"C-3333"},{"$f":"$B$70","v":0},{"$f":"$C$70","v":2},{"$f":"$D$70","v":54},110827,null,{"$f":"'Dairy Miscellaneous 3'!AD35","v":0},{"$f":"'Dairy Miscellaneous 3'!AE35","v":0}]
[{"$f":"'Cow Housing'!$C$6","v":"C-3333"},{"$f":"$B$70","v":0},{"$f":"$C$70","v":2},{"$f":"$D$70","v":54},120821,null,{"$f":"'Dairy Miscellaneous 3'!AD18","v":0},{"$f":"'Dairy Miscellaneous 3'!AE18","v":0}]
[{"$f":"'Cow Housing'!$C$6","v":"C-3333"},{"$f":"$B$70","v":0},{"$f":"$C$70","v":2},{"$f":"$D$70","v":54},123728,null,{"$f":"'Dairy Miscellaneous 3'!AD28","v":0},{"$f":"'Dairy Miscellaneous 3'!AE28","v":0}]
[{"$f":"'Cow Housing'!$C$6","v":"C-3333"},{"$f":"$B$70","v":0},{"$f":"$C$70","v":2},{"$f":"$D$70","v":54},123911,null,{"$f":"'Dairy Miscellaneous 3'!AD22","v":0},{"$f":"'Dairy Miscellaneous 3'!AE22","v":0}]
[{"$f":"'Cow Housing'!$C$6","v":"C-3333"},{"$f":"$B$70","v":0},{"$f":"$C$70","v":2},{"$f":"$D$70","v":54},541731,null,{"$f":"'Dairy Miscellaneous 3'!AD21","v":0},{"$f":"'Dairy Miscellaneous 3'!AE21","v":0}]
[{"$f":"'Cow Housing'!$C$6","v":"C-3333"},{"$f":"$B$70","v":0},{"$f":"$C$70","v":2},{"$f":"$D$70","v":54},764410,null,{"$f":"'Dairy Miscellaneous 3'!AD47","v":0},{"$f":"'Dairy Miscellaneous 3'!AE47","v":0}]
[{"$f":"'Cow Housing'!$C$6","v":"C-3333"},{"$f":"$B$70","v":0},{"$f":"$C$70","v":2},{"$f":"$D$70","v":54},1330207,null,{"$f":"'Dairy Miscellaneous 3'!AD51","v":0},{"$f":"'Dairy Miscellaneous 3'!AE51","v":0}]
[{"$f":"'Cow Housing'!$C$6","v":"C-3333"},{"$f":"$B$70","v":0},{"$f":"$C$70","v":2},{"$f":"$D$70","v":54},4170303,null,{"$f":"'Dairy Miscellaneous 3'!AD34","v":0},{"$f":"'Dairy Miscellaneous 3'!AE34","v":0}]
[{"$f":"'Cow Housing'!$C$6","v":"C-3333"},{"$f":"$B$70","v":0},{"$f":"$C$70","v":2},{"$f":"$D$70","v":54},7429905,null,{"$f":"'Livestock PM10 3'!AD14","v":0},{"$f":"'Livestock PM10 3'!AE14","v":0}]
[{"$f":"'Cow Housing'!$C$6","v":"C-3333"},{"$f":"$B$70","v":0},{"$f":"$C$70","v":2},{"$f":"$D$70","v":54},7439921,null,{"$f":"'Livestock PM10 3'!AD22","v":0},{"$f":"'Livestock PM10 3'!AE22","v":0}]
[{"$f":"'Cow Housing'!$C$6","v":"C-3333"},{"$f":"$B$70","v":0},{"$f":"$C$70","v":2},{"$f":"$D$70","v":54},7439965,null,{"$f":"'Livestock PM10 3'!AD23","v":0},{"$f":"'Livestock PM10 3'!AE23","v":0}]
[{"$f":"'Cow Housing'!$C$6","v":"C-3333"},{"$f":"$B$70","v":0},{"$f":"$C$70","v":2},{"$f":"$D$70","v":54},7439976,null,{"$f":"'Livestock PM10 3'!AD24","v":0},{"$f":"'Livestock PM10 3'!AE24","v":0}]
[{"$f":"'Cow Housing'!$C$6","v":"C-3333"},{"$f":"$B$70","v":0},{"$f":"$C$70","v":2},{"$f":"$D$70","v":54},7440020,null,{"$f":"'Livestock PM10 3'!AD25","v":0},{"$f":"'Livestock PM10 3'!AE25","v":0}]
[{"$f":"'Cow Housing'!$C$6","v":"C-3333"},{"$f":"$B$70","v":0},{"$f":"$C$70","v":2},{"$f":"$D$70","v":54},7440360,null,{"$f":"'Livestock PM10 3'!AD15","v":0},{"$f":"'Livestock PM10 3'!AE15","v":0}]
[{"$f":"'Cow Housing'!$C$6","v":"C-3333"},{"$f":"$B$70","v":0},{"$f":"$C$70","v":2},{"$f":"$D$70","v":54},7440382,null,{"$f":"'Livestock PM10 3'!AD16","v":0},{"$f":"'Livestock PM10 3'!AE16","v":0}]
[{"$f":"'Cow Housing'!$C$6","v":"C-3333"},{"$f":"$B$70","v":0},{"$f":"$C$70","v":2},{"$f":"$D$70","v":54},7440393,null,{"$f":"'Livestock PM10 3'!AD17","v":0},{"$f":"'Livestock PM10 3'!AE17","v":0}]
[{"$f":"'Cow Housing'!$C$6","v":"C-3333"},{"$f":"$B$70","v":0},{"$f":"$C$70","v":2},{"$f":"$D$70","v":54},7440473,null,{"$f":"'Livestock PM10 3'!AD19","v":0},{"$f":"'Livestock PM10 3'!AE19","v":0}]
[{"$f":"'Cow Housing'!$C$6","v":"C-3333"},{"$f":"$B$70","v":0},{"$f":"$C$70","v":2},{"$f":"$D$70","v":54},7440508,null,{"$f":"'Livestock PM10 3'!AD20","v":0},{"$f":"'Livestock PM10 3'!AE20","v":0}]
[{"$f":"'Cow Housing'!$C$6","v":"C-3333"},{"$f":"$B$70","v":0},{"$f":"$C$70","v":2},{"$f":"$D$70","v":54},7440622,null,{"$f":"'Livestock PM10 3'!AD29","v":0},{"$f":"'Livestock PM10 3'!AE29","v":0}]
[{"$f":"'Cow Housing'!$C$6","v":"C-3333"},{"$f":"$B$70","v":0},{"$f":"$C$70","v":2},{"$f":"$D$70","v":54},7440666,null,{"$f":"'Livestock PM10 3'!AD30","v":0},{"$f":"'Livestock PM10 3'!AE30","v":0}]
[{"$f":"'Cow Housing'!$C$6","v":"C-3333"},{"$f":"$B$70","v":0},{"$f":"$C$70","v":2},{"$f":"$D$70","v":54},7664417,null,{"$f":"'Livestock PM10 3'!AD31","v":0},{"$f":"'Livestock PM10 3'!AE31","v":0}]
[{"$f":"'Cow Housing'!$C$6","v":"C-3333"},{"$f":"$B$70","v":0},{"$f":"$C$70","v":2},{"$f":"$D$70","v":54},7723140,null,{"$f":"'Livestock PM10 3'!AD26","v":0},{"$f":"'Livestock PM10 3'!AE26","v":0}]
[{"$f":"'Cow Housing'!$C$6","v":"C-3333"},{"$f":"$B$70","v":0},{"$f":"$C$70","v":2},{"$f":"$D$70","v":54},7726956,null,{"$f":"'Livestock PM10 3'!AD18","v":0},{"$f":"'Livestock PM10 3'!AE18","v":0}]
[{"$f":"'Cow Housing'!$C$6","v":"C-3333"},{"$f":"$B$70","v":0},{"$f":"$C$70","v":2},{"$f":"$D$70","v":54},7782492,null,{"$f":"'Livestock PM10 3'!AD27","v":0},{"$f":"'Livestock PM10 3'!AE27","v":0}]
[{"$f":"'Cow Housing'!$C$6","v":"C-3333"},{"$f":"$B$70","v":0},{"$f":"$C$70","v":2},{"$f":"$D$70","v":54},18540299,null,{"$f":"'Livestock PM10 3'!AD21","v":0},{"$f":"'Livestock PM10 3'!AE21","v":0}]
[{"$f":"'Cow Housing'!$C$6","v":"C-3333"},{"$f":"$B$71","v":0},{"$f":"$C$71","v":2},{"$f":"$D$71","v":55},9960,null,{"$f":"'Livestock PM10 3'!AF28","v":0},{"$f":"'Livestock PM10 3'!AG28","v":0}]
[{"$f":"'Cow Housing'!$C$6","v":"C-3333"},{"$f":"$B$71","v":0},{"$f":"$C$71","v":2},{"$f":"$D$71","v":55},50000,null,{"$f":"'Dairy Miscellaneous 3'!AF40","v":0},{"$f":"'Dairy Miscellaneous 3'!AG40","v":0}]
[{"$f":"'Cow Housing'!$C$6","v":"C-3333"},{"$f":"$B$71","v":0},{"$f":"$C$71","v":2},{"$f":"$D$71","v":55},56235,null,{"$f":"'Dairy Miscellaneous 3'!AF30","v":0},{"$f":"'Dairy Miscellaneous 3'!AG30","v":0}]
[{"$f":"'Cow Housing'!$C$6","v":"C-3333"},{"$f":"$B$71","v":0},{"$f":"$C$71","v":2},{"$f":"$D$71","v":55},67630,null,{"$f":"'Dairy Miscellaneous 3'!AF42","v":0},{"$f":"'Dairy Miscellaneous 3'!AG42","v":0}]
[{"$f":"'Cow Housing'!$C$6","v":"C-3333"},{"$f":"$B$71","v":0},{"$f":"$C$71","v":2},{"$f":"$D$71","v":55},67663,null,{"$f":"'Dairy Miscellaneous 3'!AF32","v":0},{"$f":"'Dairy Miscellaneous 3'!AG32","v":0}]
[{"$f":"'Cow Housing'!$C$6","v":"C-3333"},{"$f":"$B$71","v":0},{"$f":"$C$71","v":2},{"$f":"$D$71","v":55},71432,null,{"$f":"'Dairy Miscellaneous 3'!AF26","v":0},{"$f":"'Dairy Miscellaneous 3'!AG26","v":0}]
[{"$f":"'Cow Housing'!$C$6","v":"C-3333"},{"$f":"$B$71","v":0},{"$f":"$C$71","v":2},{"$f":"$D$71","v":55},74873,null,{"$f":"'Dairy Miscellaneous 3'!AF33","v":0},{"$f":"'Dairy Miscellaneous 3'!AG33","v":0}]
[{"$f":"'Cow Housing'!$C$6","v":"C-3333"},{"$f":"$B$71","v":0},{"$f":"$C$71","v":2},{"$f":"$D$71","v":55},75003,null,{"$f":"'Dairy Miscellaneous 3'!AF36","v":0},{"$f":"'Dairy Miscellaneous 3'!AG36","v":0}]
[{"$f":"'Cow Housing'!$C$6","v":"C-3333"},{"$f":"$B$71","v":0},{"$f":"$C$71","v":2},{"$f":"$D$71","v":55},75070,null,{"$f":"'Dairy Miscellaneous 3'!AF24","v":0},{"$f":"'Dairy Miscellaneous 3'!AG24","v":0}]
[{"$f":"'Cow Housing'!$C$6","v":"C-3333"},{"$f":"$B$71","v":0},{"$f":"$C$71","v":2},{"$f":"$D$71","v":55},75150,null,{"$f":"'Dairy Miscellaneous 3'!AF29","v":0},{"$f":"'Dairy Miscellaneous 3'!AG29","v":0}]
[{"$f":"'Cow Housing'!$C$6","v":"C-3333"},{"$f":"$B$71","v":0},{"$f":"$C$71","v":2},{"$f":"$D$71","v":55},75694,null,{"$f":"'Dairy Miscellaneous 3'!AF49","v":0},{"$f":"'Dairy Miscellaneous 3'!AG49","v":0}]
[{"$f":"'Cow Housing'!$C$6","v":"C-3333"},{"$f":"$B$71","v":0},{"$f":"$C$71","v":2},{"$f":"$D$71","v":55},78933,null,{"$f":"'Dairy Miscellaneous 3'!AF44","v":0},{"$f":"'Dairy Miscellaneous 3'!AG44","v":0}]
[{"$f":"'Cow Housing'!$C$6","v":"C-3333"},{"$f":"$B$71","v":0},{"$f":"$C$71","v":2},{"$f":"$D$71","v":55},79005,null,{"$f":"'Dairy Miscellaneous 3'!AF16","v":0},{"$f":"'Dairy Miscellaneous 3'!AG16","v":0}]
[{"$f":"'Cow Housing'!$C$6","v":"C-3333"},{"$f":"$B$71","v":0},{"$f":"$C$71","v":2},{"$f":"$D$71","v":55},79345,null,{"$f":"'Dairy Miscellaneous 3'!AF15","v":0},{"$f":"'Dairy Miscellaneous 3'!AG15","v":0}]
[{"$f":"'Cow Housing'!$C$6","v":"C-3333"},{"$f":"$B$71","v":0},{"$f":"$C$71","v":2},{"$f":"$D$71","v":55},95501,null,{"$f":"'Dairy Miscellaneous 3'!AF20","v":0},{"$f":"'Dairy Miscellaneous 3'!AG20","v":0}]
[{"$f":"'Cow Housing'!$C$6","v":"C-3333"},{"$f":"$B$71","v":0},{"$f":"$C$71","v":2},{"$f":"$D$71","v":55},96128,null,{"$f":"'Dairy Miscellaneous 3'!AF19","v":0},{"$f":"'Dairy Miscellaneous 3'!AG19","v":0}]
[{"$f":"'Cow Housing'!$C$6","v":"C-3333"},{"$f":"$B$71","v":0},{"$f":"$C$71","v":2},{"$f":"$D$71","v":55},96184,null,{"$f":"'Dairy Miscellaneous 3'!AF17","v":0},{"$f":"'Dairy Miscellaneous 3'!AG17","v":0}]
[{"$f":"'Cow Housing'!$C$6","v":"C-3333"},{"$f":"$B$71","v":0},{"$f":"$C$71","v":2},{"$f":"$D$71","v":55},98828,null,{"$f":"'Dairy Miscellaneous 3'!AF43","v":0},{"$f":"'Dairy Miscellaneous 3'!AG43","v":0}]
[{"$f":"'Cow Housing'!$C$6","v":"C-3333"},{"$f":"$B$71","v":0},{"$f":"$C$71","v":2},{"$f":"$D$71","v":55},100414,null,{"$f":"'Dairy Miscellaneous 3'!AF37","v":0},{"$f":"'Dairy Miscellaneous 3'!AG37","v":0}]
[{"$f":"'Cow Housing'!$C$6","v":"C-3333"},{"$f":"$B$71","v":0},{"$f":"$C$71","v":2},{"$f":"$D$71","v":55},100425,null,{"$f":"'Dairy Miscellaneous 3'!AF46","v":0},{"$f":"'Dairy Miscellaneous 3'!AG46","v":0}]
[{"$f":"'Cow Housing'!$C$6","v":"C-3333"},{"$f":"$B$71","v":0},{"$f":"$C$71","v":2},{"$f":"$D$71","v":55},100447,null,{"$f":"'Dairy Miscellaneous 3'!AF27","v":0},{"$f":"'Dairy Miscellaneous 3'!AG27","v":0}]
[{"$f":"'Cow Housing'!$C$6","v":"C-3333"},{"$f":"$B$71","v":0},{"$f":"$C$71","v":2},{"$f":"$D$71","v":55},106467,null,{"$f":"'Dairy Miscellaneous 3'!AF23","v":0},{"$f":"'Dairy Miscellaneous 3'!AG23","v":0}]
[{"$f":"'Cow Housing'!$C$6","v":"C-3333"},{"$f":"$B$71","v":0},{"$f":"$C$71","v":2},{"$f":"$D$71","v":55},106934,null,{"$f":"'Dairy Miscellaneous 3'!AF38","v":0},{"$f":"'Dairy Miscellaneous 3'!AG38","v":0}]
[{"$f":"'Cow Housing'!$C$6","v":"C-3333"},{"$f":"$B$71","v":0},{"$f":"$C$71","v":2},{"$f":"$D$71","v":55},107062,null,{"$f":"'Dairy Miscellaneous 3'!AF39","v":0},{"$f":"'Dairy Miscellaneous 3'!AG39","v":0}]
[{"$f":"'Cow Housing'!$C$6","v":"C-3333"},{"$f":"$B$71","v":0},{"$f":"$C$71","v":2},{"$f":"$D$71","v":55},107131,null,{"$f":"'Dairy Miscellaneous 3'!AF25","v":0},{"$f":"'Dairy Miscellaneous 3'!AG25","v":0}]
[{"$f":"'Cow Housing'!$C$6","v":"C-3333"},{"$f":"$B$71","v":0},{"$f":"$C$71","v":2},{"$f":"$D$71","v":55},108054,null,{"$f":"'Dairy Miscellaneous 3'!AF50","v":0},{"$f":"'Dairy Miscellaneous 3'!AG50","v":0}]
[{"$f":"'Cow Housing'!$C$6","v":"C-3333"},{"$f":"$B$71","v":0},{"$f":"$C$71","v":2},{"$f":"$D$71","v":55},108101,null,{"$f":"'Dairy Miscellaneous 3'!AF45","v":0},{"$f":"'Dairy Miscellaneous 3'!AG45","v":0}]
[{"$f":"'Cow Housing'!$C$6","v":"C-3333"},{"$f":"$B$71","v":0},{"$f":"$C$71","v":2},{"$f":"$D$71","v":55},108883,null,{"$f":"'Dairy Miscellaneous 3'!AF48","v":0},{"$f":"'Dairy Miscellaneous 3'!AG48","v":0}]
[{"$f":"'Cow Housing'!$C$6","v":"C-3333"},{"$f":"$B$71","v":0},{"$f":"$C$71","v":2},{"$f":"$D$71","v":55},108907,null,{"$f":"'Dairy Miscellaneous 3'!AF31","v":0},{"$f":"'Dairy Miscellaneous 3'!AG31","v":0}]
[{"$f":"'Cow Housing'!$C$6","v":"C-3333"},{"$f":"$B$71","v":0},{"$f":"$C$71","v":2},{"$f":"$D$71","v":55},110543,null,{"$f":"'Dairy Miscellaneous 3'!AF41","v":0},{"$f":"'Dairy Miscellaneous 3'!AG41","v":0}]
[{"$f":"'Cow Housing'!$C$6","v":"C-3333"},{"$f":"$B$71","v":0},{"$f":"$C$71","v":2},{"$f":"$D$71","v":55},110827,null,{"$f":"'Dairy Miscellaneous 3'!AF35","v":0},{"$f":"'Dairy Miscellaneous 3'!AG35","v":0}]
[{"$f":"'Cow Housing'!$C$6","v":"C-3333"},{"$f":"$B$71","v":0},{"$f":"$C$71","v":2},{"$f":"$D$71","v":55},120821,null,{"$f":"'Dairy Miscellaneous 3'!AF18","v":0},{"$f":"'Dairy Miscellaneous 3'!AG18","v":0}]
[{"$f":"'Cow Housing'!$C$6","v":"C-3333"},{"$f":"$B$71","v":0},{"$f":"$C$71","v":2},{"$f":"$D$71","v":55},123728,null,{"$f":"'Dairy Miscellaneous 3'!AF28","v":0},{"$f":"'Dairy Miscellaneous 3'!AG28","v":0}]
[{"$f":"'Cow Housing'!$C$6","v":"C-3333"},{"$f":"$B$71","v":0},{"$f":"$C$71","v":2},{"$f":"$D$71","v":55},123911,null,{"$f":"'Dairy Miscellaneous 3'!AF22","v":0},{"$f":"'Dairy Miscellaneous 3'!AG22","v":0}]
[{"$f":"'Cow Housing'!$C$6","v":"C-3333"},{"$f":"$B$71","v":0},{"$f":"$C$71","v":2},{"$f":"$D$71","v":55},541731,null,{"$f":"'Dairy Miscellaneous 3'!AF21","v":0},{"$f":"'Dairy Miscellaneous 3'!AG21","v":0}]
[{"$f":"'Cow Housing'!$C$6","v":"C-3333"},{"$f":"$B$71","v":0},{"$f":"$C$71","v":2},{"$f":"$D$71","v":55},764410,null,{"$f":"'Dairy Miscellaneous 3'!AF47","v":0},{"$f":"'Dairy Miscellaneous 3'!AG47","v":0}]
[{"$f":"'Cow Housing'!$C$6","v":"C-3333"},{"$f":"$B$71","v":0},{"$f":"$C$71","v":2},{"$f":"$D$71","v":55},1330207,null,{"$f":"'Dairy Miscellaneous 3'!AF51","v":0},{"$f":"'Dairy Miscellaneous 3'!AG51","v":0}]
[{"$f":"'Cow Housing'!$C$6","v":"C-3333"},{"$f":"$B$71","v":0},{"$f":"$C$71","v":2},{"$f":"$D$71","v":55},4170303,null,{"$f":"'Dairy Miscellaneous 3'!AF34","v":0},{"$f":"'Dairy Miscellaneous 3'!AG34","v":0}]
[{"$f":"'Cow Housing'!$C$6","v":"C-3333"},{"$f":"$B$71","v":0},{"$f":"$C$71","v":2},{"$f":"$D$71","v":55},7429905,null,{"$f":"'Livestock PM10 3'!AF14","v":0},{"$f":"'Livestock PM10 3'!AG14","v":0}]
[{"$f":"'Cow Housing'!$C$6","v":"C-3333"},{"$f":"$B$71","v":0},{"$f":"$C$71","v":2},{"$f":"$D$71","v":55},7439921,null,{"$f":"'Livestock PM10 3'!AF22","v":0},{"$f":"'Livestock PM10 3'!AG22","v":0}]
[{"$f":"'Cow Housing'!$C$6","v":"C-3333"},{"$f":"$B$71","v":0},{"$f":"$C$71","v":2},{"$f":"$D$71","v":55},7439965,null,{"$f":"'Livestock PM10 3'!AF23","v":0},{"$f":"'Livestock PM10 3'!AG23","v":0}]
[{"$f":"'Cow Housing'!$C$6","v":"C-3333"},{"$f":"$B$71","v":0},{"$f":"$C$71","v":2},{"$f":"$D$71","v":55},7439976,null,{"$f":"'Livestock PM10 3'!AF24","v":0},{"$f":"'Livestock PM10 3'!AG24","v":0}]
[{"$f":"'Cow Housing'!$C$6","v":"C-3333"},{"$f":"$B$71","v":0},{"$f":"$C$71","v":2},{"$f":"$D$71","v":55},7440020,null,{"$f":"'Livestock PM10 3'!AF25","v":0},{"$f":"'Livestock PM10 3'!AG25","v":0}]
[{"$f":"'Cow Housing'!$C$6","v":"C-3333"},{"$f":"$B$71","v":0},{"$f":"$C$71","v":2},{"$f":"$D$71","v":55},7440360,null,{"$f":"'Livestock PM10 3'!AF15","v":0},{"$f":"'Livestock PM10 3'!AG15","v":0}]
[{"$f":"'Cow Housing'!$C$6","v":"C-3333"},{"$f":"$B$71","v":0},{"$f":"$C$71","v":2},{"$f":"$D$71","v":55},7440382,null,{"$f":"'Livestock PM10 3'!AF16","v":0},{"$f":"'Livestock PM10 3'!AG16","v":0}]
[{"$f":"'Cow Housing'!$C$6","v":"C-3333"},{"$f":"$B$71","v":0},{"$f":"$C$71","v":2},{"$f":"$D$71","v":55},7440393,null,{"$f":"'Livestock PM10 3'!AF17","v":0},{"$f":"'Livestock PM10 3'!AG17","v":0}]
[{"$f":"'Cow Housing'!$C$6","v":"C-3333"},{"$f":"$B$71","v":0},{"$f":"$C$71","v":2},{"$f":"$D$71","v":55},7440473,null,{"$f":"'Livestock PM10 3'!AF19","v":0},{"$f":"'Livestock PM10 3'!AG19","v":0}]
[{"$f":"'Cow Housing'!$C$6","v":"C-3333"},{"$f":"$B$71","v":0},{"$f":"$C$71","v":2},{"$f":"$D$71","v":55},7440508,null,{"$f":"'Livestock PM10 3'!AF20","v":0},{"$f":"'Livestock PM10 3'!AG20","v":0}]
[{"$f":"'Cow Housing'!$C$6","v":"C-3333"},{"$f":"$B$71","v":0},{"$f":"$C$71","v":2},{"$f":"$D$71","v":55},7440622,null,{"$f":"'Livestock PM10 3'!AF29","v":0},{"$f":"'Livestock PM10 3'!AG29","v":0}]
[{"$f":"'Cow Housing'!$C$6","v":"C-3333"},{"$f":"$B$71","v":0},{"$f":"$C$71","v":2},{"$f":"$D$71","v":55},7440666,null,{"$f":"'Livestock PM10 3'!AF30","v":0},{"$f":"'Livestock PM10 3'!AG30","v":0}]
[{"$f":"'Cow Housing'!$C$6","v":"C-3333"},{"$f":"$B$71","v":0},{"$f":"$C$71","v":2},{"$f":"$D$71","v":55},7664417,null,{"$f":"'Livestock PM10 3'!AF31","v":0},{"$f":"'Livestock PM10 3'!AG31","v":0}]
[{"$f":"'Cow Housing'!$C$6","v":"C-3333"},{"$f":"$B$71","v":0},{"$f":"$C$71","v":2},{"$f":"$D$71","v":55},7723140,null,{"$f":"'Livestock PM10 3'!AF26","v":0},{"$f":"'Livestock PM10 3'!AG26","v":0}]
[{"$f":"'Cow Housing'!$C$6","v":"C-3333"},{"$f":"$B$71","v":0},{"$f":"$C$71","v":2},{"$f":"$D$71","v":55},7726956,null,{"$f":"'Livestock PM10 3'!AF18","v":0},{"$f":"'Livestock PM10 3'!AG18","v":0}]
[{"$f":"'Cow Housing'!$C$6","v":"C-3333"},{"$f":"$B$71","v":0},{"$f":"$C$71","v":2},{"$f":"$D$71","v":55},7782492,null,{"$f":"'Livestock PM10 3'!AF27","v":0},{"$f":"'Livestock PM10 3'!AG27","v":0}]
[{"$f":"'Cow Housing'!$C$6","v":"C-3333"},{"$f":"$B$71","v":0},{"$f":"$C$71","v":2},{"$f":"$D$71","v":55},18540299,null,{"$f":"'Livestock PM10 3'!AF21","v":0},{"$f":"'Livestock PM10 3'!AG21","v":0}]
[{"$f":"'Cow Housing'!$C$6","v":"C-3333"},{"$f":"$B$72","v":0},{"$f":"$C$72","v":2},{"$f":"$D$72","v":56},9960,null,{"$f":"'Livestock PM10 3'!AH28","v":0},{"$f":"'Livestock PM10 3'!AI28","v":0}]
[{"$f":"'Cow Housing'!$C$6","v":"C-3333"},{"$f":"$B$72","v":0},{"$f":"$C$72","v":2},{"$f":"$D$72","v":56},50000,null,{"$f":"'Dairy Miscellaneous 3'!AH40","v":0},{"$f":"'Dairy Miscellaneous 3'!AI40","v":0}]
[{"$f":"'Cow Housing'!$C$6","v":"C-3333"},{"$f":"$B$72","v":0},{"$f":"$C$72","v":2},{"$f":"$D$72","v":56},56235,null,{"$f":"'Dairy Miscellaneous 3'!AH30","v":0},{"$f":"'Dairy Miscellaneous 3'!AI30","v":0}]
[{"$f":"'Cow Housing'!$C$6","v":"C-3333"},{"$f":"$B$72","v":0},{"$f":"$C$72","v":2},{"$f":"$D$72","v":56},67630,null,{"$f":"'Dairy Miscellaneous 3'!AH42","v":0},{"$f":"'Dairy Miscellaneous 3'!AI42","v":0}]
[{"$f":"'Cow Housing'!$C$6","v":"C-3333"},{"$f":"$B$72","v":0},{"$f":"$C$72","v":2},{"$f":"$D$72","v":56},67663,null,{"$f":"'Dairy Miscellaneous 3'!AH32","v":0},{"$f":"'Dairy Miscellaneous 3'!AI32","v":0}]
[{"$f":"'Cow Housing'!$C$6","v":"C-3333"},{"$f":"$B$72","v":0},{"$f":"$C$72","v":2},{"$f":"$D$72","v":56},71432,null,{"$f":"'Dairy Miscellaneous 3'!AH26","v":0},{"$f":"'Dairy Miscellaneous 3'!AI26","v":0}]
[{"$f":"'Cow Housing'!$C$6","v":"C-3333"},{"$f":"$B$72","v":0},{"$f":"$C$72","v":2},{"$f":"$D$72","v":56},74873,null,{"$f":"'Dairy Miscellaneous 3'!AH33","v":0},{"$f":"'Dairy Miscellaneous 3'!AI33","v":0}]
[{"$f":"'Cow Housing'!$C$6","v":"C-3333"},{"$f":"$B$72","v":0},{"$f":"$C$72","v":2},{"$f":"$D$72","v":56},75003,null,{"$f":"'Dairy Miscellaneous 3'!AH36","v":0},{"$f":"'Dairy Miscellaneous 3'!AI36","v":0}]
[{"$f":"'Cow Housing'!$C$6","v":"C-3333"},{"$f":"$B$72","v":0},{"$f":"$C$72","v":2},{"$f":"$D$72","v":56},75070,null,{"$f":"'Dairy Miscellaneous 3'!AH24","v":0},{"$f":"'Dairy Miscellaneous 3'!AI24","v":0}]
[{"$f":"'Cow Housing'!$C$6","v":"C-3333"},{"$f":"$B$72","v":0},{"$f":"$C$72","v":2},{"$f":"$D$72","v":56},75150,null,{"$f":"'Dairy Miscellaneous 3'!AH29","v":0},{"$f":"'Dairy Miscellaneous 3'!AI29","v":0}]
[{"$f":"'Cow Housing'!$C$6","v":"C-3333"},{"$f":"$B$72","v":0},{"$f":"$C$72","v":2},{"$f":"$D$72","v":56},75694,null,{"$f":"'Dairy Miscellaneous 3'!AH49","v":0},{"$f":"'Dairy Miscellaneous 3'!AI49","v":0}]
[{"$f":"'Cow Housing'!$C$6","v":"C-3333"},{"$f":"$B$72","v":0},{"$f":"$C$72","v":2},{"$f":"$D$72","v":56},78933,null,{"$f":"'Dairy Miscellaneous 3'!AH44","v":0},{"$f":"'Dairy Miscellaneous 3'!AI44","v":0}]
[{"$f":"'Cow Housing'!$C$6","v":"C-3333"},{"$f":"$B$72","v":0},{"$f":"$C$72","v":2},{"$f":"$D$72","v":56},79005,null,{"$f":"'Dairy Miscellaneous 3'!AH16","v":0},{"$f":"'Dairy Miscellaneous 3'!AI16","v":0}]
[{"$f":"'Cow Housing'!$C$6","v":"C-3333"},{"$f":"$B$72","v":0},{"$f":"$C$72","v":2},{"$f":"$D$72","v":56},79345,null,{"$f":"'Dairy Miscellaneous 3'!AH15","v":0},{"$f":"'Dairy Miscellaneous 3'!AI15","v":0}]
[{"$f":"'Cow Housing'!$C$6","v":"C-3333"},{"$f":"$B$72","v":0},{"$f":"$C$72","v":2},{"$f":"$D$72","v":56},95501,null,{"$f":"'Dairy Miscellaneous 3'!AH20","v":0},{"$f":"'Dairy Miscellaneous 3'!AI20","v":0}]
[{"$f":"'Cow Housing'!$C$6","v":"C-3333"},{"$f":"$B$72","v":0},{"$f":"$C$72","v":2},{"$f":"$D$72","v":56},96128,null,{"$f":"'Dairy Miscellaneous 3'!AH19","v":0},{"$f":"'Dairy Miscellaneous 3'!AI19","v":0}]
[{"$f":"'Cow Housing'!$C$6","v":"C-3333"},{"$f":"$B$72","v":0},{"$f":"$C$72","v":2},{"$f":"$D$72","v":56},96184,null,{"$f":"'Dairy Miscellaneous 3'!AH17","v":0},{"$f":"'Dairy Miscellaneous 3'!AI17","v":0}]
[{"$f":"'Cow Housing'!$C$6","v":"C-3333"},{"$f":"$B$72","v":0},{"$f":"$C$72","v":2},{"$f":"$D$72","v":56},98828,null,{"$f":"'Dairy Miscellaneous 3'!AH43","v":0},{"$f":"'Dairy Miscellaneous 3'!AI43","v":0}]
[{"$f":"'Cow Housing'!$C$6","v":"C-3333"},{"$f":"$B$72","v":0},{"$f":"$C$72","v":2},{"$f":"$D$72","v":56},100414,null,{"$f":"'Dairy Miscellaneous 3'!AH37","v":0},{"$f":"'Dairy Miscellaneous 3'!AI37","v":0}]
[{"$f":"'Cow Housing'!$C$6","v":"C-3333"},{"$f":"$B$72","v":0},{"$f":"$C$72","v":2},{"$f":"$D$72","v":56},100425,null,{"$f":"'Dairy Miscellaneous 3'!AH46","v":0},{"$f":"'Dairy Miscellaneous 3'!AI46","v":0}]
[{"$f":"'Cow Housing'!$C$6","v":"C-3333"},{"$f":"$B$72","v":0},{"$f":"$C$72","v":2},{"$f":"$D$72","v":56},100447,null,{"$f":"'Dairy Miscellaneous 3'!AH27","v":0},{"$f":"'Dairy Miscellaneous 3'!AI27","v":0}]
[{"$f":"'Cow Housing'!$C$6","v":"C-3333"},{"$f":"$B$72","v":0},{"$f":"$C$72","v":2},{"$f":"$D$72","v":56},106467,null,{"$f":"'Dairy Miscellaneous 3'!AH23","v":0},{"$f":"'Dairy Miscellaneous 3'!AI23","v":0}]
[{"$f":"'Cow Housing'!$C$6","v":"C-3333"},{"$f":"$B$72","v":0},{"$f":"$C$72","v":2},{"$f":"$D$72","v":56},106934,null,{"$f":"'Dairy Miscellaneous 3'!AH38","v":0},{"$f":"'Dairy Miscellaneous 3'!AI38","v":0}]
[{"$f":"'Cow Housing'!$C$6","v":"C-3333"},{"$f":"$B$72","v":0},{"$f":"$C$72","v":2},{"$f":"$D$72","v":56},107062,null,{"$f":"'Dairy Miscellaneous 3'!AH39","v":0},{"$f":"'Dairy Miscellaneous 3'!AI39","v":0}]
[{"$f":"'Cow Housing'!$C$6","v":"C-3333"},{"$f":"$B$72","v":0},{"$f":"$C$72","v":2},{"$f":"$D$72","v":56},107131,null,{"$f":"'Dairy Miscellaneous 3'!AH25","v":0},{"$f":"'Dairy Miscellaneous 3'!AI25","v":0}]
[{"$f":"'Cow Housing'!$C$6","v":"C-3333"},{"$f":"$B$72","v":0},{"$f":"$C$72","v":2},{"$f":"$D$72","v":56},108054,null,{"$f":"'Dairy Miscellaneous 3'!AH50","v":0},{"$f":"'Dairy Miscellaneous 3'!AI50","v":0}]
[{"$f":"'Cow Housing'!$C$6","v":"C-3333"},{"$f":"$B$72","v":0},{"$f":"$C$72","v":2},{"$f":"$D$72","v":56},108101,null,{"$f":"'Dairy Miscellaneous 3'!AH45","v":0},{"$f":"'Dairy Miscellaneous 3'!AI45","v":0}]
[{"$f":"'Cow Housing'!$C$6","v":"C-3333"},{"$f":"$B$72","v":0},{"$f":"$C$72","v":2},{"$f":"$D$72","v":56},108883,null,{"$f":"'Dairy Miscellaneous 3'!AH48","v":0},{"$f":"'Dairy Miscellaneous 3'!AI48","v":0}]
[{"$f":"'Cow Housing'!$C$6","v":"C-3333"},{"$f":"$B$72","v":0},{"$f":"$C$72","v":2},{"$f":"$D$72","v":56},108907,null,{"$f":"'Dairy Miscellaneous 3'!AH31","v":0},{"$f":"'Dairy Miscellaneous 3'!AI31","v":0}]
[{"$f":"'Cow Housing'!$C$6","v":"C-3333"},{"$f":"$B$72","v":0},{"$f":"$C$72","v":2},{"$f":"$D$72","v":56},110543,null,{"$f":"'Dairy Miscellaneous 3'!AH41","v":0},{"$f":"'Dairy Miscellaneous 3'!AI41","v":0}]
[{"$f":"'Cow Housing'!$C$6","v":"C-3333"},{"$f":"$B$72","v":0},{"$f":"$C$72","v":2},{"$f":"$D$72","v":56},110827,null,{"$f":"'Dairy Miscellaneous 3'!AH35","v":0},{"$f":"'Dairy Miscellaneous 3'!AI35","v":0}]
[{"$f":"'Cow Housing'!$C$6","v":"C-3333"},{"$f":"$B$72","v":0},{"$f":"$C$72","v":2},{"$f":"$D$72","v":56},120821,null,{"$f":"'Dairy Miscellaneous 3'!AH18","v":0},{"$f":"'Dairy Miscellaneous 3'!AI18","v":0}]
[{"$f":"'Cow Housing'!$C$6","v":"C-3333"},{"$f":"$B$72","v":0},{"$f":"$C$72","v":2},{"$f":"$D$72","v":56},123728,null,{"$f":"'Dairy Miscellaneous 3'!AH28","v":0},{"$f":"'Dairy Miscellaneous 3'!AI28","v":0}]
[{"$f":"'Cow Housing'!$C$6","v":"C-3333"},{"$f":"$B$72","v":0},{"$f":"$C$72","v":2},{"$f":"$D$72","v":56},123911,null,{"$f":"'Dairy Miscellaneous 3'!AH22","v":0},{"$f":"'Dairy Miscellaneous 3'!AI22","v":0}]
[{"$f":"'Cow Housing'!$C$6","v":"C-3333"},{"$f":"$B$72","v":0},{"$f":"$C$72","v":2},{"$f":"$D$72","v":56},541731,null,{"$f":"'Dairy Miscellaneous 3'!AH21","v":0},{"$f":"'Dairy Miscellaneous 3'!AI21","v":0}]
[{"$f":"'Cow Housing'!$C$6","v":"C-3333"},{"$f":"$B$72","v":0},{"$f":"$C$72","v":2},{"$f":"$D$72","v":56},764410,null,{"$f":"'Dairy Miscellaneous 3'!AH47","v":0},{"$f":"'Dairy Miscellaneous 3'!AI47","v":0}]
[{"$f":"'Cow Housing'!$C$6","v":"C-3333"},{"$f":"$B$72","v":0},{"$f":"$C$72","v":2},{"$f":"$D$72","v":56},1330207,null,{"$f":"'Dairy Miscellaneous 3'!AH51","v":0},{"$f":"'Dairy Miscellaneous 3'!AI51","v":0}]
[{"$f":"'Cow Housing'!$C$6","v":"C-3333"},{"$f":"$B$72","v":0},{"$f":"$C$72","v":2},{"$f":"$D$72","v":56},4170303,null,{"$f":"'Dairy Miscellaneous 3'!AH34","v":0},{"$f":"'Dairy Miscellaneous 3'!AI34","v":0}]
[{"$f":"'Cow Housing'!$C$6","v":"C-3333"},{"$f":"$B$72","v":0},{"$f":"$C$72","v":2},{"$f":"$D$72","v":56},7429905,null,{"$f":"'Livestock PM10 3'!AH14","v":0},{"$f":"'Livestock PM10 3'!AI14","v":0}]
[{"$f":"'Cow Housing'!$C$6","v":"C-3333"},{"$f":"$B$72","v":0},{"$f":"$C$72","v":2},{"$f":"$D$72","v":56},7439921,null,{"$f":"'Livestock PM10 3'!AH22","v":0},{"$f":"'Livestock PM10 3'!AI22","v":0}]
[{"$f":"'Cow Housing'!$C$6","v":"C-3333"},{"$f":"$B$72","v":0},{"$f":"$C$72","v":2},{"$f":"$D$72","v":56},7439965,null,{"$f":"'Livestock PM10 3'!AH23","v":0},{"$f":"'Livestock PM10 3'!AI23","v":0}]
[{"$f":"'Cow Housing'!$C$6","v":"C-3333"},{"$f":"$B$72","v":0},{"$f":"$C$72","v":2},{"$f":"$D$72","v":56},7439976,null,{"$f":"'Livestock PM10 3'!AH24","v":0},{"$f":"'Livestock PM10 3'!AI24","v":0}]
[{"$f":"'Cow Housing'!$C$6","v":"C-3333"},{"$f":"$B$72","v":0},{"$f":"$C$72","v":2},{"$f":"$D$72","v":56},7440020,null,{"$f":"'Livestock PM10 3'!AH25","v":0},{"$f":"'Livestock PM10 3'!AI25","v":0}]
[{"$f":"'Cow Housing'!$C$6","v":"C-3333"},{"$f":"$B$72","v":0},{"$f":"$C$72","v":2},{"$f":"$D$72","v":56},7440360,null,{"$f":"'Livestock PM10 3'!AH15","v":0},{"$f":"'Livestock PM10 3'!AI15","v":0}]
[{"$f":"'Cow Housing'!$C$6","v":"C-3333"},{"$f":"$B$72","v":0},{"$f":"$C$72","v":2},{"$f":"$D$72","v":56},7440382,null,{"$f":"'Livestock PM10 3'!AH16","v":0},{"$f":"'Livestock PM10 3'!AI16","v":0}]
[{"$f":"'Cow Housing'!$C$6","v":"C-3333"},{"$f":"$B$72","v":0},{"$f":"$C$72","v":2},{"$f":"$D$72","v":56},7440393,null,{"$f":"'Livestock PM10 3'!AH17","v":0},{"$f":"'Livestock PM10 3'!AI17","v":0}]
[{"$f":"'Cow Housing'!$C$6","v":"C-3333"},{"$f":"$B$72","v":0},{"$f":"$C$72","v":2},{"$f":"$D$72","v":56},7440473,null,{"$f":"'Livestock PM10 3'!AH19","v":0},{"$f":"'Livestock PM10 3'!AI19","v":0}]
[{"$f":"'Cow Housing'!$C$6","v":"C-3333"},{"$f":"$B$72","v":0},{"$f":"$C$72","v":2},{"$f":"$D$72","v":56},7440508,null,{"$f":"'Livestock PM10 3'!AH20","v":0},{"$f":"'Livestock PM10 3'!AI20","v":0}]
[{"$f":"'Cow Housing'!$C$6","v":"C-3333"},{"$f":"$B$72","v":0},{"$f":"$C$72","v":2},{"$f":"$D$72","v":56},7440622,null,{"$f":"'Livestock PM10 3'!AH29","v":0},{"$f":"'Livestock PM10 3'!AI29","v":0}]
[{"$f":"'Cow Housing'!$C$6","v":"C-3333"},{"$f":"$B$72","v":0},{"$f":"$C$72","v":2},{"$f":"$D$72","v":56},7440666,null,{"$f":"'Livestock PM10 3'!AH30","v":0},{"$f":"'Livestock PM10 3'!AI30","v":0}]
[{"$f":"'Cow Housing'!$C$6","v":"C-3333"},{"$f":"$B$72","v":0},{"$f":"$C$72","v":2},{"$f":"$D$72","v":56},7664417,null,{"$f":"'Livestock PM10 3'!AH31","v":0},{"$f":"'Livestock PM10 3'!AI31","v":0}]
[{"$f":"'Cow Housing'!$C$6","v":"C-3333"},{"$f":"$B$72","v":0},{"$f":"$C$72","v":2},{"$f":"$D$72","v":56},7723140,null,{"$f":"'Livestock PM10 3'!AH26","v":0},{"$f":"'Livestock PM10 3'!AI26","v":0}]
[{"$f":"'Cow Housing'!$C$6","v":"C-3333"},{"$f":"$B$72","v":0},{"$f":"$C$72","v":2},{"$f":"$D$72","v":56},7726956,null,{"$f":"'Livestock PM10 3'!AH18","v":0},{"$f":"'Livestock PM10 3'!AI18","v":0}]
[{"$f":"'Cow Housing'!$C$6","v":"C-3333"},{"$f":"$B$72","v":0},{"$f":"$C$72","v":2},{"$f":"$D$72","v":56},7782492,null,{"$f":"'Livestock PM10 3'!AH27","v":0},{"$f":"'Livestock PM10 3'!AI27","v":0}]
[{"$f":"'Cow Housing'!$C$6","v":"C-3333"},{"$f":"$B$72","v":0},{"$f":"$C$72","v":2},{"$f":"$D$72","v":56},18540299,null,{"$f":"'Livestock PM10 3'!AH21","v":0},{"$f":"'Livestock PM10 3'!AI21","v":0}]
[{"$f":"'Cow Housing'!$C$6","v":"C-3333"},{"$f":"$B$73","v":0},{"$f":"$C$73","v":2},{"$f":"$D$73","v":57},9960,null,{"$f":"'Livestock PM10 3'!AJ28","v":0},{"$f":"'Livestock PM10 3'!AK28","v":0}]
[{"$f":"'Cow Housing'!$C$6","v":"C-3333"},{"$f":"$B$73","v":0},{"$f":"$C$73","v":2},{"$f":"$D$73","v":57},50000,null,{"$f":"'Dairy Miscellaneous 3'!AJ40","v":0},{"$f":"'Dairy Miscellaneous 3'!AK40","v":0}]
[{"$f":"'Cow Housing'!$C$6","v":"C-3333"},{"$f":"$B$73","v":0},{"$f":"$C$73","v":2},{"$f":"$D$73","v":57},56235,null,{"$f":"'Dairy Miscellaneous 3'!AJ30","v":0},{"$f":"'Dairy Miscellaneous 3'!AK30","v":0}]
[{"$f":"'Cow Housing'!$C$6","v":"C-3333"},{"$f":"$B$73","v":0},{"$f":"$C$73","v":2},{"$f":"$D$73","v":57},67630,null,{"$f":"'Dairy Miscellaneous 3'!AJ42","v":0},{"$f":"'Dairy Miscellaneous 3'!AK42","v":0}]
[{"$f":"'Cow Housing'!$C$6","v":"C-3333"},{"$f":"$B$73","v":0},{"$f":"$C$73","v":2},{"$f":"$D$73","v":57},67663,null,{"$f":"'Dairy Miscellaneous 3'!AJ32","v":0},{"$f":"'Dairy Miscellaneous 3'!AK32","v":0}]
[{"$f":"'Cow Housing'!$C$6","v":"C-3333"},{"$f":"$B$73","v":0},{"$f":"$C$73","v":2},{"$f":"$D$73","v":57},71432,null,{"$f":"'Dairy Miscellaneous 3'!AJ26","v":0},{"$f":"'Dairy Miscellaneous 3'!AK26","v":0}]
[{"$f":"'Cow Housing'!$C$6","v":"C-3333"},{"$f":"$B$73","v":0},{"$f":"$C$73","v":2},{"$f":"$D$73","v":57},74873,null,{"$f":"'Dairy Miscellaneous 3'!AJ33","v":0},{"$f":"'Dairy Miscellaneous 3'!AK33","v":0}]
[{"$f":"'Cow Housing'!$C$6","v":"C-3333"},{"$f":"$B$73","v":0},{"$f":"$C$73","v":2},{"$f":"$D$73","v":57},75003,null,{"$f":"'Dairy Miscellaneous 3'!AJ36","v":0},{"$f":"'Dairy Miscellaneous 3'!AK36","v":0}]
[{"$f":"'Cow Housing'!$C$6","v":"C-3333"},{"$f":"$B$73","v":0},{"$f":"$C$73","v":2},{"$f":"$D$73","v":57},75070,null,{"$f":"'Dairy Miscellaneous 3'!AJ24","v":0},{"$f":"'Dairy Miscellaneous 3'!AK24","v":0}]
[{"$f":"'Cow Housing'!$C$6","v":"C-3333"},{"$f":"$B$73","v":0},{"$f":"$C$73","v":2},{"$f":"$D$73","v":57},75150,null,{"$f":"'Dairy Miscellaneous 3'!AJ29","v":0},{"$f":"'Dairy Miscellaneous 3'!AK29","v":0}]
[{"$f":"'Cow Housing'!$C$6","v":"C-3333"},{"$f":"$B$73","v":0},{"$f":"$C$73","v":2},{"$f":"$D$73","v":57},75694,null,{"$f":"'Dairy Miscellaneous 3'!AJ49","v":0},{"$f":"'Dairy Miscellaneous 3'!AK49","v":0}]
[{"$f":"'Cow Housing'!$C$6","v":"C-3333"},{"$f":"$B$73","v":0},{"$f":"$C$73","v":2},{"$f":"$D$73","v":57},78933,null,{"$f":"'Dairy Miscellaneous 3'!AJ44","v":0},{"$f":"'Dairy Miscellaneous 3'!AK44","v":0}]
[{"$f":"'Cow Housing'!$C$6","v":"C-3333"},{"$f":"$B$73","v":0},{"$f":"$C$73","v":2},{"$f":"$D$73","v":57},79005,null,{"$f":"'Dairy Miscellaneous 3'!AJ16","v":0},{"$f":"'Dairy Miscellaneous 3'!AK16","v":0}]
[{"$f":"'Cow Housing'!$C$6","v":"C-3333"},{"$f":"$B$73","v":0},{"$f":"$C$73","v":2},{"$f":"$D$73","v":57},79345,null,{"$f":"'Dairy Miscellaneous 3'!AJ15","v":0},{"$f":"'Dairy Miscellaneous 3'!AK15","v":0}]
[{"$f":"'Cow Housing'!$C$6","v":"C-3333"},{"$f":"$B$73","v":0},{"$f":"$C$73","v":2},{"$f":"$D$73","v":57},95501,null,{"$f":"'Dairy Miscellaneous 3'!AJ20","v":0},{"$f":"'Dairy Miscellaneous 3'!AK20","v":0}]
[{"$f":"'Cow Housing'!$C$6","v":"C-3333"},{"$f":"$B$73","v":0},{"$f":"$C$73","v":2},{"$f":"$D$73","v":57},96128,null,{"$f":"'Dairy Miscellaneous 3'!AJ19","v":0},{"$f":"'Dairy Miscellaneous 3'!AK19","v":0}]
[{"$f":"'Cow Housing'!$C$6","v":"C-3333"},{"$f":"$B$73","v":0},{"$f":"$C$73","v":2},{"$f":"$D$73","v":57},96184,null,{"$f":"'Dairy Miscellaneous 3'!AJ17","v":0},{"$f":"'Dairy Miscellaneous 3'!AK17","v":0}]
[{"$f":"'Cow Housing'!$C$6","v":"C-3333"},{"$f":"$B$73","v":0},{"$f":"$C$73","v":2},{"$f":"$D$73","v":57},98828,null,{"$f":"'Dairy Miscellaneous 3'!AJ43","v":0},{"$f":"'Dairy Miscellaneous 3'!AK43","v":0}]
[{"$f":"'Cow Housing'!$C$6","v":"C-3333"},{"$f":"$B$73","v":0},{"$f":"$C$73","v":2},{"$f":"$D$73","v":57},100414,null,{"$f":"'Dairy Miscellaneous 3'!AJ37","v":0},{"$f":"'Dairy Miscellaneous 3'!AK37","v":0}]
[{"$f":"'Cow Housing'!$C$6","v":"C-3333"},{"$f":"$B$73","v":0},{"$f":"$C$73","v":2},{"$f":"$D$73","v":57},100425,null,{"$f":"'Dairy Miscellaneous 3'!AJ46","v":0},{"$f":"'Dairy Miscellaneous 3'!AK46","v":0}]
[{"$f":"'Cow Housing'!$C$6","v":"C-3333"},{"$f":"$B$73","v":0},{"$f":"$C$73","v":2},{"$f":"$D$73","v":57},100447,null,{"$f":"'Dairy Miscellaneous 3'!AJ27","v":0},{"$f":"'Dairy Miscellaneous 3'!AK27","v":0}]
[{"$f":"'Cow Housing'!$C$6","v":"C-3333"},{"$f":"$B$73","v":0},{"$f":"$C$73","v":2},{"$f":"$D$73","v":57},106467,null,{"$f":"'Dairy Miscellaneous 3'!AJ23","v":0},{"$f":"'Dairy Miscellaneous 3'!AK23","v":0}]
[{"$f":"'Cow Housing'!$C$6","v":"C-3333"},{"$f":"$B$73","v":0},{"$f":"$C$73","v":2},{"$f":"$D$73","v":57},106934,null,{"$f":"'Dairy Miscellaneous 3'!AJ38","v":0},{"$f":"'Dairy Miscellaneous 3'!AK38","v":0}]
[{"$f":"'Cow Housing'!$C$6","v":"C-3333"},{"$f":"$B$73","v":0},{"$f":"$C$73","v":2},{"$f":"$D$73","v":57},107062,null,{"$f":"'Dairy Miscellaneous 3'!AJ39","v":0},{"$f":"'Dairy Miscellaneous 3'!AK39","v":0}]
[{"$f":"'Cow Housing'!$C$6","v":"C-3333"},{"$f":"$B$73","v":0},{"$f":"$C$73","v":2},{"$f":"$D$73","v":57},107131,null,{"$f":"'Dairy Miscellaneous 3'!AJ25","v":0},{"$f":"'Dairy Miscellaneous 3'!AK25","v":0}]
[{"$f":"'Cow Housing'!$C$6","v":"C-3333"},{"$f":"$B$73","v":0},{"$f":"$C$73","v":2},{"$f":"$D$73","v":57},108054,null,{"$f":"'Dairy Miscellaneous 3'!AJ50","v":0},{"$f":"'Dairy Miscellaneous 3'!AK50","v":0}]
[{"$f":"'Cow Housing'!$C$6","v":"C-3333"},{"$f":"$B$73","v":0},{"$f":"$C$73","v":2},{"$f":"$D$73","v":57},108101,null,{"$f":"'Dairy Miscellaneous 3'!AJ45","v":0},{"$f":"'Dairy Miscellaneous 3'!AK45","v":0}]
[{"$f":"'Cow Housing'!$C$6","v":"C-3333"},{"$f":"$B$73","v":0},{"$f":"$C$73","v":2},{"$f":"$D$73","v":57},108883,null,{"$f":"'Dairy Miscellaneous 3'!AJ48","v":0},{"$f":"'Dairy Miscellaneous 3'!AK48","v":0}]
[{"$f":"'Cow Housing'!$C$6","v":"C-3333"},{"$f":"$B$73","v":0},{"$f":"$C$73","v":2},{"$f":"$D$73","v":57},108907,null,{"$f":"'Dairy Miscellaneous 3'!AJ31","v":0},{"$f":"'Dairy Miscellaneous 3'!AK31","v":0}]
[{"$f":"'Cow Housing'!$C$6","v":"C-3333"},{"$f":"$B$73","v":0},{"$f":"$C$73","v":2},{"$f":"$D$73","v":57},110543,null,{"$f":"'Dairy Miscellaneous 3'!AJ41","v":0},{"$f":"'Dairy Miscellaneous 3'!AK41","v":0}]
[{"$f":"'Cow Housing'!$C$6","v":"C-3333"},{"$f":"$B$73","v":0},{"$f":"$C$73","v":2},{"$f":"$D$73","v":57},110827,null,{"$f":"'Dairy Miscellaneous 3'!AJ35","v":0},{"$f":"'Dairy Miscellaneous 3'!AK35","v":0}]
[{"$f":"'Cow Housing'!$C$6","v":"C-3333"},{"$f":"$B$73","v":0},{"$f":"$C$73","v":2},{"$f":"$D$73","v":57},120821,null,{"$f":"'Dairy Miscellaneous 3'!AJ18","v":0},{"$f":"'Dairy Miscellaneous 3'!AK18","v":0}]
[{"$f":"'Cow Housing'!$C$6","v":"C-3333"},{"$f":"$B$73","v":0},{"$f":"$C$73","v":2},{"$f":"$D$73","v":57},123728,null,{"$f":"'Dairy Miscellaneous 3'!AJ28","v":0},{"$f":"'Dairy Miscellaneous 3'!AK28","v":0}]
[{"$f":"'Cow Housing'!$C$6","v":"C-3333"},{"$f":"$B$73","v":0},{"$f":"$C$73","v":2},{"$f":"$D$73","v":57},123911,null,{"$f":"'Dairy Miscellaneous 3'!AJ22","v":0},{"$f":"'Dairy Miscellaneous 3'!AK22","v":0}]
[{"$f":"'Cow Housing'!$C$6","v":"C-3333"},{"$f":"$B$73","v":0},{"$f":"$C$73","v":2},{"$f":"$D$73","v":57},541731,null,{"$f":"'Dairy Miscellaneous 3'!AJ21","v":0},{"$f":"'Dairy Miscellaneous 3'!AK21","v":0}]
[{"$f":"'Cow Housing'!$C$6","v":"C-3333"},{"$f":"$B$73","v":0},{"$f":"$C$73","v":2},{"$f":"$D$73","v":57},764410,null,{"$f":"'Dairy Miscellaneous 3'!AJ47","v":0},{"$f":"'Dairy Miscellaneous 3'!AK47","v":0}]
[{"$f":"'Cow Housing'!$C$6","v":"C-3333"},{"$f":"$B$73","v":0},{"$f":"$C$73","v":2},{"$f":"$D$73","v":57},1330207,null,{"$f":"'Dairy Miscellaneous 3'!AJ51","v":0},{"$f":"'Dairy Miscellaneous 3'!AK51","v":0}]
[{"$f":"'Cow Housing'!$C$6","v":"C-3333"},{"$f":"$B$73","v":0},{"$f":"$C$73","v":2},{"$f":"$D$73","v":57},4170303,null,{"$f":"'Dairy Miscellaneous 3'!AJ34","v":0},{"$f":"'Dairy Miscellaneous 3'!AK34","v":0}]
[{"$f":"'Cow Housing'!$C$6","v":"C-3333"},{"$f":"$B$73","v":0},{"$f":"$C$73","v":2},{"$f":"$D$73","v":57},7429905,null,{"$f":"'Livestock PM10 3'!AJ14","v":0},{"$f":"'Livestock PM10 3'!AK14","v":0}]
[{"$f":"'Cow Housing'!$C$6","v":"C-3333"},{"$f":"$B$73","v":0},{"$f":"$C$73","v":2},{"$f":"$D$73","v":57},7439921,null,{"$f":"'Livestock PM10 3'!AJ22","v":0},{"$f":"'Livestock PM10 3'!AK22","v":0}]
[{"$f":"'Cow Housing'!$C$6","v":"C-3333"},{"$f":"$B$73","v":0},{"$f":"$C$73","v":2},{"$f":"$D$73","v":57},7439965,null,{"$f":"'Livestock PM10 3'!AJ23","v":0},{"$f":"'Livestock PM10 3'!AK23","v":0}]
[{"$f":"'Cow Housing'!$C$6","v":"C-3333"},{"$f":"$B$73","v":0},{"$f":"$C$73","v":2},{"$f":"$D$73","v":57},7439976,null,{"$f":"'Livestock PM10 3'!AJ24","v":0},{"$f":"'Livestock PM10 3'!AK24","v":0}]
[{"$f":"'Cow Housing'!$C$6","v":"C-3333"},{"$f":"$B$73","v":0},{"$f":"$C$73","v":2},{"$f":"$D$73","v":57},7440020,null,{"$f":"'Livestock PM10 3'!AJ25","v":0},{"$f":"'Livestock PM10 3'!AK25","v":0}]
[{"$f":"'Cow Housing'!$C$6","v":"C-3333"},{"$f":"$B$73","v":0},{"$f":"$C$73","v":2},{"$f":"$D$73","v":57},7440360,null,{"$f":"'Livestock PM10 3'!AJ15","v":0},{"$f":"'Livestock PM10 3'!AK15","v":0}]
[{"$f":"'Cow Housing'!$C$6","v":"C-3333"},{"$f":"$B$73","v":0},{"$f":"$C$73","v":2},{"$f":"$D$73","v":57},7440382,null,{"$f":"'Livestock PM10 3'!AJ16","v":0},{"$f":"'Livestock PM10 3'!AK16","v":0}]
[{"$f":"'Cow Housing'!$C$6","v":"C-3333"},{"$f":"$B$73","v":0},{"$f":"$C$73","v":2},{"$f":"$D$73","v":57},7440393,null,{"$f":"'Livestock PM10 3'!AJ17","v":0},{"$f":"'Livestock PM10 3'!AK17","v":0}]
[{"$f":"'Cow Housing'!$C$6","v":"C-3333"},{"$f":"$B$73","v":0},{"$f":"$C$73","v":2},{"$f":"$D$73","v":57},7440473,null,{"$f":"'Livestock PM10 3'!AJ19","v":0},{"$f":"'Livestock PM10 3'!AK19","v":0}]
[{"$f":"'Cow Housing'!$C$6","v":"C-3333"},{"$f":"$B$73","v":0},{"$f":"$C$73","v":2},{"$f":"$D$73","v":57},7440508,null,{"$f":"'Livestock PM10 3'!AJ20","v":0},{"$f":"'Livestock PM10 3'!AK20","v":0}]
[{"$f":"'Cow Housing'!$C$6","v":"C-3333"},{"$f":"$B$73","v":0},{"$f":"$C$73","v":2},{"$f":"$D$73","v":57},7440622,null,{"$f":"'Livestock PM10 3'!AJ29","v":0},{"$f":"'Livestock PM10 3'!AK29","v":0}]
[{"$f":"'Cow Housing'!$C$6","v":"C-3333"},{"$f":"$B$73","v":0},{"$f":"$C$73","v":2},{"$f":"$D$73","v":57},7440666,null,{"$f":"'Livestock PM10 3'!AJ30","v":0},{"$f":"'Livestock PM10 3'!AK30","v":0}]
[{"$f":"'Cow Housing'!$C$6","v":"C-3333"},{"$f":"$B$73","v":0},{"$f":"$C$73","v":2},{"$f":"$D$73","v":57},7664417,null,{"$f":"'Livestock PM10 3'!AJ31","v":0},{"$f":"'Livestock PM10 3'!AK31","v":0}]
[{"$f":"'Cow Housing'!$C$6","v":"C-3333"},{"$f":"$B$73","v":0},{"$f":"$C$73","v":2},{"$f":"$D$73","v":57},7723140,null,{"$f":"'Livestock PM10 3'!AJ26","v":0},{"$f":"'Livestock PM10 3'!AK26","v":0}]
[{"$f":"'Cow Housing'!$C$6","v":"C-3333"},{"$f":"$B$73","v":0},{"$f":"$C$73","v":2},{"$f":"$D$73","v":57},7726956,null,{"$f":"'Livestock PM10 3'!AJ18","v":0},{"$f":"'Livestock PM10 3'!AK18","v":0}]
[{"$f":"'Cow Housing'!$C$6","v":"C-3333"},{"$f":"$B$73","v":0},{"$f":"$C$73","v":2},{"$f":"$D$73","v":57},7782492,null,{"$f":"'Livestock PM10 3'!AJ27","v":0},{"$f":"'Livestock PM10 3'!AK27","v":0}]
[{"$f":"'Cow Housing'!$C$6","v":"C-3333"},{"$f":"$B$73","v":0},{"$f":"$C$73","v":2},{"$f":"$D$73","v":57},18540299,null,{"$f":"'Livestock PM10 3'!AJ21","v":0},{"$f":"'Livestock PM10 3'!AK21","v":0}]
[{"$f":"'Cow Housing'!$C$6","v":"C-3333"},{"$f":"$B$74","v":0},{"$f":"$C$74","v":2},{"$f":"$D$74","v":58},9960,null,{"$f":"'Livestock PM10 3'!AL28","v":0},{"$f":"'Livestock PM10 3'!AM28","v":0}]
[{"$f":"'Cow Housing'!$C$6","v":"C-3333"},{"$f":"$B$74","v":0},{"$f":"$C$74","v":2},{"$f":"$D$74","v":58},50000,null,{"$f":"'Dairy Miscellaneous 3'!AL40","v":0},{"$f":"'Dairy Miscellaneous 3'!AM40","v":0}]
[{"$f":"'Cow Housing'!$C$6","v":"C-3333"},{"$f":"$B$74","v":0},{"$f":"$C$74","v":2},{"$f":"$D$74","v":58},56235,null,{"$f":"'Dairy Miscellaneous 3'!AL30","v":0},{"$f":"'Dairy Miscellaneous 3'!AM30","v":0}]
[{"$f":"'Cow Housing'!$C$6","v":"C-3333"},{"$f":"$B$74","v":0},{"$f":"$C$74","v":2},{"$f":"$D$74","v":58},67630,null,{"$f":"'Dairy Miscellaneous 3'!AL42","v":0},{"$f":"'Dairy Miscellaneous 3'!AM42","v":0}]
[{"$f":"'Cow Housing'!$C$6","v":"C-3333"},{"$f":"$B$74","v":0},{"$f":"$C$74","v":2},{"$f":"$D$74","v":58},67663,null,{"$f":"'Dairy Miscellaneous 3'!AL32","v":0},{"$f":"'Dairy Miscellaneous 3'!AM32","v":0}]
[{"$f":"'Cow Housing'!$C$6","v":"C-3333"},{"$f":"$B$74","v":0},{"$f":"$C$74","v":2},{"$f":"$D$74","v":58},71432,null,{"$f":"'Dairy Miscellaneous 3'!AL26","v":0},{"$f":"'Dairy Miscellaneous 3'!AM26","v":0}]
[{"$f":"'Cow Housing'!$C$6","v":"C-3333"},{"$f":"$B$74","v":0},{"$f":"$C$74","v":2},{"$f":"$D$74","v":58},74873,null,{"$f":"'Dairy Miscellaneous 3'!AL33","v":0},{"$f":"'Dairy Miscellaneous 3'!AM33","v":0}]
[{"$f":"'Cow Housing'!$C$6","v":"C-3333"},{"$f":"$B$74","v":0},{"$f":"$C$74","v":2},{"$f":"$D$74","v":58},75003,null,{"$f":"'Dairy Miscellaneous 3'!AL36","v":0},{"$f":"'Dairy Miscellaneous 3'!AM36","v":0}]
[{"$f":"'Cow Housing'!$C$6","v":"C-3333"},{"$f":"$B$74","v":0},{"$f":"$C$74","v":2},{"$f":"$D$74","v":58},75070,null,{"$f":"'Dairy Miscellaneous 3'!AL24","v":0},{"$f":"'Dairy Miscellaneous 3'!AM24","v":0}]
[{"$f":"'Cow Housing'!$C$6","v":"C-3333"},{"$f":"$B$74","v":0},{"$f":"$C$74","v":2},{"$f":"$D$74","v":58},75150,null,{"$f":"'Dairy Miscellaneous 3'!AL29","v":0},{"$f":"'Dairy Miscellaneous 3'!AM29","v":0}]
[{"$f":"'Cow Housing'!$C$6","v":"C-3333"},{"$f":"$B$74","v":0},{"$f":"$C$74","v":2},{"$f":"$D$74","v":58},75694,null,{"$f":"'Dairy Miscellaneous 3'!AL49","v":0},{"$f":"'Dairy Miscellaneous 3'!AM49","v":0}]
[{"$f":"'Cow Housing'!$C$6","v":"C-3333"},{"$f":"$B$74","v":0},{"$f":"$C$74","v":2},{"$f":"$D$74","v":58},78933,null,{"$f":"'Dairy Miscellaneous 3'!AL44","v":0},{"$f":"'Dairy Miscellaneous 3'!AM44","v":0}]
[{"$f":"'Cow Housing'!$C$6","v":"C-3333"},{"$f":"$B$74","v":0},{"$f":"$C$74","v":2},{"$f":"$D$74","v":58},79005,null,{"$f":"'Dairy Miscellaneous 3'!AL16","v":0},{"$f":"'Dairy Miscellaneous 3'!AM16","v":0}]
[{"$f":"'Cow Housing'!$C$6","v":"C-3333"},{"$f":"$B$74","v":0},{"$f":"$C$74","v":2},{"$f":"$D$74","v":58},79345,null,{"$f":"'Dairy Miscellaneous 3'!AL15","v":0},{"$f":"'Dairy Miscellaneous 3'!AM15","v":0}]
[{"$f":"'Cow Housing'!$C$6","v":"C-3333"},{"$f":"$B$74","v":0},{"$f":"$C$74","v":2},{"$f":"$D$74","v":58},95501,null,{"$f":"'Dairy Miscellaneous 3'!AL20","v":0},{"$f":"'Dairy Miscellaneous 3'!AM20","v":0}]
[{"$f":"'Cow Housing'!$C$6","v":"C-3333"},{"$f":"$B$74","v":0},{"$f":"$C$74","v":2},{"$f":"$D$74","v":58},96128,null,{"$f":"'Dairy Miscellaneous 3'!AL19","v":0},{"$f":"'Dairy Miscellaneous 3'!AM19","v":0}]
[{"$f":"'Cow Housing'!$C$6","v":"C-3333"},{"$f":"$B$74","v":0},{"$f":"$C$74","v":2},{"$f":"$D$74","v":58},96184,null,{"$f":"'Dairy Miscellaneous 3'!AL17","v":0},{"$f":"'Dairy Miscellaneous 3'!AM17","v":0}]
[{"$f":"'Cow Housing'!$C$6","v":"C-3333"},{"$f":"$B$74","v":0},{"$f":"$C$74","v":2},{"$f":"$D$74","v":58},98828,null,{"$f":"'Dairy Miscellaneous 3'!AL43","v":0},{"$f":"'Dairy Miscellaneous 3'!AM43","v":0}]
[{"$f":"'Cow Housing'!$C$6","v":"C-3333"},{"$f":"$B$74","v":0},{"$f":"$C$74","v":2},{"$f":"$D$74","v":58},100414,null,{"$f":"'Dairy Miscellaneous 3'!AL37","v":0},{"$f":"'Dairy Miscellaneous 3'!AM37","v":0}]
[{"$f":"'Cow Housing'!$C$6","v":"C-3333"},{"$f":"$B$74","v":0},{"$f":"$C$74","v":2},{"$f":"$D$74","v":58},100425,null,{"$f":"'Dairy Miscellaneous 3'!AL46","v":0},{"$f":"'Dairy Miscellaneous 3'!AM46","v":0}]
[{"$f":"'Cow Housing'!$C$6","v":"C-3333"},{"$f":"$B$74","v":0},{"$f":"$C$74","v":2},{"$f":"$D$74","v":58},100447,null,{"$f":"'Dairy Miscellaneous 3'!AL27","v":0},{"$f":"'Dairy Miscellaneous 3'!AM27","v":0}]
[{"$f":"'Cow Housing'!$C$6","v":"C-3333"},{"$f":"$B$74","v":0},{"$f":"$C$74","v":2},{"$f":"$D$74","v":58},106467,null,{"$f":"'Dairy Miscellaneous 3'!AL23","v":0},{"$f":"'Dairy Miscellaneous 3'!AM23","v":0}]
[{"$f":"'Cow Housing'!$C$6","v":"C-3333"},{"$f":"$B$74","v":0},{"$f":"$C$74","v":2},{"$f":"$D$74","v":58},106934,null,{"$f":"'Dairy Miscellaneous 3'!AL38","v":0},{"$f":"'Dairy Miscellaneous 3'!AM38","v":0}]
[{"$f":"'Cow Housing'!$C$6","v":"C-3333"},{"$f":"$B$74","v":0},{"$f":"$C$74","v":2},{"$f":"$D$74","v":58},107062,null,{"$f":"'Dairy Miscellaneous 3'!AL39","v":0},{"$f":"'Dairy Miscellaneous 3'!AM39","v":0}]
[{"$f":"'Cow Housing'!$C$6","v":"C-3333"},{"$f":"$B$74","v":0},{"$f":"$C$74","v":2},{"$f":"$D$74","v":58},107131,null,{"$f":"'Dairy Miscellaneous 3'!AL25","v":0},{"$f":"'Dairy Miscellaneous 3'!AM25","v":0}]
[{"$f":"'Cow Housing'!$C$6","v":"C-3333"},{"$f":"$B$74","v":0},{"$f":"$C$74","v":2},{"$f":"$D$74","v":58},108054,null,{"$f":"'Dairy Miscellaneous 3'!AL50","v":0},{"$f":"'Dairy Miscellaneous 3'!AM50","v":0}]
[{"$f":"'Cow Housing'!$C$6","v":"C-3333"},{"$f":"$B$74","v":0},{"$f":"$C$74","v":2},{"$f":"$D$74","v":58},108101,null,{"$f":"'Dairy Miscellaneous 3'!AL45","v":0},{"$f":"'Dairy Miscellaneous 3'!AM45","v":0}]
[{"$f":"'Cow Housing'!$C$6","v":"C-3333"},{"$f":"$B$74","v":0},{"$f":"$C$74","v":2},{"$f":"$D$74","v":58},108883,null,{"$f":"'Dairy Miscellaneous 3'!AL48","v":0},{"$f":"'Dairy Miscellaneous 3'!AM48","v":0}]
[{"$f":"'Cow Housing'!$C$6","v":"C-3333"},{"$f":"$B$74","v":0},{"$f":"$C$74","v":2},{"$f":"$D$74","v":58},108907,null,{"$f":"'Dairy Miscellaneous 3'!AL31","v":0},{"$f":"'Dairy Miscellaneous 3'!AM31","v":0}]
[{"$f":"'Cow Housing'!$C$6","v":"C-3333"},{"$f":"$B$74","v":0},{"$f":"$C$74","v":2},{"$f":"$D$74","v":58},110543,null,{"$f":"'Dairy Miscellaneous 3'!AL41","v":0},{"$f":"'Dairy Miscellaneous 3'!AM41","v":0}]
[{"$f":"'Cow Housing'!$C$6","v":"C-3333"},{"$f":"$B$74","v":0},{"$f":"$C$74","v":2},{"$f":"$D$74","v":58},110827,null,{"$f":"'Dairy Miscellaneous 3'!AL35","v":0},{"$f":"'Dairy Miscellaneous 3'!AM35","v":0}]
[{"$f":"'Cow Housing'!$C$6","v":"C-3333"},{"$f":"$B$74","v":0},{"$f":"$C$74","v":2},{"$f":"$D$74","v":58},120821,null,{"$f":"'Dairy Miscellaneous 3'!AL18","v":0},{"$f":"'Dairy Miscellaneous 3'!AM18","v":0}]
[{"$f":"'Cow Housing'!$C$6","v":"C-3333"},{"$f":"$B$74","v":0},{"$f":"$C$74","v":2},{"$f":"$D$74","v":58},123728,null,{"$f":"'Dairy Miscellaneous 3'!AL28","v":0},{"$f":"'Dairy Miscellaneous 3'!AM28","v":0}]
[{"$f":"'Cow Housing'!$C$6","v":"C-3333"},{"$f":"$B$74","v":0},{"$f":"$C$74","v":2},{"$f":"$D$74","v":58},123911,null,{"$f":"'Dairy Miscellaneous 3'!AL22","v":0},{"$f":"'Dairy Miscellaneous 3'!AM22","v":0}]
[{"$f":"'Cow Housing'!$C$6","v":"C-3333"},{"$f":"$B$74","v":0},{"$f":"$C$74","v":2},{"$f":"$D$74","v":58},541731,null,{"$f":"'Dairy Miscellaneous 3'!AL21","v":0},{"$f":"'Dairy Miscellaneous 3'!AM21","v":0}]
[{"$f":"'Cow Housing'!$C$6","v":"C-3333"},{"$f":"$B$74","v":0},{"$f":"$C$74","v":2},{"$f":"$D$74","v":58},764410,null,{"$f":"'Dairy Miscellaneous 3'!AL47","v":0},{"$f":"'Dairy Miscellaneous 3'!AM47","v":0}]
[{"$f":"'Cow Housing'!$C$6","v":"C-3333"},{"$f":"$B$74","v":0},{"$f":"$C$74","v":2},{"$f":"$D$74","v":58},1330207,null,{"$f":"'Dairy Miscellaneous 3'!AL51","v":0},{"$f":"'Dairy Miscellaneous 3'!AM51","v":0}]
[{"$f":"'Cow Housing'!$C$6","v":"C-3333"},{"$f":"$B$74","v":0},{"$f":"$C$74","v":2},{"$f":"$D$74","v":58},4170303,null,{"$f":"'Dairy Miscellaneous 3'!AL34","v":0},{"$f":"'Dairy Miscellaneous 3'!AM34","v":0}]
[{"$f":"'Cow Housing'!$C$6","v":"C-3333"},{"$f":"$B$74","v":0},{"$f":"$C$74","v":2},{"$f":"$D$74","v":58},7429905,null,{"$f":"'Livestock PM10 3'!AL14","v":0},{"$f":"'Livestock PM10 3'!AM14","v":0}]
[{"$f":"'Cow Housing'!$C$6","v":"C-3333"},{"$f":"$B$74","v":0},{"$f":"$C$74","v":2},{"$f":"$D$74","v":58},7439921,null,{"$f":"'Livestock PM10 3'!AL22","v":0},{"$f":"'Livestock PM10 3'!AM22","v":0}]
[{"$f":"'Cow Housing'!$C$6","v":"C-3333"},{"$f":"$B$74","v":0},{"$f":"$C$74","v":2},{"$f":"$D$74","v":58},7439965,null,{"$f":"'Livestock PM10 3'!AL23","v":0},{"$f":"'Livestock PM10 3'!AM23","v":0}]
[{"$f":"'Cow Housing'!$C$6","v":"C-3333"},{"$f":"$B$74","v":0},{"$f":"$C$74","v":2},{"$f":"$D$74","v":58},7439976,null,{"$f":"'Livestock PM10 3'!AL24","v":0},{"$f":"'Livestock PM10 3'!AM24","v":0}]
[{"$f":"'Cow Housing'!$C$6","v":"C-3333"},{"$f":"$B$74","v":0},{"$f":"$C$74","v":2},{"$f":"$D$74","v":58},7440020,null,{"$f":"'Livestock PM10 3'!AL25","v":0},{"$f":"'Livestock PM10 3'!AM25","v":0}]
[{"$f":"'Cow Housing'!$C$6","v":"C-3333"},{"$f":"$B$74","v":0},{"$f":"$C$74","v":2},{"$f":"$D$74","v":58},7440360,null,{"$f":"'Livestock PM10 3'!AL15","v":0},{"$f":"'Livestock PM10 3'!AM15","v":0}]
[{"$f":"'Cow Housing'!$C$6","v":"C-3333"},{"$f":"$B$74","v":0},{"$f":"$C$74","v":2},{"$f":"$D$74","v":58},7440382,null,{"$f":"'Livestock PM10 3'!AL16","v":0},{"$f":"'Livestock PM10 3'!AM16","v":0}]
[{"$f":"'Cow Housing'!$C$6","v":"C-3333"},{"$f":"$B$74","v":0},{"$f":"$C$74","v":2},{"$f":"$D$74","v":58},7440393,null,{"$f":"'Livestock PM10 3'!AL17","v":0},{"$f":"'Livestock PM10 3'!AM17","v":0}]
[{"$f":"'Cow Housing'!$C$6","v":"C-3333"},{"$f":"$B$74","v":0},{"$f":"$C$74","v":2},{"$f":"$D$74","v":58},7440473,null,{"$f":"'Livestock PM10 3'!AL19","v":0},{"$f":"'Livestock PM10 3'!AM19","v":0}]
[{"$f":"'Cow Housing'!$C$6","v":"C-3333"},{"$f":"$B$74","v":0},{"$f":"$C$74","v":2},{"$f":"$D$74","v":58},7440508,null,{"$f":"'Livestock PM10 3'!AL20","v":0},{"$f":"'Livestock PM10 3'!AM20","v":0}]
[{"$f":"'Cow Housing'!$C$6","v":"C-3333"},{"$f":"$B$74","v":0},{"$f":"$C$74","v":2},{"$f":"$D$74","v":58},7440622,null,{"$f":"'Livestock PM10 3'!AL29","v":0},{"$f":"'Livestock PM10 3'!AM29","v":0}]
[{"$f":"'Cow Housing'!$C$6","v":"C-3333"},{"$f":"$B$74","v":0},{"$f":"$C$74","v":2},{"$f":"$D$74","v":58},7440666,null,{"$f":"'Livestock PM10 3'!AL30","v":0},{"$f":"'Livestock PM10 3'!AM30","v":0}]
[{"$f":"'Cow Housing'!$C$6","v":"C-3333"},{"$f":"$B$74","v":0},{"$f":"$C$74","v":2},{"$f":"$D$74","v":58},7664417,null,{"$f":"'Livestock PM10 3'!AL31","v":0},{"$f":"'Livestock PM10 3'!AM31","v":0}]
[{"$f":"'Cow Housing'!$C$6","v":"C-3333"},{"$f":"$B$74","v":0},{"$f":"$C$74","v":2},{"$f":"$D$74","v":58},7723140,null,{"$f":"'Livestock PM10 3'!AL26","v":0},{"$f":"'Livestock PM10 3'!AM26","v":0}]
[{"$f":"'Cow Housing'!$C$6","v":"C-3333"},{"$f":"$B$74","v":0},{"$f":"$C$74","v":2},{"$f":"$D$74","v":58},7726956,null,{"$f":"'Livestock PM10 3'!AL18","v":0},{"$f":"'Livestock PM10 3'!AM18","v":0}]
[{"$f":"'Cow Housing'!$C$6","v":"C-3333"},{"$f":"$B$74","v":0},{"$f":"$C$74","v":2},{"$f":"$D$74","v":58},7782492,null,{"$f":"'Livestock PM10 3'!AL27","v":0},{"$f":"'Livestock PM10 3'!AM27","v":0}]
[{"$f":"'Cow Housing'!$C$6","v":"C-3333"},{"$f":"$B$74","v":0},{"$f":"$C$74","v":2},{"$f":"$D$74","v":58},18540299,null,{"$f":"'Livestock PM10 3'!AL21","v":0},{"$f":"'Livestock PM10 3'!AM21","v":0}]
[{"$f":"'Cow Housing'!$C$6","v":"C-3333"},{"$f":"$B$75","v":0},{"$f":"$C$75","v":2},{"$f":"$D$75","v":59},9960,null,{"$f":"'Livestock PM10 3'!AN28","v":0},{"$f":"'Livestock PM10 3'!AO28","v":0}]
[{"$f":"'Cow Housing'!$C$6","v":"C-3333"},{"$f":"$B$75","v":0},{"$f":"$C$75","v":2},{"$f":"$D$75","v":59},50000,null,{"$f":"'Dairy Miscellaneous 3'!AN40","v":0},{"$f":"'Dairy Miscellaneous 3'!AO40","v":0}]
[{"$f":"'Cow Housing'!$C$6","v":"C-3333"},{"$f":"$B$75","v":0},{"$f":"$C$75","v":2},{"$f":"$D$75","v":59},56235,null,{"$f":"'Dairy Miscellaneous 3'!AN30","v":0},{"$f":"'Dairy Miscellaneous 3'!AO30","v":0}]
[{"$f":"'Cow Housing'!$C$6","v":"C-3333"},{"$f":"$B$75","v":0},{"$f":"$C$75","v":2},{"$f":"$D$75","v":59},67630,null,{"$f":"'Dairy Miscellaneous 3'!AN42","v":0},{"$f":"'Dairy Miscellaneous 3'!AO42","v":0}]
[{"$f":"'Cow Housing'!$C$6","v":"C-3333"},{"$f":"$B$75","v":0},{"$f":"$C$75","v":2},{"$f":"$D$75","v":59},67663,null,{"$f":"'Dairy Miscellaneous 3'!AN32","v":0},{"$f":"'Dairy Miscellaneous 3'!AO32","v":0}]
[{"$f":"'Cow Housing'!$C$6","v":"C-3333"},{"$f":"$B$75","v":0},{"$f":"$C$75","v":2},{"$f":"$D$75","v":59},71432,null,{"$f":"'Dairy Miscellaneous 3'!AN26","v":0},{"$f":"'Dairy Miscellaneous 3'!AO26","v":0}]
[{"$f":"'Cow Housing'!$C$6","v":"C-3333"},{"$f":"$B$75","v":0},{"$f":"$C$75","v":2},{"$f":"$D$75","v":59},74873,null,{"$f":"'Dairy Miscellaneous 3'!AN33","v":0},{"$f":"'Dairy Miscellaneous 3'!AO33","v":0}]
[{"$f":"'Cow Housing'!$C$6","v":"C-3333"},{"$f":"$B$75","v":0},{"$f":"$C$75","v":2},{"$f":"$D$75","v":59},75003,null,{"$f":"'Dairy Miscellaneous 3'!AN36","v":0},{"$f":"'Dairy Miscellaneous 3'!AO36","v":0}]
[{"$f":"'Cow Housing'!$C$6","v":"C-3333"},{"$f":"$B$75","v":0},{"$f":"$C$75","v":2},{"$f":"$D$75","v":59},75070,null,{"$f":"'Dairy Miscellaneous 3'!AN24","v":0},{"$f":"'Dairy Miscellaneous 3'!AO24","v":0}]
[{"$f":"'Cow Housing'!$C$6","v":"C-3333"},{"$f":"$B$75","v":0},{"$f":"$C$75","v":2},{"$f":"$D$75","v":59},75150,null,{"$f":"'Dairy Miscellaneous 3'!AN29","v":0},{"$f":"'Dairy Miscellaneous 3'!AO29","v":0}]
[{"$f":"'Cow Housing'!$C$6","v":"C-3333"},{"$f":"$B$75","v":0},{"$f":"$C$75","v":2},{"$f":"$D$75","v":59},75694,null,{"$f":"'Dairy Miscellaneous 3'!AN49","v":0},{"$f":"'Dairy Miscellaneous 3'!AO49","v":0}]
[{"$f":"'Cow Housing'!$C$6","v":"C-3333"},{"$f":"$B$75","v":0},{"$f":"$C$75","v":2},{"$f":"$D$75","v":59},78933,null,{"$f":"'Dairy Miscellaneous 3'!AN44","v":0},{"$f":"'Dairy Miscellaneous 3'!AO44","v":0}]
[{"$f":"'Cow Housing'!$C$6","v":"C-3333"},{"$f":"$B$75","v":0},{"$f":"$C$75","v":2},{"$f":"$D$75","v":59},79005,null,{"$f":"'Dairy Miscellaneous 3'!AN16","v":0},{"$f":"'Dairy Miscellaneous 3'!AO16","v":0}]
[{"$f":"'Cow Housing'!$C$6","v":"C-3333"},{"$f":"$B$75","v":0},{"$f":"$C$75","v":2},{"$f":"$D$75","v":59},79345,null,{"$f":"'Dairy Miscellaneous 3'!AN15","v":0},{"$f":"'Dairy Miscellaneous 3'!AO15","v":0}]
[{"$f":"'Cow Housing'!$C$6","v":"C-3333"},{"$f":"$B$75","v":0},{"$f":"$C$75","v":2},{"$f":"$D$75","v":59},95501,null,{"$f":"'Dairy Miscellaneous 3'!AN20","v":0},{"$f":"'Dairy Miscellaneous 3'!AO20","v":0}]
[{"$f":"'Cow Housing'!$C$6","v":"C-3333"},{"$f":"$B$75","v":0},{"$f":"$C$75","v":2},{"$f":"$D$75","v":59},96128,null,{"$f":"'Dairy Miscellaneous 3'!AN19","v":0},{"$f":"'Dairy Miscellaneous 3'!AO19","v":0}]
[{"$f":"'Cow Housing'!$C$6","v":"C-3333"},{"$f":"$B$75","v":0},{"$f":"$C$75","v":2},{"$f":"$D$75","v":59},96184,null,{"$f":"'Dairy Miscellaneous 3'!AN17","v":0},{"$f":"'Dairy Miscellaneous 3'!AO17","v":0}]
[{"$f":"'Cow Housing'!$C$6","v":"C-3333"},{"$f":"$B$75","v":0},{"$f":"$C$75","v":2},{"$f":"$D$75","v":59},98828,null,{"$f":"'Dairy Miscellaneous 3'!AN43","v":0},{"$f":"'Dairy Miscellaneous 3'!AO43","v":0}]
[{"$f":"'Cow Housing'!$C$6","v":"C-3333"},{"$f":"$B$75","v":0},{"$f":"$C$75","v":2},{"$f":"$D$75","v":59},100414,null,{"$f":"'Dairy Miscellaneous 3'!AN37","v":0},{"$f":"'Dairy Miscellaneous 3'!AO37","v":0}]
[{"$f":"'Cow Housing'!$C$6","v":"C-3333"},{"$f":"$B$75","v":0},{"$f":"$C$75","v":2},{"$f":"$D$75","v":59},100425,null,{"$f":"'Dairy Miscellaneous 3'!AN46","v":0},{"$f":"'Dairy Miscellaneous 3'!AO46","v":0}]
[{"$f":"'Cow Housing'!$C$6","v":"C-3333"},{"$f":"$B$75","v":0},{"$f":"$C$75","v":2},{"$f":"$D$75","v":59},100447,null,{"$f":"'Dairy Miscellaneous 3'!AN27","v":0},{"$f":"'Dairy Miscellaneous 3'!AO27","v":0}]
[{"$f":"'Cow Housing'!$C$6","v":"C-3333"},{"$f":"$B$75","v":0},{"$f":"$C$75","v":2},{"$f":"$D$75","v":59},106467,null,{"$f":"'Dairy Miscellaneous 3'!AN23","v":0},{"$f":"'Dairy Miscellaneous 3'!AO23","v":0}]
[{"$f":"'Cow Housing'!$C$6","v":"C-3333"},{"$f":"$B$75","v":0},{"$f":"$C$75","v":2},{"$f":"$D$75","v":59},106934,null,{"$f":"'Dairy Miscellaneous 3'!AN38","v":0},{"$f":"'Dairy Miscellaneous 3'!AO38","v":0}]
[{"$f":"'Cow Housing'!$C$6","v":"C-3333"},{"$f":"$B$75","v":0},{"$f":"$C$75","v":2},{"$f":"$D$75","v":59},107062,null,{"$f":"'Dairy Miscellaneous 3'!AN39","v":0},{"$f":"'Dairy Miscellaneous 3'!AO39","v":0}]
[{"$f":"'Cow Housing'!$C$6","v":"C-3333"},{"$f":"$B$75","v":0},{"$f":"$C$75","v":2},{"$f":"$D$75","v":59},107131,null,{"$f":"'Dairy Miscellaneous 3'!AN25","v":0},{"$f":"'Dairy Miscellaneous 3'!AO25","v":0}]
[{"$f":"'Cow Housing'!$C$6","v":"C-3333"},{"$f":"$B$75","v":0},{"$f":"$C$75","v":2},{"$f":"$D$75","v":59},108054,null,{"$f":"'Dairy Miscellaneous 3'!AN50","v":0},{"$f":"'Dairy Miscellaneous 3'!AO50","v":0}]
[{"$f":"'Cow Housing'!$C$6","v":"C-3333"},{"$f":"$B$75","v":0},{"$f":"$C$75","v":2},{"$f":"$D$75","v":59},108101,null,{"$f":"'Dairy Miscellaneous 3'!AN45","v":0},{"$f":"'Dairy Miscellaneous 3'!AO45","v":0}]
[{"$f":"'Cow Housing'!$C$6","v":"C-3333"},{"$f":"$B$75","v":0},{"$f":"$C$75","v":2},{"$f":"$D$75","v":59},108883,null,{"$f":"'Dairy Miscellaneous 3'!AN48","v":0},{"$f":"'Dairy Miscellaneous 3'!AO48","v":0}]
[{"$f":"'Cow Housing'!$C$6","v":"C-3333"},{"$f":"$B$75","v":0},{"$f":"$C$75","v":2},{"$f":"$D$75","v":59},108907,null,{"$f":"'Dairy Miscellaneous 3'!AN31","v":0},{"$f":"'Dairy Miscellaneous 3'!AO31","v":0}]
[{"$f":"'Cow Housing'!$C$6","v":"C-3333"},{"$f":"$B$75","v":0},{"$f":"$C$75","v":2},{"$f":"$D$75","v":59},110543,null,{"$f":"'Dairy Miscellaneous 3'!AN41","v":0},{"$f":"'Dairy Miscellaneous 3'!AO41","v":0}]
[{"$f":"'Cow Housing'!$C$6","v":"C-3333"},{"$f":"$B$75","v":0},{"$f":"$C$75","v":2},{"$f":"$D$75","v":59},110827,null,{"$f":"'Dairy Miscellaneous 3'!AN35","v":0},{"$f":"'Dairy Miscellaneous 3'!AO35","v":0}]
[{"$f":"'Cow Housing'!$C$6","v":"C-3333"},{"$f":"$B$75","v":0},{"$f":"$C$75","v":2},{"$f":"$D$75","v":59},120821,null,{"$f":"'Dairy Miscellaneous 3'!AN18","v":0},{"$f":"'Dairy Miscellaneous 3'!AO18","v":0}]
[{"$f":"'Cow Housing'!$C$6","v":"C-3333"},{"$f":"$B$75","v":0},{"$f":"$C$75","v":2},{"$f":"$D$75","v":59},123728,null,{"$f":"'Dairy Miscellaneous 3'!AN28","v":0},{"$f":"'Dairy Miscellaneous 3'!AO28","v":0}]
[{"$f":"'Cow Housing'!$C$6","v":"C-3333"},{"$f":"$B$75","v":0},{"$f":"$C$75","v":2},{"$f":"$D$75","v":59},123911,null,{"$f":"'Dairy Miscellaneous 3'!AN22","v":0},{"$f":"'Dairy Miscellaneous 3'!AO22","v":0}]
[{"$f":"'Cow Housing'!$C$6","v":"C-3333"},{"$f":"$B$75","v":0},{"$f":"$C$75","v":2},{"$f":"$D$75","v":59},541731,null,{"$f":"'Dairy Miscellaneous 3'!AN21","v":0},{"$f":"'Dairy Miscellaneous 3'!AO21","v":0}]
[{"$f":"'Cow Housing'!$C$6","v":"C-3333"},{"$f":"$B$75","v":0},{"$f":"$C$75","v":2},{"$f":"$D$75","v":59},764410,null,{"$f":"'Dairy Miscellaneous 3'!AN47","v":0},{"$f":"'Dairy Miscellaneous 3'!AO47","v":0}]
[{"$f":"'Cow Housing'!$C$6","v":"C-3333"},{"$f":"$B$75","v":0},{"$f":"$C$75","v":2},{"$f":"$D$75","v":59},1330207,null,{"$f":"'Dairy Miscellaneous 3'!AN51","v":0},{"$f":"'Dairy Miscellaneous 3'!AO51","v":0}]
[{"$f":"'Cow Housing'!$C$6","v":"C-3333"},{"$f":"$B$75","v":0},{"$f":"$C$75","v":2},{"$f":"$D$75","v":59},4170303,null,{"$f":"'Dairy Miscellaneous 3'!AN34","v":0},{"$f":"'Dairy Miscellaneous 3'!AO34","v":0}]
[{"$f":"'Cow Housing'!$C$6","v":"C-3333"},{"$f":"$B$75","v":0},{"$f":"$C$75","v":2},{"$f":"$D$75","v":59},7429905,null,{"$f":"'Livestock PM10 3'!AN14","v":0},{"$f":"'Livestock PM10 3'!AO14","v":0}]
[{"$f":"'Cow Housing'!$C$6","v":"C-3333"},{"$f":"$B$75","v":0},{"$f":"$C$75","v":2},{"$f":"$D$75","v":59},7439921,null,{"$f":"'Livestock PM10 3'!AN22","v":0},{"$f":"'Livestock PM10 3'!AO22","v":0}]
[{"$f":"'Cow Housing'!$C$6","v":"C-3333"},{"$f":"$B$75","v":0},{"$f":"$C$75","v":2},{"$f":"$D$75","v":59},7439965,null,{"$f":"'Livestock PM10 3'!AN23","v":0},{"$f":"'Livestock PM10 3'!AO23","v":0}]
[{"$f":"'Cow Housing'!$C$6","v":"C-3333"},{"$f":"$B$75","v":0},{"$f":"$C$75","v":2},{"$f":"$D$75","v":59},7439976,null,{"$f":"'Livestock PM10 3'!AN24","v":0},{"$f":"'Livestock PM10 3'!AO24","v":0}]
[{"$f":"'Cow Housing'!$C$6","v":"C-3333"},{"$f":"$B$75","v":0},{"$f":"$C$75","v":2},{"$f":"$D$75","v":59},7440020,null,{"$f":"'Livestock PM10 3'!AN25","v":0},{"$f":"'Livestock PM10 3'!AO25","v":0}]
[{"$f":"'Cow Housing'!$C$6","v":"C-3333"},{"$f":"$B$75","v":0},{"$f":"$C$75","v":2},{"$f":"$D$75","v":59},7440360,null,{"$f":"'Livestock PM10 3'!AN15","v":0},{"$f":"'Livestock PM10 3'!AO15","v":0}]
[{"$f":"'Cow Housing'!$C$6","v":"C-3333"},{"$f":"$B$75","v":0},{"$f":"$C$75","v":2},{"$f":"$D$75","v":59},7440382,null,{"$f":"'Livestock PM10 3'!AN16","v":0},{"$f":"'Livestock PM10 3'!AO16","v":0}]
[{"$f":"'Cow Housing'!$C$6","v":"C-3333"},{"$f":"$B$75","v":0},{"$f":"$C$75","v":2},{"$f":"$D$75","v":59},7440393,null,{"$f":"'Livestock PM10 3'!AN17","v":0},{"$f":"'Livestock PM10 3'!AO17","v":0}]
[{"$f":"'Cow Housing'!$C$6","v":"C-3333"},{"$f":"$B$75","v":0},{"$f":"$C$75","v":2},{"$f":"$D$75","v":59},7440473,null,{"$f":"'Livestock PM10 3'!AN19","v":0},{"$f":"'Livestock PM10 3'!AO19","v":0}]
[{"$f":"'Cow Housing'!$C$6","v":"C-3333"},{"$f":"$B$75","v":0},{"$f":"$C$75","v":2},{"$f":"$D$75","v":59},7440508,null,{"$f":"'Livestock PM10 3'!AN20","v":0},{"$f":"'Livestock PM10 3'!AO20","v":0}]
[{"$f":"'Cow Housing'!$C$6","v":"C-3333"},{"$f":"$B$75","v":0},{"$f":"$C$75","v":2},{"$f":"$D$75","v":59},7440622,null,{"$f":"'Livestock PM10 3'!AN29","v":0},{"$f":"'Livestock PM10 3'!AO29","v":0}]
[{"$f":"'Cow Housing'!$C$6","v":"C-3333"},{"$f":"$B$75","v":0},{"$f":"$C$75","v":2},{"$f":"$D$75","v":59},7440666,null,{"$f":"'Livestock PM10 3'!AN30","v":0},{"$f":"'Livestock PM10 3'!AO30","v":0}]
[{"$f":"'Cow Housing'!$C$6","v":"C-3333"},{"$f":"$B$75","v":0},{"$f":"$C$75","v":2},{"$f":"$D$75","v":59},7664417,null,{"$f":"'Livestock PM10 3'!AN31","v":0},{"$f":"'Livestock PM10 3'!AO31","v":0}]
[{"$f":"'Cow Housing'!$C$6","v":"C-3333"},{"$f":"$B$75","v":0},{"$f":"$C$75","v":2},{"$f":"$D$75","v":59},7723140,null,{"$f":"'Livestock PM10 3'!AN26","v":0},{"$f":"'Livestock PM10 3'!AO26","v":0}]
[{"$f":"'Cow Housing'!$C$6","v":"C-3333"},{"$f":"$B$75","v":0},{"$f":"$C$75","v":2},{"$f":"$D$75","v":59},7726956,null,{"$f":"'Livestock PM10 3'!AN18","v":0},{"$f":"'Livestock PM10 3'!AO18","v":0}]
[{"$f":"'Cow Housing'!$C$6","v":"C-3333"},{"$f":"$B$75","v":0},{"$f":"$C$75","v":2},{"$f":"$D$75","v":59},7782492,null,{"$f":"'Livestock PM10 3'!AN27","v":0},{"$f":"'Livestock PM10 3'!AO27","v":0}]
[{"$f":"'Cow Housing'!$C$6","v":"C-3333"},{"$f":"$B$75","v":0},{"$f":"$C$75","v":2},{"$f":"$D$75","v":59},18540299,null,{"$f":"'Livestock PM10 3'!AN21","v":0},{"$f":"'Livestock PM10 3'!AO21","v":0}]
[{"$f":"'Cow Housing'!$C$6","v":"C-3333"},{"$f":"$B$76","v":0},{"$f":"$C$76","v":2},{"$f":"$D$76","v":60},9960,null,{"$f":"'Livestock PM10 3'!AP28","v":0},{"$f":"'Livestock PM10 3'!AQ28","v":0}]
[{"$f":"'Cow Housing'!$C$6","v":"C-3333"},{"$f":"$B$76","v":0},{"$f":"$C$76","v":2},{"$f":"$D$76","v":60},50000,null,{"$f":"'Dairy Miscellaneous 3'!AP40","v":0},{"$f":"'Dairy Miscellaneous 3'!AQ40","v":0}]
[{"$f":"'Cow Housing'!$C$6","v":"C-3333"},{"$f":"$B$76","v":0},{"$f":"$C$76","v":2},{"$f":"$D$76","v":60},56235,null,{"$f":"'Dairy Miscellaneous 3'!AP30","v":0},{"$f":"'Dairy Miscellaneous 3'!AQ30","v":0}]
[{"$f":"'Cow Housing'!$C$6","v":"C-3333"},{"$f":"$B$76","v":0},{"$f":"$C$76","v":2},{"$f":"$D$76","v":60},67630,null,{"$f":"'Dairy Miscellaneous 3'!AP42","v":0},{"$f":"'Dairy Miscellaneous 3'!AQ42","v":0}]
[{"$f":"'Cow Housing'!$C$6","v":"C-3333"},{"$f":"$B$76","v":0},{"$f":"$C$76","v":2},{"$f":"$D$76","v":60},67663,null,{"$f":"'Dairy Miscellaneous 3'!AP32","v":0},{"$f":"'Dairy Miscellaneous 3'!AQ32","v":0}]
[{"$f":"'Cow Housing'!$C$6","v":"C-3333"},{"$f":"$B$76","v":0},{"$f":"$C$76","v":2},{"$f":"$D$76","v":60},71432,null,{"$f":"'Dairy Miscellaneous 3'!AP26","v":0},{"$f":"'Dairy Miscellaneous 3'!AQ26","v":0}]
[{"$f":"'Cow Housing'!$C$6","v":"C-3333"},{"$f":"$B$76","v":0},{"$f":"$C$76","v":2},{"$f":"$D$76","v":60},74873,null,{"$f":"'Dairy Miscellaneous 3'!AP33","v":0},{"$f":"'Dairy Miscellaneous 3'!AQ33","v":0}]
[{"$f":"'Cow Housing'!$C$6","v":"C-3333"},{"$f":"$B$76","v":0},{"$f":"$C$76","v":2},{"$f":"$D$76","v":60},75003,null,{"$f":"'Dairy Miscellaneous 3'!AP36","v":0},{"$f":"'Dairy Miscellaneous 3'!AQ36","v":0}]
[{"$f":"'Cow Housing'!$C$6","v":"C-3333"},{"$f":"$B$76","v":0},{"$f":"$C$76","v":2},{"$f":"$D$76","v":60},75070,null,{"$f":"'Dairy Miscellaneous 3'!AP24","v":0},{"$f":"'Dairy Miscellaneous 3'!AQ24","v":0}]
[{"$f":"'Cow Housing'!$C$6","v":"C-3333"},{"$f":"$B$76","v":0},{"$f":"$C$76","v":2},{"$f":"$D$76","v":60},75150,null,{"$f":"'Dairy Miscellaneous 3'!AP29","v":0},{"$f":"'Dairy Miscellaneous 3'!AQ29","v":0}]
[{"$f":"'Cow Housing'!$C$6","v":"C-3333"},{"$f":"$B$76","v":0},{"$f":"$C$76","v":2},{"$f":"$D$76","v":60},75694,null,{"$f":"'Dairy Miscellaneous 3'!AP49","v":0},{"$f":"'Dairy Miscellaneous 3'!AQ49","v":0}]
[{"$f":"'Cow Housing'!$C$6","v":"C-3333"},{"$f":"$B$76","v":0},{"$f":"$C$76","v":2},{"$f":"$D$76","v":60},78933,null,{"$f":"'Dairy Miscellaneous 3'!AP44","v":0},{"$f":"'Dairy Miscellaneous 3'!AQ44","v":0}]
[{"$f":"'Cow Housing'!$C$6","v":"C-3333"},{"$f":"$B$76","v":0},{"$f":"$C$76","v":2},{"$f":"$D$76","v":60},79005,null,{"$f":"'Dairy Miscellaneous 3'!AP16","v":0},{"$f":"'Dairy Miscellaneous 3'!AQ16","v":0}]
[{"$f":"'Cow Housing'!$C$6","v":"C-3333"},{"$f":"$B$76","v":0},{"$f":"$C$76","v":2},{"$f":"$D$76","v":60},79345,null,{"$f":"'Dairy Miscellaneous 3'!AP15","v":0},{"$f":"'Dairy Miscellaneous 3'!AQ15","v":0}]
[{"$f":"'Cow Housing'!$C$6","v":"C-3333"},{"$f":"$B$76","v":0},{"$f":"$C$76","v":2},{"$f":"$D$76","v":60},95501,null,{"$f":"'Dairy Miscellaneous 3'!AP20","v":0},{"$f":"'Dairy Miscellaneous 3'!AQ20","v":0}]
[{"$f":"'Cow Housing'!$C$6","v":"C-3333"},{"$f":"$B$76","v":0},{"$f":"$C$76","v":2},{"$f":"$D$76","v":60},96128,null,{"$f":"'Dairy Miscellaneous 3'!AP19","v":0},{"$f":"'Dairy Miscellaneous 3'!AQ19","v":0}]
[{"$f":"'Cow Housing'!$C$6","v":"C-3333"},{"$f":"$B$76","v":0},{"$f":"$C$76","v":2},{"$f":"$D$76","v":60},96184,null,{"$f":"'Dairy Miscellaneous 3'!AP17","v":0},{"$f":"'Dairy Miscellaneous 3'!AQ17","v":0}]
[{"$f":"'Cow Housing'!$C$6","v":"C-3333"},{"$f":"$B$76","v":0},{"$f":"$C$76","v":2},{"$f":"$D$76","v":60},98828,null,{"$f":"'Dairy Miscellaneous 3'!AP43","v":0},{"$f":"'Dairy Miscellaneous 3'!AQ43","v":0}]
[{"$f":"'Cow Housing'!$C$6","v":"C-3333"},{"$f":"$B$76","v":0},{"$f":"$C$76","v":2},{"$f":"$D$76","v":60},100414,null,{"$f":"'Dairy Miscellaneous 3'!AP37","v":0},{"$f":"'Dairy Miscellaneous 3'!AQ37","v":0}]
[{"$f":"'Cow Housing'!$C$6","v":"C-3333"},{"$f":"$B$76","v":0},{"$f":"$C$76","v":2},{"$f":"$D$76","v":60},100425,null,{"$f":"'Dairy Miscellaneous 3'!AP46","v":0},{"$f":"'Dairy Miscellaneous 3'!AQ46","v":0}]
[{"$f":"'Cow Housing'!$C$6","v":"C-3333"},{"$f":"$B$76","v":0},{"$f":"$C$76","v":2},{"$f":"$D$76","v":60},100447,null,{"$f":"'Dairy Miscellaneous 3'!AP27","v":0},{"$f":"'Dairy Miscellaneous 3'!AQ27","v":0}]
[{"$f":"'Cow Housing'!$C$6","v":"C-3333"},{"$f":"$B$76","v":0},{"$f":"$C$76","v":2},{"$f":"$D$76","v":60},106467,null,{"$f":"'Dairy Miscellaneous 3'!AP23","v":0},{"$f":"'Dairy Miscellaneous 3'!AQ23","v":0}]
[{"$f":"'Cow Housing'!$C$6","v":"C-3333"},{"$f":"$B$76","v":0},{"$f":"$C$76","v":2},{"$f":"$D$76","v":60},106934,null,{"$f":"'Dairy Miscellaneous 3'!AP38","v":0},{"$f":"'Dairy Miscellaneous 3'!AQ38","v":0}]
[{"$f":"'Cow Housing'!$C$6","v":"C-3333"},{"$f":"$B$76","v":0},{"$f":"$C$76","v":2},{"$f":"$D$76","v":60},107062,null,{"$f":"'Dairy Miscellaneous 3'!AP39","v":0},{"$f":"'Dairy Miscellaneous 3'!AQ39","v":0}]
[{"$f":"'Cow Housing'!$C$6","v":"C-3333"},{"$f":"$B$76","v":0},{"$f":"$C$76","v":2},{"$f":"$D$76","v":60},107131,null,{"$f":"'Dairy Miscellaneous 3'!AP25","v":0},{"$f":"'Dairy Miscellaneous 3'!AQ25","v":0}]
[{"$f":"'Cow Housing'!$C$6","v":"C-3333"},{"$f":"$B$76","v":0},{"$f":"$C$76","v":2},{"$f":"$D$76","v":60},108054,null,{"$f":"'Dairy Miscellaneous 3'!AP50","v":0},{"$f":"'Dairy Miscellaneous 3'!AQ50","v":0}]
[{"$f":"'Cow Housing'!$C$6","v":"C-3333"},{"$f":"$B$76","v":0},{"$f":"$C$76","v":2},{"$f":"$D$76","v":60},108101,null,{"$f":"'Dairy Miscellaneous 3'!AP45","v":0},{"$f":"'Dairy Miscellaneous 3'!AQ45","v":0}]
[{"$f":"'Cow Housing'!$C$6","v":"C-3333"},{"$f":"$B$76","v":0},{"$f":"$C$76","v":2},{"$f":"$D$76","v":60},108883,null,{"$f":"'Dairy Miscellaneous 3'!AP48","v":0},{"$f":"'Dairy Miscellaneous 3'!AQ48","v":0}]
[{"$f":"'Cow Housing'!$C$6","v":"C-3333"},{"$f":"$B$76","v":0},{"$f":"$C$76","v":2},{"$f":"$D$76","v":60},108907,null,{"$f":"'Dairy Miscellaneous 3'!AP31","v":0},{"$f":"'Dairy Miscellaneous 3'!AQ31","v":0}]
[{"$f":"'Cow Housing'!$C$6","v":"C-3333"},{"$f":"$B$76","v":0},{"$f":"$C$76","v":2},{"$f":"$D$76","v":60},110543,null,{"$f":"'Dairy Miscellaneous 3'!AP41","v":0},{"$f":"'Dairy Miscellaneous 3'!AQ41","v":0}]
[{"$f":"'Cow Housing'!$C$6","v":"C-3333"},{"$f":"$B$76","v":0},{"$f":"$C$76","v":2},{"$f":"$D$76","v":60},110827,null,{"$f":"'Dairy Miscellaneous 3'!AP35","v":0},{"$f":"'Dairy Miscellaneous 3'!AQ35","v":0}]
[{"$f":"'Cow Housing'!$C$6","v":"C-3333"},{"$f":"$B$76","v":0},{"$f":"$C$76","v":2},{"$f":"$D$76","v":60},120821,null,{"$f":"'Dairy Miscellaneous 3'!AP18","v":0},{"$f":"'Dairy Miscellaneous 3'!AQ18","v":0}]
[{"$f":"'Cow Housing'!$C$6","v":"C-3333"},{"$f":"$B$76","v":0},{"$f":"$C$76","v":2},{"$f":"$D$76","v":60},123728,null,{"$f":"'Dairy Miscellaneous 3'!AP28","v":0},{"$f":"'Dairy Miscellaneous 3'!AQ28","v":0}]
[{"$f":"'Cow Housing'!$C$6","v":"C-3333"},{"$f":"$B$76","v":0},{"$f":"$C$76","v":2},{"$f":"$D$76","v":60},123911,null,{"$f":"'Dairy Miscellaneous 3'!AP22","v":0},{"$f":"'Dairy Miscellaneous 3'!AQ22","v":0}]
[{"$f":"'Cow Housing'!$C$6","v":"C-3333"},{"$f":"$B$76","v":0},{"$f":"$C$76","v":2},{"$f":"$D$76","v":60},541731,null,{"$f":"'Dairy Miscellaneous 3'!AP21","v":0},{"$f":"'Dairy Miscellaneous 3'!AQ21","v":0}]
[{"$f":"'Cow Housing'!$C$6","v":"C-3333"},{"$f":"$B$76","v":0},{"$f":"$C$76","v":2},{"$f":"$D$76","v":60},764410,null,{"$f":"'Dairy Miscellaneous 3'!AP47","v":0},{"$f":"'Dairy Miscellaneous 3'!AQ47","v":0}]
[{"$f":"'Cow Housing'!$C$6","v":"C-3333"},{"$f":"$B$76","v":0},{"$f":"$C$76","v":2},{"$f":"$D$76","v":60},1330207,null,{"$f":"'Dairy Miscellaneous 3'!AP51","v":0},{"$f":"'Dairy Miscellaneous 3'!AQ51","v":0}]
[{"$f":"'Cow Housing'!$C$6","v":"C-3333"},{"$f":"$B$76","v":0},{"$f":"$C$76","v":2},{"$f":"$D$76","v":60},4170303,null,{"$f":"'Dairy Miscellaneous 3'!AP34","v":0},{"$f":"'Dairy Miscellaneous 3'!AQ34","v":0}]
[{"$f":"'Cow Housing'!$C$6","v":"C-3333"},{"$f":"$B$76","v":0},{"$f":"$C$76","v":2},{"$f":"$D$76","v":60},7429905,null,{"$f":"'Livestock PM10 3'!AP14","v":0},{"$f":"'Livestock PM10 3'!AQ14","v":0}]
[{"$f":"'Cow Housing'!$C$6","v":"C-3333"},{"$f":"$B$76","v":0},{"$f":"$C$76","v":2},{"$f":"$D$76","v":60},7439921,null,{"$f":"'Livestock PM10 3'!AP22","v":0},{"$f":"'Livestock PM10 3'!AQ22","v":0}]
[{"$f":"'Cow Housing'!$C$6","v":"C-3333"},{"$f":"$B$76","v":0},{"$f":"$C$76","v":2},{"$f":"$D$76","v":60},7439965,null,{"$f":"'Livestock PM10 3'!AP23","v":0},{"$f":"'Livestock PM10 3'!AQ23","v":0}]
[{"$f":"'Cow Housing'!$C$6","v":"C-3333"},{"$f":"$B$76","v":0},{"$f":"$C$76","v":2},{"$f":"$D$76","v":60},7439976,null,{"$f":"'Livestock PM10 3'!AP24","v":0},{"$f":"'Livestock PM10 3'!AQ24","v":0}]
[{"$f":"'Cow Housing'!$C$6","v":"C-3333"},{"$f":"$B$76","v":0},{"$f":"$C$76","v":2},{"$f":"$D$76","v":60},7440020,null,{"$f":"'Livestock PM10 3'!AP25","v":0},{"$f":"'Livestock PM10 3'!AQ25","v":0}]
[{"$f":"'Cow Housing'!$C$6","v":"C-3333"},{"$f":"$B$76","v":0},{"$f":"$C$76","v":2},{"$f":"$D$76","v":60},7440360,null,{"$f":"'Livestock PM10 3'!AP15","v":0},{"$f":"'Livestock PM10 3'!AQ15","v":0}]
[{"$f":"'Cow Housing'!$C$6","v":"C-3333"},{"$f":"$B$76","v":0},{"$f":"$C$76","v":2},{"$f":"$D$76","v":60},7440382,null,{"$f":"'Livestock PM10 3'!AP16","v":0},{"$f":"'Livestock PM10 3'!AQ16","v":0}]
[{"$f":"'Cow Housing'!$C$6","v":"C-3333"},{"$f":"$B$76","v":0},{"$f":"$C$76","v":2},{"$f":"$D$76","v":60},7440393,null,{"$f":"'Livestock PM10 3'!AP17","v":0},{"$f":"'Livestock PM10 3'!AQ17","v":0}]
[{"$f":"'Cow Housing'!$C$6","v":"C-3333"},{"$f":"$B$76","v":0},{"$f":"$C$76","v":2},{"$f":"$D$76","v":60},7440473,null,{"$f":"'Livestock PM10 3'!AP19","v":0},{"$f":"'Livestock PM10 3'!AQ19","v":0}]
[{"$f":"'Cow Housing'!$C$6","v":"C-3333"},{"$f":"$B$76","v":0},{"$f":"$C$76","v":2},{"$f":"$D$76","v":60},7440508,null,{"$f":"'Livestock PM10 3'!AP20","v":0},{"$f":"'Livestock PM10 3'!AQ20","v":0}]
[{"$f":"'Cow Housing'!$C$6","v":"C-3333"},{"$f":"$B$76","v":0},{"$f":"$C$76","v":2},{"$f":"$D$76","v":60},7440622,null,{"$f":"'Livestock PM10 3'!AP29","v":0},{"$f":"'Livestock PM10 3'!AQ29","v":0}]
[{"$f":"'Cow Housing'!$C$6","v":"C-3333"},{"$f":"$B$76","v":0},{"$f":"$C$76","v":2},{"$f":"$D$76","v":60},7440666,null,{"$f":"'Livestock PM10 3'!AP30","v":0},{"$f":"'Livestock PM10 3'!AQ30","v":0}]
[{"$f":"'Cow Housing'!$C$6","v":"C-3333"},{"$f":"$B$76","v":0},{"$f":"$C$76","v":2},{"$f":"$D$76","v":60},7664417,null,{"$f":"'Livestock PM10 3'!AP31","v":0},{"$f":"'Livestock PM10 3'!AQ31","v":0}]
[{"$f":"'Cow Housing'!$C$6","v":"C-3333"},{"$f":"$B$76","v":0},{"$f":"$C$76","v":2},{"$f":"$D$76","v":60},7723140,null,{"$f":"'Livestock PM10 3'!AP26","v":0},{"$f":"'Livestock PM10 3'!AQ26","v":0}]
[{"$f":"'Cow Housing'!$C$6","v":"C-3333"},{"$f":"$B$76","v":0},{"$f":"$C$76","v":2},{"$f":"$D$76","v":60},7726956,null,{"$f":"'Livestock PM10 3'!AP18","v":0},{"$f":"'Livestock PM10 3'!AQ18","v":0}]
[{"$f":"'Cow Housing'!$C$6","v":"C-3333"},{"$f":"$B$76","v":0},{"$f":"$C$76","v":2},{"$f":"$D$76","v":60},7782492,null,{"$f":"'Livestock PM10 3'!AP27","v":0},{"$f":"'Livestock PM10 3'!AQ27","v":0}]
[{"$f":"'Cow Housing'!$C$6","v":"C-3333"},{"$f":"$B$76","v":0},{"$f":"$C$76","v":2},{"$f":"$D$76","v":60},18540299,null,{"$f":"'Livestock PM10 3'!AP21","v":0},{"$f":"'Livestock PM10 3'!AQ21","v":0}]
[{"$f":"'Cow Housing'!$C$6","v":"C-3333"},{"$f":"$B$77","v":0},{"$f":"$C$77","v":2},{"$f":"$D$77","v":61},9960,null,{"$f":"'Livestock PM10 4'!D28","v":0},{"$f":"'Livestock PM10 4'!E28","v":0}]
[{"$f":"'Cow Housing'!$C$6","v":"C-3333"},{"$f":"$B$77","v":0},{"$f":"$C$77","v":2},{"$f":"$D$77","v":61},50000,null,{"$f":"'Dairy Miscellaneous 4'!D40","v":0},{"$f":"'Dairy Miscellaneous 4'!E40","v":0}]
[{"$f":"'Cow Housing'!$C$6","v":"C-3333"},{"$f":"$B$77","v":0},{"$f":"$C$77","v":2},{"$f":"$D$77","v":61},56235,null,{"$f":"'Dairy Miscellaneous 4'!D30","v":0},{"$f":"'Dairy Miscellaneous 4'!E30","v":0}]
[{"$f":"'Cow Housing'!$C$6","v":"C-3333"},{"$f":"$B$77","v":0},{"$f":"$C$77","v":2},{"$f":"$D$77","v":61},67630,null,{"$f":"'Dairy Miscellaneous 4'!D42","v":0},{"$f":"'Dairy Miscellaneous 4'!E42","v":0}]
[{"$f":"'Cow Housing'!$C$6","v":"C-3333"},{"$f":"$B$77","v":0},{"$f":"$C$77","v":2},{"$f":"$D$77","v":61},67663,null,{"$f":"'Dairy Miscellaneous 4'!D32","v":0},{"$f":"'Dairy Miscellaneous 4'!E32","v":0}]
[{"$f":"'Cow Housing'!$C$6","v":"C-3333"},{"$f":"$B$77","v":0},{"$f":"$C$77","v":2},{"$f":"$D$77","v":61},71432,null,{"$f":"'Dairy Miscellaneous 4'!D26","v":0},{"$f":"'Dairy Miscellaneous 4'!E26","v":0}]
[{"$f":"'Cow Housing'!$C$6","v":"C-3333"},{"$f":"$B$77","v":0},{"$f":"$C$77","v":2},{"$f":"$D$77","v":61},74873,null,{"$f":"'Dairy Miscellaneous 4'!D33","v":0},{"$f":"'Dairy Miscellaneous 4'!E33","v":0}]
[{"$f":"'Cow Housing'!$C$6","v":"C-3333"},{"$f":"$B$77","v":0},{"$f":"$C$77","v":2},{"$f":"$D$77","v":61},75003,null,{"$f":"'Dairy Miscellaneous 4'!D36","v":0},{"$f":"'Dairy Miscellaneous 4'!E36","v":0}]
[{"$f":"'Cow Housing'!$C$6","v":"C-3333"},{"$f":"$B$77","v":0},{"$f":"$C$77","v":2},{"$f":"$D$77","v":61},75070,null,{"$f":"'Dairy Miscellaneous 4'!D24","v":0},{"$f":"'Dairy Miscellaneous 4'!E24","v":0}]
[{"$f":"'Cow Housing'!$C$6","v":"C-3333"},{"$f":"$B$77","v":0},{"$f":"$C$77","v":2},{"$f":"$D$77","v":61},75150,null,{"$f":"'Dairy Miscellaneous 4'!D29","v":0},{"$f":"'Dairy Miscellaneous 4'!E29","v":0}]
[{"$f":"'Cow Housing'!$C$6","v":"C-3333"},{"$f":"$B$77","v":0},{"$f":"$C$77","v":2},{"$f":"$D$77","v":61},75694,null,{"$f":"'Dairy Miscellaneous 4'!D49","v":0},{"$f":"'Dairy Miscellaneous 4'!E49","v":0}]
[{"$f":"'Cow Housing'!$C$6","v":"C-3333"},{"$f":"$B$77","v":0},{"$f":"$C$77","v":2},{"$f":"$D$77","v":61},78933,null,{"$f":"'Dairy Miscellaneous 4'!D44","v":0},{"$f":"'Dairy Miscellaneous 4'!E44","v":0}]
[{"$f":"'Cow Housing'!$C$6","v":"C-3333"},{"$f":"$B$77","v":0},{"$f":"$C$77","v":2},{"$f":"$D$77","v":61},79005,null,{"$f":"'Dairy Miscellaneous 4'!D16","v":0},{"$f":"'Dairy Miscellaneous 4'!E16","v":0}]
[{"$f":"'Cow Housing'!$C$6","v":"C-3333"},{"$f":"$B$77","v":0},{"$f":"$C$77","v":2},{"$f":"$D$77","v":61},79345,null,{"$f":"'Dairy Miscellaneous 4'!D15","v":0},{"$f":"'Dairy Miscellaneous 4'!E15","v":0}]
[{"$f":"'Cow Housing'!$C$6","v":"C-3333"},{"$f":"$B$77","v":0},{"$f":"$C$77","v":2},{"$f":"$D$77","v":61},95501,null,{"$f":"'Dairy Miscellaneous 4'!D20","v":0},{"$f":"'Dairy Miscellaneous 4'!E20","v":0}]
[{"$f":"'Cow Housing'!$C$6","v":"C-3333"},{"$f":"$B$77","v":0},{"$f":"$C$77","v":2},{"$f":"$D$77","v":61},96128,null,{"$f":"'Dairy Miscellaneous 4'!D19","v":0},{"$f":"'Dairy Miscellaneous 4'!E19","v":0}]
[{"$f":"'Cow Housing'!$C$6","v":"C-3333"},{"$f":"$B$77","v":0},{"$f":"$C$77","v":2},{"$f":"$D$77","v":61},96184,null,{"$f":"'Dairy Miscellaneous 4'!D17","v":0},{"$f":"'Dairy Miscellaneous 4'!E17","v":0}]
[{"$f":"'Cow Housing'!$C$6","v":"C-3333"},{"$f":"$B$77","v":0},{"$f":"$C$77","v":2},{"$f":"$D$77","v":61},98828,null,{"$f":"'Dairy Miscellaneous 4'!D43","v":0},{"$f":"'Dairy Miscellaneous 4'!E43","v":0}]
[{"$f":"'Cow Housing'!$C$6","v":"C-3333"},{"$f":"$B$77","v":0},{"$f":"$C$77","v":2},{"$f":"$D$77","v":61},100414,null,{"$f":"'Dairy Miscellaneous 4'!D37","v":0},{"$f":"'Dairy Miscellaneous 4'!E37","v":0}]
[{"$f":"'Cow Housing'!$C$6","v":"C-3333"},{"$f":"$B$77","v":0},{"$f":"$C$77","v":2},{"$f":"$D$77","v":61},100425,null,{"$f":"'Dairy Miscellaneous 4'!#REF!","v":{"$error":"#REF!"}},{"$f":"'Dairy Miscellaneous 4'!#REF!","v":{"$error":"#REF!"}}]
[{"$f":"'Cow Housing'!$C$6","v":"C-3333"},{"$f":"$B$77","v":0},{"$f":"$C$77","v":2},{"$f":"$D$77","v":61},100447,null,{"$f":"'Dairy Miscellaneous 4'!D27","v":0},{"$f":"'Dairy Miscellaneous 4'!E27","v":0}]
[{"$f":"'Cow Housing'!$C$6","v":"C-3333"},{"$f":"$B$77","v":0},{"$f":"$C$77","v":2},{"$f":"$D$77","v":61},106467,null,{"$f":"'Dairy Miscellaneous 4'!D23","v":0},{"$f":"'Dairy Miscellaneous 4'!E23","v":0}]
[{"$f":"'Cow Housing'!$C$6","v":"C-3333"},{"$f":"$B$77","v":0},{"$f":"$C$77","v":2},{"$f":"$D$77","v":61},106934,null,{"$f":"'Dairy Miscellaneous 4'!D38","v":0},{"$f":"'Dairy Miscellaneous 4'!E38","v":0}]
[{"$f":"'Cow Housing'!$C$6","v":"C-3333"},{"$f":"$B$77","v":0},{"$f":"$C$77","v":2},{"$f":"$D$77","v":61},107062,null,{"$f":"'Dairy Miscellaneous 4'!D39","v":0},{"$f":"'Dairy Miscellaneous 4'!E39","v":0}]
[{"$f":"'Cow Housing'!$C$6","v":"C-3333"},{"$f":"$B$77","v":0},{"$f":"$C$77","v":2},{"$f":"$D$77","v":61},107131,null,{"$f":"'Dairy Miscellaneous 4'!D25","v":0},{"$f":"'Dairy Miscellaneous 4'!E25","v":0}]
[{"$f":"'Cow Housing'!$C$6","v":"C-3333"},{"$f":"$B$77","v":0},{"$f":"$C$77","v":2},{"$f":"$D$77","v":61},108054,null,{"$f":"'Dairy Miscellaneous 4'!D50","v":0},{"$f":"'Dairy Miscellaneous 4'!E50","v":0}]
[{"$f":"'Cow Housing'!$C$6","v":"C-3333"},{"$f":"$B$77","v":0},{"$f":"$C$77","v":2},{"$f":"$D$77","v":61},108101,null,{"$f":"'Dairy Miscellaneous 4'!D45","v":0},{"$f":"'Dairy Miscellaneous 4'!E45","v":0}]
[{"$f":"'Cow Housing'!$C$6","v":"C-3333"},{"$f":"$B$77","v":0},{"$f":"$C$77","v":2},{"$f":"$D$77","v":61},108883,null,{"$f":"'Dairy Miscellaneous 4'!D48","v":0},{"$f":"'Dairy Miscellaneous 4'!E48","v":0}]
[{"$f":"'Cow Housing'!$C$6","v":"C-3333"},{"$f":"$B$77","v":0},{"$f":"$C$77","v":2},{"$f":"$D$77","v":61},108907,null,{"$f":"'Dairy Miscellaneous 4'!D31","v":0},{"$f":"'Dairy Miscellaneous 4'!E31","v":0}]
[{"$f":"'Cow Housing'!$C$6","v":"C-3333"},{"$f":"$B$77","v":0},{"$f":"$C$77","v":2},{"$f":"$D$77","v":61},110543,null,{"$f":"'Dairy Miscellaneous 4'!D41","v":0},{"$f":"'Dairy Miscellaneous 4'!E41","v":0}]
[{"$f":"'Cow Housing'!$C$6","v":"C-3333"},{"$f":"$B$77","v":0},{"$f":"$C$77","v":2},{"$f":"$D$77","v":61},110827,null,{"$f":"'Dairy Miscellaneous 4'!D35","v":0},{"$f":"'Dairy Miscellaneous 4'!E35","v":0}]
[{"$f":"'Cow Housing'!$C$6","v":"C-3333"},{"$f":"$B$77","v":0},{"$f":"$C$77","v":2},{"$f":"$D$77","v":61},120821,null,{"$f":"'Dairy Miscellaneous 4'!D18","v":0},{"$f":"'Dairy Miscellaneous 4'!E18","v":0}]
[{"$f":"'Cow Housing'!$C$6","v":"C-3333"},{"$f":"$B$77","v":0},{"$f":"$C$77","v":2},{"$f":"$D$77","v":61},123728,null,{"$f":"'Dairy Miscellaneous 4'!D28","v":0},{"$f":"'Dairy Miscellaneous 4'!E28","v":0}]
[{"$f":"'Cow Housing'!$C$6","v":"C-3333"},{"$f":"$B$77","v":0},{"$f":"$C$77","v":2},{"$f":"$D$77","v":61},123911,null,{"$f":"'Dairy Miscellaneous 4'!D22","v":0},{"$f":"'Dairy Miscellaneous 4'!E22","v":0}]
[{"$f":"'Cow Housing'!$C$6","v":"C-3333"},{"$f":"$B$77","v":0},{"$f":"$C$77","v":2},{"$f":"$D$77","v":61},541731,null,{"$f":"'Dairy Miscellaneous 4'!D21","v":0},{"$f":"'Dairy Miscellaneous 4'!E21","v":0}]
[{"$f":"'Cow Housing'!$C$6","v":"C-3333"},{"$f":"$B$77","v":0},{"$f":"$C$77","v":2},{"$f":"$D$77","v":61},764410,null,{"$f":"'Dairy Miscellaneous 4'!D47","v":0},{"$f":"'Dairy Miscellaneous 4'!E47","v":0}]
[{"$f":"'Cow Housing'!$C$6","v":"C-3333"},{"$f":"$B$77","v":0},{"$f":"$C$77","v":2},{"$f":"$D$77","v":61},1330207,null,{"$f":"'Dairy Miscellaneous 4'!D51","v":0},{"$f":"'Dairy Miscellaneous 4'!E51","v":0}]
[{"$f":"'Cow Housing'!$C$6","v":"C-3333"},{"$f":"$B$77","v":0},{"$f":"$C$77","v":2},{"$f":"$D$77","v":61},4170303,null,{"$f":"'Dairy Miscellaneous 4'!D34","v":0},{"$f":"'Dairy Miscellaneous 4'!E34","v":0}]
[{"$f":"'Cow Housing'!$C$6","v":"C-3333"},{"$f":"$B$77","v":0},{"$f":"$C$77","v":2},{"$f":"$D$77","v":61},7429905,null,{"$f":"'Livestock PM10 4'!D14","v":0},{"$f":"'Livestock PM10 4'!E14","v":0}]
[{"$f":"'Cow Housing'!$C$6","v":"C-3333"},{"$f":"$B$77","v":0},{"$f":"$C$77","v":2},{"$f":"$D$77","v":61},7439921,null,{"$f":"'Livestock PM10 4'!D22","v":0},{"$f":"'Livestock PM10 4'!E22","v":0}]
[{"$f":"'Cow Housing'!$C$6","v":"C-3333"},{"$f":"$B$77","v":0},{"$f":"$C$77","v":2},{"$f":"$D$77","v":61},7439965,null,{"$f":"'Livestock PM10 4'!D23","v":0},{"$f":"'Livestock PM10 4'!E23","v":0}]
[{"$f":"'Cow Housing'!$C$6","v":"C-3333"},{"$f":"$B$77","v":0},{"$f":"$C$77","v":2},{"$f":"$D$77","v":61},7439976,null,{"$f":"'Livestock PM10 4'!D24","v":0},{"$f":"'Livestock PM10 4'!E24","v":0}]
[{"$f":"'Cow Housing'!$C$6","v":"C-3333"},{"$f":"$B$77","v":0},{"$f":"$C$77","v":2},{"$f":"$D$77","v":61},7440020,null,{"$f":"'Livestock PM10 4'!D25","v":0},{"$f":"'Livestock PM10 4'!E25","v":0}]
[{"$f":"'Cow Housing'!$C$6","v":"C-3333"},{"$f":"$B$77","v":0},{"$f":"$C$77","v":2},{"$f":"$D$77","v":61},7440360,null,{"$f":"'Livestock PM10 4'!D15","v":0},{"$f":"'Livestock PM10 4'!E15","v":0}]
[{"$f":"'Cow Housing'!$C$6","v":"C-3333"},{"$f":"$B$77","v":0},{"$f":"$C$77","v":2},{"$f":"$D$77","v":61},7440382,null,{"$f":"'Livestock PM10 4'!D16","v":0},{"$f":"'Livestock PM10 4'!E16","v":0}]
[{"$f":"'Cow Housing'!$C$6","v":"C-3333"},{"$f":"$B$77","v":0},{"$f":"$C$77","v":2},{"$f":"$D$77","v":61},7440393,null,{"$f":"'Livestock PM10 4'!D17","v":0},{"$f":"'Livestock PM10 4'!E17","v":0}]
[{"$f":"'Cow Housing'!$C$6","v":"C-3333"},{"$f":"$B$77","v":0},{"$f":"$C$77","v":2},{"$f":"$D$77","v":61},7440473,null,{"$f":"'Livestock PM10 4'!D19","v":0},{"$f":"'Livestock PM10 4'!E19","v":0}]
[{"$f":"'Cow Housing'!$C$6","v":"C-3333"},{"$f":"$B$77","v":0},{"$f":"$C$77","v":2},{"$f":"$D$77","v":61},7440508,null,{"$f":"'Livestock PM10 4'!D20","v":0},{"$f":"'Livestock PM10 4'!E20","v":0}]
[{"$f":"'Cow Housing'!$C$6","v":"C-3333"},{"$f":"$B$77","v":0},{"$f":"$C$77","v":2},{"$f":"$D$77","v":61},7440622,null,{"$f":"'Livestock PM10 4'!D29","v":0},{"$f":"'Livestock PM10 4'!E29","v":0}]
[{"$f":"'Cow Housing'!$C$6","v":"C-3333"},{"$f":"$B$77","v":0},{"$f":"$C$77","v":2},{"$f":"$D$77","v":61},7440666,null,{"$f":"'Livestock PM10 4'!D30","v":0},{"$f":"'Livestock PM10 4'!E30","v":0}]
[{"$f":"'Cow Housing'!$C$6","v":"C-3333"},{"$f":"$B$77","v":0},{"$f":"$C$77","v":2},{"$f":"$D$77","v":61},7664417,null,{"$f":"'Livestock PM10 4'!D31","v":0},{"$f":"'Livestock PM10 4'!E31","v":0}]
[{"$f":"'Cow Housing'!$C$6","v":"C-3333"},{"$f":"$B$77","v":0},{"$f":"$C$77","v":2},{"$f":"$D$77","v":61},7723140,null,{"$f":"'Livestock PM10 4'!D26","v":0},{"$f":"'Livestock PM10 4'!E26","v":0}]
[{"$f":"'Cow Housing'!$C$6","v":"C-3333"},{"$f":"$B$77","v":0},{"$f":"$C$77","v":2},{"$f":"$D$77","v":61},7726956,null,{"$f":"'Livestock PM10 4'!D18","v":0},{"$f":"'Livestock PM10 4'!E18","v":0}]
[{"$f":"'Cow Housing'!$C$6","v":"C-3333"},{"$f":"$B$77","v":0},{"$f":"$C$77","v":2},{"$f":"$D$77","v":61},7782492,null,{"$f":"'Livestock PM10 4'!D27","v":0},{"$f":"'Livestock PM10 4'!E27","v":0}]
[{"$f":"'Cow Housing'!$C$6","v":"C-3333"},{"$f":"$B$77","v":0},{"$f":"$C$77","v":2},{"$f":"$D$77","v":61},18540299,null,{"$f":"'Livestock PM10 4'!D21","v":0},{"$f":"'Livestock PM10 4'!E21","v":0}]
[{"$f":"'Cow Housing'!$C$6","v":"C-3333"},{"$f":"$B$78","v":0},{"$f":"$C$78","v":2},{"$f":"$D$78","v":62},9960,null,{"$f":"'Livestock PM10 4'!F28","v":0},{"$f":"'Livestock PM10 4'!G28","v":0}]
[{"$f":"'Cow Housing'!$C$6","v":"C-3333"},{"$f":"$B$78","v":0},{"$f":"$C$78","v":2},{"$f":"$D$78","v":62},50000,null,{"$f":"'Dairy Miscellaneous 4'!F40","v":0},{"$f":"'Dairy Miscellaneous 4'!G40","v":0}]
[{"$f":"'Cow Housing'!$C$6","v":"C-3333"},{"$f":"$B$78","v":0},{"$f":"$C$78","v":2},{"$f":"$D$78","v":62},56235,null,{"$f":"'Dairy Miscellaneous 4'!F30","v":0},{"$f":"'Dairy Miscellaneous 4'!G30","v":0}]
[{"$f":"'Cow Housing'!$C$6","v":"C-3333"},{"$f":"$B$78","v":0},{"$f":"$C$78","v":2},{"$f":"$D$78","v":62},67630,null,{"$f":"'Dairy Miscellaneous 4'!F42","v":0},{"$f":"'Dairy Miscellaneous 4'!G42","v":0}]
[{"$f":"'Cow Housing'!$C$6","v":"C-3333"},{"$f":"$B$78","v":0},{"$f":"$C$78","v":2},{"$f":"$D$78","v":62},67663,null,{"$f":"'Dairy Miscellaneous 4'!F32","v":0},{"$f":"'Dairy Miscellaneous 4'!G32","v":0}]
[{"$f":"'Cow Housing'!$C$6","v":"C-3333"},{"$f":"$B$78","v":0},{"$f":"$C$78","v":2},{"$f":"$D$78","v":62},71432,null,{"$f":"'Dairy Miscellaneous 4'!F26","v":0},{"$f":"'Dairy Miscellaneous 4'!G26","v":0}]
[{"$f":"'Cow Housing'!$C$6","v":"C-3333"},{"$f":"$B$78","v":0},{"$f":"$C$78","v":2},{"$f":"$D$78","v":62},74873,null,{"$f":"'Dairy Miscellaneous 4'!F33","v":0},{"$f":"'Dairy Miscellaneous 4'!G33","v":0}]
[{"$f":"'Cow Housing'!$C$6","v":"C-3333"},{"$f":"$B$78","v":0},{"$f":"$C$78","v":2},{"$f":"$D$78","v":62},75003,null,{"$f":"'Dairy Miscellaneous 4'!F36","v":0},{"$f":"'Dairy Miscellaneous 4'!G36","v":0}]
[{"$f":"'Cow Housing'!$C$6","v":"C-3333"},{"$f":"$B$78","v":0},{"$f":"$C$78","v":2},{"$f":"$D$78","v":62},75070,null,{"$f":"'Dairy Miscellaneous 4'!F24","v":0},{"$f":"'Dairy Miscellaneous 4'!G24","v":0}]
[{"$f":"'Cow Housing'!$C$6","v":"C-3333"},{"$f":"$B$78","v":0},{"$f":"$C$78","v":2},{"$f":"$D$78","v":62},75150,null,{"$f":"'Dairy Miscellaneous 4'!F29","v":0},{"$f":"'Dairy Miscellaneous 4'!G29","v":0}]
[{"$f":"'Cow Housing'!$C$6","v":"C-3333"},{"$f":"$B$78","v":0},{"$f":"$C$78","v":2},{"$f":"$D$78","v":62},75694,null,{"$f":"'Dairy Miscellaneous 4'!F49","v":0},{"$f":"'Dairy Miscellaneous 4'!G49","v":0}]
[{"$f":"'Cow Housing'!$C$6","v":"C-3333"},{"$f":"$B$78","v":0},{"$f":"$C$78","v":2},{"$f":"$D$78","v":62},78933,null,{"$f":"'Dairy Miscellaneous 4'!F44","v":0},{"$f":"'Dairy Miscellaneous 4'!G44","v":0}]
[{"$f":"'Cow Housing'!$C$6","v":"C-3333"},{"$f":"$B$78","v":0},{"$f":"$C$78","v":2},{"$f":"$D$78","v":62},79005,null,{"$f":"'Dairy Miscellaneous 4'!F16","v":0},{"$f":"'Dairy Miscellaneous 4'!G16","v":0}]
[{"$f":"'Cow Housing'!$C$6","v":"C-3333"},{"$f":"$B$78","v":0},{"$f":"$C$78","v":2},{"$f":"$D$78","v":62},79345,null,{"$f":"'Dairy Miscellaneous 4'!F15","v":0},{"$f":"'Dairy Miscellaneous 4'!G15","v":0}]
[{"$f":"'Cow Housing'!$C$6","v":"C-3333"},{"$f":"$B$78","v":0},{"$f":"$C$78","v":2},{"$f":"$D$78","v":62},95501,null,{"$f":"'Dairy Miscellaneous 4'!F20","v":0},{"$f":"'Dairy Miscellaneous 4'!G20","v":0}]
[{"$f":"'Cow Housing'!$C$6","v":"C-3333"},{"$f":"$B$78","v":0},{"$f":"$C$78","v":2},{"$f":"$D$78","v":62},96128,null,{"$f":"'Dairy Miscellaneous 4'!F19","v":0},{"$f":"'Dairy Miscellaneous 4'!G19","v":0}]
[{"$f":"'Cow Housing'!$C$6","v":"C-3333"},{"$f":"$B$78","v":0},{"$f":"$C$78","v":2},{"$f":"$D$78","v":62},96184,null,{"$f":"'Dairy Miscellaneous 4'!F17","v":0},{"$f":"'Dairy Miscellaneous 4'!G17","v":0}]
[{"$f":"'Cow Housing'!$C$6","v":"C-3333"},{"$f":"$B$78","v":0},{"$f":"$C$78","v":2},{"$f":"$D$78","v":62},98828,null,{"$f":"'Dairy Miscellaneous 4'!F43","v":0},{"$f":"'Dairy Miscellaneous 4'!G43","v":0}]
[{"$f":"'Cow Housing'!$C$6","v":"C-3333"},{"$f":"$B$78","v":0},{"$f":"$C$78","v":2},{"$f":"$D$78","v":62},100414,null,{"$f":"'Dairy Miscellaneous 4'!F37","v":0},{"$f":"'Dairy Miscellaneous 4'!G37","v":0}]
[{"$f":"'Cow Housing'!$C$6","v":"C-3333"},{"$f":"$B$78","v":0},{"$f":"$C$78","v":2},{"$f":"$D$78","v":62},100425,null,{"$f":"'Dairy Miscellaneous 4'!#REF!","v":{"$error":"#REF!"}},{"$f":"'Dairy Miscellaneous 4'!#REF!","v":{"$error":"#REF!"}}]
[{"$f":"'Cow Housing'!$C$6","v":"C-3333"},{"$f":"$B$78","v":0},{"$f":"$C$78","v":2},{"$f":"$D$78","v":62},100447,null,{"$f":"'Dairy Miscellaneous 4'!F27","v":0},{"$f":"'Dairy Miscellaneous 4'!G27","v":0}]
[{"$f":"'Cow Housing'!$C$6","v":"C-3333"},{"$f":"$B$78","v":0},{"$f":"$C$78","v":2},{"$f":"$D$78","v":62},106467,null,{"$f":"'Dairy Miscellaneous 4'!F23","v":0},{"$f":"'Dairy Miscellaneous 4'!G23","v":0}]
[{"$f":"'Cow Housing'!$C$6","v":"C-3333"},{"$f":"$B$78","v":0},{"$f":"$C$78","v":2},{"$f":"$D$78","v":62},106934,null,{"$f":"'Dairy Miscellaneous 4'!F38","v":0},{"$f":"'Dairy Miscellaneous 4'!G38","v":0}]
[{"$f":"'Cow Housing'!$C$6","v":"C-3333"},{"$f":"$B$78","v":0},{"$f":"$C$78","v":2},{"$f":"$D$78","v":62},107062,null,{"$f":"'Dairy Miscellaneous 4'!F39","v":0},{"$f":"'Dairy Miscellaneous 4'!G39","v":0}]
[{"$f":"'Cow Housing'!$C$6","v":"C-3333"},{"$f":"$B$78","v":0},{"$f":"$C$78","v":2},{"$f":"$D$78","v":62},107131,null,{"$f":"'Dairy Miscellaneous 4'!F25","v":0},{"$f":"'Dairy Miscellaneous 4'!G25","v":0}]
[{"$f":"'Cow Housing'!$C$6","v":"C-3333"},{"$f":"$B$78","v":0},{"$f":"$C$78","v":2},{"$f":"$D$78","v":62},108054,null,{"$f":"'Dairy Miscellaneous 4'!F50","v":0},{"$f":"'Dairy Miscellaneous 4'!G50","v":0}]
[{"$f":"'Cow Housing'!$C$6","v":"C-3333"},{"$f":"$B$78","v":0},{"$f":"$C$78","v":2},{"$f":"$D$78","v":62},108101,null,{"$f":"'Dairy Miscellaneous 4'!F45","v":0},{"$f":"'Dairy Miscellaneous 4'!G45","v":0}]
[{"$f":"'Cow Housing'!$C$6","v":"C-3333"},{"$f":"$B$78","v":0},{"$f":"$C$78","v":2},{"$f":"$D$78","v":62},108883,null,{"$f":"'Dairy Miscellaneous 4'!F48","v":0},{"$f":"'Dairy Miscellaneous 4'!G48","v":0}]
[{"$f":"'Cow Housing'!$C$6","v":"C-3333"},{"$f":"$B$78","v":0},{"$f":"$C$78","v":2},{"$f":"$D$78","v":62},108907,null,{"$f":"'Dairy Miscellaneous 4'!F31","v":0},{"$f":"'Dairy Miscellaneous 4'!G31","v":0}]
[{"$f":"'Cow Housing'!$C$6","v":"C-3333"},{"$f":"$B$78","v":0},{"$f":"$C$78","v":2},{"$f":"$D$78","v":62},110543,null,{"$f":"'Dairy Miscellaneous 4'!F41","v":0},{"$f":"'Dairy Miscellaneous 4'!G41","v":0}]
[{"$f":"'Cow Housing'!$C$6","v":"C-3333"},{"$f":"$B$78","v":0},{"$f":"$C$78","v":2},{"$f":"$D$78","v":62},110827,null,{"$f":"'Dairy Miscellaneous 4'!F35","v":0},{"$f":"'Dairy Miscellaneous 4'!G35","v":0}]
[{"$f":"'Cow Housing'!$C$6","v":"C-3333"},{"$f":"$B$78","v":0},{"$f":"$C$78","v":2},{"$f":"$D$78","v":62},120821,null,{"$f":"'Dairy Miscellaneous 4'!F18","v":0},{"$f":"'Dairy Miscellaneous 4'!G18","v":0}]
[{"$f":"'Cow Housing'!$C$6","v":"C-3333"},{"$f":"$B$78","v":0},{"$f":"$C$78","v":2},{"$f":"$D$78","v":62},123728,null,{"$f":"'Dairy Miscellaneous 4'!F28","v":0},{"$f":"'Dairy Miscellaneous 4'!G28","v":0}]
[{"$f":"'Cow Housing'!$C$6","v":"C-3333"},{"$f":"$B$78","v":0},{"$f":"$C$78","v":2},{"$f":"$D$78","v":62},123911,null,{"$f":"'Dairy Miscellaneous 4'!F22","v":0},{"$f":"'Dairy Miscellaneous 4'!G22","v":0}]
[{"$f":"'Cow Housing'!$C$6","v":"C-3333"},{"$f":"$B$78","v":0},{"$f":"$C$78","v":2},{"$f":"$D$78","v":62},541731,null,{"$f":"'Dairy Miscellaneous 4'!F21","v":0},{"$f":"'Dairy Miscellaneous 4'!G21","v":0}]
[{"$f":"'Cow Housing'!$C$6","v":"C-3333"},{"$f":"$B$78","v":0},{"$f":"$C$78","v":2},{"$f":"$D$78","v":62},764410,null,{"$f":"'Dairy Miscellaneous 4'!F47","v":0},{"$f":"'Dairy Miscellaneous 4'!G47","v":0}]
[{"$f":"'Cow Housing'!$C$6","v":"C-3333"},{"$f":"$B$78","v":0},{"$f":"$C$78","v":2},{"$f":"$D$78","v":62},1330207,null,{"$f":"'Dairy Miscellaneous 4'!F51","v":0},{"$f":"'Dairy Miscellaneous 4'!G51","v":0}]
[{"$f":"'Cow Housing'!$C$6","v":"C-3333"},{"$f":"$B$78","v":0},{"$f":"$C$78","v":2},{"$f":"$D$78","v":62},4170303,null,{"$f":"'Dairy Miscellaneous 4'!F34","v":0},{"$f":"'Dairy Miscellaneous 4'!G34","v":0}]
[{"$f":"'Cow Housing'!$C$6","v":"C-3333"},{"$f":"$B$78","v":0},{"$f":"$C$78","v":2},{"$f":"$D$78","v":62},7429905,null,{"$f":"'Livestock PM10 4'!F14","v":0},{"$f":"'Livestock PM10 4'!G14","v":0}]
[{"$f":"'Cow Housing'!$C$6","v":"C-3333"},{"$f":"$B$78","v":0},{"$f":"$C$78","v":2},{"$f":"$D$78","v":62},7439921,null,{"$f":"'Livestock PM10 4'!F22","v":0},{"$f":"'Livestock PM10 4'!G22","v":0}]
[{"$f":"'Cow Housing'!$C$6","v":"C-3333"},{"$f":"$B$78","v":0},{"$f":"$C$78","v":2},{"$f":"$D$78","v":62},7439965,null,{"$f":"'Livestock PM10 4'!F23","v":0},{"$f":"'Livestock PM10 4'!G23","v":0}]
[{"$f":"'Cow Housing'!$C$6","v":"C-3333"},{"$f":"$B$78","v":0},{"$f":"$C$78","v":2},{"$f":"$D$78","v":62},7439976,null,{"$f":"'Livestock PM10 4'!F24","v":0},{"$f":"'Livestock PM10 4'!G24","v":0}]
[{"$f":"'Cow Housing'!$C$6","v":"C-3333"},{"$f":"$B$78","v":0},{"$f":"$C$78","v":2},{"$f":"$D$78","v":62},7440020,null,{"$f":"'Livestock PM10 4'!F25","v":0},{"$f":"'Livestock PM10 4'!G25","v":0}]
[{"$f":"'Cow Housing'!$C$6","v":"C-3333"},{"$f":"$B$78","v":0},{"$f":"$C$78","v":2},{"$f":"$D$78","v":62},7440360,null,{"$f":"'Livestock PM10 4'!F15","v":0},{"$f":"'Livestock PM10 4'!G15","v":0}]
[{"$f":"'Cow Housing'!$C$6","v":"C-3333"},{"$f":"$B$78","v":0},{"$f":"$C$78","v":2},{"$f":"$D$78","v":62},7440382,null,{"$f":"'Livestock PM10 4'!F16","v":0},{"$f":"'Livestock PM10 4'!G16","v":0}]
[{"$f":"'Cow Housing'!$C$6","v":"C-3333"},{"$f":"$B$78","v":0},{"$f":"$C$78","v":2},{"$f":"$D$78","v":62},7440393,null,{"$f":"'Livestock PM10 4'!F17","v":0},{"$f":"'Livestock PM10 4'!G17","v":0}]
[{"$f":"'Cow Housing'!$C$6","v":"C-3333"},{"$f":"$B$78","v":0},{"$f":"$C$78","v":2},{"$f":"$D$78","v":62},7440473,null,{"$f":"'Livestock PM10 4'!F19","v":0},{"$f":"'Livestock PM10 4'!G19","v":0}]
[{"$f":"'Cow Housing'!$C$6","v":"C-3333"},{"$f":"$B$78","v":0},{"$f":"$C$78","v":2},{"$f":"$D$78","v":62},7440508,null,{"$f":"'Livestock PM10 4'!F20","v":0},{"$f":"'Livestock PM10 4'!G20","v":0}]
[{"$f":"'Cow Housing'!$C$6","v":"C-3333"},{"$f":"$B$78","v":0},{"$f":"$C$78","v":2},{"$f":"$D$78","v":62},7440622,null,{"$f":"'Livestock PM10 4'!F29","v":0},{"$f":"'Livestock PM10 4'!G29","v":0}]
[{"$f":"'Cow Housing'!$C$6","v":"C-3333"},{"$f":"$B$78","v":0},{"$f":"$C$78","v":2},{"$f":"$D$78","v":62},7440666,null,{"$f":"'Livestock PM10 4'!F30","v":0},{"$f":"'Livestock PM10 4'!G30","v":0}]
[{"$f":"'Cow Housing'!$C$6","v":"C-3333"},{"$f":"$B$78","v":0},{"$f":"$C$78","v":2},{"$f":"$D$78","v":62},7664417,null,{"$f":"'Livestock PM10 4'!F31","v":0},{"$f":"'Livestock PM10 4'!G31","v":0}]
[{"$f":"'Cow Housing'!$C$6","v":"C-3333"},{"$f":"$B$78","v":0},{"$f":"$C$78","v":2},{"$f":"$D$78","v":62},7723140,null,{"$f":"'Livestock PM10 4'!F26","v":0},{"$f":"'Livestock PM10 4'!G26","v":0}]
[{"$f":"'Cow Housing'!$C$6","v":"C-3333"},{"$f":"$B$78","v":0},{"$f":"$C$78","v":2},{"$f":"$D$78","v":62},7726956,null,{"$f":"'Livestock PM10 4'!F18","v":0},{"$f":"'Livestock PM10 4'!G18","v":0}]
[{"$f":"'Cow Housing'!$C$6","v":"C-3333"},{"$f":"$B$78","v":0},{"$f":"$C$78","v":2},{"$f":"$D$78","v":62},7782492,null,{"$f":"'Livestock PM10 4'!F27","v":0},{"$f":"'Livestock PM10 4'!G27","v":0}]
[{"$f":"'Cow Housing'!$C$6","v":"C-3333"},{"$f":"$B$78","v":0},{"$f":"$C$78","v":2},{"$f":"$D$78","v":62},18540299,null,{"$f":"'Livestock PM10 4'!F21","v":0},{"$f":"'Livestock PM10 4'!G21","v":0}]
[{"$f":"'Cow Housing'!$C$6","v":"C-3333"},{"$f":"$B$79","v":0},{"$f":"$C$79","v":2},{"$f":"$D$79","v":63},9960,null,{"$f":"'Livestock PM10 4'!H28","v":0},{"$f":"'Livestock PM10 4'!I28","v":0}]
[{"$f":"'Cow Housing'!$C$6","v":"C-3333"},{"$f":"$B$79","v":0},{"$f":"$C$79","v":2},{"$f":"$D$79","v":63},50000,null,{"$f":"'Dairy Miscellaneous 4'!H40","v":0},{"$f":"'Dairy Miscellaneous 4'!I40","v":0}]
[{"$f":"'Cow Housing'!$C$6","v":"C-3333"},{"$f":"$B$79","v":0},{"$f":"$C$79","v":2},{"$f":"$D$79","v":63},56235,null,{"$f":"'Dairy Miscellaneous 4'!H30","v":0},{"$f":"'Dairy Miscellaneous 4'!I30","v":0}]
[{"$f":"'Cow Housing'!$C$6","v":"C-3333"},{"$f":"$B$79","v":0},{"$f":"$C$79","v":2},{"$f":"$D$79","v":63},67630,null,{"$f":"'Dairy Miscellaneous 4'!H42","v":0},{"$f":"'Dairy Miscellaneous 4'!I42","v":0}]
[{"$f":"'Cow Housing'!$C$6","v":"C-3333"},{"$f":"$B$79","v":0},{"$f":"$C$79","v":2},{"$f":"$D$79","v":63},67663,null,{"$f":"'Dairy Miscellaneous 4'!H32","v":0},{"$f":"'Dairy Miscellaneous 4'!I32","v":0}]
[{"$f":"'Cow Housing'!$C$6","v":"C-3333"},{"$f":"$B$79","v":0},{"$f":"$C$79","v":2},{"$f":"$D$79","v":63},71432,null,{"$f":"'Dairy Miscellaneous 4'!H26","v":0},{"$f":"'Dairy Miscellaneous 4'!I26","v":0}]
[{"$f":"'Cow Housing'!$C$6","v":"C-3333"},{"$f":"$B$79","v":0},{"$f":"$C$79","v":2},{"$f":"$D$79","v":63},74873,null,{"$f":"'Dairy Miscellaneous 4'!H33","v":0},{"$f":"'Dairy Miscellaneous 4'!I33","v":0}]
[{"$f":"'Cow Housing'!$C$6","v":"C-3333"},{"$f":"$B$79","v":0},{"$f":"$C$79","v":2},{"$f":"$D$79","v":63},75003,null,{"$f":"'Dairy Miscellaneous 4'!H36","v":0},{"$f":"'Dairy Miscellaneous 4'!I36","v":0}]
[{"$f":"'Cow Housing'!$C$6","v":"C-3333"},{"$f":"$B$79","v":0},{"$f":"$C$79","v":2},{"$f":"$D$79","v":63},75070,null,{"$f":"'Dairy Miscellaneous 4'!H24","v":0},{"$f":"'Dairy Miscellaneous 4'!I24","v":0}]
[{"$f":"'Cow Housing'!$C$6","v":"C-3333"},{"$f":"$B$79","v":0},{"$f":"$C$79","v":2},{"$f":"$D$79","v":63},75150,null,{"$f":"'Dairy Miscellaneous 4'!H29","v":0},{"$f":"'Dairy Miscellaneous 4'!I29","v":0}]
[{"$f":"'Cow Housing'!$C$6","v":"C-3333"},{"$f":"$B$79","v":0},{"$f":"$C$79","v":2},{"$f":"$D$79","v":63},75694,null,{"$f":"'Dairy Miscellaneous 4'!H49","v":0},{"$f":"'Dairy Miscellaneous 4'!I49","v":0}]
[{"$f":"'Cow Housing'!$C$6","v":"C-3333"},{"$f":"$B$79","v":0},{"$f":"$C$79","v":2},{"$f":"$D$79","v":63},78933,null,{"$f":"'Dairy Miscellaneous 4'!H44","v":0},{"$f":"'Dairy Miscellaneous 4'!I44","v":0}]
[{"$f":"'Cow Housing'!$C$6","v":"C-3333"},{"$f":"$B$79","v":0},{"$f":"$C$79","v":2},{"$f":"$D$79","v":63},79005,null,{"$f":"'Dairy Miscellaneous 4'!H16","v":0},{"$f":"'Dairy Miscellaneous 4'!I16","v":0}]
[{"$f":"'Cow Housing'!$C$6","v":"C-3333"},{"$f":"$B$79","v":0},{"$f":"$C$79","v":2},{"$f":"$D$79","v":63},79345,null,{"$f":"'Dairy Miscellaneous 4'!H15","v":0},{"$f":"'Dairy Miscellaneous 4'!I15","v":0}]
[{"$f":"'Cow Housing'!$C$6","v":"C-3333"},{"$f":"$B$79","v":0},{"$f":"$C$79","v":2},{"$f":"$D$79","v":63},95501,null,{"$f":"'Dairy Miscellaneous 4'!H20","v":0},{"$f":"'Dairy Miscellaneous 4'!I20","v":0}]
[{"$f":"'Cow Housing'!$C$6","v":"C-3333"},{"$f":"$B$79","v":0},{"$f":"$C$79","v":2},{"$f":"$D$79","v":63},96128,null,{"$f":"'Dairy Miscellaneous 4'!H19","v":0},{"$f":"'Dairy Miscellaneous 4'!I19","v":0}]
[{"$f":"'Cow Housing'!$C$6","v":"C-3333"},{"$f":"$B$79","v":0},{"$f":"$C$79","v":2},{"$f":"$D$79","v":63},96184,null,{"$f":"'Dairy Miscellaneous 4'!H17","v":0},{"$f":"'Dairy Miscellaneous 4'!I17","v":0}]
[{"$f":"'Cow Housing'!$C$6","v":"C-3333"},{"$f":"$B$79","v":0},{"$f":"$C$79","v":2},{"$f":"$D$79","v":63},98828,null,{"$f":"'Dairy Miscellaneous 4'!H43","v":0},{"$f":"'Dairy Miscellaneous 4'!I43","v":0}]
[{"$f":"'Cow Housing'!$C$6","v":"C-3333"},{"$f":"$B$79","v":0},{"$f":"$C$79","v":2},{"$f":"$D$79","v":63},100414,null,{"$f":"'Dairy Miscellaneous 4'!H37","v":0},{"$f":"'Dairy Miscellaneous 4'!I37","v":0}]
[{"$f":"'Cow Housing'!$C$6","v":"C-3333"},{"$f":"$B$79","v":0},{"$f":"$C$79","v":2},{"$f":"$D$79","v":63},100425,null,{"$f":"'Dairy Miscellaneous 4'!#REF!","v":{"$error":"#REF!"}},{"$f":"'Dairy Miscellaneous 4'!#REF!","v":{"$error":"#REF!"}}]
[{"$f":"'Cow Housing'!$C$6","v":"C-3333"},{"$f":"$B$79","v":0},{"$f":"$C$79","v":2},{"$f":"$D$79","v":63},100447,null,{"$f":"'Dairy Miscellaneous 4'!H27","v":0},{"$f":"'Dairy Miscellaneous 4'!I27","v":0}]
[{"$f":"'Cow Housing'!$C$6","v":"C-3333"},{"$f":"$B$79","v":0},{"$f":"$C$79","v":2},{"$f":"$D$79","v":63},106467,null,{"$f":"'Dairy Miscellaneous 4'!H23","v":0},{"$f":"'Dairy Miscellaneous 4'!I23","v":0}]
[{"$f":"'Cow Housing'!$C$6","v":"C-3333"},{"$f":"$B$79","v":0},{"$f":"$C$79","v":2},{"$f":"$D$79","v":63},106934,null,{"$f":"'Dairy Miscellaneous 4'!H38","v":0},{"$f":"'Dairy Miscellaneous 4'!I38","v":0}]
[{"$f":"'Cow Housing'!$C$6","v":"C-3333"},{"$f":"$B$79","v":0},{"$f":"$C$79","v":2},{"$f":"$D$79","v":63},107062,null,{"$f":"'Dairy Miscellaneous 4'!H39","v":0},{"$f":"'Dairy Miscellaneous 4'!I39","v":0}]
[{"$f":"'Cow Housing'!$C$6","v":"C-3333"},{"$f":"$B$79","v":0},{"$f":"$C$79","v":2},{"$f":"$D$79","v":63},107131,null,{"$f":"'Dairy Miscellaneous 4'!H25","v":0},{"$f":"'Dairy Miscellaneous 4'!I25","v":0}]
[{"$f":"'Cow Housing'!$C$6","v":"C-3333"},{"$f":"$B$79","v":0},{"$f":"$C$79","v":2},{"$f":"$D$79","v":63},108054,null,{"$f":"'Dairy Miscellaneous 4'!H50","v":0},{"$f":"'Dairy Miscellaneous 4'!I50","v":0}]
[{"$f":"'Cow Housing'!$C$6","v":"C-3333"},{"$f":"$B$79","v":0},{"$f":"$C$79","v":2},{"$f":"$D$79","v":63},108101,null,{"$f":"'Dairy Miscellaneous 4'!H45","v":0},{"$f":"'Dairy Miscellaneous 4'!I45","v":0}]
[{"$f":"'Cow Housing'!$C$6","v":"C-3333"},{"$f":"$B$79","v":0},{"$f":"$C$79","v":2},{"$f":"$D$79","v":63},108883,null,{"$f":"'Dairy Miscellaneous 4'!H48","v":0},{"$f":"'Dairy Miscellaneous 4'!I48","v":0}]
[{"$f":"'Cow Housing'!$C$6","v":"C-3333"},{"$f":"$B$79","v":0},{"$f":"$C$79","v":2},{"$f":"$D$79","v":63},108907,null,{"$f":"'Dairy Miscellaneous 4'!H31","v":0},{"$f":"'Dairy Miscellaneous 4'!I31","v":0}]
[{"$f":"'Cow Housing'!$C$6","v":"C-3333"},{"$f":"$B$79","v":0},{"$f":"$C$79","v":2},{"$f":"$D$79","v":63},110543,null,{"$f":"'Dairy Miscellaneous 4'!H41","v":0},{"$f":"'Dairy Miscellaneous 4'!I41","v":0}]
[{"$f":"'Cow Housing'!$C$6","v":"C-3333"},{"$f":"$B$79","v":0},{"$f":"$C$79","v":2},{"$f":"$D$79","v":63},110827,null,{"$f":"'Dairy Miscellaneous 4'!H35","v":0},{"$f":"'Dairy Miscellaneous 4'!I35","v":0}]
[{"$f":"'Cow Housing'!$C$6","v":"C-3333"},{"$f":"$B$79","v":0},{"$f":"$C$79","v":2},{"$f":"$D$79","v":63},120821,null,{"$f":"'Dairy Miscellaneous 4'!H18","v":0},{"$f":"'Dairy Miscellaneous 4'!I18","v":0}]
[{"$f":"'Cow Housing'!$C$6","v":"C-3333"},{"$f":"$B$79","v":0},{"$f":"$C$79","v":2},{"$f":"$D$79","v":63},123728,null,{"$f":"'Dairy Miscellaneous 4'!H28","v":0},{"$f":"'Dairy Miscellaneous 4'!I28","v":0}]
[{"$f":"'Cow Housing'!$C$6","v":"C-3333"},{"$f":"$B$79","v":0},{"$f":"$C$79","v":2},{"$f":"$D$79","v":63},123911,null,{"$f":"'Dairy Miscellaneous 4'!H22","v":0},{"$f":"'Dairy Miscellaneous 4'!I22","v":0}]
[{"$f":"'Cow Housing'!$C$6","v":"C-3333"},{"$f":"$B$79","v":0},{"$f":"$C$79","v":2},{"$f":"$D$79","v":63},541731,null,{"$f":"'Dairy Miscellaneous 4'!H21","v":0},{"$f":"'Dairy Miscellaneous 4'!I21","v":0}]
[{"$f":"'Cow Housing'!$C$6","v":"C-3333"},{"$f":"$B$79","v":0},{"$f":"$C$79","v":2},{"$f":"$D$79","v":63},764410,null,{"$f":"'Dairy Miscellaneous 4'!H47","v":0},{"$f":"'Dairy Miscellaneous 4'!I47","v":0}]
[{"$f":"'Cow Housing'!$C$6","v":"C-3333"},{"$f":"$B$79","v":0},{"$f":"$C$79","v":2},{"$f":"$D$79","v":63},1330207,null,{"$f":"'Dairy Miscellaneous 4'!H51","v":0},{"$f":"'Dairy Miscellaneous 4'!I51","v":0}]
[{"$f":"'Cow Housing'!$C$6","v":"C-3333"},{"$f":"$B$79","v":0},{"$f":"$C$79","v":2},{"$f":"$D$79","v":63},4170303,null,{"$f":"'Dairy Miscellaneous 4'!H34","v":0},{"$f":"'Dairy Miscellaneous 4'!I34","v":0}]
[{"$f":"'Cow Housing'!$C$6","v":"C-3333"},{"$f":"$B$79","v":0},{"$f":"$C$79","v":2},{"$f":"$D$79","v":63},7429905,null,{"$f":"'Livestock PM10 4'!H14","v":0},{"$f":"'Livestock PM10 4'!I14","v":0}]
[{"$f":"'Cow Housing'!$C$6","v":"C-3333"},{"$f":"$B$79","v":0},{"$f":"$C$79","v":2},{"$f":"$D$79","v":63},7439921,null,{"$f":"'Livestock PM10 4'!H22","v":0},{"$f":"'Livestock PM10 4'!I22","v":0}]
[{"$f":"'Cow Housing'!$C$6","v":"C-3333"},{"$f":"$B$79","v":0},{"$f":"$C$79","v":2},{"$f":"$D$79","v":63},7439965,null,{"$f":"'Livestock PM10 4'!H23","v":0},{"$f":"'Livestock PM10 4'!I23","v":0}]
[{"$f":"'Cow Housing'!$C$6","v":"C-3333"},{"$f":"$B$79","v":0},{"$f":"$C$79","v":2},{"$f":"$D$79","v":63},7439976,null,{"$f":"'Livestock PM10 4'!H24","v":0},{"$f":"'Livestock PM10 4'!I24","v":0}]
[{"$f":"'Cow Housing'!$C$6","v":"C-3333"},{"$f":"$B$79","v":0},{"$f":"$C$79","v":2},{"$f":"$D$79","v":63},7440020,null,{"$f":"'Livestock PM10 4'!H25","v":0},{"$f":"'Livestock PM10 4'!I25","v":0}]
[{"$f":"'Cow Housing'!$C$6","v":"C-3333"},{"$f":"$B$79","v":0},{"$f":"$C$79","v":2},{"$f":"$D$79","v":63},7440360,null,{"$f":"'Livestock PM10 4'!H15","v":0},{"$f":"'Livestock PM10 4'!I15","v":0}]
[{"$f":"'Cow Housing'!$C$6","v":"C-3333"},{"$f":"$B$79","v":0},{"$f":"$C$79","v":2},{"$f":"$D$79","v":63},7440382,null,{"$f":"'Livestock PM10 4'!H16","v":0},{"$f":"'Livestock PM10 4'!I16","v":0}]
[{"$f":"'Cow Housing'!$C$6","v":"C-3333"},{"$f":"$B$79","v":0},{"$f":"$C$79","v":2},{"$f":"$D$79","v":63},7440393,null,{"$f":"'Livestock PM10 4'!H17","v":0},{"$f":"'Livestock PM10 4'!I17","v":0}]
[{"$f":"'Cow Housing'!$C$6","v":"C-3333"},{"$f":"$B$79","v":0},{"$f":"$C$79","v":2},{"$f":"$D$79","v":63},7440473,null,{"$f":"'Livestock PM10 4'!H19","v":0},{"$f":"'Livestock PM10 4'!I19","v":0}]
[{"$f":"'Cow Housing'!$C$6","v":"C-3333"},{"$f":"$B$79","v":0},{"$f":"$C$79","v":2},{"$f":"$D$79","v":63},7440508,null,{"$f":"'Livestock PM10 4'!H20","v":0},{"$f":"'Livestock PM10 4'!I20","v":0}]
[{"$f":"'Cow Housing'!$C$6","v":"C-3333"},{"$f":"$B$79","v":0},{"$f":"$C$79","v":2},{"$f":"$D$79","v":63},7440622,null,{"$f":"'Livestock PM10 4'!H29","v":0},{"$f":"'Livestock PM10 4'!I29","v":0}]
[{"$f":"'Cow Housing'!$C$6","v":"C-3333"},{"$f":"$B$79","v":0},{"$f":"$C$79","v":2},{"$f":"$D$79","v":63},7440666,null,{"$f":"'Livestock PM10 4'!H30","v":0},{"$f":"'Livestock PM10 4'!I30","v":0}]
[{"$f":"'Cow Housing'!$C$6","v":"C-3333"},{"$f":"$B$79","v":0},{"$f":"$C$79","v":2},{"$f":"$D$79","v":63},7664417,null,{"$f":"'Livestock PM10 4'!H31","v":0},{"$f":"'Livestock PM10 4'!I31","v":0}]
[{"$f":"'Cow Housing'!$C$6","v":"C-3333"},{"$f":"$B$79","v":0},{"$f":"$C$79","v":2},{"$f":"$D$79","v":63},7723140,null,{"$f":"'Livestock PM10 4'!H26","v":0},{"$f":"'Livestock PM10 4'!I26","v":0}]
[{"$f":"'Cow Housing'!$C$6","v":"C-3333"},{"$f":"$B$79","v":0},{"$f":"$C$79","v":2},{"$f":"$D$79","v":63},7726956,null,{"$f":"'Livestock PM10 4'!H18","v":0},{"$f":"'Livestock PM10 4'!I18","v":0}]
[{"$f":"'Cow Housing'!$C$6","v":"C-3333"},{"$f":"$B$79","v":0},{"$f":"$C$79","v":2},{"$f":"$D$79","v":63},7782492,null,{"$f":"'Livestock PM10 4'!H27","v":0},{"$f":"'Livestock PM10 4'!I27","v":0}]
[{"$f":"'Cow Housing'!$C$6","v":"C-3333"},{"$f":"$B$79","v":0},{"$f":"$C$79","v":2},{"$f":"$D$79","v":63},18540299,null,{"$f":"'Livestock PM10 4'!H21","v":0},{"$f":"'Livestock PM10 4'!I21","v":0}]
[{"$f":"'Cow Housing'!$C$6","v":"C-3333"},{"$f":"$B$80","v":0},{"$f":"$C$80","v":2},{"$f":"$D$80","v":64},9960,null,{"$f":"'Livestock PM10 4'!J28","v":0},{"$f":"'Livestock PM10 4'!K28","v":0}]
[{"$f":"'Cow Housing'!$C$6","v":"C-3333"},{"$f":"$B$80","v":0},{"$f":"$C$80","v":2},{"$f":"$D$80","v":64},50000,null,{"$f":"'Dairy Miscellaneous 4'!J40","v":0},{"$f":"'Dairy Miscellaneous 4'!K40","v":0}]
[{"$f":"'Cow Housing'!$C$6","v":"C-3333"},{"$f":"$B$80","v":0},{"$f":"$C$80","v":2},{"$f":"$D$80","v":64},56235,null,{"$f":"'Dairy Miscellaneous 4'!J30","v":0},{"$f":"'Dairy Miscellaneous 4'!K30","v":0}]
[{"$f":"'Cow Housing'!$C$6","v":"C-3333"},{"$f":"$B$80","v":0},{"$f":"$C$80","v":2},{"$f":"$D$80","v":64},67630,null,{"$f":"'Dairy Miscellaneous 4'!J42","v":0},{"$f":"'Dairy Miscellaneous 4'!K42","v":0}]
[{"$f":"'Cow Housing'!$C$6","v":"C-3333"},{"$f":"$B$80","v":0},{"$f":"$C$80","v":2},{"$f":"$D$80","v":64},67663,null,{"$f":"'Dairy Miscellaneous 4'!J32","v":0},{"$f":"'Dairy Miscellaneous 4'!K32","v":0}]
[{"$f":"'Cow Housing'!$C$6","v":"C-3333"},{"$f":"$B$80","v":0},{"$f":"$C$80","v":2},{"$f":"$D$80","v":64},71432,null,{"$f":"'Dairy Miscellaneous 4'!J26","v":0},{"$f":"'Dairy Miscellaneous 4'!K26","v":0}]
[{"$f":"'Cow Housing'!$C$6","v":"C-3333"},{"$f":"$B$80","v":0},{"$f":"$C$80","v":2},{"$f":"$D$80","v":64},74873,null,{"$f":"'Dairy Miscellaneous 4'!J33","v":0},{"$f":"'Dairy Miscellaneous 4'!K33","v":0}]
[{"$f":"'Cow Housing'!$C$6","v":"C-3333"},{"$f":"$B$80","v":0},{"$f":"$C$80","v":2},{"$f":"$D$80","v":64},75003,null,{"$f":"'Dairy Miscellaneous 4'!J36","v":0},{"$f":"'Dairy Miscellaneous 4'!K36","v":0}]
[{"$f":"'Cow Housing'!$C$6","v":"C-3333"},{"$f":"$B$80","v":0},{"$f":"$C$80","v":2},{"$f":"$D$80","v":64},75070,null,{"$f":"'Dairy Miscellaneous 4'!J24","v":0},{"$f":"'Dairy Miscellaneous 4'!K24","v":0}]
[{"$f":"'Cow Housing'!$C$6","v":"C-3333"},{"$f":"$B$80","v":0},{"$f":"$C$80","v":2},{"$f":"$D$80","v":64},75150,null,{"$f":"'Dairy Miscellaneous 4'!J29","v":0},{"$f":"'Dairy Miscellaneous 4'!K29","v":0}]
[{"$f":"'Cow Housing'!$C$6","v":"C-3333"},{"$f":"$B$80","v":0},{"$f":"$C$80","v":2},{"$f":"$D$80","v":64},75694,null,{"$f":"'Dairy Miscellaneous 4'!J49","v":0},{"$f":"'Dairy Miscellaneous 4'!K49","v":0}]
[{"$f":"'Cow Housing'!$C$6","v":"C-3333"},{"$f":"$B$80","v":0},{"$f":"$C$80","v":2},{"$f":"$D$80","v":64},78933,null,{"$f":"'Dairy Miscellaneous 4'!J44","v":0},{"$f":"'Dairy Miscellaneous 4'!K44","v":0}]
[{"$f":"'Cow Housing'!$C$6","v":"C-3333"},{"$f":"$B$80","v":0},{"$f":"$C$80","v":2},{"$f":"$D$80","v":64},79005,null,{"$f":"'Dairy Miscellaneous 4'!J16","v":0},{"$f":"'Dairy Miscellaneous 4'!K16","v":0}]
[{"$f":"'Cow Housing'!$C$6","v":"C-3333"},{"$f":"$B$80","v":0},{"$f":"$C$80","v":2},{"$f":"$D$80","v":64},79345,null,{"$f":"'Dairy Miscellaneous 4'!J15","v":0},{"$f":"'Dairy Miscellaneous 4'!K15","v":0}]
[{"$f":"'Cow Housing'!$C$6","v":"C-3333"},{"$f":"$B$80","v":0},{"$f":"$C$80","v":2},{"$f":"$D$80","v":64},95501,null,{"$f":"'Dairy Miscellaneous 4'!J20","v":0},{"$f":"'Dairy Miscellaneous 4'!K20","v":0}]
[{"$f":"'Cow Housing'!$C$6","v":"C-3333"},{"$f":"$B$80","v":0},{"$f":"$C$80","v":2},{"$f":"$D$80","v":64},96128,null,{"$f":"'Dairy Miscellaneous 4'!J19","v":0},{"$f":"'Dairy Miscellaneous 4'!K19","v":0}]
[{"$f":"'Cow Housing'!$C$6","v":"C-3333"},{"$f":"$B$80","v":0},{"$f":"$C$80","v":2},{"$f":"$D$80","v":64},96184,null,{"$f":"'Dairy Miscellaneous 4'!J17","v":0},{"$f":"'Dairy Miscellaneous 4'!K17","v":0}]
[{"$f":"'Cow Housing'!$C$6","v":"C-3333"},{"$f":"$B$80","v":0},{"$f":"$C$80","v":2},{"$f":"$D$80","v":64},98828,null,{"$f":"'Dairy Miscellaneous 4'!J43","v":0},{"$f":"'Dairy Miscellaneous 4'!K43","v":0}]
[{"$f":"'Cow Housing'!$C$6","v":"C-3333"},{"$f":"$B$80","v":0},{"$f":"$C$80","v":2},{"$f":"$D$80","v":64},100414,null,{"$f":"'Dairy Miscellaneous 4'!J37","v":0},{"$f":"'Dairy Miscellaneous 4'!K37","v":0}]
[{"$f":"'Cow Housing'!$C$6","v":"C-3333"},{"$f":"$B$80","v":0},{"$f":"$C$80","v":2},{"$f":"$D$80","v":64},100425,null,{"$f":"'Dairy Miscellaneous 4'!#REF!","v":{"$error":"#REF!"}},{"$f":"'Dairy Miscellaneous 4'!#REF!","v":{"$error":"#REF!"}}]
[{"$f":"'Cow Housing'!$C$6","v":"C-3333"},{"$f":"$B$80","v":0},{"$f":"$C$80","v":2},{"$f":"$D$80","v":64},100447,null,{"$f":"'Dairy Miscellaneous 4'!J27","v":0},{"$f":"'Dairy Miscellaneous 4'!K27","v":0}]
[{"$f":"'Cow Housing'!$C$6","v":"C-3333"},{"$f":"$B$80","v":0},{"$f":"$C$80","v":2},{"$f":"$D$80","v":64},106467,null,{"$f":"'Dairy Miscellaneous 4'!J23","v":0},{"$f":"'Dairy Miscellaneous 4'!K23","v":0}]
[{"$f":"'Cow Housing'!$C$6","v":"C-3333"},{"$f":"$B$80","v":0},{"$f":"$C$80","v":2},{"$f":"$D$80","v":64},106934,null,{"$f":"'Dairy Miscellaneous 4'!J38","v":0},{"$f":"'Dairy Miscellaneous 4'!K38","v":0}]
[{"$f":"'Cow Housing'!$C$6","v":"C-3333"},{"$f":"$B$80","v":0},{"$f":"$C$80","v":2},{"$f":"$D$80","v":64},107062,null,{"$f":"'Dairy Miscellaneous 4'!J39","v":0},{"$f":"'Dairy Miscellaneous 4'!K39","v":0}]
[{"$f":"'Cow Housing'!$C$6","v":"C-3333"},{"$f":"$B$80","v":0},{"$f":"$C$80","v":2},{"$f":"$D$80","v":64},107131,null,{"$f":"'Dairy Miscellaneous 4'!J25","v":0},{"$f":"'Dairy Miscellaneous 4'!K25","v":0}]
[{"$f":"'Cow Housing'!$C$6","v":"C-3333"},{"$f":"$B$80","v":0},{"$f":"$C$80","v":2},{"$f":"$D$80","v":64},108054,null,{"$f":"'Dairy Miscellaneous 4'!J50","v":0},{"$f":"'Dairy Miscellaneous 4'!K50","v":0}]
[{"$f":"'Cow Housing'!$C$6","v":"C-3333"},{"$f":"$B$80","v":0},{"$f":"$C$80","v":2},{"$f":"$D$80","v":64},108101,null,{"$f":"'Dairy Miscellaneous 4'!J45","v":0},{"$f":"'Dairy Miscellaneous 4'!K45","v":0}]
[{"$f":"'Cow Housing'!$C$6","v":"C-3333"},{"$f":"$B$80","v":0},{"$f":"$C$80","v":2},{"$f":"$D$80","v":64},108883,null,{"$f":"'Dairy Miscellaneous 4'!J48","v":0},{"$f":"'Dairy Miscellaneous 4'!K48","v":0}]
[{"$f":"'Cow Housing'!$C$6","v":"C-3333"},{"$f":"$B$80","v":0},{"$f":"$C$80","v":2},{"$f":"$D$80","v":64},108907,null,{"$f":"'Dairy Miscellaneous 4'!J31","v":0},{"$f":"'Dairy Miscellaneous 4'!K31","v":0}]
[{"$f":"'Cow Housing'!$C$6","v":"C-3333"},{"$f":"$B$80","v":0},{"$f":"$C$80","v":2},{"$f":"$D$80","v":64},110543,null,{"$f":"'Dairy Miscellaneous 4'!J41","v":0},{"$f":"'Dairy Miscellaneous 4'!K41","v":0}]
[{"$f":"'Cow Housing'!$C$6","v":"C-3333"},{"$f":"$B$80","v":0},{"$f":"$C$80","v":2},{"$f":"$D$80","v":64},110827,null,{"$f":"'Dairy Miscellaneous 4'!J35","v":0},{"$f":"'Dairy Miscellaneous 4'!K35","v":0}]
[{"$f":"'Cow Housing'!$C$6","v":"C-3333"},{"$f":"$B$80","v":0},{"$f":"$C$80","v":2},{"$f":"$D$80","v":64},120821,null,{"$f":"'Dairy Miscellaneous 4'!J18","v":0},{"$f":"'Dairy Miscellaneous 4'!K18","v":0}]
[{"$f":"'Cow Housing'!$C$6","v":"C-3333"},{"$f":"$B$80","v":0},{"$f":"$C$80","v":2},{"$f":"$D$80","v":64},123728,null,{"$f":"'Dairy Miscellaneous 4'!J28","v":0},{"$f":"'Dairy Miscellaneous 4'!K28","v":0}]
[{"$f":"'Cow Housing'!$C$6","v":"C-3333"},{"$f":"$B$80","v":0},{"$f":"$C$80","v":2},{"$f":"$D$80","v":64},123911,null,{"$f":"'Dairy Miscellaneous 4'!J22","v":0},{"$f":"'Dairy Miscellaneous 4'!K22","v":0}]
[{"$f":"'Cow Housing'!$C$6","v":"C-3333"},{"$f":"$B$80","v":0},{"$f":"$C$80","v":2},{"$f":"$D$80","v":64},541731,null,{"$f":"'Dairy Miscellaneous 4'!J21","v":0},{"$f":"'Dairy Miscellaneous 4'!K21","v":0}]
[{"$f":"'Cow Housing'!$C$6","v":"C-3333"},{"$f":"$B$80","v":0},{"$f":"$C$80","v":2},{"$f":"$D$80","v":64},764410,null,{"$f":"'Dairy Miscellaneous 4'!J47","v":0},{"$f":"'Dairy Miscellaneous 4'!K47","v":0}]
[{"$f":"'Cow Housing'!$C$6","v":"C-3333"},{"$f":"$B$80","v":0},{"$f":"$C$80","v":2},{"$f":"$D$80","v":64},1330207,null,{"$f":"'Dairy Miscellaneous 4'!J51","v":0},{"$f":"'Dairy Miscellaneous 4'!K51","v":0}]
[{"$f":"'Cow Housing'!$C$6","v":"C-3333"},{"$f":"$B$80","v":0},{"$f":"$C$80","v":2},{"$f":"$D$80","v":64},4170303,null,{"$f":"'Dairy Miscellaneous 4'!J34","v":0},{"$f":"'Dairy Miscellaneous 4'!K34","v":0}]
[{"$f":"'Cow Housing'!$C$6","v":"C-3333"},{"$f":"$B$80","v":0},{"$f":"$C$80","v":2},{"$f":"$D$80","v":64},7429905,null,{"$f":"'Livestock PM10 4'!J14","v":0},{"$f":"'Livestock PM10 4'!K14","v":0}]
[{"$f":"'Cow Housing'!$C$6","v":"C-3333"},{"$f":"$B$80","v":0},{"$f":"$C$80","v":2},{"$f":"$D$80","v":64},7439921,null,{"$f":"'Livestock PM10 4'!J22","v":0},{"$f":"'Livestock PM10 4'!K22","v":0}]
[{"$f":"'Cow Housing'!$C$6","v":"C-3333"},{"$f":"$B$80","v":0},{"$f":"$C$80","v":2},{"$f":"$D$80","v":64},7439965,null,{"$f":"'Livestock PM10 4'!J23","v":0},{"$f":"'Livestock PM10 4'!K23","v":0}]
[{"$f":"'Cow Housing'!$C$6","v":"C-3333"},{"$f":"$B$80","v":0},{"$f":"$C$80","v":2},{"$f":"$D$80","v":64},7439976,null,{"$f":"'Livestock PM10 4'!J24","v":0},{"$f":"'Livestock PM10 4'!K24","v":0}]
[{"$f":"'Cow Housing'!$C$6","v":"C-3333"},{"$f":"$B$80","v":0},{"$f":"$C$80","v":2},{"$f":"$D$80","v":64},7440020,null,{"$f":"'Livestock PM10 4'!J25","v":0},{"$f":"'Livestock PM10 4'!K25","v":0}]
[{"$f":"'Cow Housing'!$C$6","v":"C-3333"},{"$f":"$B$80","v":0},{"$f":"$C$80","v":2},{"$f":"$D$80","v":64},7440360,null,{"$f":"'Livestock PM10 4'!J15","v":0},{"$f":"'Livestock PM10 4'!K15","v":0}]
[{"$f":"'Cow Housing'!$C$6","v":"C-3333"},{"$f":"$B$80","v":0},{"$f":"$C$80","v":2},{"$f":"$D$80","v":64},7440382,null,{"$f":"'Livestock PM10 4'!J16","v":0},{"$f":"'Livestock PM10 4'!K16","v":0}]
[{"$f":"'Cow Housing'!$C$6","v":"C-3333"},{"$f":"$B$80","v":0},{"$f":"$C$80","v":2},{"$f":"$D$80","v":64},7440393,null,{"$f":"'Livestock PM10 4'!J17","v":0},{"$f":"'Livestock PM10 4'!K17","v":0}]
[{"$f":"'Cow Housing'!$C$6","v":"C-3333"},{"$f":"$B$80","v":0},{"$f":"$C$80","v":2},{"$f":"$D$80","v":64},7440473,null,{"$f":"'Livestock PM10 4'!J19","v":0},{"$f":"'Livestock PM10 4'!K19","v":0}]
[{"$f":"'Cow Housing'!$C$6","v":"C-3333"},{"$f":"$B$80","v":0},{"$f":"$C$80","v":2},{"$f":"$D$80","v":64},7440508,null,{"$f":"'Livestock PM10 4'!J20","v":0},{"$f":"'Livestock PM10 4'!K20","v":0}]
[{"$f":"'Cow Housing'!$C$6","v":"C-3333"},{"$f":"$B$80","v":0},{"$f":"$C$80","v":2},{"$f":"$D$80","v":64},7440622,null,{"$f":"'Livestock PM10 4'!J29","v":0},{"$f":"'Livestock PM10 4'!K29","v":0}]
[{"$f":"'Cow Housing'!$C$6","v":"C-3333"},{"$f":"$B$80","v":0},{"$f":"$C$80","v":2},{"$f":"$D$80","v":64},7440666,null,{"$f":"'Livestock PM10 4'!J30","v":0},{"$f":"'Livestock PM10 4'!K30","v":0}]
[{"$f":"'Cow Housing'!$C$6","v":"C-3333"},{"$f":"$B$80","v":0},{"$f":"$C$80","v":2},{"$f":"$D$80","v":64},7664417,null,{"$f":"'Livestock PM10 4'!J31","v":0},{"$f":"'Livestock PM10 4'!K31","v":0}]
[{"$f":"'Cow Housing'!$C$6","v":"C-3333"},{"$f":"$B$80","v":0},{"$f":"$C$80","v":2},{"$f":"$D$80","v":64},7723140,null,{"$f":"'Livestock PM10 4'!J26","v":0},{"$f":"'Livestock PM10 4'!K26","v":0}]
[{"$f":"'Cow Housing'!$C$6","v":"C-3333"},{"$f":"$B$80","v":0},{"$f":"$C$80","v":2},{"$f":"$D$80","v":64},7726956,null,{"$f":"'Livestock PM10 4'!J18","v":0},{"$f":"'Livestock PM10 4'!K18","v":0}]
[{"$f":"'Cow Housing'!$C$6","v":"C-3333"},{"$f":"$B$80","v":0},{"$f":"$C$80","v":2},{"$f":"$D$80","v":64},7782492,null,{"$f":"'Livestock PM10 4'!J27","v":0},{"$f":"'Livestock PM10 4'!K27","v":0}]
[{"$f":"'Cow Housing'!$C$6","v":"C-3333"},{"$f":"$B$80","v":0},{"$f":"$C$80","v":2},{"$f":"$D$80","v":64},18540299,null,{"$f":"'Livestock PM10 4'!J21","v":0},{"$f":"'Livestock PM10 4'!K21","v":0}]
[{"$f":"'Cow Housing'!$C$6","v":"C-3333"},{"$f":"$B$81","v":0},{"$f":"$C$81","v":2},{"$f":"$D$81","v":65},9960,null,{"$f":"'Livestock PM10 4'!L28","v":0},{"$f":"'Livestock PM10 4'!M28","v":0}]
[{"$f":"'Cow Housing'!$C$6","v":"C-3333"},{"$f":"$B$81","v":0},{"$f":"$C$81","v":2},{"$f":"$D$81","v":65},50000,null,{"$f":"'Dairy Miscellaneous 4'!L40","v":0},{"$f":"'Dairy Miscellaneous 4'!M40","v":0}]
[{"$f":"'Cow Housing'!$C$6","v":"C-3333"},{"$f":"$B$81","v":0},{"$f":"$C$81","v":2},{"$f":"$D$81","v":65},56235,null,{"$f":"'Dairy Miscellaneous 4'!L30","v":0},{"$f":"'Dairy Miscellaneous 4'!M30","v":0}]
[{"$f":"'Cow Housing'!$C$6","v":"C-3333"},{"$f":"$B$81","v":0},{"$f":"$C$81","v":2},{"$f":"$D$81","v":65},67630,null,{"$f":"'Dairy Miscellaneous 4'!L42","v":0},{"$f":"'Dairy Miscellaneous 4'!M42","v":0}]
[{"$f":"'Cow Housing'!$C$6","v":"C-3333"},{"$f":"$B$81","v":0},{"$f":"$C$81","v":2},{"$f":"$D$81","v":65},67663,null,{"$f":"'Dairy Miscellaneous 4'!L32","v":0},{"$f":"'Dairy Miscellaneous 4'!M32","v":0}]
[{"$f":"'Cow Housing'!$C$6","v":"C-3333"},{"$f":"$B$81","v":0},{"$f":"$C$81","v":2},{"$f":"$D$81","v":65},71432,null,{"$f":"'Dairy Miscellaneous 4'!L26","v":0},{"$f":"'Dairy Miscellaneous 4'!M26","v":0}]
[{"$f":"'Cow Housing'!$C$6","v":"C-3333"},{"$f":"$B$81","v":0},{"$f":"$C$81","v":2},{"$f":"$D$81","v":65},74873,null,{"$f":"'Dairy Miscellaneous 4'!L33","v":0},{"$f":"'Dairy Miscellaneous 4'!M33","v":0}]
[{"$f":"'Cow Housing'!$C$6","v":"C-3333"},{"$f":"$B$81","v":0},{"$f":"$C$81","v":2},{"$f":"$D$81","v":65},75003,null,{"$f":"'Dairy Miscellaneous 4'!L36","v":0},{"$f":"'Dairy Miscellaneous 4'!M36","v":0}]
[{"$f":"'Cow Housing'!$C$6","v":"C-3333"},{"$f":"$B$81","v":0},{"$f":"$C$81","v":2},{"$f":"$D$81","v":65},75070,null,{"$f":"'Dairy Miscellaneous 4'!L24","v":0},{"$f":"'Dairy Miscellaneous 4'!M24","v":0}]
[{"$f":"'Cow Housing'!$C$6","v":"C-3333"},{"$f":"$B$81","v":0},{"$f":"$C$81","v":2},{"$f":"$D$81","v":65},75150,null,{"$f":"'Dairy Miscellaneous 4'!L29","v":0},{"$f":"'Dairy Miscellaneous 4'!M29","v":0}]
[{"$f":"'Cow Housing'!$C$6","v":"C-3333"},{"$f":"$B$81","v":0},{"$f":"$C$81","v":2},{"$f":"$D$81","v":65},75694,null,{"$f":"'Dairy Miscellaneous 4'!L49","v":0},{"$f":"'Dairy Miscellaneous 4'!M49","v":0}]
[{"$f":"'Cow Housing'!$C$6","v":"C-3333"},{"$f":"$B$81","v":0},{"$f":"$C$81","v":2},{"$f":"$D$81","v":65},78933,null,{"$f":"'Dairy Miscellaneous 4'!L44","v":0},{"$f":"'Dairy Miscellaneous 4'!M44","v":0}]
[{"$f":"'Cow Housing'!$C$6","v":"C-3333"},{"$f":"$B$81","v":0},{"$f":"$C$81","v":2},{"$f":"$D$81","v":65},79005,null,{"$f":"'Dairy Miscellaneous 4'!L16","v":0},{"$f":"'Dairy Miscellaneous 4'!M16","v":0}]
[{"$f":"'Cow Housing'!$C$6","v":"C-3333"},{"$f":"$B$81","v":0},{"$f":"$C$81","v":2},{"$f":"$D$81","v":65},79345,null,{"$f":"'Dairy Miscellaneous 4'!L15","v":0},{"$f":"'Dairy Miscellaneous 4'!M15","v":0}]
[{"$f":"'Cow Housing'!$C$6","v":"C-3333"},{"$f":"$B$81","v":0},{"$f":"$C$81","v":2},{"$f":"$D$81","v":65},95501,null,{"$f":"'Dairy Miscellaneous 4'!L20","v":0},{"$f":"'Dairy Miscellaneous 4'!M20","v":0}]
[{"$f":"'Cow Housing'!$C$6","v":"C-3333"},{"$f":"$B$81","v":0},{"$f":"$C$81","v":2},{"$f":"$D$81","v":65},96128,null,{"$f":"'Dairy Miscellaneous 4'!L19","v":0},{"$f":"'Dairy Miscellaneous 4'!M19","v":0}]
[{"$f":"'Cow Housing'!$C$6","v":"C-3333"},{"$f":"$B$81","v":0},{"$f":"$C$81","v":2},{"$f":"$D$81","v":65},96184,null,{"$f":"'Dairy Miscellaneous 4'!L17","v":0},{"$f":"'Dairy Miscellaneous 4'!M17","v":0}]
[{"$f":"'Cow Housing'!$C$6","v":"C-3333"},{"$f":"$B$81","v":0},{"$f":"$C$81","v":2},{"$f":"$D$81","v":65},98828,null,{"$f":"'Dairy Miscellaneous 4'!L43","v":0},{"$f":"'Dairy Miscellaneous 4'!M43","v":0}]
[{"$f":"'Cow Housing'!$C$6","v":"C-3333"},{"$f":"$B$81","v":0},{"$f":"$C$81","v":2},{"$f":"$D$81","v":65},100414,null,{"$f":"'Dairy Miscellaneous 4'!L37","v":0},{"$f":"'Dairy Miscellaneous 4'!M37","v":0}]
[{"$f":"'Cow Housing'!$C$6","v":"C-3333"},{"$f":"$B$81","v":0},{"$f":"$C$81","v":2},{"$f":"$D$81","v":65},100425,null,{"$f":"'Dairy Miscellaneous 4'!#REF!","v":{"$error":"#REF!"}},{"$f":"'Dairy Miscellaneous 4'!#REF!","v":{"$error":"#REF!"}}]
[{"$f":"'Cow Housing'!$C$6","v":"C-3333"},{"$f":"$B$81","v":0},{"$f":"$C$81","v":2},{"$f":"$D$81","v":65},100447,null,{"$f":"'Dairy Miscellaneous 4'!L27","v":0},{"$f":"'Dairy Miscellaneous 4'!M27","v":0}]
[{"$f":"'Cow Housing'!$C$6","v":"C-3333"},{"$f":"$B$81","v":0},{"$f":"$C$81","v":2},{"$f":"$D$81","v":65},106467,null,{"$f":"'Dairy Miscellaneous 4'!L23","v":0},{"$f":"'Dairy Miscellaneous 4'!M23","v":0}]
[{"$f":"'Cow Housing'!$C$6","v":"C-3333"},{"$f":"$B$81","v":0},{"$f":"$C$81","v":2},{"$f":"$D$81","v":65},106934,null,{"$f":"'Dairy Miscellaneous 4'!L38","v":0},{"$f":"'Dairy Miscellaneous 4'!M38","v":0}]
[{"$f":"'Cow Housing'!$C$6","v":"C-3333"},{"$f":"$B$81","v":0},{"$f":"$C$81","v":2},{"$f":"$D$81","v":65},107062,null,{"$f":"'Dairy Miscellaneous 4'!L39","v":0},{"$f":"'Dairy Miscellaneous 4'!M39","v":0}]
[{"$f":"'Cow Housing'!$C$6","v":"C-3333"},{"$f":"$B$81","v":0},{"$f":"$C$81","v":2},{"$f":"$D$81","v":65},107131,null,{"$f":"'Dairy Miscellaneous 4'!L25","v":0},{"$f":"'Dairy Miscellaneous 4'!M25","v":0}]
[{"$f":"'Cow Housing'!$C$6","v":"C-3333"},{"$f":"$B$81","v":0},{"$f":"$C$81","v":2},{"$f":"$D$81","v":65},108054,null,{"$f":"'Dairy Miscellaneous 4'!L50","v":0},{"$f":"'Dairy Miscellaneous 4'!M50","v":0}]
[{"$f":"'Cow Housing'!$C$6","v":"C-3333"},{"$f":"$B$81","v":0},{"$f":"$C$81","v":2},{"$f":"$D$81","v":65},108101,null,{"$f":"'Dairy Miscellaneous 4'!L45","v":0},{"$f":"'Dairy Miscellaneous 4'!M45","v":0}]
[{"$f":"'Cow Housing'!$C$6","v":"C-3333"},{"$f":"$B$81","v":0},{"$f":"$C$81","v":2},{"$f":"$D$81","v":65},108883,null,{"$f":"'Dairy Miscellaneous 4'!L48","v":0},{"$f":"'Dairy Miscellaneous 4'!M48","v":0}]
[{"$f":"'Cow Housing'!$C$6","v":"C-3333"},{"$f":"$B$81","v":0},{"$f":"$C$81","v":2},{"$f":"$D$81","v":65},108907,null,{"$f":"'Dairy Miscellaneous 4'!L31","v":0},{"$f":"'Dairy Miscellaneous 4'!M31","v":0}]
[{"$f":"'Cow Housing'!$C$6","v":"C-3333"},{"$f":"$B$81","v":0},{"$f":"$C$81","v":2},{"$f":"$D$81","v":65},110543,null,{"$f":"'Dairy Miscellaneous 4'!L41","v":0},{"$f":"'Dairy Miscellaneous 4'!M41","v":0}]
[{"$f":"'Cow Housing'!$C$6","v":"C-3333"},{"$f":"$B$81","v":0},{"$f":"$C$81","v":2},{"$f":"$D$81","v":65},110827,null,{"$f":"'Dairy Miscellaneous 4'!L35","v":0},{"$f":"'Dairy Miscellaneous 4'!M35","v":0}]
[{"$f":"'Cow Housing'!$C$6","v":"C-3333"},{"$f":"$B$81","v":0},{"$f":"$C$81","v":2},{"$f":"$D$81","v":65},120821,null,{"$f":"'Dairy Miscellaneous 4'!L18","v":0},{"$f":"'Dairy Miscellaneous 4'!M18","v":0}]
[{"$f":"'Cow Housing'!$C$6","v":"C-3333"},{"$f":"$B$81","v":0},{"$f":"$C$81","v":2},{"$f":"$D$81","v":65},123728,null,{"$f":"'Dairy Miscellaneous 4'!L28","v":0},{"$f":"'Dairy Miscellaneous 4'!M28","v":0}]
[{"$f":"'Cow Housing'!$C$6","v":"C-3333"},{"$f":"$B$81","v":0},{"$f":"$C$81","v":2},{"$f":"$D$81","v":65},123911,null,{"$f":"'Dairy Miscellaneous 4'!L22","v":0},{"$f":"'Dairy Miscellaneous 4'!M22","v":0}]
[{"$f":"'Cow Housing'!$C$6","v":"C-3333"},{"$f":"$B$81","v":0},{"$f":"$C$81","v":2},{"$f":"$D$81","v":65},541731,null,{"$f":"'Dairy Miscellaneous 4'!L21","v":0},{"$f":"'Dairy Miscellaneous 4'!M21","v":0}]
[{"$f":"'Cow Housing'!$C$6","v":"C-3333"},{"$f":"$B$81","v":0},{"$f":"$C$81","v":2},{"$f":"$D$81","v":65},764410,null,{"$f":"'Dairy Miscellaneous 4'!L47","v":0},{"$f":"'Dairy Miscellaneous 4'!M47","v":0}]
[{"$f":"'Cow Housing'!$C$6","v":"C-3333"},{"$f":"$B$81","v":0},{"$f":"$C$81","v":2},{"$f":"$D$81","v":65},1330207,null,{"$f":"'Dairy Miscellaneous 4'!L51","v":0},{"$f":"'Dairy Miscellaneous 4'!M51","v":0}]
[{"$f":"'Cow Housing'!$C$6","v":"C-3333"},{"$f":"$B$81","v":0},{"$f":"$C$81","v":2},{"$f":"$D$81","v":65},4170303,null,{"$f":"'Dairy Miscellaneous 4'!L34","v":0},{"$f":"'Dairy Miscellaneous 4'!M34","v":0}]
[{"$f":"'Cow Housing'!$C$6","v":"C-3333"},{"$f":"$B$81","v":0},{"$f":"$C$81","v":2},{"$f":"$D$81","v":65},7429905,null,{"$f":"'Livestock PM10 4'!L14","v":0},{"$f":"'Livestock PM10 4'!M14","v":0}]
[{"$f":"'Cow Housing'!$C$6","v":"C-3333"},{"$f":"$B$81","v":0},{"$f":"$C$81","v":2},{"$f":"$D$81","v":65},7439921,null,{"$f":"'Livestock PM10 4'!L22","v":0},{"$f":"'Livestock PM10 4'!M22","v":0}]
[{"$f":"'Cow Housing'!$C$6","v":"C-3333"},{"$f":"$B$81","v":0},{"$f":"$C$81","v":2},{"$f":"$D$81","v":65},7439965,null,{"$f":"'Livestock PM10 4'!L23","v":0},{"$f":"'Livestock PM10 4'!M23","v":0}]
[{"$f":"'Cow Housing'!$C$6","v":"C-3333"},{"$f":"$B$81","v":0},{"$f":"$C$81","v":2},{"$f":"$D$81","v":65},7439976,null,{"$f":"'Livestock PM10 4'!L24","v":0},{"$f":"'Livestock PM10 4'!M24","v":0}]
[{"$f":"'Cow Housing'!$C$6","v":"C-3333"},{"$f":"$B$81","v":0},{"$f":"$C$81","v":2},{"$f":"$D$81","v":65},7440020,null,{"$f":"'Livestock PM10 4'!L25","v":0},{"$f":"'Livestock PM10 4'!M25","v":0}]
[{"$f":"'Cow Housing'!$C$6","v":"C-3333"},{"$f":"$B$81","v":0},{"$f":"$C$81","v":2},{"$f":"$D$81","v":65},7440360,null,{"$f":"'Livestock PM10 4'!L15","v":0},{"$f":"'Livestock PM10 4'!M15","v":0}]
[{"$f":"'Cow Housing'!$C$6","v":"C-3333"},{"$f":"$B$81","v":0},{"$f":"$C$81","v":2},{"$f":"$D$81","v":65},7440382,null,{"$f":"'Livestock PM10 4'!L16","v":0},{"$f":"'Livestock PM10 4'!M16","v":0}]
[{"$f":"'Cow Housing'!$C$6","v":"C-3333"},{"$f":"$B$81","v":0},{"$f":"$C$81","v":2},{"$f":"$D$81","v":65},7440393,null,{"$f":"'Livestock PM10 4'!L17","v":0},{"$f":"'Livestock PM10 4'!M17","v":0}]
[{"$f":"'Cow Housing'!$C$6","v":"C-3333"},{"$f":"$B$81","v":0},{"$f":"$C$81","v":2},{"$f":"$D$81","v":65},7440473,null,{"$f":"'Livestock PM10 4'!L19","v":0},{"$f":"'Livestock PM10 4'!M19","v":0}]
[{"$f":"'Cow Housing'!$C$6","v":"C-3333"},{"$f":"$B$81","v":0},{"$f":"$C$81","v":2},{"$f":"$D$81","v":65},7440508,null,{"$f":"'Livestock PM10 4'!L20","v":0},{"$f":"'Livestock PM10 4'!M20","v":0}]
[{"$f":"'Cow Housing'!$C$6","v":"C-3333"},{"$f":"$B$81","v":0},{"$f":"$C$81","v":2},{"$f":"$D$81","v":65},7440622,null,{"$f":"'Livestock PM10 4'!L29","v":0},{"$f":"'Livestock PM10 4'!M29","v":0}]
[{"$f":"'Cow Housing'!$C$6","v":"C-3333"},{"$f":"$B$81","v":0},{"$f":"$C$81","v":2},{"$f":"$D$81","v":65},7440666,null,{"$f":"'Livestock PM10 4'!L30","v":0},{"$f":"'Livestock PM10 4'!M30","v":0}]
[{"$f":"'Cow Housing'!$C$6","v":"C-3333"},{"$f":"$B$81","v":0},{"$f":"$C$81","v":2},{"$f":"$D$81","v":65},7664417,null,{"$f":"'Livestock PM10 4'!L31","v":0},{"$f":"'Livestock PM10 4'!M31","v":0}]
[{"$f":"'Cow Housing'!$C$6","v":"C-3333"},{"$f":"$B$81","v":0},{"$f":"$C$81","v":2},{"$f":"$D$81","v":65},7723140,null,{"$f":"'Livestock PM10 4'!L26","v":0},{"$f":"'Livestock PM10 4'!M26","v":0}]
[{"$f":"'Cow Housing'!$C$6","v":"C-3333"},{"$f":"$B$81","v":0},{"$f":"$C$81","v":2},{"$f":"$D$81","v":65},7726956,null,{"$f":"'Livestock PM10 4'!L18","v":0},{"$f":"'Livestock PM10 4'!M18","v":0}]
[{"$f":"'Cow Housing'!$C$6","v":"C-3333"},{"$f":"$B$81","v":0},{"$f":"$C$81","v":2},{"$f":"$D$81","v":65},7782492,null,{"$f":"'Livestock PM10 4'!L27","v":0},{"$f":"'Livestock PM10 4'!M27","v":0}]
[{"$f":"'Cow Housing'!$C$6","v":"C-3333"},{"$f":"$B$81","v":0},{"$f":"$C$81","v":2},{"$f":"$D$81","v":65},18540299,null,{"$f":"'Livestock PM10 4'!L21","v":0},{"$f":"'Livestock PM10 4'!M21","v":0}]
[{"$f":"'Cow Housing'!$C$6","v":"C-3333"},{"$f":"$B$82","v":0},{"$f":"$C$82","v":2},{"$f":"$D$82","v":66},9960,null,{"$f":"'Livestock PM10 4'!N28","v":0},{"$f":"'Livestock PM10 4'!O28","v":0}]
[{"$f":"'Cow Housing'!$C$6","v":"C-3333"},{"$f":"$B$82","v":0},{"$f":"$C$82","v":2},{"$f":"$D$82","v":66},50000,null,{"$f":"'Dairy Miscellaneous 4'!N40","v":0},{"$f":"'Dairy Miscellaneous 4'!O40","v":0}]
[{"$f":"'Cow Housing'!$C$6","v":"C-3333"},{"$f":"$B$82","v":0},{"$f":"$C$82","v":2},{"$f":"$D$82","v":66},56235,null,{"$f":"'Dairy Miscellaneous 4'!N30","v":0},{"$f":"'Dairy Miscellaneous 4'!O30","v":0}]
[{"$f":"'Cow Housing'!$C$6","v":"C-3333"},{"$f":"$B$82","v":0},{"$f":"$C$82","v":2},{"$f":"$D$82","v":66},67630,null,{"$f":"'Dairy Miscellaneous 4'!N42","v":0},{"$f":"'Dairy Miscellaneous 4'!O42","v":0}]
[{"$f":"'Cow Housing'!$C$6","v":"C-3333"},{"$f":"$B$82","v":0},{"$f":"$C$82","v":2},{"$f":"$D$82","v":66},67663,null,{"$f":"'Dairy Miscellaneous 4'!N32","v":0},{"$f":"'Dairy Miscellaneous 4'!O32","v":0}]
[{"$f":"'Cow Housing'!$C$6","v":"C-3333"},{"$f":"$B$82","v":0},{"$f":"$C$82","v":2},{"$f":"$D$82","v":66},71432,null,{"$f":"'Dairy Miscellaneous 4'!N26","v":0},{"$f":"'Dairy Miscellaneous 4'!O26","v":0}]
[{"$f":"'Cow Housing'!$C$6","v":"C-3333"},{"$f":"$B$82","v":0},{"$f":"$C$82","v":2},{"$f":"$D$82","v":66},74873,null,{"$f":"'Dairy Miscellaneous 4'!N33","v":0},{"$f":"'Dairy Miscellaneous 4'!O33","v":0}]
[{"$f":"'Cow Housing'!$C$6","v":"C-3333"},{"$f":"$B$82","v":0},{"$f":"$C$82","v":2},{"$f":"$D$82","v":66},75003,null,{"$f":"'Dairy Miscellaneous 4'!N36","v":0},{"$f":"'Dairy Miscellaneous 4'!O36","v":0}]
[{"$f":"'Cow Housing'!$C$6","v":"C-3333"},{"$f":"$B$82","v":0},{"$f":"$C$82","v":2},{"$f":"$D$82","v":66},75070,null,{"$f":"'Dairy Miscellaneous 4'!N24","v":0},{"$f":"'Dairy Miscellaneous 4'!O24","v":0}]
[{"$f":"'Cow Housing'!$C$6","v":"C-3333"},{"$f":"$B$82","v":0},{"$f":"$C$82","v":2},{"$f":"$D$82","v":66},75150,null,{"$f":"'Dairy Miscellaneous 4'!N29","v":0},{"$f":"'Dairy Miscellaneous 4'!O29","v":0}]
[{"$f":"'Cow Housing'!$C$6","v":"C-3333"},{"$f":"$B$82","v":0},{"$f":"$C$82","v":2},{"$f":"$D$82","v":66},75694,null,{"$f":"'Dairy Miscellaneous 4'!N49","v":0},{"$f":"'Dairy Miscellaneous 4'!O49","v":0}]
[{"$f":"'Cow Housing'!$C$6","v":"C-3333"},{"$f":"$B$82","v":0},{"$f":"$C$82","v":2},{"$f":"$D$82","v":66},78933,null,{"$f":"'Dairy Miscellaneous 4'!N44","v":0},{"$f":"'Dairy Miscellaneous 4'!O44","v":0}]
[{"$f":"'Cow Housing'!$C$6","v":"C-3333"},{"$f":"$B$82","v":0},{"$f":"$C$82","v":2},{"$f":"$D$82","v":66},79005,null,{"$f":"'Dairy Miscellaneous 4'!N16","v":0},{"$f":"'Dairy Miscellaneous 4'!O16","v":0}]
[{"$f":"'Cow Housing'!$C$6","v":"C-3333"},{"$f":"$B$82","v":0},{"$f":"$C$82","v":2},{"$f":"$D$82","v":66},79345,null,{"$f":"'Dairy Miscellaneous 4'!N15","v":0},{"$f":"'Dairy Miscellaneous 4'!O15","v":0}]
[{"$f":"'Cow Housing'!$C$6","v":"C-3333"},{"$f":"$B$82","v":0},{"$f":"$C$82","v":2},{"$f":"$D$82","v":66},95501,null,{"$f":"'Dairy Miscellaneous 4'!N20","v":0},{"$f":"'Dairy Miscellaneous 4'!O20","v":0}]
[{"$f":"'Cow Housing'!$C$6","v":"C-3333"},{"$f":"$B$82","v":0},{"$f":"$C$82","v":2},{"$f":"$D$82","v":66},96128,null,{"$f":"'Dairy Miscellaneous 4'!N19","v":0},{"$f":"'Dairy Miscellaneous 4'!O19","v":0}]
[{"$f":"'Cow Housing'!$C$6","v":"C-3333"},{"$f":"$B$82","v":0},{"$f":"$C$82","v":2},{"$f":"$D$82","v":66},96184,null,{"$f":"'Dairy Miscellaneous 4'!N17","v":0},{"$f":"'Dairy Miscellaneous 4'!O17","v":0}]
[{"$f":"'Cow Housing'!$C$6","v":"C-3333"},{"$f":"$B$82","v":0},{"$f":"$C$82","v":2},{"$f":"$D$82","v":66},98828,null,{"$f":"'Dairy Miscellaneous 4'!N43","v":0},{"$f":"'Dairy Miscellaneous 4'!O43","v":0}]
[{"$f":"'Cow Housing'!$C$6","v":"C-3333"},{"$f":"$B$82","v":0},{"$f":"$C$82","v":2},{"$f":"$D$82","v":66},100414,null,{"$f":"'Dairy Miscellaneous 4'!N37","v":0},{"$f":"'Dairy Miscellaneous 4'!O37","v":0}]
[{"$f":"'Cow Housing'!$C$6","v":"C-3333"},{"$f":"$B$82","v":0},{"$f":"$C$82","v":2},{"$f":"$D$82","v":66},100425,null,{"$f":"'Dairy Miscellaneous 4'!#REF!","v":{"$error":"#REF!"}},{"$f":"'Dairy Miscellaneous 4'!#REF!","v":{"$error":"#REF!"}}]
[{"$f":"'Cow Housing'!$C$6","v":"C-3333"},{"$f":"$B$82","v":0},{"$f":"$C$82","v":2},{"$f":"$D$82","v":66},100447,null,{"$f":"'Dairy Miscellaneous 4'!N27","v":0},{"$f":"'Dairy Miscellaneous 4'!O27","v":0}]
[{"$f":"'Cow Housing'!$C$6","v":"C-3333"},{"$f":"$B$82","v":0},{"$f":"$C$82","v":2},{"$f":"$D$82","v":66},106467,null,{"$f":"'Dairy Miscellaneous 4'!N23","v":0},{"$f":"'Dairy Miscellaneous 4'!O23","v":0}]
[{"$f":"'Cow Housing'!$C$6","v":"C-3333"},{"$f":"$B$82","v":0},{"$f":"$C$82","v":2},{"$f":"$D$82","v":66},106934,null,{"$f":"'Dairy Miscellaneous 4'!N38","v":0},{"$f":"'Dairy Miscellaneous 4'!O38","v":0}]
[{"$f":"'Cow Housing'!$C$6","v":"C-3333"},{"$f":"$B$82","v":0},{"$f":"$C$82","v":2},{"$f":"$D$82","v":66},107062,null,{"$f":"'Dairy Miscellaneous 4'!N39","v":0},{"$f":"'Dairy Miscellaneous 4'!O39","v":0}]
[{"$f":"'Cow Housing'!$C$6","v":"C-3333"},{"$f":"$B$82","v":0},{"$f":"$C$82","v":2},{"$f":"$D$82","v":66},107131,null,{"$f":"'Dairy Miscellaneous 4'!N25","v":0},{"$f":"'Dairy Miscellaneous 4'!O25","v":0}]
[{"$f":"'Cow Housing'!$C$6","v":"C-3333"},{"$f":"$B$82","v":0},{"$f":"$C$82","v":2},{"$f":"$D$82","v":66},108054,null,{"$f":"'Dairy Miscellaneous 4'!N50","v":0},{"$f":"'Dairy Miscellaneous 4'!O50","v":0}]
[{"$f":"'Cow Housing'!$C$6","v":"C-3333"},{"$f":"$B$82","v":0},{"$f":"$C$82","v":2},{"$f":"$D$82","v":66},108101,null,{"$f":"'Dairy Miscellaneous 4'!N45","v":0},{"$f":"'Dairy Miscellaneous 4'!O45","v":0}]
[{"$f":"'Cow Housing'!$C$6","v":"C-3333"},{"$f":"$B$82","v":0},{"$f":"$C$82","v":2},{"$f":"$D$82","v":66},108883,null,{"$f":"'Dairy Miscellaneous 4'!N48","v":0},{"$f":"'Dairy Miscellaneous 4'!O48","v":0}]
[{"$f":"'Cow Housing'!$C$6","v":"C-3333"},{"$f":"$B$82","v":0},{"$f":"$C$82","v":2},{"$f":"$D$82","v":66},108907,null,{"$f":"'Dairy Miscellaneous 4'!N31","v":0},{"$f":"'Dairy Miscellaneous 4'!O31","v":0}]
[{"$f":"'Cow Housing'!$C$6","v":"C-3333"},{"$f":"$B$82","v":0},{"$f":"$C$82","v":2},{"$f":"$D$82","v":66},110543,null,{"$f":"'Dairy Miscellaneous 4'!N41","v":0},{"$f":"'Dairy Miscellaneous 4'!O41","v":0}]
[{"$f":"'Cow Housing'!$C$6","v":"C-3333"},{"$f":"$B$82","v":0},{"$f":"$C$82","v":2},{"$f":"$D$82","v":66},110827,null,{"$f":"'Dairy Miscellaneous 4'!N35","v":0},{"$f":"'Dairy Miscellaneous 4'!O35","v":0}]
[{"$f":"'Cow Housing'!$C$6","v":"C-3333"},{"$f":"$B$82","v":0},{"$f":"$C$82","v":2},{"$f":"$D$82","v":66},120821,null,{"$f":"'Dairy Miscellaneous 4'!N18","v":0},{"$f":"'Dairy Miscellaneous 4'!O18","v":0}]
[{"$f":"'Cow Housing'!$C$6","v":"C-3333"},{"$f":"$B$82","v":0},{"$f":"$C$82","v":2},{"$f":"$D$82","v":66},123728,null,{"$f":"'Dairy Miscellaneous 4'!N28","v":0},{"$f":"'Dairy Miscellaneous 4'!O28","v":0}]
[{"$f":"'Cow Housing'!$C$6","v":"C-3333"},{"$f":"$B$82","v":0},{"$f":"$C$82","v":2},{"$f":"$D$82","v":66},123911,null,{"$f":"'Dairy Miscellaneous 4'!N22","v":0},{"$f":"'Dairy Miscellaneous 4'!O22","v":0}]
[{"$f":"'Cow Housing'!$C$6","v":"C-3333"},{"$f":"$B$82","v":0},{"$f":"$C$82","v":2},{"$f":"$D$82","v":66},541731,null,{"$f":"'Dairy Miscellaneous 4'!N21","v":0},{"$f":"'Dairy Miscellaneous 4'!O21","v":0}]
[{"$f":"'Cow Housing'!$C$6","v":"C-3333"},{"$f":"$B$82","v":0},{"$f":"$C$82","v":2},{"$f":"$D$82","v":66},764410,null,{"$f":"'Dairy Miscellaneous 4'!N47","v":0},{"$f":"'Dairy Miscellaneous 4'!O47","v":0}]
[{"$f":"'Cow Housing'!$C$6","v":"C-3333"},{"$f":"$B$82","v":0},{"$f":"$C$82","v":2},{"$f":"$D$82","v":66},1330207,null,{"$f":"'Dairy Miscellaneous 4'!N51","v":0},{"$f":"'Dairy Miscellaneous 4'!O51","v":0}]
[{"$f":"'Cow Housing'!$C$6","v":"C-3333"},{"$f":"$B$82","v":0},{"$f":"$C$82","v":2},{"$f":"$D$82","v":66},4170303,null,{"$f":"'Dairy Miscellaneous 4'!N34","v":0},{"$f":"'Dairy Miscellaneous 4'!O34","v":0}]
[{"$f":"'Cow Housing'!$C$6","v":"C-3333"},{"$f":"$B$82","v":0},{"$f":"$C$82","v":2},{"$f":"$D$82","v":66},7429905,null,{"$f":"'Livestock PM10 4'!N14","v":0},{"$f":"'Livestock PM10 4'!O14","v":0}]
[{"$f":"'Cow Housing'!$C$6","v":"C-3333"},{"$f":"$B$82","v":0},{"$f":"$C$82","v":2},{"$f":"$D$82","v":66},7439921,null,{"$f":"'Livestock PM10 4'!N22","v":0},{"$f":"'Livestock PM10 4'!O22","v":0}]
[{"$f":"'Cow Housing'!$C$6","v":"C-3333"},{"$f":"$B$82","v":0},{"$f":"$C$82","v":2},{"$f":"$D$82","v":66},7439965,null,{"$f":"'Livestock PM10 4'!N23","v":0},{"$f":"'Livestock PM10 4'!O23","v":0}]
[{"$f":"'Cow Housing'!$C$6","v":"C-3333"},{"$f":"$B$82","v":0},{"$f":"$C$82","v":2},{"$f":"$D$82","v":66},7439976,null,{"$f":"'Livestock PM10 4'!N24","v":0},{"$f":"'Livestock PM10 4'!O24","v":0}]
[{"$f":"'Cow Housing'!$C$6","v":"C-3333"},{"$f":"$B$82","v":0},{"$f":"$C$82","v":2},{"$f":"$D$82","v":66},7440020,null,{"$f":"'Livestock PM10 4'!N25","v":0},{"$f":"'Livestock PM10 4'!O25","v":0}]
[{"$f":"'Cow Housing'!$C$6","v":"C-3333"},{"$f":"$B$82","v":0},{"$f":"$C$82","v":2},{"$f":"$D$82","v":66},7440360,null,{"$f":"'Livestock PM10 4'!N15","v":0},{"$f":"'Livestock PM10 4'!O15","v":0}]
[{"$f":"'Cow Housing'!$C$6","v":"C-3333"},{"$f":"$B$82","v":0},{"$f":"$C$82","v":2},{"$f":"$D$82","v":66},7440382,null,{"$f":"'Livestock PM10 4'!N16","v":0},{"$f":"'Livestock PM10 4'!O16","v":0}]
[{"$f":"'Cow Housing'!$C$6","v":"C-3333"},{"$f":"$B$82","v":0},{"$f":"$C$82","v":2},{"$f":"$D$82","v":66},7440393,null,{"$f":"'Livestock PM10 4'!N17","v":0},{"$f":"'Livestock PM10 4'!O17","v":0}]
[{"$f":"'Cow Housing'!$C$6","v":"C-3333"},{"$f":"$B$82","v":0},{"$f":"$C$82","v":2},{"$f":"$D$82","v":66},7440473,null,{"$f":"'Livestock PM10 4'!N19","v":0},{"$f":"'Livestock PM10 4'!O19","v":0}]
[{"$f":"'Cow Housing'!$C$6","v":"C-3333"},{"$f":"$B$82","v":0},{"$f":"$C$82","v":2},{"$f":"$D$82","v":66},7440508,null,{"$f":"'Livestock PM10 4'!N20","v":0},{"$f":"'Livestock PM10 4'!O20","v":0}]
[{"$f":"'Cow Housing'!$C$6","v":"C-3333"},{"$f":"$B$82","v":0},{"$f":"$C$82","v":2},{"$f":"$D$82","v":66},7440622,null,{"$f":"'Livestock PM10 4'!N29","v":0},{"$f":"'Livestock PM10 4'!O29","v":0}]
[{"$f":"'Cow Housing'!$C$6","v":"C-3333"},{"$f":"$B$82","v":0},{"$f":"$C$82","v":2},{"$f":"$D$82","v":66},7440666,null,{"$f":"'Livestock PM10 4'!N30","v":0},{"$f":"'Livestock PM10 4'!O30","v":0}]
[{"$f":"'Cow Housing'!$C$6","v":"C-3333"},{"$f":"$B$82","v":0},{"$f":"$C$82","v":2},{"$f":"$D$82","v":66},7664417,null,{"$f":"'Livestock PM10 4'!N31","v":0},{"$f":"'Livestock PM10 4'!O31","v":0}]
[{"$f":"'Cow Housing'!$C$6","v":"C-3333"},{"$f":"$B$82","v":0},{"$f":"$C$82","v":2},{"$f":"$D$82","v":66},7723140,null,{"$f":"'Livestock PM10 4'!N26","v":0},{"$f":"'Livestock PM10 4'!O26","v":0}]
[{"$f":"'Cow Housing'!$C$6","v":"C-3333"},{"$f":"$B$82","v":0},{"$f":"$C$82","v":2},{"$f":"$D$82","v":66},7726956,null,{"$f":"'Livestock PM10 4'!N18","v":0},{"$f":"'Livestock PM10 4'!O18","v":0}]
[{"$f":"'Cow Housing'!$C$6","v":"C-3333"},{"$f":"$B$82","v":0},{"$f":"$C$82","v":2},{"$f":"$D$82","v":66},7782492,null,{"$f":"'Livestock PM10 4'!N27","v":0},{"$f":"'Livestock PM10 4'!O27","v":0}]
[{"$f":"'Cow Housing'!$C$6","v":"C-3333"},{"$f":"$B$82","v":0},{"$f":"$C$82","v":2},{"$f":"$D$82","v":66},18540299,null,{"$f":"'Livestock PM10 4'!N21","v":0},{"$f":"'Livestock PM10 4'!O21","v":0}]
[{"$f":"'Cow Housing'!$C$6","v":"C-3333"},{"$f":"$B$83","v":0},{"$f":"$C$83","v":2},{"$f":"$D$83","v":67},9960,null,{"$f":"'Livestock PM10 4'!P28","v":0},{"$f":"'Livestock PM10 4'!Q28","v":0}]
[{"$f":"'Cow Housing'!$C$6","v":"C-3333"},{"$f":"$B$83","v":0},{"$f":"$C$83","v":2},{"$f":"$D$83","v":67},50000,null,{"$f":"'Dairy Miscellaneous 4'!P40","v":0},{"$f":"'Dairy Miscellaneous 4'!Q40","v":0}]
[{"$f":"'Cow Housing'!$C$6","v":"C-3333"},{"$f":"$B$83","v":0},{"$f":"$C$83","v":2},{"$f":"$D$83","v":67},56235,null,{"$f":"'Dairy Miscellaneous 4'!P30","v":0},{"$f":"'Dairy Miscellaneous 4'!Q30","v":0}]
[{"$f":"'Cow Housing'!$C$6","v":"C-3333"},{"$f":"$B$83","v":0},{"$f":"$C$83","v":2},{"$f":"$D$83","v":67},67630,null,{"$f":"'Dairy Miscellaneous 4'!P42","v":0},{"$f":"'Dairy Miscellaneous 4'!Q42","v":0}]
[{"$f":"'Cow Housing'!$C$6","v":"C-3333"},{"$f":"$B$83","v":0},{"$f":"$C$83","v":2},{"$f":"$D$83","v":67},67663,null,{"$f":"'Dairy Miscellaneous 4'!P32","v":0},{"$f":"'Dairy Miscellaneous 4'!Q32","v":0}]
[{"$f":"'Cow Housing'!$C$6","v":"C-3333"},{"$f":"$B$83","v":0},{"$f":"$C$83","v":2},{"$f":"$D$83","v":67},71432,null,{"$f":"'Dairy Miscellaneous 4'!P26","v":0},{"$f":"'Dairy Miscellaneous 4'!Q26","v":0}]
[{"$f":"'Cow Housing'!$C$6","v":"C-3333"},{"$f":"$B$83","v":0},{"$f":"$C$83","v":2},{"$f":"$D$83","v":67},74873,null,{"$f":"'Dairy Miscellaneous 4'!P33","v":0},{"$f":"'Dairy Miscellaneous 4'!Q33","v":0}]
[{"$f":"'Cow Housing'!$C$6","v":"C-3333"},{"$f":"$B$83","v":0},{"$f":"$C$83","v":2},{"$f":"$D$83","v":67},75003,null,{"$f":"'Dairy Miscellaneous 4'!P36","v":0},{"$f":"'Dairy Miscellaneous 4'!Q36","v":0}]
[{"$f":"'Cow Housing'!$C$6","v":"C-3333"},{"$f":"$B$83","v":0},{"$f":"$C$83","v":2},{"$f":"$D$83","v":67},75070,null,{"$f":"'Dairy Miscellaneous 4'!P24","v":0},{"$f":"'Dairy Miscellaneous 4'!Q24","v":0}]
[{"$f":"'Cow Housing'!$C$6","v":"C-3333"},{"$f":"$B$83","v":0},{"$f":"$C$83","v":2},{"$f":"$D$83","v":67},75150,null,{"$f":"'Dairy Miscellaneous 4'!P29","v":0},{"$f":"'Dairy Miscellaneous 4'!Q29","v":0}]
[{"$f":"'Cow Housing'!$C$6","v":"C-3333"},{"$f":"$B$83","v":0},{"$f":"$C$83","v":2},{"$f":"$D$83","v":67},75694,null,{"$f":"'Dairy Miscellaneous 4'!P49","v":0},{"$f":"'Dairy Miscellaneous 4'!Q49","v":0}]
[{"$f":"'Cow Housing'!$C$6","v":"C-3333"},{"$f":"$B$83","v":0},{"$f":"$C$83","v":2},{"$f":"$D$83","v":67},78933,null,{"$f":"'Dairy Miscellaneous 4'!P44","v":0},{"$f":"'Dairy Miscellaneous 4'!Q44","v":0}]
[{"$f":"'Cow Housing'!$C$6","v":"C-3333"},{"$f":"$B$83","v":0},{"$f":"$C$83","v":2},{"$f":"$D$83","v":67},79005,null,{"$f":"'Dairy Miscellaneous 4'!P16","v":0},{"$f":"'Dairy Miscellaneous 4'!Q16","v":0}]
[{"$f":"'Cow Housing'!$C$6","v":"C-3333"},{"$f":"$B$83","v":0},{"$f":"$C$83","v":2},{"$f":"$D$83","v":67},79345,null,{"$f":"'Dairy Miscellaneous 4'!P15","v":0},{"$f":"'Dairy Miscellaneous 4'!Q15","v":0}]
[{"$f":"'Cow Housing'!$C$6","v":"C-3333"},{"$f":"$B$83","v":0},{"$f":"$C$83","v":2},{"$f":"$D$83","v":67},95501,null,{"$f":"'Dairy Miscellaneous 4'!P20","v":0},{"$f":"'Dairy Miscellaneous 4'!Q20","v":0}]
[{"$f":"'Cow Housing'!$C$6","v":"C-3333"},{"$f":"$B$83","v":0},{"$f":"$C$83","v":2},{"$f":"$D$83","v":67},96128,null,{"$f":"'Dairy Miscellaneous 4'!P19","v":0},{"$f":"'Dairy Miscellaneous 4'!Q19","v":0}]
[{"$f":"'Cow Housing'!$C$6","v":"C-3333"},{"$f":"$B$83","v":0},{"$f":"$C$83","v":2},{"$f":"$D$83","v":67},96184,null,{"$f":"'Dairy Miscellaneous 4'!P17","v":0},{"$f":"'Dairy Miscellaneous 4'!Q17","v":0}]
[{"$f":"'Cow Housing'!$C$6","v":"C-3333"},{"$f":"$B$83","v":0},{"$f":"$C$83","v":2},{"$f":"$D$83","v":67},98828,null,{"$f":"'Dairy Miscellaneous 4'!P43","v":0},{"$f":"'Dairy Miscellaneous 4'!Q43","v":0}]
[{"$f":"'Cow Housing'!$C$6","v":"C-3333"},{"$f":"$B$83","v":0},{"$f":"$C$83","v":2},{"$f":"$D$83","v":67},100414,null,{"$f":"'Dairy Miscellaneous 4'!P37","v":0},{"$f":"'Dairy Miscellaneous 4'!Q37","v":0}]
[{"$f":"'Cow Housing'!$C$6","v":"C-3333"},{"$f":"$B$83","v":0},{"$f":"$C$83","v":2},{"$f":"$D$83","v":67},100425,null,{"$f":"'Dairy Miscellaneous 4'!#REF!","v":{"$error":"#REF!"}},{"$f":"'Dairy Miscellaneous 4'!#REF!","v":{"$error":"#REF!"}}]
[{"$f":"'Cow Housing'!$C$6","v":"C-3333"},{"$f":"$B$83","v":0},{"$f":"$C$83","v":2},{"$f":"$D$83","v":67},100447,null,{"$f":"'Dairy Miscellaneous 4'!P27","v":0},{"$f":"'Dairy Miscellaneous 4'!Q27","v":0}]
[{"$f":"'Cow Housing'!$C$6","v":"C-3333"},{"$f":"$B$83","v":0},{"$f":"$C$83","v":2},{"$f":"$D$83","v":67},106467,null,{"$f":"'Dairy Miscellaneous 4'!P23","v":0},{"$f":"'Dairy Miscellaneous 4'!Q23","v":0}]
[{"$f":"'Cow Housing'!$C$6","v":"C-3333"},{"$f":"$B$83","v":0},{"$f":"$C$83","v":2},{"$f":"$D$83","v":67},106934,null,{"$f":"'Dairy Miscellaneous 4'!P38","v":0},{"$f":"'Dairy Miscellaneous 4'!Q38","v":0}]
[{"$f":"'Cow Housing'!$C$6","v":"C-3333"},{"$f":"$B$83","v":0},{"$f":"$C$83","v":2},{"$f":"$D$83","v":67},107062,null,{"$f":"'Dairy Miscellaneous 4'!P39","v":0},{"$f":"'Dairy Miscellaneous 4'!Q39","v":0}]
[{"$f":"'Cow Housing'!$C$6","v":"C-3333"},{"$f":"$B$83","v":0},{"$f":"$C$83","v":2},{"$f":"$D$83","v":67},107131,null,{"$f":"'Dairy Miscellaneous 4'!P25","v":0},{"$f":"'Dairy Miscellaneous 4'!Q25","v":0}]
[{"$f":"'Cow Housing'!$C$6","v":"C-3333"},{"$f":"$B$83","v":0},{"$f":"$C$83","v":2},{"$f":"$D$83","v":67},108054,null,{"$f":"'Dairy Miscellaneous 4'!P50","v":0},{"$f":"'Dairy Miscellaneous 4'!Q50","v":0}]
[{"$f":"'Cow Housing'!$C$6","v":"C-3333"},{"$f":"$B$83","v":0},{"$f":"$C$83","v":2},{"$f":"$D$83","v":67},108101,null,{"$f":"'Dairy Miscellaneous 4'!P45","v":0},{"$f":"'Dairy Miscellaneous 4'!Q45","v":0}]
[{"$f":"'Cow Housing'!$C$6","v":"C-3333"},{"$f":"$B$83","v":0},{"$f":"$C$83","v":2},{"$f":"$D$83","v":67},108883,null,{"$f":"'Dairy Miscellaneous 4'!P48","v":0},{"$f":"'Dairy Miscellaneous 4'!Q48","v":0}]
[{"$f":"'Cow Housing'!$C$6","v":"C-3333"},{"$f":"$B$83","v":0},{"$f":"$C$83","v":2},{"$f":"$D$83","v":67},108907,null,{"$f":"'Dairy Miscellaneous 4'!P31","v":0},{"$f":"'Dairy Miscellaneous 4'!Q31","v":0}]
[{"$f":"'Cow Housing'!$C$6","v":"C-3333"},{"$f":"$B$83","v":0},{"$f":"$C$83","v":2},{"$f":"$D$83","v":67},110543,null,{"$f":"'Dairy Miscellaneous 4'!P41","v":0},{"$f":"'Dairy Miscellaneous 4'!Q41","v":0}]
[{"$f":"'Cow Housing'!$C$6","v":"C-3333"},{"$f":"$B$83","v":0},{"$f":"$C$83","v":2},{"$f":"$D$83","v":67},110827,null,{"$f":"'Dairy Miscellaneous 4'!P35","v":0},{"$f":"'Dairy Miscellaneous 4'!Q35","v":0}]
[{"$f":"'Cow Housing'!$C$6","v":"C-3333"},{"$f":"$B$83","v":0},{"$f":"$C$83","v":2},{"$f":"$D$83","v":67},120821,null,{"$f":"'Dairy Miscellaneous 4'!P18","v":0},{"$f":"'Dairy Miscellaneous 4'!Q18","v":0}]
[{"$f":"'Cow Housing'!$C$6","v":"C-3333"},{"$f":"$B$83","v":0},{"$f":"$C$83","v":2},{"$f":"$D$83","v":67},123728,null,{"$f":"'Dairy Miscellaneous 4'!P28","v":0},{"$f":"'Dairy Miscellaneous 4'!Q28","v":0}]
[{"$f":"'Cow Housing'!$C$6","v":"C-3333"},{"$f":"$B$83","v":0},{"$f":"$C$83","v":2},{"$f":"$D$83","v":67},123911,null,{"$f":"'Dairy Miscellaneous 4'!P22","v":0},{"$f":"'Dairy Miscellaneous 4'!Q22","v":0}]
[{"$f":"'Cow Housing'!$C$6","v":"C-3333"},{"$f":"$B$83","v":0},{"$f":"$C$83","v":2},{"$f":"$D$83","v":67},541731,null,{"$f":"'Dairy Miscellaneous 4'!P21","v":0},{"$f":"'Dairy Miscellaneous 4'!Q21","v":0}]
[{"$f":"'Cow Housing'!$C$6","v":"C-3333"},{"$f":"$B$83","v":0},{"$f":"$C$83","v":2},{"$f":"$D$83","v":67},764410,null,{"$f":"'Dairy Miscellaneous 4'!P47","v":0},{"$f":"'Dairy Miscellaneous 4'!Q47","v":0}]
[{"$f":"'Cow Housing'!$C$6","v":"C-3333"},{"$f":"$B$83","v":0},{"$f":"$C$83","v":2},{"$f":"$D$83","v":67},1330207,null,{"$f":"'Dairy Miscellaneous 4'!P51","v":0},{"$f":"'Dairy Miscellaneous 4'!Q51","v":0}]
[{"$f":"'Cow Housing'!$C$6","v":"C-3333"},{"$f":"$B$83","v":0},{"$f":"$C$83","v":2},{"$f":"$D$83","v":67},4170303,null,{"$f":"'Dairy Miscellaneous 4'!P34","v":0},{"$f":"'Dairy Miscellaneous 4'!Q34","v":0}]
[{"$f":"'Cow Housing'!$C$6","v":"C-3333"},{"$f":"$B$83","v":0},{"$f":"$C$83","v":2},{"$f":"$D$83","v":67},7429905,null,{"$f":"'Livestock PM10 4'!P14","v":0},{"$f":"'Livestock PM10 4'!Q14","v":0}]
[{"$f":"'Cow Housing'!$C$6","v":"C-3333"},{"$f":"$B$83","v":0},{"$f":"$C$83","v":2},{"$f":"$D$83","v":67},7439921,null,{"$f":"'Livestock PM10 4'!P22","v":0},{"$f":"'Livestock PM10 4'!Q22","v":0}]
[{"$f":"'Cow Housing'!$C$6","v":"C-3333"},{"$f":"$B$83","v":0},{"$f":"$C$83","v":2},{"$f":"$D$83","v":67},7439965,null,{"$f":"'Livestock PM10 4'!P23","v":0},{"$f":"'Livestock PM10 4'!Q23","v":0}]
[{"$f":"'Cow Housing'!$C$6","v":"C-3333"},{"$f":"$B$83","v":0},{"$f":"$C$83","v":2},{"$f":"$D$83","v":67},7439976,null,{"$f":"'Livestock PM10 4'!P24","v":0},{"$f":"'Livestock PM10 4'!Q24","v":0}]
[{"$f":"'Cow Housing'!$C$6","v":"C-3333"},{"$f":"$B$83","v":0},{"$f":"$C$83","v":2},{"$f":"$D$83","v":67},7440020,null,{"$f":"'Livestock PM10 4'!P25","v":0},{"$f":"'Livestock PM10 4'!Q25","v":0}]
[{"$f":"'Cow Housing'!$C$6","v":"C-3333"},{"$f":"$B$83","v":0},{"$f":"$C$83","v":2},{"$f":"$D$83","v":67},7440360,null,{"$f":"'Livestock PM10 4'!P15","v":0},{"$f":"'Livestock PM10 4'!Q15","v":0}]
[{"$f":"'Cow Housing'!$C$6","v":"C-3333"},{"$f":"$B$83","v":0},{"$f":"$C$83","v":2},{"$f":"$D$83","v":67},7440382,null,{"$f":"'Livestock PM10 4'!P16","v":0},{"$f":"'Livestock PM10 4'!Q16","v":0}]
[{"$f":"'Cow Housing'!$C$6","v":"C-3333"},{"$f":"$B$83","v":0},{"$f":"$C$83","v":2},{"$f":"$D$83","v":67},7440393,null,{"$f":"'Livestock PM10 4'!P17","v":0},{"$f":"'Livestock PM10 4'!Q17","v":0}]
[{"$f":"'Cow Housing'!$C$6","v":"C-3333"},{"$f":"$B$83","v":0},{"$f":"$C$83","v":2},{"$f":"$D$83","v":67},7440473,null,{"$f":"'Livestock PM10 4'!P19","v":0},{"$f":"'Livestock PM10 4'!Q19","v":0}]
[{"$f":"'Cow Housing'!$C$6","v":"C-3333"},{"$f":"$B$83","v":0},{"$f":"$C$83","v":2},{"$f":"$D$83","v":67},7440508,null,{"$f":"'Livestock PM10 4'!P20","v":0},{"$f":"'Livestock PM10 4'!Q20","v":0}]
[{"$f":"'Cow Housing'!$C$6","v":"C-3333"},{"$f":"$B$83","v":0},{"$f":"$C$83","v":2},{"$f":"$D$83","v":67},7440622,null,{"$f":"'Livestock PM10 4'!P29","v":0},{"$f":"'Livestock PM10 4'!Q29","v":0}]
[{"$f":"'Cow Housing'!$C$6","v":"C-3333"},{"$f":"$B$83","v":0},{"$f":"$C$83","v":2},{"$f":"$D$83","v":67},7440666,null,{"$f":"'Livestock PM10 4'!P30","v":0},{"$f":"'Livestock PM10 4'!Q30","v":0}]
[{"$f":"'Cow Housing'!$C$6","v":"C-3333"},{"$f":"$B$83","v":0},{"$f":"$C$83","v":2},{"$f":"$D$83","v":67},7664417,null,{"$f":"'Livestock PM10 4'!P31","v":0},{"$f":"'Livestock PM10 4'!Q31","v":0}]
[{"$f":"'Cow Housing'!$C$6","v":"C-3333"},{"$f":"$B$83","v":0},{"$f":"$C$83","v":2},{"$f":"$D$83","v":67},7723140,null,{"$f":"'Livestock PM10 4'!P26","v":0},{"$f":"'Livestock PM10 4'!Q26","v":0}]
[{"$f":"'Cow Housing'!$C$6","v":"C-3333"},{"$f":"$B$83","v":0},{"$f":"$C$83","v":2},{"$f":"$D$83","v":67},7726956,null,{"$f":"'Livestock PM10 4'!P18","v":0},{"$f":"'Livestock PM10 4'!Q18","v":0}]
[{"$f":"'Cow Housing'!$C$6","v":"C-3333"},{"$f":"$B$83","v":0},{"$f":"$C$83","v":2},{"$f":"$D$83","v":67},7782492,null,{"$f":"'Livestock PM10 4'!P27","v":0},{"$f":"'Livestock PM10 4'!Q27","v":0}]
[{"$f":"'Cow Housing'!$C$6","v":"C-3333"},{"$f":"$B$83","v":0},{"$f":"$C$83","v":2},{"$f":"$D$83","v":67},18540299,null,{"$f":"'Livestock PM10 4'!P21","v":0},{"$f":"'Livestock PM10 4'!Q21","v":0}]
[{"$f":"'Cow Housing'!$C$6","v":"C-3333"},{"$f":"$B$84","v":0},{"$f":"$C$84","v":2},{"$f":"$D$84","v":68},9960,null,{"$f":"'Livestock PM10 4'!R28","v":0},{"$f":"'Livestock PM10 4'!S28","v":0}]
[{"$f":"'Cow Housing'!$C$6","v":"C-3333"},{"$f":"$B$84","v":0},{"$f":"$C$84","v":2},{"$f":"$D$84","v":68},50000,null,{"$f":"'Dairy Miscellaneous 4'!R40","v":0},{"$f":"'Dairy Miscellaneous 4'!S40","v":0}]
[{"$f":"'Cow Housing'!$C$6","v":"C-3333"},{"$f":"$B$84","v":0},{"$f":"$C$84","v":2},{"$f":"$D$84","v":68},56235,null,{"$f":"'Dairy Miscellaneous 4'!R30","v":0},{"$f":"'Dairy Miscellaneous 4'!S30","v":0}]
[{"$f":"'Cow Housing'!$C$6","v":"C-3333"},{"$f":"$B$84","v":0},{"$f":"$C$84","v":2},{"$f":"$D$84","v":68},67630,null,{"$f":"'Dairy Miscellaneous 4'!R42","v":0},{"$f":"'Dairy Miscellaneous 4'!S42","v":0}]
[{"$f":"'Cow Housing'!$C$6","v":"C-3333"},{"$f":"$B$84","v":0},{"$f":"$C$84","v":2},{"$f":"$D$84","v":68},67663,null,{"$f":"'Dairy Miscellaneous 4'!R32","v":0},{"$f":"'Dairy Miscellaneous 4'!S32","v":0}]
[{"$f":"'Cow Housing'!$C$6","v":"C-3333"},{"$f":"$B$84","v":0},{"$f":"$C$84","v":2},{"$f":"$D$84","v":68},71432,null,{"$f":"'Dairy Miscellaneous 4'!R26","v":0},{"$f":"'Dairy Miscellaneous 4'!S26","v":0}]
[{"$f":"'Cow Housing'!$C$6","v":"C-3333"},{"$f":"$B$84","v":0},{"$f":"$C$84","v":2},{"$f":"$D$84","v":68},74873,null,{"$f":"'Dairy Miscellaneous 4'!R33","v":0},{"$f":"'Dairy Miscellaneous 4'!S33","v":0}]
[{"$f":"'Cow Housing'!$C$6","v":"C-3333"},{"$f":"$B$84","v":0},{"$f":"$C$84","v":2},{"$f":"$D$84","v":68},75003,null,{"$f":"'Dairy Miscellaneous 4'!R36","v":0},{"$f":"'Dairy Miscellaneous 4'!S36","v":0}]
[{"$f":"'Cow Housing'!$C$6","v":"C-3333"},{"$f":"$B$84","v":0},{"$f":"$C$84","v":2},{"$f":"$D$84","v":68},75070,null,{"$f":"'Dairy Miscellaneous 4'!R24","v":0},{"$f":"'Dairy Miscellaneous 4'!S24","v":0}]
[{"$f":"'Cow Housing'!$C$6","v":"C-3333"},{"$f":"$B$84","v":0},{"$f":"$C$84","v":2},{"$f":"$D$84","v":68},75150,null,{"$f":"'Dairy Miscellaneous 4'!R29","v":0},{"$f":"'Dairy Miscellaneous 4'!S29","v":0}]
[{"$f":"'Cow Housing'!$C$6","v":"C-3333"},{"$f":"$B$84","v":0},{"$f":"$C$84","v":2},{"$f":"$D$84","v":68},75694,null,{"$f":"'Dairy Miscellaneous 4'!R49","v":0},{"$f":"'Dairy Miscellaneous 4'!S49","v":0}]
[{"$f":"'Cow Housing'!$C$6","v":"C-3333"},{"$f":"$B$84","v":0},{"$f":"$C$84","v":2},{"$f":"$D$84","v":68},78933,null,{"$f":"'Dairy Miscellaneous 4'!R44","v":0},{"$f":"'Dairy Miscellaneous 4'!S44","v":0}]
[{"$f":"'Cow Housing'!$C$6","v":"C-3333"},{"$f":"$B$84","v":0},{"$f":"$C$84","v":2},{"$f":"$D$84","v":68},79005,null,{"$f":"'Dairy Miscellaneous 4'!R16","v":0},{"$f":"'Dairy Miscellaneous 4'!S16","v":0}]
[{"$f":"'Cow Housing'!$C$6","v":"C-3333"},{"$f":"$B$84","v":0},{"$f":"$C$84","v":2},{"$f":"$D$84","v":68},79345,null,{"$f":"'Dairy Miscellaneous 4'!R15","v":0},{"$f":"'Dairy Miscellaneous 4'!S15","v":0}]
[{"$f":"'Cow Housing'!$C$6","v":"C-3333"},{"$f":"$B$84","v":0},{"$f":"$C$84","v":2},{"$f":"$D$84","v":68},95501,null,{"$f":"'Dairy Miscellaneous 4'!R20","v":0},{"$f":"'Dairy Miscellaneous 4'!S20","v":0}]
[{"$f":"'Cow Housing'!$C$6","v":"C-3333"},{"$f":"$B$84","v":0},{"$f":"$C$84","v":2},{"$f":"$D$84","v":68},96128,null,{"$f":"'Dairy Miscellaneous 4'!R19","v":0},{"$f":"'Dairy Miscellaneous 4'!S19","v":0}]
[{"$f":"'Cow Housing'!$C$6","v":"C-3333"},{"$f":"$B$84","v":0},{"$f":"$C$84","v":2},{"$f":"$D$84","v":68},96184,null,{"$f":"'Dairy Miscellaneous 4'!R17","v":0},{"$f":"'Dairy Miscellaneous 4'!S17","v":0}]
[{"$f":"'Cow Housing'!$C$6","v":"C-3333"},{"$f":"$B$84","v":0},{"$f":"$C$84","v":2},{"$f":"$D$84","v":68},98828,null,{"$f":"'Dairy Miscellaneous 4'!R43","v":0},{"$f":"'Dairy Miscellaneous 4'!S43","v":0}]
[{"$f":"'Cow Housing'!$C$6","v":"C-3333"},{"$f":"$B$84","v":0},{"$f":"$C$84","v":2},{"$f":"$D$84","v":68},100414,null,{"$f":"'Dairy Miscellaneous 4'!R37","v":0},{"$f":"'Dairy Miscellaneous 4'!S37","v":0}]
[{"$f":"'Cow Housing'!$C$6","v":"C-3333"},{"$f":"$B$84","v":0},{"$f":"$C$84","v":2},{"$f":"$D$84","v":68},100425,null,{"$f":"'Dairy Miscellaneous 4'!#REF!","v":{"$error":"#REF!"}},{"$f":"'Dairy Miscellaneous 4'!#REF!","v":{"$error":"#REF!"}}]
[{"$f":"'Cow Housing'!$C$6","v":"C-3333"},{"$f":"$B$84","v":0},{"$f":"$C$84","v":2},{"$f":"$D$84","v":68},100447,null,{"$f":"'Dairy Miscellaneous 4'!R27","v":0},{"$f":"'Dairy Miscellaneous 4'!S27","v":0}]
[{"$f":"'Cow Housing'!$C$6","v":"C-3333"},{"$f":"$B$84","v":0},{"$f":"$C$84","v":2},{"$f":"$D$84","v":68},106467,null,{"$f":"'Dairy Miscellaneous 4'!R23","v":0},{"$f":"'Dairy Miscellaneous 4'!S23","v":0}]
[{"$f":"'Cow Housing'!$C$6","v":"C-3333"},{"$f":"$B$84","v":0},{"$f":"$C$84","v":2},{"$f":"$D$84","v":68},106934,null,{"$f":"'Dairy Miscellaneous 4'!R38","v":0},{"$f":"'Dairy Miscellaneous 4'!S38","v":0}]
[{"$f":"'Cow Housing'!$C$6","v":"C-3333"},{"$f":"$B$84","v":0},{"$f":"$C$84","v":2},{"$f":"$D$84","v":68},107062,null,{"$f":"'Dairy Miscellaneous 4'!R39","v":0},{"$f":"'Dairy Miscellaneous 4'!S39","v":0}]
[{"$f":"'Cow Housing'!$C$6","v":"C-3333"},{"$f":"$B$84","v":0},{"$f":"$C$84","v":2},{"$f":"$D$84","v":68},107131,null,{"$f":"'Dairy Miscellaneous 4'!R25","v":0},{"$f":"'Dairy Miscellaneous 4'!S25","v":0}]
[{"$f":"'Cow Housing'!$C$6","v":"C-3333"},{"$f":"$B$84","v":0},{"$f":"$C$84","v":2},{"$f":"$D$84","v":68},108054,null,{"$f":"'Dairy Miscellaneous 4'!R50","v":0},{"$f":"'Dairy Miscellaneous 4'!S50","v":0}]
[{"$f":"'Cow Housing'!$C$6","v":"C-3333"},{"$f":"$B$84","v":0},{"$f":"$C$84","v":2},{"$f":"$D$84","v":68},108101,null,{"$f":"'Dairy Miscellaneous 4'!R45","v":0},{"$f":"'Dairy Miscellaneous 4'!S45","v":0}]
[{"$f":"'Cow Housing'!$C$6","v":"C-3333"},{"$f":"$B$84","v":0},{"$f":"$C$84","v":2},{"$f":"$D$84","v":68},108883,null,{"$f":"'Dairy Miscellaneous 4'!R48","v":0},{"$f":"'Dairy Miscellaneous 4'!S48","v":0}]
[{"$f":"'Cow Housing'!$C$6","v":"C-3333"},{"$f":"$B$84","v":0},{"$f":"$C$84","v":2},{"$f":"$D$84","v":68},108907,null,{"$f":"'Dairy Miscellaneous 4'!R31","v":0},{"$f":"'Dairy Miscellaneous 4'!S31","v":0}]
[{"$f":"'Cow Housing'!$C$6","v":"C-3333"},{"$f":"$B$84","v":0},{"$f":"$C$84","v":2},{"$f":"$D$84","v":68},110543,null,{"$f":"'Dairy Miscellaneous 4'!R41","v":0},{"$f":"'Dairy Miscellaneous 4'!S41","v":0}]
[{"$f":"'Cow Housing'!$C$6","v":"C-3333"},{"$f":"$B$84","v":0},{"$f":"$C$84","v":2},{"$f":"$D$84","v":68},110827,null,{"$f":"'Dairy Miscellaneous 4'!R35","v":0},{"$f":"'Dairy Miscellaneous 4'!S35","v":0}]
[{"$f":"'Cow Housing'!$C$6","v":"C-3333"},{"$f":"$B$84","v":0},{"$f":"$C$84","v":2},{"$f":"$D$84","v":68},120821,null,{"$f":"'Dairy Miscellaneous 4'!R18","v":0},{"$f":"'Dairy Miscellaneous 4'!S18","v":0}]
[{"$f":"'Cow Housing'!$C$6","v":"C-3333"},{"$f":"$B$84","v":0},{"$f":"$C$84","v":2},{"$f":"$D$84","v":68},123728,null,{"$f":"'Dairy Miscellaneous 4'!R28","v":0},{"$f":"'Dairy Miscellaneous 4'!S28","v":0}]
[{"$f":"'Cow Housing'!$C$6","v":"C-3333"},{"$f":"$B$84","v":0},{"$f":"$C$84","v":2},{"$f":"$D$84","v":68},123911,null,{"$f":"'Dairy Miscellaneous 4'!R22","v":0},{"$f":"'Dairy Miscellaneous 4'!S22","v":0}]
[{"$f":"'Cow Housing'!$C$6","v":"C-3333"},{"$f":"$B$84","v":0},{"$f":"$C$84","v":2},{"$f":"$D$84","v":68},541731,null,{"$f":"'Dairy Miscellaneous 4'!R21","v":0},{"$f":"'Dairy Miscellaneous 4'!S21","v":0}]
[{"$f":"'Cow Housing'!$C$6","v":"C-3333"},{"$f":"$B$84","v":0},{"$f":"$C$84","v":2},{"$f":"$D$84","v":68},764410,null,{"$f":"'Dairy Miscellaneous 4'!R47","v":0},{"$f":"'Dairy Miscellaneous 4'!S47","v":0}]
[{"$f":"'Cow Housing'!$C$6","v":"C-3333"},{"$f":"$B$84","v":0},{"$f":"$C$84","v":2},{"$f":"$D$84","v":68},1330207,null,{"$f":"'Dairy Miscellaneous 4'!R51","v":0},{"$f":"'Dairy Miscellaneous 4'!S51","v":0}]
[{"$f":"'Cow Housing'!$C$6","v":"C-3333"},{"$f":"$B$84","v":0},{"$f":"$C$84","v":2},{"$f":"$D$84","v":68},4170303,null,{"$f":"'Dairy Miscellaneous 4'!R34","v":0},{"$f":"'Dairy Miscellaneous 4'!S34","v":0}]
[{"$f":"'Cow Housing'!$C$6","v":"C-3333"},{"$f":"$B$84","v":0},{"$f":"$C$84","v":2},{"$f":"$D$84","v":68},7429905,null,{"$f":"'Livestock PM10 4'!R14","v":0},{"$f":"'Livestock PM10 4'!S14","v":0}]
[{"$f":"'Cow Housing'!$C$6","v":"C-3333"},{"$f":"$B$84","v":0},{"$f":"$C$84","v":2},{"$f":"$D$84","v":68},7439921,null,{"$f":"'Livestock PM10 4'!R22","v":0},{"$f":"'Livestock PM10 4'!S22","v":0}]
[{"$f":"'Cow Housing'!$C$6","v":"C-3333"},{"$f":"$B$84","v":0},{"$f":"$C$84","v":2},{"$f":"$D$84","v":68},7439965,null,{"$f":"'Livestock PM10 4'!R23","v":0},{"$f":"'Livestock PM10 4'!S23","v":0}]
[{"$f":"'Cow Housing'!$C$6","v":"C-3333"},{"$f":"$B$84","v":0},{"$f":"$C$84","v":2},{"$f":"$D$84","v":68},7439976,null,{"$f":"'Livestock PM10 4'!R24","v":0},{"$f":"'Livestock PM10 4'!S24","v":0}]
[{"$f":"'Cow Housing'!$C$6","v":"C-3333"},{"$f":"$B$84","v":0},{"$f":"$C$84","v":2},{"$f":"$D$84","v":68},7440020,null,{"$f":"'Livestock PM10 4'!R25","v":0},{"$f":"'Livestock PM10 4'!S25","v":0}]
[{"$f":"'Cow Housing'!$C$6","v":"C-3333"},{"$f":"$B$84","v":0},{"$f":"$C$84","v":2},{"$f":"$D$84","v":68},7440360,null,{"$f":"'Livestock PM10 4'!R15","v":0},{"$f":"'Livestock PM10 4'!S15","v":0}]
[{"$f":"'Cow Housing'!$C$6","v":"C-3333"},{"$f":"$B$84","v":0},{"$f":"$C$84","v":2},{"$f":"$D$84","v":68},7440382,null,{"$f":"'Livestock PM10 4'!R16","v":0},{"$f":"'Livestock PM10 4'!S16","v":0}]
[{"$f":"'Cow Housing'!$C$6","v":"C-3333"},{"$f":"$B$84","v":0},{"$f":"$C$84","v":2},{"$f":"$D$84","v":68},7440393,null,{"$f":"'Livestock PM10 4'!R17","v":0},{"$f":"'Livestock PM10 4'!S17","v":0}]
[{"$f":"'Cow Housing'!$C$6","v":"C-3333"},{"$f":"$B$84","v":0},{"$f":"$C$84","v":2},{"$f":"$D$84","v":68},7440473,null,{"$f":"'Livestock PM10 4'!R19","v":0},{"$f":"'Livestock PM10 4'!S19","v":0}]
[{"$f":"'Cow Housing'!$C$6","v":"C-3333"},{"$f":"$B$84","v":0},{"$f":"$C$84","v":2},{"$f":"$D$84","v":68},7440508,null,{"$f":"'Livestock PM10 4'!R20","v":0},{"$f":"'Livestock PM10 4'!S20","v":0}]
[{"$f":"'Cow Housing'!$C$6","v":"C-3333"},{"$f":"$B$84","v":0},{"$f":"$C$84","v":2},{"$f":"$D$84","v":68},7440622,null,{"$f":"'Livestock PM10 4'!R29","v":0},{"$f":"'Livestock PM10 4'!S29","v":0}]
[{"$f":"'Cow Housing'!$C$6","v":"C-3333"},{"$f":"$B$84","v":0},{"$f":"$C$84","v":2},{"$f":"$D$84","v":68},7440666,null,{"$f":"'Livestock PM10 4'!R30","v":0},{"$f":"'Livestock PM10 4'!S30","v":0}]
[{"$f":"'Cow Housing'!$C$6","v":"C-3333"},{"$f":"$B$84","v":0},{"$f":"$C$84","v":2},{"$f":"$D$84","v":68},7664417,null,{"$f":"'Livestock PM10 4'!R31","v":0},{"$f":"'Livestock PM10 4'!S31","v":0}]
[{"$f":"'Cow Housing'!$C$6","v":"C-3333"},{"$f":"$B$84","v":0},{"$f":"$C$84","v":2},{"$f":"$D$84","v":68},7723140,null,{"$f":"'Livestock PM10 4'!R26","v":0},{"$f":"'Livestock PM10 4'!S26","v":0}]
[{"$f":"'Cow Housing'!$C$6","v":"C-3333"},{"$f":"$B$84","v":0},{"$f":"$C$84","v":2},{"$f":"$D$84","v":68},7726956,null,{"$f":"'Livestock PM10 4'!R18","v":0},{"$f":"'Livestock PM10 4'!S18","v":0}]
[{"$f":"'Cow Housing'!$C$6","v":"C-3333"},{"$f":"$B$84","v":0},{"$f":"$C$84","v":2},{"$f":"$D$84","v":68},7782492,null,{"$f":"'Livestock PM10 4'!R27","v":0},{"$f":"'Livestock PM10 4'!S27","v":0}]
[{"$f":"'Cow Housing'!$C$6","v":"C-3333"},{"$f":"$B$84","v":0},{"$f":"$C$84","v":2},{"$f":"$D$84","v":68},18540299,null,{"$f":"'Livestock PM10 4'!R21","v":0},{"$f":"'Livestock PM10 4'!S21","v":0}]
[{"$f":"'Cow Housing'!$C$6","v":"C-3333"},{"$f":"$B$85","v":0},{"$f":"$C$85","v":2},{"$f":"$D$85","v":69},9960,null,{"$f":"'Livestock PM10 4'!T28","v":0},{"$f":"'Livestock PM10 4'!U28","v":0}]
[{"$f":"'Cow Housing'!$C$6","v":"C-3333"},{"$f":"$B$85","v":0},{"$f":"$C$85","v":2},{"$f":"$D$85","v":69},50000,null,{"$f":"'Dairy Miscellaneous 4'!T40","v":0},{"$f":"'Dairy Miscellaneous 4'!U40","v":0}]
[{"$f":"'Cow Housing'!$C$6","v":"C-3333"},{"$f":"$B$85","v":0},{"$f":"$C$85","v":2},{"$f":"$D$85","v":69},56235,null,{"$f":"'Dairy Miscellaneous 4'!T30","v":0},{"$f":"'Dairy Miscellaneous 4'!U30","v":0}]
[{"$f":"'Cow Housing'!$C$6","v":"C-3333"},{"$f":"$B$85","v":0},{"$f":"$C$85","v":2},{"$f":"$D$85","v":69},67630,null,{"$f":"'Dairy Miscellaneous 4'!T42","v":0},{"$f":"'Dairy Miscellaneous 4'!U42","v":0}]
[{"$f":"'Cow Housing'!$C$6","v":"C-3333"},{"$f":"$B$85","v":0},{"$f":"$C$85","v":2},{"$f":"$D$85","v":69},67663,null,{"$f":"'Dairy Miscellaneous 4'!T32","v":0},{"$f":"'Dairy Miscellaneous 4'!U32","v":0}]
[{"$f":"'Cow Housing'!$C$6","v":"C-3333"},{"$f":"$B$85","v":0},{"$f":"$C$85","v":2},{"$f":"$D$85","v":69},71432,null,{"$f":"'Dairy Miscellaneous 4'!T26","v":0},{"$f":"'Dairy Miscellaneous 4'!U26","v":0}]
[{"$f":"'Cow Housing'!$C$6","v":"C-3333"},{"$f":"$B$85","v":0},{"$f":"$C$85","v":2},{"$f":"$D$85","v":69},74873,null,{"$f":"'Dairy Miscellaneous 4'!T33","v":0},{"$f":"'Dairy Miscellaneous 4'!U33","v":0}]
[{"$f":"'Cow Housing'!$C$6","v":"C-3333"},{"$f":"$B$85","v":0},{"$f":"$C$85","v":2},{"$f":"$D$85","v":69},75003,null,{"$f":"'Dairy Miscellaneous 4'!T36","v":0},{"$f":"'Dairy Miscellaneous 4'!U36","v":0}]
[{"$f":"'Cow Housing'!$C$6","v":"C-3333"},{"$f":"$B$85","v":0},{"$f":"$C$85","v":2},{"$f":"$D$85","v":69},75070,null,{"$f":"'Dairy Miscellaneous 4'!T24","v":0},{"$f":"'Dairy Miscellaneous 4'!U24","v":0}]
[{"$f":"'Cow Housing'!$C$6","v":"C-3333"},{"$f":"$B$85","v":0},{"$f":"$C$85","v":2},{"$f":"$D$85","v":69},75150,null,{"$f":"'Dairy Miscellaneous 4'!T29","v":0},{"$f":"'Dairy Miscellaneous 4'!U29","v":0}]
[{"$f":"'Cow Housing'!$C$6","v":"C-3333"},{"$f":"$B$85","v":0},{"$f":"$C$85","v":2},{"$f":"$D$85","v":69},75694,null,{"$f":"'Dairy Miscellaneous 4'!T49","v":0},{"$f":"'Dairy Miscellaneous 4'!U49","v":0}]
[{"$f":"'Cow Housing'!$C$6","v":"C-3333"},{"$f":"$B$85","v":0},{"$f":"$C$85","v":2},{"$f":"$D$85","v":69},78933,null,{"$f":"'Dairy Miscellaneous 4'!T44","v":0},{"$f":"'Dairy Miscellaneous 4'!U44","v":0}]
[{"$f":"'Cow Housing'!$C$6","v":"C-3333"},{"$f":"$B$85","v":0},{"$f":"$C$85","v":2},{"$f":"$D$85","v":69},79005,null,{"$f":"'Dairy Miscellaneous 4'!T16","v":0},{"$f":"'Dairy Miscellaneous 4'!U16","v":0}]
[{"$f":"'Cow Housing'!$C$6","v":"C-3333"},{"$f":"$B$85","v":0},{"$f":"$C$85","v":2},{"$f":"$D$85","v":69},79345,null,{"$f":"'Dairy Miscellaneous 4'!T15","v":0},{"$f":"'Dairy Miscellaneous 4'!U15","v":0}]
[{"$f":"'Cow Housing'!$C$6","v":"C-3333"},{"$f":"$B$85","v":0},{"$f":"$C$85","v":2},{"$f":"$D$85","v":69},95501,null,{"$f":"'Dairy Miscellaneous 4'!T20","v":0},{"$f":"'Dairy Miscellaneous 4'!U20","v":0}]
[{"$f":"'Cow Housing'!$C$6","v":"C-3333"},{"$f":"$B$85","v":0},{"$f":"$C$85","v":2},{"$f":"$D$85","v":69},96128,null,{"$f":"'Dairy Miscellaneous 4'!T19","v":0},{"$f":"'Dairy Miscellaneous 4'!U19","v":0}]
[{"$f":"'Cow Housing'!$C$6","v":"C-3333"},{"$f":"$B$85","v":0},{"$f":"$C$85","v":2},{"$f":"$D$85","v":69},96184,null,{"$f":"'Dairy Miscellaneous 4'!T17","v":0},{"$f":"'Dairy Miscellaneous 4'!U17","v":0}]
[{"$f":"'Cow Housing'!$C$6","v":"C-3333"},{"$f":"$B$85","v":0},{"$f":"$C$85","v":2},{"$f":"$D$85","v":69},98828,null,{"$f":"'Dairy Miscellaneous 4'!T43","v":0},{"$f":"'Dairy Miscellaneous 4'!U43","v":0}]
[{"$f":"'Cow Housing'!$C$6","v":"C-3333"},{"$f":"$B$85","v":0},{"$f":"$C$85","v":2},{"$f":"$D$85","v":69},100414,null,{"$f":"'Dairy Miscellaneous 4'!T37","v":0},{"$f":"'Dairy Miscellaneous 4'!U37","v":0}]
[{"$f":"'Cow Housing'!$C$6","v":"C-3333"},{"$f":"$B$85","v":0},{"$f":"$C$85","v":2},{"$f":"$D$85","v":69},100425,null,{"$f":"'Dairy Miscellaneous 4'!#REF!","v":{"$error":"#REF!"}},{"$f":"'Dairy Miscellaneous 4'!#REF!","v":{"$error":"#REF!"}}]
[{"$f":"'Cow Housing'!$C$6","v":"C-3333"},{"$f":"$B$85","v":0},{"$f":"$C$85","v":2},{"$f":"$D$85","v":69},100447,null,{"$f":"'Dairy Miscellaneous 4'!T27","v":0},{"$f":"'Dairy Miscellaneous 4'!U27","v":0}]
[{"$f":"'Cow Housing'!$C$6","v":"C-3333"},{"$f":"$B$85","v":0},{"$f":"$C$85","v":2},{"$f":"$D$85","v":69},106467,null,{"$f":"'Dairy Miscellaneous 4'!T23","v":0},{"$f":"'Dairy Miscellaneous 4'!U23","v":0}]
[{"$f":"'Cow Housing'!$C$6","v":"C-3333"},{"$f":"$B$85","v":0},{"$f":"$C$85","v":2},{"$f":"$D$85","v":69},106934,null,{"$f":"'Dairy Miscellaneous 4'!T38","v":0},{"$f":"'Dairy Miscellaneous 4'!U38","v":0}]
[{"$f":"'Cow Housing'!$C$6","v":"C-3333"},{"$f":"$B$85","v":0},{"$f":"$C$85","v":2},{"$f":"$D$85","v":69},107062,null,{"$f":"'Dairy Miscellaneous 4'!T39","v":0},{"$f":"'Dairy Miscellaneous 4'!U39","v":0}]
[{"$f":"'Cow Housing'!$C$6","v":"C-3333"},{"$f":"$B$85","v":0},{"$f":"$C$85","v":2},{"$f":"$D$85","v":69},107131,null,{"$f":"'Dairy Miscellaneous 4'!T25","v":0},{"$f":"'Dairy Miscellaneous 4'!U25","v":0}]
[{"$f":"'Cow Housing'!$C$6","v":"C-3333"},{"$f":"$B$85","v":0},{"$f":"$C$85","v":2},{"$f":"$D$85","v":69},108054,null,{"$f":"'Dairy Miscellaneous 4'!T50","v":0},{"$f":"'Dairy Miscellaneous 4'!U50","v":0}]
[{"$f":"'Cow Housing'!$C$6","v":"C-3333"},{"$f":"$B$85","v":0},{"$f":"$C$85","v":2},{"$f":"$D$85","v":69},108101,null,{"$f":"'Dairy Miscellaneous 4'!T45","v":0},{"$f":"'Dairy Miscellaneous 4'!U45","v":0}]
[{"$f":"'Cow Housing'!$C$6","v":"C-3333"},{"$f":"$B$85","v":0},{"$f":"$C$85","v":2},{"$f":"$D$85","v":69},108883,null,{"$f":"'Dairy Miscellaneous 4'!T48","v":0},{"$f":"'Dairy Miscellaneous 4'!U48","v":0}]
[{"$f":"'Cow Housing'!$C$6","v":"C-3333"},{"$f":"$B$85","v":0},{"$f":"$C$85","v":2},{"$f":"$D$85","v":69},108907,null,{"$f":"'Dairy Miscellaneous 4'!T31","v":0},{"$f":"'Dairy Miscellaneous 4'!U31","v":0}]
[{"$f":"'Cow Housing'!$C$6","v":"C-3333"},{"$f":"$B$85","v":0},{"$f":"$C$85","v":2},{"$f":"$D$85","v":69},110543,null,{"$f":"'Dairy Miscellaneous 4'!T41","v":0},{"$f":"'Dairy Miscellaneous 4'!U41","v":0}]
[{"$f":"'Cow Housing'!$C$6","v":"C-3333"},{"$f":"$B$85","v":0},{"$f":"$C$85","v":2},{"$f":"$D$85","v":69},110827,null,{"$f":"'Dairy Miscellaneous 4'!T35","v":0},{"$f":"'Dairy Miscellaneous 4'!U35","v":0}]
[{"$f":"'Cow Housing'!$C$6","v":"C-3333"},{"$f":"$B$85","v":0},{"$f":"$C$85","v":2},{"$f":"$D$85","v":69},120821,null,{"$f":"'Dairy Miscellaneous 4'!T18","v":0},{"$f":"'Dairy Miscellaneous 4'!U18","v":0}]
[{"$f":"'Cow Housing'!$C$6","v":"C-3333"},{"$f":"$B$85","v":0},{"$f":"$C$85","v":2},{"$f":"$D$85","v":69},123728,null,{"$f":"'Dairy Miscellaneous 4'!T28","v":0},{"$f":"'Dairy Miscellaneous 4'!U28","v":0}]
[{"$f":"'Cow Housing'!$C$6","v":"C-3333"},{"$f":"$B$85","v":0},{"$f":"$C$85","v":2},{"$f":"$D$85","v":69},123911,null,{"$f":"'Dairy Miscellaneous 4'!T22","v":0},{"$f":"'Dairy Miscellaneous 4'!U22","v":0}]
[{"$f":"'Cow Housing'!$C$6","v":"C-3333"},{"$f":"$B$85","v":0},{"$f":"$C$85","v":2},{"$f":"$D$85","v":69},541731,null,{"$f":"'Dairy Miscellaneous 4'!T21","v":0},{"$f":"'Dairy Miscellaneous 4'!U21","v":0}]
[{"$f":"'Cow Housing'!$C$6","v":"C-3333"},{"$f":"$B$85","v":0},{"$f":"$C$85","v":2},{"$f":"$D$85","v":69},764410,null,{"$f":"'Dairy Miscellaneous 4'!T47","v":0},{"$f":"'Dairy Miscellaneous 4'!U47","v":0}]
[{"$f":"'Cow Housing'!$C$6","v":"C-3333"},{"$f":"$B$85","v":0},{"$f":"$C$85","v":2},{"$f":"$D$85","v":69},1330207,null,{"$f":"'Dairy Miscellaneous 4'!T51","v":0},{"$f":"'Dairy Miscellaneous 4'!U51","v":0}]
[{"$f":"'Cow Housing'!$C$6","v":"C-3333"},{"$f":"$B$85","v":0},{"$f":"$C$85","v":2},{"$f":"$D$85","v":69},4170303,null,{"$f":"'Dairy Miscellaneous 4'!T34","v":0},{"$f":"'Dairy Miscellaneous 4'!U34","v":0}]
[{"$f":"'Cow Housing'!$C$6","v":"C-3333"},{"$f":"$B$85","v":0},{"$f":"$C$85","v":2},{"$f":"$D$85","v":69},7429905,null,{"$f":"'Livestock PM10 4'!T14","v":0},{"$f":"'Livestock PM10 4'!U14","v":0}]
[{"$f":"'Cow Housing'!$C$6","v":"C-3333"},{"$f":"$B$85","v":0},{"$f":"$C$85","v":2},{"$f":"$D$85","v":69},7439921,null,{"$f":"'Livestock PM10 4'!T22","v":0},{"$f":"'Livestock PM10 4'!U22","v":0}]
[{"$f":"'Cow Housing'!$C$6","v":"C-3333"},{"$f":"$B$85","v":0},{"$f":"$C$85","v":2},{"$f":"$D$85","v":69},7439965,null,{"$f":"'Livestock PM10 4'!T23","v":0},{"$f":"'Livestock PM10 4'!U23","v":0}]
[{"$f":"'Cow Housing'!$C$6","v":"C-3333"},{"$f":"$B$85","v":0},{"$f":"$C$85","v":2},{"$f":"$D$85","v":69},7439976,null,{"$f":"'Livestock PM10 4'!T24","v":0},{"$f":"'Livestock PM10 4'!U24","v":0}]
[{"$f":"'Cow Housing'!$C$6","v":"C-3333"},{"$f":"$B$85","v":0},{"$f":"$C$85","v":2},{"$f":"$D$85","v":69},7440020,null,{"$f":"'Livestock PM10 4'!T25","v":0},{"$f":"'Livestock PM10 4'!U25","v":0}]
[{"$f":"'Cow Housing'!$C$6","v":"C-3333"},{"$f":"$B$85","v":0},{"$f":"$C$85","v":2},{"$f":"$D$85","v":69},7440360,null,{"$f":"'Livestock PM10 4'!T15","v":0},{"$f":"'Livestock PM10 4'!U15","v":0}]
[{"$f":"'Cow Housing'!$C$6","v":"C-3333"},{"$f":"$B$85","v":0},{"$f":"$C$85","v":2},{"$f":"$D$85","v":69},7440382,null,{"$f":"'Livestock PM10 4'!T16","v":0},{"$f":"'Livestock PM10 4'!U16","v":0}]
[{"$f":"'Cow Housing'!$C$6","v":"C-3333"},{"$f":"$B$85","v":0},{"$f":"$C$85","v":2},{"$f":"$D$85","v":69},7440393,null,{"$f":"'Livestock PM10 4'!T17","v":0},{"$f":"'Livestock PM10 4'!U17","v":0}]
[{"$f":"'Cow Housing'!$C$6","v":"C-3333"},{"$f":"$B$85","v":0},{"$f":"$C$85","v":2},{"$f":"$D$85","v":69},7440473,null,{"$f":"'Livestock PM10 4'!T19","v":0},{"$f":"'Livestock PM10 4'!U19","v":0}]
[{"$f":"'Cow Housing'!$C$6","v":"C-3333"},{"$f":"$B$85","v":0},{"$f":"$C$85","v":2},{"$f":"$D$85","v":69},7440508,null,{"$f":"'Livestock PM10 4'!T20","v":0},{"$f":"'Livestock PM10 4'!U20","v":0}]
[{"$f":"'Cow Housing'!$C$6","v":"C-3333"},{"$f":"$B$85","v":0},{"$f":"$C$85","v":2},{"$f":"$D$85","v":69},7440622,null,{"$f":"'Livestock PM10 4'!T29","v":0},{"$f":"'Livestock PM10 4'!U29","v":0}]
[{"$f":"'Cow Housing'!$C$6","v":"C-3333"},{"$f":"$B$85","v":0},{"$f":"$C$85","v":2},{"$f":"$D$85","v":69},7440666,null,{"$f":"'Livestock PM10 4'!T30","v":0},{"$f":"'Livestock PM10 4'!U30","v":0}]
[{"$f":"'Cow Housing'!$C$6","v":"C-3333"},{"$f":"$B$85","v":0},{"$f":"$C$85","v":2},{"$f":"$D$85","v":69},7664417,null,{"$f":"'Livestock PM10 4'!T31","v":0},{"$f":"'Livestock PM10 4'!U31","v":0}]
[{"$f":"'Cow Housing'!$C$6","v":"C-3333"},{"$f":"$B$85","v":0},{"$f":"$C$85","v":2},{"$f":"$D$85","v":69},7723140,null,{"$f":"'Livestock PM10 4'!T26","v":0},{"$f":"'Livestock PM10 4'!U26","v":0}]
[{"$f":"'Cow Housing'!$C$6","v":"C-3333"},{"$f":"$B$85","v":0},{"$f":"$C$85","v":2},{"$f":"$D$85","v":69},7726956,null,{"$f":"'Livestock PM10 4'!T18","v":0},{"$f":"'Livestock PM10 4'!U18","v":0}]
[{"$f":"'Cow Housing'!$C$6","v":"C-3333"},{"$f":"$B$85","v":0},{"$f":"$C$85","v":2},{"$f":"$D$85","v":69},7782492,null,{"$f":"'Livestock PM10 4'!T27","v":0},{"$f":"'Livestock PM10 4'!U27","v":0}]
[{"$f":"'Cow Housing'!$C$6","v":"C-3333"},{"$f":"$B$85","v":0},{"$f":"$C$85","v":2},{"$f":"$D$85","v":69},18540299,null,{"$f":"'Livestock PM10 4'!T21","v":0},{"$f":"'Livestock PM10 4'!U21","v":0}]
[{"$f":"'Cow Housing'!$C$6","v":"C-3333"},{"$f":"$B$86","v":0},{"$f":"$C$86","v":2},{"$f":"$D$86","v":70},9960,null,{"$f":"'Livestock PM10 4'!V28","v":0},{"$f":"'Livestock PM10 4'!W28","v":0}]
[{"$f":"'Cow Housing'!$C$6","v":"C-3333"},{"$f":"$B$86","v":0},{"$f":"$C$86","v":2},{"$f":"$D$86","v":70},50000,null,{"$f":"'Dairy Miscellaneous 4'!V40","v":0},{"$f":"'Dairy Miscellaneous 4'!W40","v":0}]
[{"$f":"'Cow Housing'!$C$6","v":"C-3333"},{"$f":"$B$86","v":0},{"$f":"$C$86","v":2},{"$f":"$D$86","v":70},56235,null,{"$f":"'Dairy Miscellaneous 4'!V30","v":0},{"$f":"'Dairy Miscellaneous 4'!W30","v":0}]
[{"$f":"'Cow Housing'!$C$6","v":"C-3333"},{"$f":"$B$86","v":0},{"$f":"$C$86","v":2},{"$f":"$D$86","v":70},67630,null,{"$f":"'Dairy Miscellaneous 4'!V42","v":0},{"$f":"'Dairy Miscellaneous 4'!W42","v":0}]
[{"$f":"'Cow Housing'!$C$6","v":"C-3333"},{"$f":"$B$86","v":0},{"$f":"$C$86","v":2},{"$f":"$D$86","v":70},67663,null,{"$f":"'Dairy Miscellaneous 4'!V32","v":0},{"$f":"'Dairy Miscellaneous 4'!W32","v":0}]
[{"$f":"'Cow Housing'!$C$6","v":"C-3333"},{"$f":"$B$86","v":0},{"$f":"$C$86","v":2},{"$f":"$D$86","v":70},71432,null,{"$f":"'Dairy Miscellaneous 4'!V26","v":0},{"$f":"'Dairy Miscellaneous 4'!W26","v":0}]
[{"$f":"'Cow Housing'!$C$6","v":"C-3333"},{"$f":"$B$86","v":0},{"$f":"$C$86","v":2},{"$f":"$D$86","v":70},74873,null,{"$f":"'Dairy Miscellaneous 4'!V33","v":0},{"$f":"'Dairy Miscellaneous 4'!W33","v":0}]
[{"$f":"'Cow Housing'!$C$6","v":"C-3333"},{"$f":"$B$86","v":0},{"$f":"$C$86","v":2},{"$f":"$D$86","v":70},75003,null,{"$f":"'Dairy Miscellaneous 4'!V36","v":0},{"$f":"'Dairy Miscellaneous 4'!W36","v":0}]
[{"$f":"'Cow Housing'!$C$6","v":"C-3333"},{"$f":"$B$86","v":0},{"$f":"$C$86","v":2},{"$f":"$D$86","v":70},75070,null,{"$f":"'Dairy Miscellaneous 4'!V24","v":0},{"$f":"'Dairy Miscellaneous 4'!W24","v":0}]
[{"$f":"'Cow Housing'!$C$6","v":"C-3333"},{"$f":"$B$86","v":0},{"$f":"$C$86","v":2},{"$f":"$D$86","v":70},75150,null,{"$f":"'Dairy Miscellaneous 4'!V29","v":0},{"$f":"'Dairy Miscellaneous 4'!W29","v":0}]
[{"$f":"'Cow Housing'!$C$6","v":"C-3333"},{"$f":"$B$86","v":0},{"$f":"$C$86","v":2},{"$f":"$D$86","v":70},75694,null,{"$f":"'Dairy Miscellaneous 4'!V49","v":0},{"$f":"'Dairy Miscellaneous 4'!W49","v":0}]
[{"$f":"'Cow Housing'!$C$6","v":"C-3333"},{"$f":"$B$86","v":0},{"$f":"$C$86","v":2},{"$f":"$D$86","v":70},78933,null,{"$f":"'Dairy Miscellaneous 4'!V44","v":0},{"$f":"'Dairy Miscellaneous 4'!W44","v":0}]
[{"$f":"'Cow Housing'!$C$6","v":"C-3333"},{"$f":"$B$86","v":0},{"$f":"$C$86","v":2},{"$f":"$D$86","v":70},79005,null,{"$f":"'Dairy Miscellaneous 4'!V16","v":0},{"$f":"'Dairy Miscellaneous 4'!W16","v":0}]
[{"$f":"'Cow Housing'!$C$6","v":"C-3333"},{"$f":"$B$86","v":0},{"$f":"$C$86","v":2},{"$f":"$D$86","v":70},79345,null,{"$f":"'Dairy Miscellaneous 4'!V15","v":0},{"$f":"'Dairy Miscellaneous 4'!W15","v":0}]
[{"$f":"'Cow Housing'!$C$6","v":"C-3333"},{"$f":"$B$86","v":0},{"$f":"$C$86","v":2},{"$f":"$D$86","v":70},95501,null,{"$f":"'Dairy Miscellaneous 4'!V20","v":0},{"$f":"'Dairy Miscellaneous 4'!W20","v":0}]
[{"$f":"'Cow Housing'!$C$6","v":"C-3333"},{"$f":"$B$86","v":0},{"$f":"$C$86","v":2},{"$f":"$D$86","v":70},96128,null,{"$f":"'Dairy Miscellaneous 4'!V19","v":0},{"$f":"'Dairy Miscellaneous 4'!W19","v":0}]
[{"$f":"'Cow Housing'!$C$6","v":"C-3333"},{"$f":"$B$86","v":0},{"$f":"$C$86","v":2},{"$f":"$D$86","v":70},96184,null,{"$f":"'Dairy Miscellaneous 4'!V17","v":0},{"$f":"'Dairy Miscellaneous 4'!W17","v":0}]
[{"$f":"'Cow Housing'!$C$6","v":"C-3333"},{"$f":"$B$86","v":0},{"$f":"$C$86","v":2},{"$f":"$D$86","v":70},98828,null,{"$f":"'Dairy Miscellaneous 4'!V43","v":0},{"$f":"'Dairy Miscellaneous 4'!W43","v":0}]
[{"$f":"'Cow Housing'!$C$6","v":"C-3333"},{"$f":"$B$86","v":0},{"$f":"$C$86","v":2},{"$f":"$D$86","v":70},100414,null,{"$f":"'Dairy Miscellaneous 4'!V37","v":0},{"$f":"'Dairy Miscellaneous 4'!W37","v":0}]
[{"$f":"'Cow Housing'!$C$6","v":"C-3333"},{"$f":"$B$86","v":0},{"$f":"$C$86","v":2},{"$f":"$D$86","v":70},100425,null,{"$f":"'Dairy Miscellaneous 4'!#REF!","v":{"$error":"#REF!"}},{"$f":"'Dairy Miscellaneous 4'!#REF!","v":{"$error":"#REF!"}}]
[{"$f":"'Cow Housing'!$C$6","v":"C-3333"},{"$f":"$B$86","v":0},{"$f":"$C$86","v":2},{"$f":"$D$86","v":70},100447,null,{"$f":"'Dairy Miscellaneous 4'!V27","v":0},{"$f":"'Dairy Miscellaneous 4'!W27","v":0}]
[{"$f":"'Cow Housing'!$C$6","v":"C-3333"},{"$f":"$B$86","v":0},{"$f":"$C$86","v":2},{"$f":"$D$86","v":70},106467,null,{"$f":"'Dairy Miscellaneous 4'!V23","v":0},{"$f":"'Dairy Miscellaneous 4'!W23","v":0}]
[{"$f":"'Cow Housing'!$C$6","v":"C-3333"},{"$f":"$B$86","v":0},{"$f":"$C$86","v":2},{"$f":"$D$86","v":70},106934,null,{"$f":"'Dairy Miscellaneous 4'!V38","v":0},{"$f":"'Dairy Miscellaneous 4'!W38","v":0}]
[{"$f":"'Cow Housing'!$C$6","v":"C-3333"},{"$f":"$B$86","v":0},{"$f":"$C$86","v":2},{"$f":"$D$86","v":70},107062,null,{"$f":"'Dairy Miscellaneous 4'!V39","v":0},{"$f":"'Dairy Miscellaneous 4'!W39","v":0}]
[{"$f":"'Cow Housing'!$C$6","v":"C-3333"},{"$f":"$B$86","v":0},{"$f":"$C$86","v":2},{"$f":"$D$86","v":70},107131,null,{"$f":"'Dairy Miscellaneous 4'!V25","v":0},{"$f":"'Dairy Miscellaneous 4'!W25","v":0}]
[{"$f":"'Cow Housing'!$C$6","v":"C-3333"},{"$f":"$B$86","v":0},{"$f":"$C$86","v":2},{"$f":"$D$86","v":70},108054,null,{"$f":"'Dairy Miscellaneous 4'!V50","v":0},{"$f":"'Dairy Miscellaneous 4'!W50","v":0}]
[{"$f":"'Cow Housing'!$C$6","v":"C-3333"},{"$f":"$B$86","v":0},{"$f":"$C$86","v":2},{"$f":"$D$86","v":70},108101,null,{"$f":"'Dairy Miscellaneous 4'!V45","v":0},{"$f":"'Dairy Miscellaneous 4'!W45","v":0}]
[{"$f":"'Cow Housing'!$C$6","v":"C-3333"},{"$f":"$B$86","v":0},{"$f":"$C$86","v":2},{"$f":"$D$86","v":70},108883,null,{"$f":"'Dairy Miscellaneous 4'!V48","v":0},{"$f":"'Dairy Miscellaneous 4'!W48","v":0}]
[{"$f":"'Cow Housing'!$C$6","v":"C-3333"},{"$f":"$B$86","v":0},{"$f":"$C$86","v":2},{"$f":"$D$86","v":70},108907,null,{"$f":"'Dairy Miscellaneous 4'!V31","v":0},{"$f":"'Dairy Miscellaneous 4'!W31","v":0}]
[{"$f":"'Cow Housing'!$C$6","v":"C-3333"},{"$f":"$B$86","v":0},{"$f":"$C$86","v":2},{"$f":"$D$86","v":70},110543,null,{"$f":"'Dairy Miscellaneous 4'!V41","v":0},{"$f":"'Dairy Miscellaneous 4'!W41","v":0}]
[{"$f":"'Cow Housing'!$C$6","v":"C-3333"},{"$f":"$B$86","v":0},{"$f":"$C$86","v":2},{"$f":"$D$86","v":70},110827,null,{"$f":"'Dairy Miscellaneous 4'!V35","v":0},{"$f":"'Dairy Miscellaneous 4'!W35","v":0}]
[{"$f":"'Cow Housing'!$C$6","v":"C-3333"},{"$f":"$B$86","v":0},{"$f":"$C$86","v":2},{"$f":"$D$86","v":70},120821,null,{"$f":"'Dairy Miscellaneous 4'!V18","v":0},{"$f":"'Dairy Miscellaneous 4'!W18","v":0}]
[{"$f":"'Cow Housing'!$C$6","v":"C-3333"},{"$f":"$B$86","v":0},{"$f":"$C$86","v":2},{"$f":"$D$86","v":70},123728,null,{"$f":"'Dairy Miscellaneous 4'!V28","v":0},{"$f":"'Dairy Miscellaneous 4'!W28","v":0}]
[{"$f":"'Cow Housing'!$C$6","v":"C-3333"},{"$f":"$B$86","v":0},{"$f":"$C$86","v":2},{"$f":"$D$86","v":70},123911,null,{"$f":"'Dairy Miscellaneous 4'!V22","v":0},{"$f":"'Dairy Miscellaneous 4'!W22","v":0}]
[{"$f":"'Cow Housing'!$C$6","v":"C-3333"},{"$f":"$B$86","v":0},{"$f":"$C$86","v":2},{"$f":"$D$86","v":70},541731,null,{"$f":"'Dairy Miscellaneous 4'!V21","v":0},{"$f":"'Dairy Miscellaneous 4'!W21","v":0}]
[{"$f":"'Cow Housing'!$C$6","v":"C-3333"},{"$f":"$B$86","v":0},{"$f":"$C$86","v":2},{"$f":"$D$86","v":70},764410,null,{"$f":"'Dairy Miscellaneous 4'!V47","v":0},{"$f":"'Dairy Miscellaneous 4'!W47","v":0}]
[{"$f":"'Cow Housing'!$C$6","v":"C-3333"},{"$f":"$B$86","v":0},{"$f":"$C$86","v":2},{"$f":"$D$86","v":70},1330207,null,{"$f":"'Dairy Miscellaneous 4'!V51","v":0},{"$f":"'Dairy Miscellaneous 4'!W51","v":0}]
[{"$f":"'Cow Housing'!$C$6","v":"C-3333"},{"$f":"$B$86","v":0},{"$f":"$C$86","v":2},{"$f":"$D$86","v":70},4170303,null,{"$f":"'Dairy Miscellaneous 4'!V34","v":0},{"$f":"'Dairy Miscellaneous 4'!W34","v":0}]
[{"$f":"'Cow Housing'!$C$6","v":"C-3333"},{"$f":"$B$86","v":0},{"$f":"$C$86","v":2},{"$f":"$D$86","v":70},7429905,null,{"$f":"'Livestock PM10 4'!V14","v":0},{"$f":"'Livestock PM10 4'!W14","v":0}]
[{"$f":"'Cow Housing'!$C$6","v":"C-3333"},{"$f":"$B$86","v":0},{"$f":"$C$86","v":2},{"$f":"$D$86","v":70},7439921,null,{"$f":"'Livestock PM10 4'!V22","v":0},{"$f":"'Livestock PM10 4'!W22","v":0}]
[{"$f":"'Cow Housing'!$C$6","v":"C-3333"},{"$f":"$B$86","v":0},{"$f":"$C$86","v":2},{"$f":"$D$86","v":70},7439965,null,{"$f":"'Livestock PM10 4'!V23","v":0},{"$f":"'Livestock PM10 4'!W23","v":0}]
[{"$f":"'Cow Housing'!$C$6","v":"C-3333"},{"$f":"$B$86","v":0},{"$f":"$C$86","v":2},{"$f":"$D$86","v":70},7439976,null,{"$f":"'Livestock PM10 4'!V24","v":0},{"$f":"'Livestock PM10 4'!W24","v":0}]
[{"$f":"'Cow Housing'!$C$6","v":"C-3333"},{"$f":"$B$86","v":0},{"$f":"$C$86","v":2},{"$f":"$D$86","v":70},7440020,null,{"$f":"'Livestock PM10 4'!V25","v":0},{"$f":"'Livestock PM10 4'!W25","v":0}]
[{"$f":"'Cow Housing'!$C$6","v":"C-3333"},{"$f":"$B$86","v":0},{"$f":"$C$86","v":2},{"$f":"$D$86","v":70},7440360,null,{"$f":"'Livestock PM10 4'!V15","v":0},{"$f":"'Livestock PM10 4'!W15","v":0}]
[{"$f":"'Cow Housing'!$C$6","v":"C-3333"},{"$f":"$B$86","v":0},{"$f":"$C$86","v":2},{"$f":"$D$86","v":70},7440382,null,{"$f":"'Livestock PM10 4'!V16","v":0},{"$f":"'Livestock PM10 4'!W16","v":0}]
[{"$f":"'Cow Housing'!$C$6","v":"C-3333"},{"$f":"$B$86","v":0},{"$f":"$C$86","v":2},{"$f":"$D$86","v":70},7440393,null,{"$f":"'Livestock PM10 4'!V17","v":0},{"$f":"'Livestock PM10 4'!W17","v":0}]
[{"$f":"'Cow Housing'!$C$6","v":"C-3333"},{"$f":"$B$86","v":0},{"$f":"$C$86","v":2},{"$f":"$D$86","v":70},7440473,null,{"$f":"'Livestock PM10 4'!V19","v":0},{"$f":"'Livestock PM10 4'!W19","v":0}]
[{"$f":"'Cow Housing'!$C$6","v":"C-3333"},{"$f":"$B$86","v":0},{"$f":"$C$86","v":2},{"$f":"$D$86","v":70},7440508,null,{"$f":"'Livestock PM10 4'!V20","v":0},{"$f":"'Livestock PM10 4'!W20","v":0}]
[{"$f":"'Cow Housing'!$C$6","v":"C-3333"},{"$f":"$B$86","v":0},{"$f":"$C$86","v":2},{"$f":"$D$86","v":70},7440622,null,{"$f":"'Livestock PM10 4'!V29","v":0},{"$f":"'Livestock PM10 4'!W29","v":0}]
[{"$f":"'Cow Housing'!$C$6","v":"C-3333"},{"$f":"$B$86","v":0},{"$f":"$C$86","v":2},{"$f":"$D$86","v":70},7440666,null,{"$f":"'Livestock PM10 4'!V30","v":0},{"$f":"'Livestock PM10 4'!W30","v":0}]
[{"$f":"'Cow Housing'!$C$6","v":"C-3333"},{"$f":"$B$86","v":0},{"$f":"$C$86","v":2},{"$f":"$D$86","v":70},7664417,null,{"$f":"'Livestock PM10 4'!V31","v":0},{"$f":"'Livestock PM10 4'!W31","v":0}]
[{"$f":"'Cow Housing'!$C$6","v":"C-3333"},{"$f":"$B$86","v":0},{"$f":"$C$86","v":2},{"$f":"$D$86","v":70},7723140,null,{"$f":"'Livestock PM10 4'!V26","v":0},{"$f":"'Livestock PM10 4'!W26","v":0}]
[{"$f":"'Cow Housing'!$C$6","v":"C-3333"},{"$f":"$B$86","v":0},{"$f":"$C$86","v":2},{"$f":"$D$86","v":70},7726956,null,{"$f":"'Livestock PM10 4'!V18","v":0},{"$f":"'Livestock PM10 4'!W18","v":0}]
[{"$f":"'Cow Housing'!$C$6","v":"C-3333"},{"$f":"$B$86","v":0},{"$f":"$C$86","v":2},{"$f":"$D$86","v":70},7782492,null,{"$f":"'Livestock PM10 4'!V27","v":0},{"$f":"'Livestock PM10 4'!W27","v":0}]
[{"$f":"'Cow Housing'!$C$6","v":"C-3333"},{"$f":"$B$86","v":0},{"$f":"$C$86","v":2},{"$f":"$D$86","v":70},18540299,null,{"$f":"'Livestock PM10 4'!V21","v":0},{"$f":"'Livestock PM10 4'!W21","v":0}]
[{"$f":"'Cow Housing'!$C$6","v":"C-3333"},{"$f":"$B$87","v":0},{"$f":"$C$87","v":2},{"$f":"$D$87","v":71},9960,null,{"$f":"'Livestock PM10 4'!X28","v":0},{"$f":"'Livestock PM10 4'!Y28","v":0}]
[{"$f":"'Cow Housing'!$C$6","v":"C-3333"},{"$f":"$B$87","v":0},{"$f":"$C$87","v":2},{"$f":"$D$87","v":71},50000,null,{"$f":"'Dairy Miscellaneous 4'!X40","v":0},{"$f":"'Dairy Miscellaneous 4'!Y40","v":0}]
[{"$f":"'Cow Housing'!$C$6","v":"C-3333"},{"$f":"$B$87","v":0},{"$f":"$C$87","v":2},{"$f":"$D$87","v":71},56235,null,{"$f":"'Dairy Miscellaneous 4'!X30","v":0},{"$f":"'Dairy Miscellaneous 4'!Y30","v":0}]
[{"$f":"'Cow Housing'!$C$6","v":"C-3333"},{"$f":"$B$87","v":0},{"$f":"$C$87","v":2},{"$f":"$D$87","v":71},67630,null,{"$f":"'Dairy Miscellaneous 4'!X42","v":0},{"$f":"'Dairy Miscellaneous 4'!Y42","v":0}]
[{"$f":"'Cow Housing'!$C$6","v":"C-3333"},{"$f":"$B$87","v":0},{"$f":"$C$87","v":2},{"$f":"$D$87","v":71},67663,null,{"$f":"'Dairy Miscellaneous 4'!X32","v":0},{"$f":"'Dairy Miscellaneous 4'!Y32","v":0}]
[{"$f":"'Cow Housing'!$C$6","v":"C-3333"},{"$f":"$B$87","v":0},{"$f":"$C$87","v":2},{"$f":"$D$87","v":71},71432,null,{"$f":"'Dairy Miscellaneous 4'!X26","v":0},{"$f":"'Dairy Miscellaneous 4'!Y26","v":0}]
[{"$f":"'Cow Housing'!$C$6","v":"C-3333"},{"$f":"$B$87","v":0},{"$f":"$C$87","v":2},{"$f":"$D$87","v":71},74873,null,{"$f":"'Dairy Miscellaneous 4'!X33","v":0},{"$f":"'Dairy Miscellaneous 4'!Y33","v":0}]
[{"$f":"'Cow Housing'!$C$6","v":"C-3333"},{"$f":"$B$87","v":0},{"$f":"$C$87","v":2},{"$f":"$D$87","v":71},75003,null,{"$f":"'Dairy Miscellaneous 4'!X36","v":0},{"$f":"'Dairy Miscellaneous 4'!Y36","v":0}]
[{"$f":"'Cow Housing'!$C$6","v":"C-3333"},{"$f":"$B$87","v":0},{"$f":"$C$87","v":2},{"$f":"$D$87","v":71},75070,null,{"$f":"'Dairy Miscellaneous 4'!X24","v":0},{"$f":"'Dairy Miscellaneous 4'!Y24","v":0}]
[{"$f":"'Cow Housing'!$C$6","v":"C-3333"},{"$f":"$B$87","v":0},{"$f":"$C$87","v":2},{"$f":"$D$87","v":71},75150,null,{"$f":"'Dairy Miscellaneous 4'!X29","v":0},{"$f":"'Dairy Miscellaneous 4'!Y29","v":0}]
[{"$f":"'Cow Housing'!$C$6","v":"C-3333"},{"$f":"$B$87","v":0},{"$f":"$C$87","v":2},{"$f":"$D$87","v":71},75694,null,{"$f":"'Dairy Miscellaneous 4'!X49","v":0},{"$f":"'Dairy Miscellaneous 4'!Y49","v":0}]
[{"$f":"'Cow Housing'!$C$6","v":"C-3333"},{"$f":"$B$87","v":0},{"$f":"$C$87","v":2},{"$f":"$D$87","v":71},78933,null,{"$f":"'Dairy Miscellaneous 4'!X44","v":0},{"$f":"'Dairy Miscellaneous 4'!Y44","v":0}]
[{"$f":"'Cow Housing'!$C$6","v":"C-3333"},{"$f":"$B$87","v":0},{"$f":"$C$87","v":2},{"$f":"$D$87","v":71},79005,null,{"$f":"'Dairy Miscellaneous 4'!X16","v":0},{"$f":"'Dairy Miscellaneous 4'!Y16","v":0}]
[{"$f":"'Cow Housing'!$C$6","v":"C-3333"},{"$f":"$B$87","v":0},{"$f":"$C$87","v":2},{"$f":"$D$87","v":71},79345,null,{"$f":"'Dairy Miscellaneous 4'!X15","v":0},{"$f":"'Dairy Miscellaneous 4'!Y15","v":0}]
[{"$f":"'Cow Housing'!$C$6","v":"C-3333"},{"$f":"$B$87","v":0},{"$f":"$C$87","v":2},{"$f":"$D$87","v":71},95501,null,{"$f":"'Dairy Miscellaneous 4'!X20","v":0},{"$f":"'Dairy Miscellaneous 4'!Y20","v":0}]
[{"$f":"'Cow Housing'!$C$6","v":"C-3333"},{"$f":"$B$87","v":0},{"$f":"$C$87","v":2},{"$f":"$D$87","v":71},96128,null,{"$f":"'Dairy Miscellaneous 4'!X19","v":0},{"$f":"'Dairy Miscellaneous 4'!Y19","v":0}]
[{"$f":"'Cow Housing'!$C$6","v":"C-3333"},{"$f":"$B$87","v":0},{"$f":"$C$87","v":2},{"$f":"$D$87","v":71},96184,null,{"$f":"'Dairy Miscellaneous 4'!X17","v":0},{"$f":"'Dairy Miscellaneous 4'!Y17","v":0}]
[{"$f":"'Cow Housing'!$C$6","v":"C-3333"},{"$f":"$B$87","v":0},{"$f":"$C$87","v":2},{"$f":"$D$87","v":71},98828,null,{"$f":"'Dairy Miscellaneous 4'!X43","v":0},{"$f":"'Dairy Miscellaneous 4'!Y43","v":0}]
[{"$f":"'Cow Housing'!$C$6","v":"C-3333"},{"$f":"$B$87","v":0},{"$f":"$C$87","v":2},{"$f":"$D$87","v":71},100414,null,{"$f":"'Dairy Miscellaneous 4'!X37","v":0},{"$f":"'Dairy Miscellaneous 4'!Y37","v":0}]
[{"$f":"'Cow Housing'!$C$6","v":"C-3333"},{"$f":"$B$87","v":0},{"$f":"$C$87","v":2},{"$f":"$D$87","v":71},100425,null,{"$f":"'Dairy Miscellaneous 4'!#REF!","v":{"$error":"#REF!"}},{"$f":"'Dairy Miscellaneous 4'!#REF!","v":{"$error":"#REF!"}}]
[{"$f":"'Cow Housing'!$C$6","v":"C-3333"},{"$f":"$B$87","v":0},{"$f":"$C$87","v":2},{"$f":"$D$87","v":71},100447,null,{"$f":"'Dairy Miscellaneous 4'!X27","v":0},{"$f":"'Dairy Miscellaneous 4'!Y27","v":0}]
[{"$f":"'Cow Housing'!$C$6","v":"C-3333"},{"$f":"$B$87","v":0},{"$f":"$C$87","v":2},{"$f":"$D$87","v":71},106467,null,{"$f":"'Dairy Miscellaneous 4'!X23","v":0},{"$f":"'Dairy Miscellaneous 4'!Y23","v":0}]
[{"$f":"'Cow Housing'!$C$6","v":"C-3333"},{"$f":"$B$87","v":0},{"$f":"$C$87","v":2},{"$f":"$D$87","v":71},106934,null,{"$f":"'Dairy Miscellaneous 4'!X38","v":0},{"$f":"'Dairy Miscellaneous 4'!Y38","v":0}]
[{"$f":"'Cow Housing'!$C$6","v":"C-3333"},{"$f":"$B$87","v":0},{"$f":"$C$87","v":2},{"$f":"$D$87","v":71},107062,null,{"$f":"'Dairy Miscellaneous 4'!X39","v":0},{"$f":"'Dairy Miscellaneous 4'!Y39","v":0}]
[{"$f":"'Cow Housing'!$C$6","v":"C-3333"},{"$f":"$B$87","v":0},{"$f":"$C$87","v":2},{"$f":"$D$87","v":71},107131,null,{"$f":"'Dairy Miscellaneous 4'!X25","v":0},{"$f":"'Dairy Miscellaneous 4'!Y25","v":0}]
[{"$f":"'Cow Housing'!$C$6","v":"C-3333"},{"$f":"$B$87","v":0},{"$f":"$C$87","v":2},{"$f":"$D$87","v":71},108054,null,{"$f":"'Dairy Miscellaneous 4'!X50","v":0},{"$f":"'Dairy Miscellaneous 4'!Y50","v":0}]
[{"$f":"'Cow Housing'!$C$6","v":"C-3333"},{"$f":"$B$87","v":0},{"$f":"$C$87","v":2},{"$f":"$D$87","v":71},108101,null,{"$f":"'Dairy Miscellaneous 4'!X45","v":0},{"$f":"'Dairy Miscellaneous 4'!Y45","v":0}]
[{"$f":"'Cow Housing'!$C$6","v":"C-3333"},{"$f":"$B$87","v":0},{"$f":"$C$87","v":2},{"$f":"$D$87","v":71},108883,null,{"$f":"'Dairy Miscellaneous 4'!X48","v":0},{"$f":"'Dairy Miscellaneous 4'!Y48","v":0}]
[{"$f":"'Cow Housing'!$C$6","v":"C-3333"},{"$f":"$B$87","v":0},{"$f":"$C$87","v":2},{"$f":"$D$87","v":71},108907,null,{"$f":"'Dairy Miscellaneous 4'!X31","v":0},{"$f":"'Dairy Miscellaneous 4'!Y31","v":0}]
[{"$f":"'Cow Housing'!$C$6","v":"C-3333"},{"$f":"$B$87","v":0},{"$f":"$C$87","v":2},{"$f":"$D$87","v":71},110543,null,{"$f":"'Dairy Miscellaneous 4'!X41","v":0},{"$f":"'Dairy Miscellaneous 4'!Y41","v":0}]
[{"$f":"'Cow Housing'!$C$6","v":"C-3333"},{"$f":"$B$87","v":0},{"$f":"$C$87","v":2},{"$f":"$D$87","v":71},110827,null,{"$f":"'Dairy Miscellaneous 4'!X35","v":0},{"$f":"'Dairy Miscellaneous 4'!Y35","v":0}]
[{"$f":"'Cow Housing'!$C$6","v":"C-3333"},{"$f":"$B$87","v":0},{"$f":"$C$87","v":2},{"$f":"$D$87","v":71},120821,null,{"$f":"'Dairy Miscellaneous 4'!X18","v":0},{"$f":"'Dairy Miscellaneous 4'!Y18","v":0}]
[{"$f":"'Cow Housing'!$C$6","v":"C-3333"},{"$f":"$B$87","v":0},{"$f":"$C$87","v":2},{"$f":"$D$87","v":71},123728,null,{"$f":"'Dairy Miscellaneous 4'!X28","v":0},{"$f":"'Dairy Miscellaneous 4'!Y28","v":0}]
[{"$f":"'Cow Housing'!$C$6","v":"C-3333"},{"$f":"$B$87","v":0},{"$f":"$C$87","v":2},{"$f":"$D$87","v":71},123911,null,{"$f":"'Dairy Miscellaneous 4'!X22","v":0},{"$f":"'Dairy Miscellaneous 4'!Y22","v":0}]
[{"$f":"'Cow Housing'!$C$6","v":"C-3333"},{"$f":"$B$87","v":0},{"$f":"$C$87","v":2},{"$f":"$D$87","v":71},541731,null,{"$f":"'Dairy Miscellaneous 4'!X21","v":0},{"$f":"'Dairy Miscellaneous 4'!Y21","v":0}]
[{"$f":"'Cow Housing'!$C$6","v":"C-3333"},{"$f":"$B$87","v":0},{"$f":"$C$87","v":2},{"$f":"$D$87","v":71},764410,null,{"$f":"'Dairy Miscellaneous 4'!X47","v":0},{"$f":"'Dairy Miscellaneous 4'!Y47","v":0}]
[{"$f":"'Cow Housing'!$C$6","v":"C-3333"},{"$f":"$B$87","v":0},{"$f":"$C$87","v":2},{"$f":"$D$87","v":71},1330207,null,{"$f":"'Dairy Miscellaneous 4'!X51","v":0},{"$f":"'Dairy Miscellaneous 4'!Y51","v":0}]
[{"$f":"'Cow Housing'!$C$6","v":"C-3333"},{"$f":"$B$87","v":0},{"$f":"$C$87","v":2},{"$f":"$D$87","v":71},4170303,null,{"$f":"'Dairy Miscellaneous 4'!X34","v":0},{"$f":"'Dairy Miscellaneous 4'!Y34","v":0}]
[{"$f":"'Cow Housing'!$C$6","v":"C-3333"},{"$f":"$B$87","v":0},{"$f":"$C$87","v":2},{"$f":"$D$87","v":71},7429905,null,{"$f":"'Livestock PM10 4'!X14","v":0},{"$f":"'Livestock PM10 4'!Y14","v":0}]
[{"$f":"'Cow Housing'!$C$6","v":"C-3333"},{"$f":"$B$87","v":0},{"$f":"$C$87","v":2},{"$f":"$D$87","v":71},7439921,null,{"$f":"'Livestock PM10 4'!X22","v":0},{"$f":"'Livestock PM10 4'!Y22","v":0}]
[{"$f":"'Cow Housing'!$C$6","v":"C-3333"},{"$f":"$B$87","v":0},{"$f":"$C$87","v":2},{"$f":"$D$87","v":71},7439965,null,{"$f":"'Livestock PM10 4'!X23","v":0},{"$f":"'Livestock PM10 4'!Y23","v":0}]
[{"$f":"'Cow Housing'!$C$6","v":"C-3333"},{"$f":"$B$87","v":0},{"$f":"$C$87","v":2},{"$f":"$D$87","v":71},7439976,null,{"$f":"'Livestock PM10 4'!X24","v":0},{"$f":"'Livestock PM10 4'!Y24","v":0}]
[{"$f":"'Cow Housing'!$C$6","v":"C-3333"},{"$f":"$B$87","v":0},{"$f":"$C$87","v":2},{"$f":"$D$87","v":71},7440020,null,{"$f":"'Livestock PM10 4'!X25","v":0},{"$f":"'Livestock PM10 4'!Y25","v":0}]
[{"$f":"'Cow Housing'!$C$6","v":"C-3333"},{"$f":"$B$87","v":0},{"$f":"$C$87","v":2},{"$f":"$D$87","v":71},7440360,null,{"$f":"'Livestock PM10 4'!X15","v":0},{"$f":"'Livestock PM10 4'!Y15","v":0}]
[{"$f":"'Cow Housing'!$C$6","v":"C-3333"},{"$f":"$B$87","v":0},{"$f":"$C$87","v":2},{"$f":"$D$87","v":71},7440382,null,{"$f":"'Livestock PM10 4'!X16","v":0},{"$f":"'Livestock PM10 4'!Y16","v":0}]
[{"$f":"'Cow Housing'!$C$6","v":"C-3333"},{"$f":"$B$87","v":0},{"$f":"$C$87","v":2},{"$f":"$D$87","v":71},7440393,null,{"$f":"'Livestock PM10 4'!X17","v":0},{"$f":"'Livestock PM10 4'!Y17","v":0}]
[{"$f":"'Cow Housing'!$C$6","v":"C-3333"},{"$f":"$B$87","v":0},{"$f":"$C$87","v":2},{"$f":"$D$87","v":71},7440473,null,{"$f":"'Livestock PM10 4'!X19","v":0},{"$f":"'Livestock PM10 4'!Y19","v":0}]
[{"$f":"'Cow Housing'!$C$6","v":"C-3333"},{"$f":"$B$87","v":0},{"$f":"$C$87","v":2},{"$f":"$D$87","v":71},7440508,null,{"$f":"'Livestock PM10 4'!X20","v":0},{"$f":"'Livestock PM10 4'!Y20","v":0}]
[{"$f":"'Cow Housing'!$C$6","v":"C-3333"},{"$f":"$B$87","v":0},{"$f":"$C$87","v":2},{"$f":"$D$87","v":71},7440622,null,{"$f":"'Livestock PM10 4'!X29","v":0},{"$f":"'Livestock PM10 4'!Y29","v":0}]
[{"$f":"'Cow Housing'!$C$6","v":"C-3333"},{"$f":"$B$87","v":0},{"$f":"$C$87","v":2},{"$f":"$D$87","v":71},7440666,null,{"$f":"'Livestock PM10 4'!X30","v":0},{"$f":"'Livestock PM10 4'!Y30","v":0}]
[{"$f":"'Cow Housing'!$C$6","v":"C-3333"},{"$f":"$B$87","v":0},{"$f":"$C$87","v":2},{"$f":"$D$87","v":71},7664417,null,{"$f":"'Livestock PM10 4'!X31","v":0},{"$f":"'Livestock PM10 4'!Y31","v":0}]
[{"$f":"'Cow Housing'!$C$6","v":"C-3333"},{"$f":"$B$87","v":0},{"$f":"$C$87","v":2},{"$f":"$D$87","v":71},7723140,null,{"$f":"'Livestock PM10 4'!X26","v":0},{"$f":"'Livestock PM10 4'!Y26","v":0}]
[{"$f":"'Cow Housing'!$C$6","v":"C-3333"},{"$f":"$B$87","v":0},{"$f":"$C$87","v":2},{"$f":"$D$87","v":71},7726956,null,{"$f":"'Livestock PM10 4'!X18","v":0},{"$f":"'Livestock PM10 4'!Y18","v":0}]
[{"$f":"'Cow Housing'!$C$6","v":"C-3333"},{"$f":"$B$87","v":0},{"$f":"$C$87","v":2},{"$f":"$D$87","v":71},7782492,null,{"$f":"'Livestock PM10 4'!X27","v":0},{"$f":"'Livestock PM10 4'!Y27","v":0}]
[{"$f":"'Cow Housing'!$C$6","v":"C-3333"},{"$f":"$B$87","v":0},{"$f":"$C$87","v":2},{"$f":"$D$87","v":71},18540299,null,{"$f":"'Livestock PM10 4'!X21","v":0},{"$f":"'Livestock PM10 4'!Y21","v":0}]
[{"$f":"'Cow Housing'!$C$6","v":"C-3333"},{"$f":"$B$88","v":0},{"$f":"$C$88","v":2},{"$f":"$D$88","v":72},9960,null,{"$f":"'Livestock PM10 4'!Z28","v":0},{"$f":"'Livestock PM10 4'!AA28","v":0}]
[{"$f":"'Cow Housing'!$C$6","v":"C-3333"},{"$f":"$B$88","v":0},{"$f":"$C$88","v":2},{"$f":"$D$88","v":72},50000,null,{"$f":"'Dairy Miscellaneous 4'!Z40","v":0},{"$f":"'Dairy Miscellaneous 4'!AA40","v":0}]
[{"$f":"'Cow Housing'!$C$6","v":"C-3333"},{"$f":"$B$88","v":0},{"$f":"$C$88","v":2},{"$f":"$D$88","v":72},56235,null,{"$f":"'Dairy Miscellaneous 4'!Z30","v":0},{"$f":"'Dairy Miscellaneous 4'!AA30","v":0}]
[{"$f":"'Cow Housing'!$C$6","v":"C-3333"},{"$f":"$B$88","v":0},{"$f":"$C$88","v":2},{"$f":"$D$88","v":72},67630,null,{"$f":"'Dairy Miscellaneous 4'!Z42","v":0},{"$f":"'Dairy Miscellaneous 4'!AA42","v":0}]
[{"$f":"'Cow Housing'!$C$6","v":"C-3333"},{"$f":"$B$88","v":0},{"$f":"$C$88","v":2},{"$f":"$D$88","v":72},67663,null,{"$f":"'Dairy Miscellaneous 4'!Z32","v":0},{"$f":"'Dairy Miscellaneous 4'!AA32","v":0}]
[{"$f":"'Cow Housing'!$C$6","v":"C-3333"},{"$f":"$B$88","v":0},{"$f":"$C$88","v":2},{"$f":"$D$88","v":72},71432,null,{"$f":"'Dairy Miscellaneous 4'!Z26","v":0},{"$f":"'Dairy Miscellaneous 4'!AA26","v":0}]
[{"$f":"'Cow Housing'!$C$6","v":"C-3333"},{"$f":"$B$88","v":0},{"$f":"$C$88","v":2},{"$f":"$D$88","v":72},74873,null,{"$f":"'Dairy Miscellaneous 4'!Z33","v":0},{"$f":"'Dairy Miscellaneous 4'!AA33","v":0}]
[{"$f":"'Cow Housing'!$C$6","v":"C-3333"},{"$f":"$B$88","v":0},{"$f":"$C$88","v":2},{"$f":"$D$88","v":72},75003,null,{"$f":"'Dairy Miscellaneous 4'!Z36","v":0},{"$f":"'Dairy Miscellaneous 4'!AA36","v":0}]
[{"$f":"'Cow Housing'!$C$6","v":"C-3333"},{"$f":"$B$88","v":0},{"$f":"$C$88","v":2},{"$f":"$D$88","v":72},75070,null,{"$f":"'Dairy Miscellaneous 4'!Z24","v":0},{"$f":"'Dairy Miscellaneous 4'!AA24","v":0}]
[{"$f":"'Cow Housing'!$C$6","v":"C-3333"},{"$f":"$B$88","v":0},{"$f":"$C$88","v":2},{"$f":"$D$88","v":72},75150,null,{"$f":"'Dairy Miscellaneous 4'!Z29","v":0},{"$f":"'Dairy Miscellaneous 4'!AA29","v":0}]
[{"$f":"'Cow Housing'!$C$6","v":"C-3333"},{"$f":"$B$88","v":0},{"$f":"$C$88","v":2},{"$f":"$D$88","v":72},75694,null,{"$f":"'Dairy Miscellaneous 4'!Z49","v":0},{"$f":"'Dairy Miscellaneous 4'!AA49","v":0}]
[{"$f":"'Cow Housing'!$C$6","v":"C-3333"},{"$f":"$B$88","v":0},{"$f":"$C$88","v":2},{"$f":"$D$88","v":72},78933,null,{"$f":"'Dairy Miscellaneous 4'!Z44","v":0},{"$f":"'Dairy Miscellaneous 4'!AA44","v":0}]
[{"$f":"'Cow Housing'!$C$6","v":"C-3333"},{"$f":"$B$88","v":0},{"$f":"$C$88","v":2},{"$f":"$D$88","v":72},79005,null,{"$f":"'Dairy Miscellaneous 4'!Z16","v":0},{"$f":"'Dairy Miscellaneous 4'!AA16","v":0}]
[{"$f":"'Cow Housing'!$C$6","v":"C-3333"},{"$f":"$B$88","v":0},{"$f":"$C$88","v":2},{"$f":"$D$88","v":72},79345,null,{"$f":"'Dairy Miscellaneous 4'!Z15","v":0},{"$f":"'Dairy Miscellaneous 4'!AA15","v":0}]
[{"$f":"'Cow Housing'!$C$6","v":"C-3333"},{"$f":"$B$88","v":0},{"$f":"$C$88","v":2},{"$f":"$D$88","v":72},95501,null,{"$f":"'Dairy Miscellaneous 4'!Z20","v":0},{"$f":"'Dairy Miscellaneous 4'!AA20","v":0}]
[{"$f":"'Cow Housing'!$C$6","v":"C-3333"},{"$f":"$B$88","v":0},{"$f":"$C$88","v":2},{"$f":"$D$88","v":72},96128,null,{"$f":"'Dairy Miscellaneous 4'!Z19","v":0},{"$f":"'Dairy Miscellaneous 4'!AA19","v":0}]
[{"$f":"'Cow Housing'!$C$6","v":"C-3333"},{"$f":"$B$88","v":0},{"$f":"$C$88","v":2},{"$f":"$D$88","v":72},96184,null,{"$f":"'Dairy Miscellaneous 4'!Z17","v":0},{"$f":"'Dairy Miscellaneous 4'!AA17","v":0}]
[{"$f":"'Cow Housing'!$C$6","v":"C-3333"},{"$f":"$B$88","v":0},{"$f":"$C$88","v":2},{"$f":"$D$88","v":72},98828,null,{"$f":"'Dairy Miscellaneous 4'!Z43","v":0},{"$f":"'Dairy Miscellaneous 4'!AA43","v":0}]
[{"$f":"'Cow Housing'!$C$6","v":"C-3333"},{"$f":"$B$88","v":0},{"$f":"$C$88","v":2},{"$f":"$D$88","v":72},100414,null,{"$f":"'Dairy Miscellaneous 4'!Z37","v":0},{"$f":"'Dairy Miscellaneous 4'!AA37","v":0}]
[{"$f":"'Cow Housing'!$C$6","v":"C-3333"},{"$f":"$B$88","v":0},{"$f":"$C$88","v":2},{"$f":"$D$88","v":72},100425,null,{"$f":"'Dairy Miscellaneous 4'!#REF!","v":{"$error":"#REF!"}},{"$f":"'Dairy Miscellaneous 4'!#REF!","v":{"$error":"#REF!"}}]
[{"$f":"'Cow Housing'!$C$6","v":"C-3333"},{"$f":"$B$88","v":0},{"$f":"$C$88","v":2},{"$f":"$D$88","v":72},100447,null,{"$f":"'Dairy Miscellaneous 4'!Z27","v":0},{"$f":"'Dairy Miscellaneous 4'!AA27","v":0}]
[{"$f":"'Cow Housing'!$C$6","v":"C-3333"},{"$f":"$B$88","v":0},{"$f":"$C$88","v":2},{"$f":"$D$88","v":72},106467,null,{"$f":"'Dairy Miscellaneous 4'!Z23","v":0},{"$f":"'Dairy Miscellaneous 4'!AA23","v":0}]
[{"$f":"'Cow Housing'!$C$6","v":"C-3333"},{"$f":"$B$88","v":0},{"$f":"$C$88","v":2},{"$f":"$D$88","v":72},106934,null,{"$f":"'Dairy Miscellaneous 4'!Z38","v":0},{"$f":"'Dairy Miscellaneous 4'!AA38","v":0}]
[{"$f":"'Cow Housing'!$C$6","v":"C-3333"},{"$f":"$B$88","v":0},{"$f":"$C$88","v":2},{"$f":"$D$88","v":72},107062,null,{"$f":"'Dairy Miscellaneous 4'!Z39","v":0},{"$f":"'Dairy Miscellaneous 4'!AA39","v":0}]
[{"$f":"'Cow Housing'!$C$6","v":"C-3333"},{"$f":"$B$88","v":0},{"$f":"$C$88","v":2},{"$f":"$D$88","v":72},107131,null,{"$f":"'Dairy Miscellaneous 4'!Z25","v":0},{"$f":"'Dairy Miscellaneous 4'!AA25","v":0}]
[{"$f":"'Cow Housing'!$C$6","v":"C-3333"},{"$f":"$B$88","v":0},{"$f":"$C$88","v":2},{"$f":"$D$88","v":72},108054,null,{"$f":"'Dairy Miscellaneous 4'!Z50","v":0},{"$f":"'Dairy Miscellaneous 4'!AA50","v":0}]
[{"$f":"'Cow Housing'!$C$6","v":"C-3333"},{"$f":"$B$88","v":0},{"$f":"$C$88","v":2},{"$f":"$D$88","v":72},108101,null,{"$f":"'Dairy Miscellaneous 4'!Z45","v":0},{"$f":"'Dairy Miscellaneous 4'!AA45","v":0}]
[{"$f":"'Cow Housing'!$C$6","v":"C-3333"},{"$f":"$B$88","v":0},{"$f":"$C$88","v":2},{"$f":"$D$88","v":72},108883,null,{"$f":"'Dairy Miscellaneous 4'!Z48","v":0},{"$f":"'Dairy Miscellaneous 4'!AA48","v":0}]
[{"$f":"'Cow Housing'!$C$6","v":"C-3333"},{"$f":"$B$88","v":0},{"$f":"$C$88","v":2},{"$f":"$D$88","v":72},108907,null,{"$f":"'Dairy Miscellaneous 4'!Z31","v":0},{"$f":"'Dairy Miscellaneous 4'!AA31","v":0}]
[{"$f":"'Cow Housing'!$C$6","v":"C-3333"},{"$f":"$B$88","v":0},{"$f":"$C$88","v":2},{"$f":"$D$88","v":72},110543,null,{"$f":"'Dairy Miscellaneous 4'!Z41","v":0},{"$f":"'Dairy Miscellaneous 4'!AA41","v":0}]
[{"$f":"'Cow Housing'!$C$6","v":"C-3333"},{"$f":"$B$88","v":0},{"$f":"$C$88","v":2},{"$f":"$D$88","v":72},110827,null,{"$f":"'Dairy Miscellaneous 4'!Z35","v":0},{"$f":"'Dairy Miscellaneous 4'!AA35","v":0}]
[{"$f":"'Cow Housing'!$C$6","v":"C-3333"},{"$f":"$B$88","v":0},{"$f":"$C$88","v":2},{"$f":"$D$88","v":72},120821,null,{"$f":"'Dairy Miscellaneous 4'!Z18","v":0},{"$f":"'Dairy Miscellaneous 4'!AA18","v":0}]
[{"$f":"'Cow Housing'!$C$6","v":"C-3333"},{"$f":"$B$88","v":0},{"$f":"$C$88","v":2},{"$f":"$D$88","v":72},123728,null,{"$f":"'Dairy Miscellaneous 4'!Z28","v":0},{"$f":"'Dairy Miscellaneous 4'!AA28","v":0}]
[{"$f":"'Cow Housing'!$C$6","v":"C-3333"},{"$f":"$B$88","v":0},{"$f":"$C$88","v":2},{"$f":"$D$88","v":72},123911,null,{"$f":"'Dairy Miscellaneous 4'!Z22","v":0},{"$f":"'Dairy Miscellaneous 4'!AA22","v":0}]
[{"$f":"'Cow Housing'!$C$6","v":"C-3333"},{"$f":"$B$88","v":0},{"$f":"$C$88","v":2},{"$f":"$D$88","v":72},541731,null,{"$f":"'Dairy Miscellaneous 4'!Z21","v":0},{"$f":"'Dairy Miscellaneous 4'!AA21","v":0}]
[{"$f":"'Cow Housing'!$C$6","v":"C-3333"},{"$f":"$B$88","v":0},{"$f":"$C$88","v":2},{"$f":"$D$88","v":72},764410,null,{"$f":"'Dairy Miscellaneous 4'!Z47","v":0},{"$f":"'Dairy Miscellaneous 4'!AA47","v":0}]
[{"$f":"'Cow Housing'!$C$6","v":"C-3333"},{"$f":"$B$88","v":0},{"$f":"$C$88","v":2},{"$f":"$D$88","v":72},1330207,null,{"$f":"'Dairy Miscellaneous 4'!Z51","v":0},{"$f":"'Dairy Miscellaneous 4'!AA51","v":0}]
[{"$f":"'Cow Housing'!$C$6","v":"C-3333"},{"$f":"$B$88","v":0},{"$f":"$C$88","v":2},{"$f":"$D$88","v":72},4170303,null,{"$f":"'Dairy Miscellaneous 4'!Z34","v":0},{"$f":"'Dairy Miscellaneous 4'!AA34","v":0}]
[{"$f":"'Cow Housing'!$C$6","v":"C-3333"},{"$f":"$B$88","v":0},{"$f":"$C$88","v":2},{"$f":"$D$88","v":72},7429905,null,{"$f":"'Livestock PM10 4'!Z14","v":0},{"$f":"'Livestock PM10 4'!AA14","v":0}]
[{"$f":"'Cow Housing'!$C$6","v":"C-3333"},{"$f":"$B$88","v":0},{"$f":"$C$88","v":2},{"$f":"$D$88","v":72},7439921,null,{"$f":"'Livestock PM10 4'!Z22","v":0},{"$f":"'Livestock PM10 4'!AA22","v":0}]
[{"$f":"'Cow Housing'!$C$6","v":"C-3333"},{"$f":"$B$88","v":0},{"$f":"$C$88","v":2},{"$f":"$D$88","v":72},7439965,null,{"$f":"'Livestock PM10 4'!Z23","v":0},{"$f":"'Livestock PM10 4'!AA23","v":0}]
[{"$f":"'Cow Housing'!$C$6","v":"C-3333"},{"$f":"$B$88","v":0},{"$f":"$C$88","v":2},{"$f":"$D$88","v":72},7439976,null,{"$f":"'Livestock PM10 4'!Z24","v":0},{"$f":"'Livestock PM10 4'!AA24","v":0}]
[{"$f":"'Cow Housing'!$C$6","v":"C-3333"},{"$f":"$B$88","v":0},{"$f":"$C$88","v":2},{"$f":"$D$88","v":72},7440020,null,{"$f":"'Livestock PM10 4'!Z25","v":0},{"$f":"'Livestock PM10 4'!AA25","v":0}]
[{"$f":"'Cow Housing'!$C$6","v":"C-3333"},{"$f":"$B$88","v":0},{"$f":"$C$88","v":2},{"$f":"$D$88","v":72},7440360,null,{"$f":"'Livestock PM10 4'!Z15","v":0},{"$f":"'Livestock PM10 4'!AA15","v":0}]
[{"$f":"'Cow Housing'!$C$6","v":"C-3333"},{"$f":"$B$88","v":0},{"$f":"$C$88","v":2},{"$f":"$D$88","v":72},7440382,null,{"$f":"'Livestock PM10 4'!Z16","v":0},{"$f":"'Livestock PM10 4'!AA16","v":0}]
[{"$f":"'Cow Housing'!$C$6","v":"C-3333"},{"$f":"$B$88","v":0},{"$f":"$C$88","v":2},{"$f":"$D$88","v":72},7440393,null,{"$f":"'Livestock PM10 4'!Z17","v":0},{"$f":"'Livestock PM10 4'!AA17","v":0}]
[{"$f":"'Cow Housing'!$C$6","v":"C-3333"},{"$f":"$B$88","v":0},{"$f":"$C$88","v":2},{"$f":"$D$88","v":72},7440473,null,{"$f":"'Livestock PM10 4'!Z19","v":0},{"$f":"'Livestock PM10 4'!AA19","v":0}]
[{"$f":"'Cow Housing'!$C$6","v":"C-3333"},{"$f":"$B$88","v":0},{"$f":"$C$88","v":2},{"$f":"$D$88","v":72},7440508,null,{"$f":"'Livestock PM10 4'!Z20","v":0},{"$f":"'Livestock PM10 4'!AA20","v":0}]
[{"$f":"'Cow Housing'!$C$6","v":"C-3333"},{"$f":"$B$88","v":0},{"$f":"$C$88","v":2},{"$f":"$D$88","v":72},7440622,null,{"$f":"'Livestock PM10 4'!Z29","v":0},{"$f":"'Livestock PM10 4'!AA29","v":0}]
[{"$f":"'Cow Housing'!$C$6","v":"C-3333"},{"$f":"$B$88","v":0},{"$f":"$C$88","v":2},{"$f":"$D$88","v":72},7440666,null,{"$f":"'Livestock PM10 4'!Z30","v":0},{"$f":"'Livestock PM10 4'!AA30","v":0}]
[{"$f":"'Cow Housing'!$C$6","v":"C-3333"},{"$f":"$B$88","v":0},{"$f":"$C$88","v":2},{"$f":"$D$88","v":72},7664417,null,{"$f":"'Livestock PM10 4'!Z31","v":0},{"$f":"'Livestock PM10 4'!AA31","v":0}]
[{"$f":"'Cow Housing'!$C$6","v":"C-3333"},{"$f":"$B$88","v":0},{"$f":"$C$88","v":2},{"$f":"$D$88","v":72},7723140,null,{"$f":"'Livestock PM10 4'!Z26","v":0},{"$f":"'Livestock PM10 4'!AA26","v":0}]
[{"$f":"'Cow Housing'!$C$6","v":"C-3333"},{"$f":"$B$88","v":0},{"$f":"$C$88","v":2},{"$f":"$D$88","v":72},7726956,null,{"$f":"'Livestock PM10 4'!Z18","v":0},{"$f":"'Livestock PM10 4'!AA18","v":0}]
[{"$f":"'Cow Housing'!$C$6","v":"C-3333"},{"$f":"$B$88","v":0},{"$f":"$C$88","v":2},{"$f":"$D$88","v":72},7782492,null,{"$f":"'Livestock PM10 4'!Z27","v":0},{"$f":"'Livestock PM10 4'!AA27","v":0}]
[{"$f":"'Cow Housing'!$C$6","v":"C-3333"},{"$f":"$B$88","v":0},{"$f":"$C$88","v":2},{"$f":"$D$88","v":72},18540299,null,{"$f":"'Livestock PM10 4'!Z21","v":0},{"$f":"'Livestock PM10 4'!AA21","v":0}]
[{"$f":"'Cow Housing'!$C$6","v":"C-3333"},{"$f":"$B$89","v":0},{"$f":"$C$89","v":2},{"$f":"$D$89","v":73},9960,null,{"$f":"'Livestock PM10 4'!AB28","v":0},{"$f":"'Livestock PM10 4'!AC28","v":0}]
[{"$f":"'Cow Housing'!$C$6","v":"C-3333"},{"$f":"$B$89","v":0},{"$f":"$C$89","v":2},{"$f":"$D$89","v":73},50000,null,{"$f":"'Dairy Miscellaneous 4'!AB40","v":0},{"$f":"'Dairy Miscellaneous 4'!AC40","v":0}]
[{"$f":"'Cow Housing'!$C$6","v":"C-3333"},{"$f":"$B$89","v":0},{"$f":"$C$89","v":2},{"$f":"$D$89","v":73},56235,null,{"$f":"'Dairy Miscellaneous 4'!AB30","v":0},{"$f":"'Dairy Miscellaneous 4'!AC30","v":0}]
[{"$f":"'Cow Housing'!$C$6","v":"C-3333"},{"$f":"$B$89","v":0},{"$f":"$C$89","v":2},{"$f":"$D$89","v":73},67630,null,{"$f":"'Dairy Miscellaneous 4'!AB42","v":0},{"$f":"'Dairy Miscellaneous 4'!AC42","v":0}]
[{"$f":"'Cow Housing'!$C$6","v":"C-3333"},{"$f":"$B$89","v":0},{"$f":"$C$89","v":2},{"$f":"$D$89","v":73},67663,null,{"$f":"'Dairy Miscellaneous 4'!AB32","v":0},{"$f":"'Dairy Miscellaneous 4'!AC32","v":0}]
[{"$f":"'Cow Housing'!$C$6","v":"C-3333"},{"$f":"$B$89","v":0},{"$f":"$C$89","v":2},{"$f":"$D$89","v":73},71432,null,{"$f":"'Dairy Miscellaneous 4'!AB26","v":0},{"$f":"'Dairy Miscellaneous 4'!AC26","v":0}]
[{"$f":"'Cow Housing'!$C$6","v":"C-3333"},{"$f":"$B$89","v":0},{"$f":"$C$89","v":2},{"$f":"$D$89","v":73},74873,null,{"$f":"'Dairy Miscellaneous 4'!AB33","v":0},{"$f":"'Dairy Miscellaneous 4'!AC33","v":0}]
[{"$f":"'Cow Housing'!$C$6","v":"C-3333"},{"$f":"$B$89","v":0},{"$f":"$C$89","v":2},{"$f":"$D$89","v":73},75003,null,{"$f":"'Dairy Miscellaneous 4'!AB36","v":0},{"$f":"'Dairy Miscellaneous 4'!AC36","v":0}]
[{"$f":"'Cow Housing'!$C$6","v":"C-3333"},{"$f":"$B$89","v":0},{"$f":"$C$89","v":2},{"$f":"$D$89","v":73},75070,null,{"$f":"'Dairy Miscellaneous 4'!AB24","v":0},{"$f":"'Dairy Miscellaneous 4'!AC24","v":0}]
[{"$f":"'Cow Housing'!$C$6","v":"C-3333"},{"$f":"$B$89","v":0},{"$f":"$C$89","v":2},{"$f":"$D$89","v":73},75150,null,{"$f":"'Dairy Miscellaneous 4'!AB29","v":0},{"$f":"'Dairy Miscellaneous 4'!AC29","v":0}]
[{"$f":"'Cow Housing'!$C$6","v":"C-3333"},{"$f":"$B$89","v":0},{"$f":"$C$89","v":2},{"$f":"$D$89","v":73},75694,null,{"$f":"'Dairy Miscellaneous 4'!AB49","v":0},{"$f":"'Dairy Miscellaneous 4'!AC49","v":0}]
[{"$f":"'Cow Housing'!$C$6","v":"C-3333"},{"$f":"$B$89","v":0},{"$f":"$C$89","v":2},{"$f":"$D$89","v":73},78933,null,{"$f":"'Dairy Miscellaneous 4'!AB44","v":0},{"$f":"'Dairy Miscellaneous 4'!AC44","v":0}]
[{"$f":"'Cow Housing'!$C$6","v":"C-3333"},{"$f":"$B$89","v":0},{"$f":"$C$89","v":2},{"$f":"$D$89","v":73},79005,null,{"$f":"'Dairy Miscellaneous 4'!AB16","v":0},{"$f":"'Dairy Miscellaneous 4'!AC16","v":0}]
[{"$f":"'Cow Housing'!$C$6","v":"C-3333"},{"$f":"$B$89","v":0},{"$f":"$C$89","v":2},{"$f":"$D$89","v":73},79345,null,{"$f":"'Dairy Miscellaneous 4'!AB15","v":0},{"$f":"'Dairy Miscellaneous 4'!AC15","v":0}]
[{"$f":"'Cow Housing'!$C$6","v":"C-3333"},{"$f":"$B$89","v":0},{"$f":"$C$89","v":2},{"$f":"$D$89","v":73},95501,null,{"$f":"'Dairy Miscellaneous 4'!AB20","v":0},{"$f":"'Dairy Miscellaneous 4'!AC20","v":0}]
[{"$f":"'Cow Housing'!$C$6","v":"C-3333"},{"$f":"$B$89","v":0},{"$f":"$C$89","v":2},{"$f":"$D$89","v":73},96128,null,{"$f":"'Dairy Miscellaneous 4'!AB19","v":0},{"$f":"'Dairy Miscellaneous 4'!AC19","v":0}]
[{"$f":"'Cow Housing'!$C$6","v":"C-3333"},{"$f":"$B$89","v":0},{"$f":"$C$89","v":2},{"$f":"$D$89","v":73},96184,null,{"$f":"'Dairy Miscellaneous 4'!AB17","v":0},{"$f":"'Dairy Miscellaneous 4'!AC17","v":0}]
[{"$f":"'Cow Housing'!$C$6","v":"C-3333"},{"$f":"$B$89","v":0},{"$f":"$C$89","v":2},{"$f":"$D$89","v":73},98828,null,{"$f":"'Dairy Miscellaneous 4'!AB43","v":0},{"$f":"'Dairy Miscellaneous 4'!AC43","v":0}]
[{"$f":"'Cow Housing'!$C$6","v":"C-3333"},{"$f":"$B$89","v":0},{"$f":"$C$89","v":2},{"$f":"$D$89","v":73},100414,null,{"$f":"'Dairy Miscellaneous 4'!AB37","v":0},{"$f":"'Dairy Miscellaneous 4'!AC37","v":0}]
[{"$f":"'Cow Housing'!$C$6","v":"C-3333"},{"$f":"$B$89","v":0},{"$f":"$C$89","v":2},{"$f":"$D$89","v":73},100425,null,{"$f":"'Dairy Miscellaneous 4'!#REF!","v":{"$error":"#REF!"}},{"$f":"'Dairy Miscellaneous 4'!#REF!","v":{"$error":"#REF!"}}]
[{"$f":"'Cow Housing'!$C$6","v":"C-3333"},{"$f":"$B$89","v":0},{"$f":"$C$89","v":2},{"$f":"$D$89","v":73},100447,null,{"$f":"'Dairy Miscellaneous 4'!AB27","v":0},{"$f":"'Dairy Miscellaneous 4'!AC27","v":0}]
[{"$f":"'Cow Housing'!$C$6","v":"C-3333"},{"$f":"$B$89","v":0},{"$f":"$C$89","v":2},{"$f":"$D$89","v":73},106467,null,{"$f":"'Dairy Miscellaneous 4'!AB23","v":0},{"$f":"'Dairy Miscellaneous 4'!AC23","v":0}]
[{"$f":"'Cow Housing'!$C$6","v":"C-3333"},{"$f":"$B$89","v":0},{"$f":"$C$89","v":2},{"$f":"$D$89","v":73},106934,null,{"$f":"'Dairy Miscellaneous 4'!AB38","v":0},{"$f":"'Dairy Miscellaneous 4'!AC38","v":0}]
[{"$f":"'Cow Housing'!$C$6","v":"C-3333"},{"$f":"$B$89","v":0},{"$f":"$C$89","v":2},{"$f":"$D$89","v":73},107062,null,{"$f":"'Dairy Miscellaneous 4'!AB39","v":0},{"$f":"'Dairy Miscellaneous 4'!AC39","v":0}]
[{"$f":"'Cow Housing'!$C$6","v":"C-3333"},{"$f":"$B$89","v":0},{"$f":"$C$89","v":2},{"$f":"$D$89","v":73},107131,null,{"$f":"'Dairy Miscellaneous 4'!AB25","v":0},{"$f":"'Dairy Miscellaneous 4'!AC25","v":0}]
[{"$f":"'Cow Housing'!$C$6","v":"C-3333"},{"$f":"$B$89","v":0},{"$f":"$C$89","v":2},{"$f":"$D$89","v":73},108054,null,{"$f":"'Dairy Miscellaneous 4'!AB50","v":0},{"$f":"'Dairy Miscellaneous 4'!AC50","v":0}]
[{"$f":"'Cow Housing'!$C$6","v":"C-3333"},{"$f":"$B$89","v":0},{"$f":"$C$89","v":2},{"$f":"$D$89","v":73},108101,null,{"$f":"'Dairy Miscellaneous 4'!AB45","v":0},{"$f":"'Dairy Miscellaneous 4'!AC45","v":0}]
[{"$f":"'Cow Housing'!$C$6","v":"C-3333"},{"$f":"$B$89","v":0},{"$f":"$C$89","v":2},{"$f":"$D$89","v":73},108883,null,{"$f":"'Dairy Miscellaneous 4'!AB48","v":0},{"$f":"'Dairy Miscellaneous 4'!AC48","v":0}]
[{"$f":"'Cow Housing'!$C$6","v":"C-3333"},{"$f":"$B$89","v":0},{"$f":"$C$89","v":2},{"$f":"$D$89","v":73},108907,null,{"$f":"'Dairy Miscellaneous 4'!AB31","v":0},{"$f":"'Dairy Miscellaneous 4'!AC31","v":0}]
[{"$f":"'Cow Housing'!$C$6","v":"C-3333"},{"$f":"$B$89","v":0},{"$f":"$C$89","v":2},{"$f":"$D$89","v":73},110543,null,{"$f":"'Dairy Miscellaneous 4'!AB41","v":0},{"$f":"'Dairy Miscellaneous 4'!AC41","v":0}]
[{"$f":"'Cow Housing'!$C$6","v":"C-3333"},{"$f":"$B$89","v":0},{"$f":"$C$89","v":2},{"$f":"$D$89","v":73},110827,null,{"$f":"'Dairy Miscellaneous 4'!AB35","v":0},{"$f":"'Dairy Miscellaneous 4'!AC35","v":0}]
[{"$f":"'Cow Housing'!$C$6","v":"C-3333"},{"$f":"$B$89","v":0},{"$f":"$C$89","v":2},{"$f":"$D$89","v":73},120821,null,{"$f":"'Dairy Miscellaneous 4'!AB18","v":0},{"$f":"'Dairy Miscellaneous 4'!AC18","v":0}]
[{"$f":"'Cow Housing'!$C$6","v":"C-3333"},{"$f":"$B$89","v":0},{"$f":"$C$89","v":2},{"$f":"$D$89","v":73},123728,null,{"$f":"'Dairy Miscellaneous 4'!AB28","v":0},{"$f":"'Dairy Miscellaneous 4'!AC28","v":0}]
[{"$f":"'Cow Housing'!$C$6","v":"C-3333"},{"$f":"$B$89","v":0},{"$f":"$C$89","v":2},{"$f":"$D$89","v":73},123911,null,{"$f":"'Dairy Miscellaneous 4'!AB22","v":0},{"$f":"'Dairy Miscellaneous 4'!AC22","v":0}]
[{"$f":"'Cow Housing'!$C$6","v":"C-3333"},{"$f":"$B$89","v":0},{"$f":"$C$89","v":2},{"$f":"$D$89","v":73},541731,null,{"$f":"'Dairy Miscellaneous 4'!AB21","v":0},{"$f":"'Dairy Miscellaneous 4'!AC21","v":0}]
[{"$f":"'Cow Housing'!$C$6","v":"C-3333"},{"$f":"$B$89","v":0},{"$f":"$C$89","v":2},{"$f":"$D$89","v":73},764410,null,{"$f":"'Dairy Miscellaneous 4'!AB47","v":0},{"$f":"'Dairy Miscellaneous 4'!AC47","v":0}]
[{"$f":"'Cow Housing'!$C$6","v":"C-3333"},{"$f":"$B$89","v":0},{"$f":"$C$89","v":2},{"$f":"$D$89","v":73},1330207,null,{"$f":"'Dairy Miscellaneous 4'!AB51","v":0},{"$f":"'Dairy Miscellaneous 4'!AC51","v":0}]
[{"$f":"'Cow Housing'!$C$6","v":"C-3333"},{"$f":"$B$89","v":0},{"$f":"$C$89","v":2},{"$f":"$D$89","v":73},4170303,null,{"$f":"'Dairy Miscellaneous 4'!AB34","v":0},{"$f":"'Dairy Miscellaneous 4'!AC34","v":0}]
[{"$f":"'Cow Housing'!$C$6","v":"C-3333"},{"$f":"$B$89","v":0},{"$f":"$C$89","v":2},{"$f":"$D$89","v":73},7429905,null,{"$f":"'Livestock PM10 4'!AB14","v":0},{"$f":"'Livestock PM10 4'!AC14","v":0}]
[{"$f":"'Cow Housing'!$C$6","v":"C-3333"},{"$f":"$B$89","v":0},{"$f":"$C$89","v":2},{"$f":"$D$89","v":73},7439921,null,{"$f":"'Livestock PM10 4'!AB22","v":0},{"$f":"'Livestock PM10 4'!AC22","v":0}]
[{"$f":"'Cow Housing'!$C$6","v":"C-3333"},{"$f":"$B$89","v":0},{"$f":"$C$89","v":2},{"$f":"$D$89","v":73},7439965,null,{"$f":"'Livestock PM10 4'!AB23","v":0},{"$f":"'Livestock PM10 4'!AC23","v":0}]
[{"$f":"'Cow Housing'!$C$6","v":"C-3333"},{"$f":"$B$89","v":0},{"$f":"$C$89","v":2},{"$f":"$D$89","v":73},7439976,null,{"$f":"'Livestock PM10 4'!AB24","v":0},{"$f":"'Livestock PM10 4'!AC24","v":0}]
[{"$f":"'Cow Housing'!$C$6","v":"C-3333"},{"$f":"$B$89","v":0},{"$f":"$C$89","v":2},{"$f":"$D$89","v":73},7440020,null,{"$f":"'Livestock PM10 4'!AB25","v":0},{"$f":"'Livestock PM10 4'!AC25","v":0}]
[{"$f":"'Cow Housing'!$C$6","v":"C-3333"},{"$f":"$B$89","v":0},{"$f":"$C$89","v":2},{"$f":"$D$89","v":73},7440360,null,{"$f":"'Livestock PM10 4'!AB15","v":0},{"$f":"'Livestock PM10 4'!AC15","v":0}]
[{"$f":"'Cow Housing'!$C$6","v":"C-3333"},{"$f":"$B$89","v":0},{"$f":"$C$89","v":2},{"$f":"$D$89","v":73},7440382,null,{"$f":"'Livestock PM10 4'!AB16","v":0},{"$f":"'Livestock PM10 4'!AC16","v":0}]
[{"$f":"'Cow Housing'!$C$6","v":"C-3333"},{"$f":"$B$89","v":0},{"$f":"$C$89","v":2},{"$f":"$D$89","v":73},7440393,null,{"$f":"'Livestock PM10 4'!AB17","v":0},{"$f":"'Livestock PM10 4'!AC17","v":0}]
[{"$f":"'Cow Housing'!$C$6","v":"C-3333"},{"$f":"$B$89","v":0},{"$f":"$C$89","v":2},{"$f":"$D$89","v":73},7440473,null,{"$f":"'Livestock PM10 4'!AB19","v":0},{"$f":"'Livestock PM10 4'!AC19","v":0}]
[{"$f":"'Cow Housing'!$C$6","v":"C-3333"},{"$f":"$B$89","v":0},{"$f":"$C$89","v":2},{"$f":"$D$89","v":73},7440508,null,{"$f":"'Livestock PM10 4'!AB20","v":0},{"$f":"'Livestock PM10 4'!AC20","v":0}]
[{"$f":"'Cow Housing'!$C$6","v":"C-3333"},{"$f":"$B$89","v":0},{"$f":"$C$89","v":2},{"$f":"$D$89","v":73},7440622,null,{"$f":"'Livestock PM10 4'!AB29","v":0},{"$f":"'Livestock PM10 4'!AC29","v":0}]
[{"$f":"'Cow Housing'!$C$6","v":"C-3333"},{"$f":"$B$89","v":0},{"$f":"$C$89","v":2},{"$f":"$D$89","v":73},7440666,null,{"$f":"'Livestock PM10 4'!AB30","v":0},{"$f":"'Livestock PM10 4'!AC30","v":0}]
[{"$f":"'Cow Housing'!$C$6","v":"C-3333"},{"$f":"$B$89","v":0},{"$f":"$C$89","v":2},{"$f":"$D$89","v":73},7664417,null,{"$f":"'Livestock PM10 4'!AB31","v":0},{"$f":"'Livestock PM10 4'!AC31","v":0}]
[{"$f":"'Cow Housing'!$C$6","v":"C-3333"},{"$f":"$B$89","v":0},{"$f":"$C$89","v":2},{"$f":"$D$89","v":73},7723140,null,{"$f":"'Livestock PM10 4'!AB26","v":0},{"$f":"'Livestock PM10 4'!AC26","v":0}]
[{"$f":"'Cow Housing'!$C$6","v":"C-3333"},{"$f":"$B$89","v":0},{"$f":"$C$89","v":2},{"$f":"$D$89","v":73},7726956,null,{"$f":"'Livestock PM10 4'!AB18","v":0},{"$f":"'Livestock PM10 4'!AC18","v":0}]
[{"$f":"'Cow Housing'!$C$6","v":"C-3333"},{"$f":"$B$89","v":0},{"$f":"$C$89","v":2},{"$f":"$D$89","v":73},7782492,null,{"$f":"'Livestock PM10 4'!AB27","v":0},{"$f":"'Livestock PM10 4'!AC27","v":0}]
[{"$f":"'Cow Housing'!$C$6","v":"C-3333"},{"$f":"$B$89","v":0},{"$f":"$C$89","v":2},{"$f":"$D$89","v":73},18540299,null,{"$f":"'Livestock PM10 4'!AB21","v":0},{"$f":"'Livestock PM10 4'!AC21","v":0}]
[{"$f":"'Cow Housing'!$C$6","v":"C-3333"},{"$f":"$B$90","v":0},{"$f":"$C$90","v":2},{"$f":"$D$90","v":74},9960,null,{"$f":"'Livestock PM10 4'!AD28","v":0},{"$f":"'Livestock PM10 4'!AE28","v":0}]
[{"$f":"'Cow Housing'!$C$6","v":"C-3333"},{"$f":"$B$90","v":0},{"$f":"$C$90","v":2},{"$f":"$D$90","v":74},50000,null,{"$f":"'Dairy Miscellaneous 4'!AD40","v":0},{"$f":"'Dairy Miscellaneous 4'!AE40","v":0}]
[{"$f":"'Cow Housing'!$C$6","v":"C-3333"},{"$f":"$B$90","v":0},{"$f":"$C$90","v":2},{"$f":"$D$90","v":74},56235,null,{"$f":"'Dairy Miscellaneous 4'!AD30","v":0},{"$f":"'Dairy Miscellaneous 4'!AE30","v":0}]
[{"$f":"'Cow Housing'!$C$6","v":"C-3333"},{"$f":"$B$90","v":0},{"$f":"$C$90","v":2},{"$f":"$D$90","v":74},67630,null,{"$f":"'Dairy Miscellaneous 4'!AD42","v":0},{"$f":"'Dairy Miscellaneous 4'!AE42","v":0}]
[{"$f":"'Cow Housing'!$C$6","v":"C-3333"},{"$f":"$B$90","v":0},{"$f":"$C$90","v":2},{"$f":"$D$90","v":74},67663,null,{"$f":"'Dairy Miscellaneous 4'!AD32","v":0},{"$f":"'Dairy Miscellaneous 4'!AE32","v":0}]
[{"$f":"'Cow Housing'!$C$6","v":"C-3333"},{"$f":"$B$90","v":0},{"$f":"$C$90","v":2},{"$f":"$D$90","v":74},71432,null,{"$f":"'Dairy Miscellaneous 4'!AD26","v":0},{"$f":"'Dairy Miscellaneous 4'!AE26","v":0}]
[{"$f":"'Cow Housing'!$C$6","v":"C-3333"},{"$f":"$B$90","v":0},{"$f":"$C$90","v":2},{"$f":"$D$90","v":74},74873,null,{"$f":"'Dairy Miscellaneous 4'!AD33","v":0},{"$f":"'Dairy Miscellaneous 4'!AE33","v":0}]
[{"$f":"'Cow Housing'!$C$6","v":"C-3333"},{"$f":"$B$90","v":0},{"$f":"$C$90","v":2},{"$f":"$D$90","v":74},75003,null,{"$f":"'Dairy Miscellaneous 4'!AD36","v":0},{"$f":"'Dairy Miscellaneous 4'!AE36","v":0}]
[{"$f":"'Cow Housing'!$C$6","v":"C-3333"},{"$f":"$B$90","v":0},{"$f":"$C$90","v":2},{"$f":"$D$90","v":74},75070,null,{"$f":"'Dairy Miscellaneous 4'!AD24","v":0},{"$f":"'Dairy Miscellaneous 4'!AE24","v":0}]
[{"$f":"'Cow Housing'!$C$6","v":"C-3333"},{"$f":"$B$90","v":0},{"$f":"$C$90","v":2},{"$f":"$D$90","v":74},75150,null,{"$f":"'Dairy Miscellaneous 4'!AD29","v":0},{"$f":"'Dairy Miscellaneous 4'!AE29","v":0}]
[{"$f":"'Cow Housing'!$C$6","v":"C-3333"},{"$f":"$B$90","v":0},{"$f":"$C$90","v":2},{"$f":"$D$90","v":74},75694,null,{"$f":"'Dairy Miscellaneous 4'!AD49","v":0},{"$f":"'Dairy Miscellaneous 4'!AE49","v":0}]
[{"$f":"'Cow Housing'!$C$6","v":"C-3333"},{"$f":"$B$90","v":0},{"$f":"$C$90","v":2},{"$f":"$D$90","v":74},78933,null,{"$f":"'Dairy Miscellaneous 4'!AD44","v":0},{"$f":"'Dairy Miscellaneous 4'!AE44","v":0}]
[{"$f":"'Cow Housing'!$C$6","v":"C-3333"},{"$f":"$B$90","v":0},{"$f":"$C$90","v":2},{"$f":"$D$90","v":74},79005,null,{"$f":"'Dairy Miscellaneous 4'!AD16","v":0},{"$f":"'Dairy Miscellaneous 4'!AE16","v":0}]
[{"$f":"'Cow Housing'!$C$6","v":"C-3333"},{"$f":"$B$90","v":0},{"$f":"$C$90","v":2},{"$f":"$D$90","v":74},79345,null,{"$f":"'Dairy Miscellaneous 4'!AD15","v":0},{"$f":"'Dairy Miscellaneous 4'!AE15","v":0}]
[{"$f":"'Cow Housing'!$C$6","v":"C-3333"},{"$f":"$B$90","v":0},{"$f":"$C$90","v":2},{"$f":"$D$90","v":74},95501,null,{"$f":"'Dairy Miscellaneous 4'!AD20","v":0},{"$f":"'Dairy Miscellaneous 4'!AE20","v":0}]
[{"$f":"'Cow Housing'!$C$6","v":"C-3333"},{"$f":"$B$90","v":0},{"$f":"$C$90","v":2},{"$f":"$D$90","v":74},96128,null,{"$f":"'Dairy Miscellaneous 4'!AD19","v":0},{"$f":"'Dairy Miscellaneous 4'!AE19","v":0}]
[{"$f":"'Cow Housing'!$C$6","v":"C-3333"},{"$f":"$B$90","v":0},{"$f":"$C$90","v":2},{"$f":"$D$90","v":74},96184,null,{"$f":"'Dairy Miscellaneous 4'!AD17","v":0},{"$f":"'Dairy Miscellaneous 4'!AE17","v":0}]
[{"$f":"'Cow Housing'!$C$6","v":"C-3333"},{"$f":"$B$90","v":0},{"$f":"$C$90","v":2},{"$f":"$D$90","v":74},98828,null,{"$f":"'Dairy Miscellaneous 4'!AD43","v":0},{"$f":"'Dairy Miscellaneous 4'!AE43","v":0}]
[{"$f":"'Cow Housing'!$C$6","v":"C-3333"},{"$f":"$B$90","v":0},{"$f":"$C$90","v":2},{"$f":"$D$90","v":74},100414,null,{"$f":"'Dairy Miscellaneous 4'!AD37","v":0},{"$f":"'Dairy Miscellaneous 4'!AE37","v":0}]
[{"$f":"'Cow Housing'!$C$6","v":"C-3333"},{"$f":"$B$90","v":0},{"$f":"$C$90","v":2},{"$f":"$D$90","v":74},100425,null,{"$f":"'Dairy Miscellaneous 4'!#REF!","v":{"$error":"#REF!"}},{"$f":"'Dairy Miscellaneous 4'!#REF!","v":{"$error":"#REF!"}}]
[{"$f":"'Cow Housing'!$C$6","v":"C-3333"},{"$f":"$B$90","v":0},{"$f":"$C$90","v":2},{"$f":"$D$90","v":74},100447,null,{"$f":"'Dairy Miscellaneous 4'!AD27","v":0},{"$f":"'Dairy Miscellaneous 4'!AE27","v":0}]
[{"$f":"'Cow Housing'!$C$6","v":"C-3333"},{"$f":"$B$90","v":0},{"$f":"$C$90","v":2},{"$f":"$D$90","v":74},106467,null,{"$f":"'Dairy Miscellaneous 4'!AD23","v":0},{"$f":"'Dairy Miscellaneous 4'!AE23","v":0}]
[{"$f":"'Cow Housing'!$C$6","v":"C-3333"},{"$f":"$B$90","v":0},{"$f":"$C$90","v":2},{"$f":"$D$90","v":74},106934,null,{"$f":"'Dairy Miscellaneous 4'!AD38","v":0},{"$f":"'Dairy Miscellaneous 4'!AE38","v":0}]
[{"$f":"'Cow Housing'!$C$6","v":"C-3333"},{"$f":"$B$90","v":0},{"$f":"$C$90","v":2},{"$f":"$D$90","v":74},107062,null,{"$f":"'Dairy Miscellaneous 4'!AD39","v":0},{"$f":"'Dairy Miscellaneous 4'!AE39","v":0}]
[{"$f":"'Cow Housing'!$C$6","v":"C-3333"},{"$f":"$B$90","v":0},{"$f":"$C$90","v":2},{"$f":"$D$90","v":74},107131,null,{"$f":"'Dairy Miscellaneous 4'!AD25","v":0},{"$f":"'Dairy Miscellaneous 4'!AE25","v":0}]
[{"$f":"'Cow Housing'!$C$6","v":"C-3333"},{"$f":"$B$90","v":0},{"$f":"$C$90","v":2},{"$f":"$D$90","v":74},108054,null,{"$f":"'Dairy Miscellaneous 4'!AD50","v":0},{"$f":"'Dairy Miscellaneous 4'!AE50","v":0}]
[{"$f":"'Cow Housing'!$C$6","v":"C-3333"},{"$f":"$B$90","v":0},{"$f":"$C$90","v":2},{"$f":"$D$90","v":74},108101,null,{"$f":"'Dairy Miscellaneous 4'!AD45","v":0},{"$f":"'Dairy Miscellaneous 4'!AE45","v":0}]
[{"$f":"'Cow Housing'!$C$6","v":"C-3333"},{"$f":"$B$90","v":0},{"$f":"$C$90","v":2},{"$f":"$D$90","v":74},108883,null,{"$f":"'Dairy Miscellaneous 4'!AD48","v":0},{"$f":"'Dairy Miscellaneous 4'!AE48","v":0}]
[{"$f":"'Cow Housing'!$C$6","v":"C-3333"},{"$f":"$B$90","v":0},{"$f":"$C$90","v":2},{"$f":"$D$90","v":74},108907,null,{"$f":"'Dairy Miscellaneous 4'!AD31","v":0},{"$f":"'Dairy Miscellaneous 4'!AE31","v":0}]
[{"$f":"'Cow Housing'!$C$6","v":"C-3333"},{"$f":"$B$90","v":0},{"$f":"$C$90","v":2},{"$f":"$D$90","v":74},110543,null,{"$f":"'Dairy Miscellaneous 4'!AD41","v":0},{"$f":"'Dairy Miscellaneous 4'!AE41","v":0}]
[{"$f":"'Cow Housing'!$C$6","v":"C-3333"},{"$f":"$B$90","v":0},{"$f":"$C$90","v":2},{"$f":"$D$90","v":74},110827,null,{"$f":"'Dairy Miscellaneous 4'!AD35","v":0},{"$f":"'Dairy Miscellaneous 4'!AE35","v":0}]
[{"$f":"'Cow Housing'!$C$6","v":"C-3333"},{"$f":"$B$90","v":0},{"$f":"$C$90","v":2},{"$f":"$D$90","v":74},120821,null,{"$f":"'Dairy Miscellaneous 4'!AD18","v":0},{"$f":"'Dairy Miscellaneous 4'!AE18","v":0}]
[{"$f":"'Cow Housing'!$C$6","v":"C-3333"},{"$f":"$B$90","v":0},{"$f":"$C$90","v":2},{"$f":"$D$90","v":74},123728,null,{"$f":"'Dairy Miscellaneous 4'!AD28","v":0},{"$f":"'Dairy Miscellaneous 4'!AE28","v":0}]
[{"$f":"'Cow Housing'!$C$6","v":"C-3333"},{"$f":"$B$90","v":0},{"$f":"$C$90","v":2},{"$f":"$D$90","v":74},123911,null,{"$f":"'Dairy Miscellaneous 4'!AD22","v":0},{"$f":"'Dairy Miscellaneous 4'!AE22","v":0}]
[{"$f":"'Cow Housing'!$C$6","v":"C-3333"},{"$f":"$B$90","v":0},{"$f":"$C$90","v":2},{"$f":"$D$90","v":74},541731,null,{"$f":"'Dairy Miscellaneous 4'!AD21","v":0},{"$f":"'Dairy Miscellaneous 4'!AE21","v":0}]
[{"$f":"'Cow Housing'!$C$6","v":"C-3333"},{"$f":"$B$90","v":0},{"$f":"$C$90","v":2},{"$f":"$D$90","v":74},764410,null,{"$f":"'Dairy Miscellaneous 4'!AD47","v":0},{"$f":"'Dairy Miscellaneous 4'!AE47","v":0}]
[{"$f":"'Cow Housing'!$C$6","v":"C-3333"},{"$f":"$B$90","v":0},{"$f":"$C$90","v":2},{"$f":"$D$90","v":74},1330207,null,{"$f":"'Dairy Miscellaneous 4'!AD51","v":0},{"$f":"'Dairy Miscellaneous 4'!AE51","v":0}]
[{"$f":"'Cow Housing'!$C$6","v":"C-3333"},{"$f":"$B$90","v":0},{"$f":"$C$90","v":2},{"$f":"$D$90","v":74},4170303,null,{"$f":"'Dairy Miscellaneous 4'!AD34","v":0},{"$f":"'Dairy Miscellaneous 4'!AE34","v":0}]
[{"$f":"'Cow Housing'!$C$6","v":"C-3333"},{"$f":"$B$90","v":0},{"$f":"$C$90","v":2},{"$f":"$D$90","v":74},7429905,null,{"$f":"'Livestock PM10 4'!AD14","v":0},{"$f":"'Livestock PM10 4'!AE14","v":0}]
[{"$f":"'Cow Housing'!$C$6","v":"C-3333"},{"$f":"$B$90","v":0},{"$f":"$C$90","v":2},{"$f":"$D$90","v":74},7439921,null,{"$f":"'Livestock PM10 4'!AD22","v":0},{"$f":"'Livestock PM10 4'!AE22","v":0}]
[{"$f":"'Cow Housing'!$C$6","v":"C-3333"},{"$f":"$B$90","v":0},{"$f":"$C$90","v":2},{"$f":"$D$90","v":74},7439965,null,{"$f":"'Livestock PM10 4'!AD23","v":0},{"$f":"'Livestock PM10 4'!AE23","v":0}]
[{"$f":"'Cow Housing'!$C$6","v":"C-3333"},{"$f":"$B$90","v":0},{"$f":"$C$90","v":2},{"$f":"$D$90","v":74},7439976,null,{"$f":"'Livestock PM10 4'!AD24","v":0},{"$f":"'Livestock PM10 4'!AE24","v":0}]
[{"$f":"'Cow Housing'!$C$6","v":"C-3333"},{"$f":"$B$90","v":0},{"$f":"$C$90","v":2},{"$f":"$D$90","v":74},7440020,null,{"$f":"'Livestock PM10 4'!AD25","v":0},{"$f":"'Livestock PM10 4'!AE25","v":0}]
[{"$f":"'Cow Housing'!$C$6","v":"C-3333"},{"$f":"$B$90","v":0},{"$f":"$C$90","v":2},{"$f":"$D$90","v":74},7440360,null,{"$f":"'Livestock PM10 4'!AD15","v":0},{"$f":"'Livestock PM10 4'!AE15","v":0}]
[{"$f":"'Cow Housing'!$C$6","v":"C-3333"},{"$f":"$B$90","v":0},{"$f":"$C$90","v":2},{"$f":"$D$90","v":74},7440382,null,{"$f":"'Livestock PM10 4'!AD16","v":0},{"$f":"'Livestock PM10 4'!AE16","v":0}]
[{"$f":"'Cow Housing'!$C$6","v":"C-3333"},{"$f":"$B$90","v":0},{"$f":"$C$90","v":2},{"$f":"$D$90","v":74},7440393,null,{"$f":"'Livestock PM10 4'!AD17","v":0},{"$f":"'Livestock PM10 4'!AE17","v":0}]
[{"$f":"'Cow Housing'!$C$6","v":"C-3333"},{"$f":"$B$90","v":0},{"$f":"$C$90","v":2},{"$f":"$D$90","v":74},7440473,null,{"$f":"'Livestock PM10 4'!AD19","v":0},{"$f":"'Livestock PM10 4'!AE19","v":0}]
[{"$f":"'Cow Housing'!$C$6","v":"C-3333"},{"$f":"$B$90","v":0},{"$f":"$C$90","v":2},{"$f":"$D$90","v":74},7440508,null,{"$f":"'Livestock PM10 4'!AD20","v":0},{"$f":"'Livestock PM10 4'!AE20","v":0}]
[{"$f":"'Cow Housing'!$C$6","v":"C-3333"},{"$f":"$B$90","v":0},{"$f":"$C$90","v":2},{"$f":"$D$90","v":74},7440622,null,{"$f":"'Livestock PM10 4'!AD29","v":0},{"$f":"'Livestock PM10 4'!AE29","v":0}]
[{"$f":"'Cow Housing'!$C$6","v":"C-3333"},{"$f":"$B$90","v":0},{"$f":"$C$90","v":2},{"$f":"$D$90","v":74},7440666,null,{"$f":"'Livestock PM10 4'!AD30","v":0},{"$f":"'Livestock PM10 4'!AE30","v":0}]
[{"$f":"'Cow Housing'!$C$6","v":"C-3333"},{"$f":"$B$90","v":0},{"$f":"$C$90","v":2},{"$f":"$D$90","v":74},7664417,null,{"$f":"'Livestock PM10 4'!AD31","v":0},{"$f":"'Livestock PM10 4'!AE31","v":0}]
[{"$f":"'Cow Housing'!$C$6","v":"C-3333"},{"$f":"$B$90","v":0},{"$f":"$C$90","v":2},{"$f":"$D$90","v":74},7723140,null,{"$f":"'Livestock PM10 4'!AD26","v":0},{"$f":"'Livestock PM10 4'!AE26","v":0}]
[{"$f":"'Cow Housing'!$C$6","v":"C-3333"},{"$f":"$B$90","v":0},{"$f":"$C$90","v":2},{"$f":"$D$90","v":74},7726956,null,{"$f":"'Livestock PM10 4'!AD18","v":0},{"$f":"'Livestock PM10 4'!AE18","v":0}]
[{"$f":"'Cow Housing'!$C$6","v":"C-3333"},{"$f":"$B$90","v":0},{"$f":"$C$90","v":2},{"$f":"$D$90","v":74},7782492,null,{"$f":"'Livestock PM10 4'!AD27","v":0},{"$f":"'Livestock PM10 4'!AE27","v":0}]
[{"$f":"'Cow Housing'!$C$6","v":"C-3333"},{"$f":"$B$90","v":0},{"$f":"$C$90","v":2},{"$f":"$D$90","v":74},18540299,null,{"$f":"'Livestock PM10 4'!AD21","v":0},{"$f":"'Livestock PM10 4'!AE21","v":0}]
[{"$f":"'Cow Housing'!$C$6","v":"C-3333"},{"$f":"$B$91","v":0},{"$f":"$C$91","v":2},{"$f":"$D$91","v":75},9960,null,{"$f":"'Livestock PM10 4'!AF28","v":0},{"$f":"'Livestock PM10 4'!AG28","v":0}]
[{"$f":"'Cow Housing'!$C$6","v":"C-3333"},{"$f":"$B$91","v":0},{"$f":"$C$91","v":2},{"$f":"$D$91","v":75},50000,null,{"$f":"'Dairy Miscellaneous 4'!AF40","v":0},{"$f":"'Dairy Miscellaneous 4'!AG40","v":0}]
[{"$f":"'Cow Housing'!$C$6","v":"C-3333"},{"$f":"$B$91","v":0},{"$f":"$C$91","v":2},{"$f":"$D$91","v":75},56235,null,{"$f":"'Dairy Miscellaneous 4'!AF30","v":0},{"$f":"'Dairy Miscellaneous 4'!AG30","v":0}]
[{"$f":"'Cow Housing'!$C$6","v":"C-3333"},{"$f":"$B$91","v":0},{"$f":"$C$91","v":2},{"$f":"$D$91","v":75},67630,null,{"$f":"'Dairy Miscellaneous 4'!AF42","v":0},{"$f":"'Dairy Miscellaneous 4'!AG42","v":0}]
[{"$f":"'Cow Housing'!$C$6","v":"C-3333"},{"$f":"$B$91","v":0},{"$f":"$C$91","v":2},{"$f":"$D$91","v":75},67663,null,{"$f":"'Dairy Miscellaneous 4'!AF32","v":0},{"$f":"'Dairy Miscellaneous 4'!AG32","v":0}]
[{"$f":"'Cow Housing'!$C$6","v":"C-3333"},{"$f":"$B$91","v":0},{"$f":"$C$91","v":2},{"$f":"$D$91","v":75},71432,null,{"$f":"'Dairy Miscellaneous 4'!AF26","v":0},{"$f":"'Dairy Miscellaneous 4'!AG26","v":0}]
[{"$f":"'Cow Housing'!$C$6","v":"C-3333"},{"$f":"$B$91","v":0},{"$f":"$C$91","v":2},{"$f":"$D$91","v":75},74873,null,{"$f":"'Dairy Miscellaneous 4'!AF33","v":0},{"$f":"'Dairy Miscellaneous 4'!AG33","v":0}]
[{"$f":"'Cow Housing'!$C$6","v":"C-3333"},{"$f":"$B$91","v":0},{"$f":"$C$91","v":2},{"$f":"$D$91","v":75},75003,null,{"$f":"'Dairy Miscellaneous 4'!AF36","v":0},{"$f":"'Dairy Miscellaneous 4'!AG36","v":0}]
[{"$f":"'Cow Housing'!$C$6","v":"C-3333"},{"$f":"$B$91","v":0},{"$f":"$C$91","v":2},{"$f":"$D$91","v":75},75070,null,{"$f":"'Dairy Miscellaneous 4'!AF24","v":0},{"$f":"'Dairy Miscellaneous 4'!AG24","v":0}]
[{"$f":"'Cow Housing'!$C$6","v":"C-3333"},{"$f":"$B$91","v":0},{"$f":"$C$91","v":2},{"$f":"$D$91","v":75},75150,null,{"$f":"'Dairy Miscellaneous 4'!AF29","v":0},{"$f":"'Dairy Miscellaneous 4'!AG29","v":0}]
[{"$f":"'Cow Housing'!$C$6","v":"C-3333"},{"$f":"$B$91","v":0},{"$f":"$C$91","v":2},{"$f":"$D$91","v":75},75694,null,{"$f":"'Dairy Miscellaneous 4'!AF49","v":0},{"$f":"'Dairy Miscellaneous 4'!AG49","v":0}]
[{"$f":"'Cow Housing'!$C$6","v":"C-3333"},{"$f":"$B$91","v":0},{"$f":"$C$91","v":2},{"$f":"$D$91","v":75},78933,null,{"$f":"'Dairy Miscellaneous 4'!AF44","v":0},{"$f":"'Dairy Miscellaneous 4'!AG44","v":0}]
[{"$f":"'Cow Housing'!$C$6","v":"C-3333"},{"$f":"$B$91","v":0},{"$f":"$C$91","v":2},{"$f":"$D$91","v":75},79005,null,{"$f":"'Dairy Miscellaneous 4'!AF16","v":0},{"$f":"'Dairy Miscellaneous 4'!AG16","v":0}]
[{"$f":"'Cow Housing'!$C$6","v":"C-3333"},{"$f":"$B$91","v":0},{"$f":"$C$91","v":2},{"$f":"$D$91","v":75},79345,null,{"$f":"'Dairy Miscellaneous 4'!AF15","v":0},{"$f":"'Dairy Miscellaneous 4'!AG15","v":0}]
[{"$f":"'Cow Housing'!$C$6","v":"C-3333"},{"$f":"$B$91","v":0},{"$f":"$C$91","v":2},{"$f":"$D$91","v":75},95501,null,{"$f":"'Dairy Miscellaneous 4'!AF20","v":0},{"$f":"'Dairy Miscellaneous 4'!AG20","v":0}]
[{"$f":"'Cow Housing'!$C$6","v":"C-3333"},{"$f":"$B$91","v":0},{"$f":"$C$91","v":2},{"$f":"$D$91","v":75},96128,null,{"$f":"'Dairy Miscellaneous 4'!AF19","v":0},{"$f":"'Dairy Miscellaneous 4'!AG19","v":0}]
[{"$f":"'Cow Housing'!$C$6","v":"C-3333"},{"$f":"$B$91","v":0},{"$f":"$C$91","v":2},{"$f":"$D$91","v":75},96184,null,{"$f":"'Dairy Miscellaneous 4'!AF17","v":0},{"$f":"'Dairy Miscellaneous 4'!AG17","v":0}]
[{"$f":"'Cow Housing'!$C$6","v":"C-3333"},{"$f":"$B$91","v":0},{"$f":"$C$91","v":2},{"$f":"$D$91","v":75},98828,null,{"$f":"'Dairy Miscellaneous 4'!AF43","v":0},{"$f":"'Dairy Miscellaneous 4'!AG43","v":0}]
[{"$f":"'Cow Housing'!$C$6","v":"C-3333"},{"$f":"$B$91","v":0},{"$f":"$C$91","v":2},{"$f":"$D$91","v":75},100414,null,{"$f":"'Dairy Miscellaneous 4'!AF37","v":0},{"$f":"'Dairy Miscellaneous 4'!AG37","v":0}]
[{"$f":"'Cow Housing'!$C$6","v":"C-3333"},{"$f":"$B$91","v":0},{"$f":"$C$91","v":2},{"$f":"$D$91","v":75},100425,null,{"$f":"'Dairy Miscellaneous 4'!#REF!","v":{"$error":"#REF!"}},{"$f":"'Dairy Miscellaneous 4'!#REF!","v":{"$error":"#REF!"}}]
[{"$f":"'Cow Housing'!$C$6","v":"C-3333"},{"$f":"$B$91","v":0},{"$f":"$C$91","v":2},{"$f":"$D$91","v":75},100447,null,{"$f":"'Dairy Miscellaneous 4'!AF27","v":0},{"$f":"'Dairy Miscellaneous 4'!AG27","v":0}]
[{"$f":"'Cow Housing'!$C$6","v":"C-3333"},{"$f":"$B$91","v":0},{"$f":"$C$91","v":2},{"$f":"$D$91","v":75},106467,null,{"$f":"'Dairy Miscellaneous 4'!AF23","v":0},{"$f":"'Dairy Miscellaneous 4'!AG23","v":0}]
[{"$f":"'Cow Housing'!$C$6","v":"C-3333"},{"$f":"$B$91","v":0},{"$f":"$C$91","v":2},{"$f":"$D$91","v":75},106934,null,{"$f":"'Dairy Miscellaneous 4'!AF38","v":0},{"$f":"'Dairy Miscellaneous 4'!AG38","v":0}]
[{"$f":"'Cow Housing'!$C$6","v":"C-3333"},{"$f":"$B$91","v":0},{"$f":"$C$91","v":2},{"$f":"$D$91","v":75},107062,null,{"$f":"'Dairy Miscellaneous 4'!AF39","v":0},{"$f":"'Dairy Miscellaneous 4'!AG39","v":0}]
[{"$f":"'Cow Housing'!$C$6","v":"C-3333"},{"$f":"$B$91","v":0},{"$f":"$C$91","v":2},{"$f":"$D$91","v":75},107131,null,{"$f":"'Dairy Miscellaneous 4'!AF25","v":0},{"$f":"'Dairy Miscellaneous 4'!AG25","v":0}]
[{"$f":"'Cow Housing'!$C$6","v":"C-3333"},{"$f":"$B$91","v":0},{"$f":"$C$91","v":2},{"$f":"$D$91","v":75},108054,null,{"$f":"'Dairy Miscellaneous 4'!AF50","v":0},{"$f":"'Dairy Miscellaneous 4'!AG50","v":0}]
[{"$f":"'Cow Housing'!$C$6","v":"C-3333"},{"$f":"$B$91","v":0},{"$f":"$C$91","v":2},{"$f":"$D$91","v":75},108101,null,{"$f":"'Dairy Miscellaneous 4'!AF45","v":0},{"$f":"'Dairy Miscellaneous 4'!AG45","v":0}]
[{"$f":"'Cow Housing'!$C$6","v":"C-3333"},{"$f":"$B$91","v":0},{"$f":"$C$91","v":2},{"$f":"$D$91","v":75},108883,null,{"$f":"'Dairy Miscellaneous 4'!AF48","v":0},{"$f":"'Dairy Miscellaneous 4'!AG48","v":0}]
[{"$f":"'Cow Housing'!$C$6","v":"C-3333"},{"$f":"$B$91","v":0},{"$f":"$C$91","v":2},{"$f":"$D$91","v":75},108907,null,{"$f":"'Dairy Miscellaneous 4'!AF31","v":0},{"$f":"'Dairy Miscellaneous 4'!AG31","v":0}]
[{"$f":"'Cow Housing'!$C$6","v":"C-3333"},{"$f":"$B$91","v":0},{"$f":"$C$91","v":2},{"$f":"$D$91","v":75},110543,null,{"$f":"'Dairy Miscellaneous 4'!AF41","v":0},{"$f":"'Dairy Miscellaneous 4'!AG41","v":0}]
[{"$f":"'Cow Housing'!$C$6","v":"C-3333"},{"$f":"$B$91","v":0},{"$f":"$C$91","v":2},{"$f":"$D$91","v":75},110827,null,{"$f":"'Dairy Miscellaneous 4'!AF35","v":0},{"$f":"'Dairy Miscellaneous 4'!AG35","v":0}]
[{"$f":"'Cow Housing'!$C$6","v":"C-3333"},{"$f":"$B$91","v":0},{"$f":"$C$91","v":2},{"$f":"$D$91","v":75},120821,null,{"$f":"'Dairy Miscellaneous 4'!AF18","v":0},{"$f":"'Dairy Miscellaneous 4'!AG18","v":0}]
[{"$f":"'Cow Housing'!$C$6","v":"C-3333"},{"$f":"$B$91","v":0},{"$f":"$C$91","v":2},{"$f":"$D$91","v":75},123728,null,{"$f":"'Dairy Miscellaneous 4'!AF28","v":0},{"$f":"'Dairy Miscellaneous 4'!AG28","v":0}]
[{"$f":"'Cow Housing'!$C$6","v":"C-3333"},{"$f":"$B$91","v":0},{"$f":"$C$91","v":2},{"$f":"$D$91","v":75},123911,null,{"$f":"'Dairy Miscellaneous 4'!AF22","v":0},{"$f":"'Dairy Miscellaneous 4'!AG22","v":0}]
[{"$f":"'Cow Housing'!$C$6","v":"C-3333"},{"$f":"$B$91","v":0},{"$f":"$C$91","v":2},{"$f":"$D$91","v":75},541731,null,{"$f":"'Dairy Miscellaneous 4'!AF21","v":0},{"$f":"'Dairy Miscellaneous 4'!AG21","v":0}]
[{"$f":"'Cow Housing'!$C$6","v":"C-3333"},{"$f":"$B$91","v":0},{"$f":"$C$91","v":2},{"$f":"$D$91","v":75},764410,null,{"$f":"'Dairy Miscellaneous 4'!AF47","v":0},{"$f":"'Dairy Miscellaneous 4'!AG47","v":0}]
[{"$f":"'Cow Housing'!$C$6","v":"C-3333"},{"$f":"$B$91","v":0},{"$f":"$C$91","v":2},{"$f":"$D$91","v":75},1330207,null,{"$f":"'Dairy Miscellaneous 4'!AF51","v":0},{"$f":"'Dairy Miscellaneous 4'!AG51","v":0}]
[{"$f":"'Cow Housing'!$C$6","v":"C-3333"},{"$f":"$B$91","v":0},{"$f":"$C$91","v":2},{"$f":"$D$91","v":75},4170303,null,{"$f":"'Dairy Miscellaneous 4'!AF34","v":0},{"$f":"'Dairy Miscellaneous 4'!AG34","v":0}]
[{"$f":"'Cow Housing'!$C$6","v":"C-3333"},{"$f":"$B$91","v":0},{"$f":"$C$91","v":2},{"$f":"$D$91","v":75},7429905,null,{"$f":"'Livestock PM10 4'!AF14","v":0},{"$f":"'Livestock PM10 4'!AG14","v":0}]
[{"$f":"'Cow Housing'!$C$6","v":"C-3333"},{"$f":"$B$91","v":0},{"$f":"$C$91","v":2},{"$f":"$D$91","v":75},7439921,null,{"$f":"'Livestock PM10 4'!AF22","v":0},{"$f":"'Livestock PM10 4'!AG22","v":0}]
[{"$f":"'Cow Housing'!$C$6","v":"C-3333"},{"$f":"$B$91","v":0},{"$f":"$C$91","v":2},{"$f":"$D$91","v":75},7439965,null,{"$f":"'Livestock PM10 4'!AF23","v":0},{"$f":"'Livestock PM10 4'!AG23","v":0}]
[{"$f":"'Cow Housing'!$C$6","v":"C-3333"},{"$f":"$B$91","v":0},{"$f":"$C$91","v":2},{"$f":"$D$91","v":75},7439976,null,{"$f":"'Livestock PM10 4'!AF24","v":0},{"$f":"'Livestock PM10 4'!AG24","v":0}]
[{"$f":"'Cow Housing'!$C$6","v":"C-3333"},{"$f":"$B$91","v":0},{"$f":"$C$91","v":2},{"$f":"$D$91","v":75},7440020,null,{"$f":"'Livestock PM10 4'!AF25","v":0},{"$f":"'Livestock PM10 4'!AG25","v":0}]
[{"$f":"'Cow Housing'!$C$6","v":"C-3333"},{"$f":"$B$91","v":0},{"$f":"$C$91","v":2},{"$f":"$D$91","v":75},7440360,null,{"$f":"'Livestock PM10 4'!AF15","v":0},{"$f":"'Livestock PM10 4'!AG15","v":0}]
[{"$f":"'Cow Housing'!$C$6","v":"C-3333"},{"$f":"$B$91","v":0},{"$f":"$C$91","v":2},{"$f":"$D$91","v":75},7440382,null,{"$f":"'Livestock PM10 4'!AF16","v":0},{"$f":"'Livestock PM10 4'!AG16","v":0}]
[{"$f":"'Cow Housing'!$C$6","v":"C-3333"},{"$f":"$B$91","v":0},{"$f":"$C$91","v":2},{"$f":"$D$91","v":75},7440393,null,{"$f":"'Livestock PM10 4'!AF17","v":0},{"$f":"'Livestock PM10 4'!AG17","v":0}]
[{"$f":"'Cow Housing'!$C$6","v":"C-3333"},{"$f":"$B$91","v":0},{"$f":"$C$91","v":2},{"$f":"$D$91","v":75},7440473,null,{"$f":"'Livestock PM10 4'!AF19","v":0},{"$f":"'Livestock PM10 4'!AG19","v":0}]
[{"$f":"'Cow Housing'!$C$6","v":"C-3333"},{"$f":"$B$91","v":0},{"$f":"$C$91","v":2},{"$f":"$D$91","v":75},7440508,null,{"$f":"'Livestock PM10 4'!AF20","v":0},{"$f":"'Livestock PM10 4'!AG20","v":0}]
[{"$f":"'Cow Housing'!$C$6","v":"C-3333"},{"$f":"$B$91","v":0},{"$f":"$C$91","v":2},{"$f":"$D$91","v":75},7440622,null,{"$f":"'Livestock PM10 4'!AF29","v":0},{"$f":"'Livestock PM10 4'!AG29","v":0}]
[{"$f":"'Cow Housing'!$C$6","v":"C-3333"},{"$f":"$B$91","v":0},{"$f":"$C$91","v":2},{"$f":"$D$91","v":75},7440666,null,{"$f":"'Livestock PM10 4'!AF30","v":0},{"$f":"'Livestock PM10 4'!AG30","v":0}]
[{"$f":"'Cow Housing'!$C$6","v":"C-3333"},{"$f":"$B$91","v":0},{"$f":"$C$91","v":2},{"$f":"$D$91","v":75},7664417,null,{"$f":"'Livestock PM10 4'!AF31","v":0},{"$f":"'Livestock PM10 4'!AG31","v":0}]
[{"$f":"'Cow Housing'!$C$6","v":"C-3333"},{"$f":"$B$91","v":0},{"$f":"$C$91","v":2},{"$f":"$D$91","v":75},7723140,null,{"$f":"'Livestock PM10 4'!AF26","v":0},{"$f":"'Livestock PM10 4'!AG26","v":0}]
[{"$f":"'Cow Housing'!$C$6","v":"C-3333"},{"$f":"$B$91","v":0},{"$f":"$C$91","v":2},{"$f":"$D$91","v":75},7726956,null,{"$f":"'Livestock PM10 4'!AF18","v":0},{"$f":"'Livestock PM10 4'!AG18","v":0}]
[{"$f":"'Cow Housing'!$C$6","v":"C-3333"},{"$f":"$B$91","v":0},{"$f":"$C$91","v":2},{"$f":"$D$91","v":75},7782492,null,{"$f":"'Livestock PM10 4'!AF27","v":0},{"$f":"'Livestock PM10 4'!AG27","v":0}]
[{"$f":"'Cow Housing'!$C$6","v":"C-3333"},{"$f":"$B$91","v":0},{"$f":"$C$91","v":2},{"$f":"$D$91","v":75},18540299,null,{"$f":"'Livestock PM10 4'!AF21","v":0},{"$f":"'Livestock PM10 4'!AG21","v":0}]
[{"$f":"'Cow Housing'!$C$6","v":"C-3333"},{"$f":"$B$12","v":"Lagoon 1"},{"$f":"$C$12","v":3},{"$f":"$D$12","v":1},50000,null,{"$f":"'Dairy Lagoon'!F34","v":0},{"$f":"'Dairy Lagoon'!G34","v":0}]
[{"$f":"'Cow Housing'!$C$6","v":"C-3333"},{"$f":"$B$12","v":"Lagoon 1"},{"$f":"$C$12","v":3},{"$f":"$D$12","v":1},67630,null,{"$f":"'Dairy Lagoon'!F36","v":0},{"$f":"'Dairy Lagoon'!G36","v":0}]
[{"$f":"'Cow Housing'!$C$6","v":"C-3333"},{"$f":"$B$12","v":"Lagoon 1"},{"$f":"$C$12","v":3},{"$f":"$D$12","v":1},71432,null,{"$f":"'Dairy Lagoon'!F24","v":0},{"$f":"'Dairy Lagoon'!G24","v":0}]
[{"$f":"'Cow Housing'!$C$6","v":"C-3333"},{"$f":"$B$12","v":"Lagoon 1"},{"$f":"$C$12","v":3},{"$f":"$D$12","v":1},75003,null,{"$f":"'Dairy Lagoon'!F30","v":0},{"$f":"'Dairy Lagoon'!G30","v":0}]
[{"$f":"'Cow Housing'!$C$6","v":"C-3333"},{"$f":"$B$12","v":"Lagoon 1"},{"$f":"$C$12","v":3},{"$f":"$D$12","v":1},75070,null,{"$f":"'Dairy Lagoon'!F22","v":0},{"$f":"'Dairy Lagoon'!G22","v":0}]
[{"$f":"'Cow Housing'!$C$6","v":"C-3333"},{"$f":"$B$12","v":"Lagoon 1"},{"$f":"$C$12","v":3},{"$f":"$D$12","v":1},75150,null,{"$f":"'Dairy Lagoon'!F26","v":0},{"$f":"'Dairy Lagoon'!G26","v":0}]
[{"$f":"'Cow Housing'!$C$6","v":"C-3333"},{"$f":"$B$12","v":"Lagoon 1"},{"$f":"$C$12","v":3},{"$f":"$D$12","v":1},78933,null,{"$f":"'Dairy Lagoon'!F37","v":0},{"$f":"'Dairy Lagoon'!G37","v":0}]
[{"$f":"'Cow Housing'!$C$6","v":"C-3333"},{"$f":"$B$12","v":"Lagoon 1"},{"$f":"$C$12","v":3},{"$f":"$D$12","v":1},79005,null,{"$f":"'Dairy Lagoon'!F14","v":0},{"$f":"'Dairy Lagoon'!G14","v":0}]
[{"$f":"'Cow Housing'!$C$6","v":"C-3333"},{"$f":"$B$12","v":"Lagoon 1"},{"$f":"$C$12","v":3},{"$f":"$D$12","v":1},79016,null,{"$f":"'Dairy Lagoon'!F41","v":0},{"$f":"'Dairy Lagoon'!G41","v":0}]
[{"$f":"'Cow Housing'!$C$6","v":"C-3333"},{"$f":"$B$12","v":"Lagoon 1"},{"$f":"$C$12","v":3},{"$f":"$D$12","v":1},79345,null,{"$f":"'Dairy Lagoon'!F13","v":0},{"$f":"'Dairy Lagoon'!G13","v":0}]
[{"$f":"'Cow Housing'!$C$6","v":"C-3333"},{"$f":"$B$12","v":"Lagoon 1"},{"$f":"$C$12","v":3},{"$f":"$D$12","v":1},95501,null,{"$f":"'Dairy Lagoon'!F16","v":0},{"$f":"'Dairy Lagoon'!G16","v":0}]
[{"$f":"'Cow Housing'!$C$6","v":"C-3333"},{"$f":"$B$12","v":"Lagoon 1"},{"$f":"$C$12","v":3},{"$f":"$D$12","v":1},95636,null,{"$f":"'Dairy Lagoon'!F15","v":0},{"$f":"'Dairy Lagoon'!G15","v":0}]
[{"$f":"'Cow Housing'!$C$6","v":"C-3333"},{"$f":"$B$12","v":"Lagoon 1"},{"$f":"$C$12","v":3},{"$f":"$D$12","v":1},98828,null,{"$f":"'Dairy Lagoon'!F28","v":0},{"$f":"'Dairy Lagoon'!G28","v":0}]
[{"$f":"'Cow Housing'!$C$6","v":"C-3333"},{"$f":"$B$12","v":"Lagoon 1"},{"$f":"$C$12","v":3},{"$f":"$D$12","v":1},100414,null,{"$f":"'Dairy Lagoon'!F31","v":0},{"$f":"'Dairy Lagoon'!G31","v":0}]
[{"$f":"'Cow Housing'!$C$6","v":"C-3333"},{"$f":"$B$12","v":"Lagoon 1"},{"$f":"$C$12","v":3},{"$f":"$D$12","v":1},100425,null,{"$f":"'Dairy Lagoon'!F39","v":0},{"$f":"'Dairy Lagoon'!G39","v":0}]
[{"$f":"'Cow Housing'!$C$6","v":"C-3333"},{"$f":"$B$12","v":"Lagoon 1"},{"$f":"$C$12","v":3},{"$f":"$D$12","v":1},100447,null,{"$f":"'Dairy Lagoon'!F25","v":0},{"$f":"'Dairy Lagoon'!G25","v":0}]
[{"$f":"'Cow Housing'!$C$6","v":"C-3333"},{"$f":"$B$12","v":"Lagoon 1"},{"$f":"$C$12","v":3},{"$f":"$D$12","v":1},106467,null,{"$f":"'Dairy Lagoon'!F21","v":0},{"$f":"'Dairy Lagoon'!G21","v":0}]
[{"$f":"'Cow Housing'!$C$6","v":"C-3333"},{"$f":"$B$12","v":"Lagoon 1"},{"$f":"$C$12","v":3},{"$f":"$D$12","v":1},106934,null,{"$f":"'Dairy Lagoon'!F32","v":0},{"$f":"'Dairy Lagoon'!G32","v":0}]
[{"$f":"'Cow Housing'!$C$6","v":"C-3333"},{"$f":"$B$12","v":"Lagoon 1"},{"$f":"$C$12","v":3},{"$f":"$D$12","v":1},107062,null,{"$f":"'Dairy Lagoon'!F33","v":0},{"$f":"'Dairy Lagoon'!G33","v":0}]
[{"$f":"'Cow Housing'!$C$6","v":"C-3333"},{"$f":"$B$12","v":"Lagoon 1"},{"$f":"$C$12","v":3},{"$f":"$D$12","v":1},107131,null,{"$f":"'Dairy Lagoon'!F23","v":0},{"$f":"'Dairy Lagoon'!G23","v":0}]
[{"$f":"'Cow Housing'!$C$6","v":"C-3333"},{"$f":"$B$12","v":"Lagoon 1"},{"$f":"$C$12","v":3},{"$f":"$D$12","v":1},108101,null,{"$f":"'Dairy Lagoon'!F38","v":0},{"$f":"'Dairy Lagoon'!G38","v":0}]
[{"$f":"'Cow Housing'!$C$6","v":"C-3333"},{"$f":"$B$12","v":"Lagoon 1"},{"$f":"$C$12","v":3},{"$f":"$D$12","v":1},108883,null,{"$f":"'Dairy Lagoon'!F40","v":0},{"$f":"'Dairy Lagoon'!G40","v":0}]
[{"$f":"'Cow Housing'!$C$6","v":"C-3333"},{"$f":"$B$12","v":"Lagoon 1"},{"$f":"$C$12","v":3},{"$f":"$D$12","v":1},108907,null,{"$f":"'Dairy Lagoon'!F27","v":0},{"$f":"'Dairy Lagoon'!G27","v":0}]
[{"$f":"'Cow Housing'!$C$6","v":"C-3333"},{"$f":"$B$12","v":"Lagoon 1"},{"$f":"$C$12","v":3},{"$f":"$D$12","v":1},110543,null,{"$f":"'Dairy Lagoon'!F35","v":0},{"$f":"'Dairy Lagoon'!G35","v":0}]
[{"$f":"'Cow Housing'!$C$6","v":"C-3333"},{"$f":"$B$12","v":"Lagoon 1"},{"$f":"$C$12","v":3},{"$f":"$D$12","v":1},110827,null,{"$f":"'Dairy Lagoon'!F29","v":0},{"$f":"'Dairy Lagoon'!G29","v":0}]
[{"$f":"'Cow Housing'!$C$6","v":"C-3333"},{"$f":"$B$12","v":"Lagoon 1"},{"$f":"$C$12","v":3},{"$f":"$D$12","v":1},123911,null,{"$f":"'Dairy Lagoon'!F19","v":0},{"$f":"'Dairy Lagoon'!G19","v":0}]
[{"$f":"'Cow Housing'!$C$6","v":"C-3333"},{"$f":"$B$12","v":"Lagoon 1"},{"$f":"$C$12","v":3},{"$f":"$D$12","v":1},541731,null,{"$f":"'Dairy Lagoon'!F17","v":0},{"$f":"'Dairy Lagoon'!G17","v":0}]
[{"$f":"'Cow Housing'!$C$6","v":"C-3333"},{"$f":"$B$12","v":"Lagoon 1"},{"$f":"$C$12","v":3},{"$f":"$D$12","v":1},542756,null,{"$f":"'Dairy Lagoon'!F18","v":0},{"$f":"'Dairy Lagoon'!G18","v":0}]
[{"$f":"'Cow Housing'!$C$6","v":"C-3333"},{"$f":"$B$12","v":"Lagoon 1"},{"$f":"$C$12","v":3},{"$f":"$D$12","v":1},764410,null,{"$f":"'Dairy Lagoon'!F20","v":0},{"$f":"'Dairy Lagoon'!G20","v":0}]
[{"$f":"'Cow Housing'!$C$6","v":"C-3333"},{"$f":"$B$12","v":"Lagoon 1"},{"$f":"$C$12","v":3},{"$f":"$D$12","v":1},1330207,null,{"$f":"'Dairy Lagoon'!F42","v":0},{"$f":"'Dairy Lagoon'!G42","v":0}]
[{"$f":"'Cow Housing'!$C$6","v":"C-3333"},{"$f":"$B$12","v":"Lagoon 1"},{"$f":"$C$12","v":3},{"$f":"$D$12","v":1},7664417,null,{"$f":"'Dairy Lagoon'!F43","v":0},{"$f":"'Dairy Lagoon'!G43","v":0}]
[{"$f":"'Cow Housing'!$C$6","v":"C-3333"},{"$f":"$B$13","v":"Lagoon 2"},{"$f":"$C$13","v":3},{"$f":"$D$13","v":2},50000,null,{"$f":"'Dairy Lagoon'!H34","v":0},{"$f":"'Dairy Lagoon'!I34","v":0}]
[{"$f":"'Cow Housing'!$C$6","v":"C-3333"},{"$f":"$B$13","v":"Lagoon 2"},{"$f":"$C$13","v":3},{"$f":"$D$13","v":2},67630,null,{"$f":"'Dairy Lagoon'!H36","v":0},{"$f":"'Dairy Lagoon'!I36","v":0}]
[{"$f":"'Cow Housing'!$C$6","v":"C-3333"},{"$f":"$B$13","v":"Lagoon 2"},{"$f":"$C$13","v":3},{"$f":"$D$13","v":2},71432,null,{"$f":"'Dairy Lagoon'!H24","v":0},{"$f":"'Dairy Lagoon'!I24","v":0}]
[{"$f":"'Cow Housing'!$C$6","v":"C-3333"},{"$f":"$B$13","v":"Lagoon 2"},{"$f":"$C$13","v":3},{"$f":"$D$13","v":2},75003,null,{"$f":"'Dairy Lagoon'!H30","v":0},{"$f":"'Dairy Lagoon'!I30","v":0}]
[{"$f":"'Cow Housing'!$C$6","v":"C-3333"},{"$f":"$B$13","v":"Lagoon 2"},{"$f":"$C$13","v":3},{"$f":"$D$13","v":2},75070,null,{"$f":"'Dairy Lagoon'!H22","v":0},{"$f":"'Dairy Lagoon'!I22","v":0}]
[{"$f":"'Cow Housing'!$C$6","v":"C-3333"},{"$f":"$B$13","v":"Lagoon 2"},{"$f":"$C$13","v":3},{"$f":"$D$13","v":2},75150,null,{"$f":"'Dairy Lagoon'!H26","v":0},{"$f":"'Dairy Lagoon'!I26","v":0}]
[{"$f":"'Cow Housing'!$C$6","v":"C-3333"},{"$f":"$B$13","v":"Lagoon 2"},{"$f":"$C$13","v":3},{"$f":"$D$13","v":2},78933,null,{"$f":"'Dairy Lagoon'!H37","v":0},{"$f":"'Dairy Lagoon'!I37","v":0}]
[{"$f":"'Cow Housing'!$C$6","v":"C-3333"},{"$f":"$B$13","v":"Lagoon 2"},{"$f":"$C$13","v":3},{"$f":"$D$13","v":2},79005,null,{"$f":"'Dairy Lagoon'!H14","v":0},{"$f":"'Dairy Lagoon'!I14","v":0}]
[{"$f":"'Cow Housing'!$C$6","v":"C-3333"},{"$f":"$B$13","v":"Lagoon 2"},{"$f":"$C$13","v":3},{"$f":"$D$13","v":2},79016,null,{"$f":"'Dairy Lagoon'!H41","v":0},{"$f":"'Dairy Lagoon'!I41","v":0}]
[{"$f":"'Cow Housing'!$C$6","v":"C-3333"},{"$f":"$B$13","v":"Lagoon 2"},{"$f":"$C$13","v":3},{"$f":"$D$13","v":2},79345,null,{"$f":"'Dairy Lagoon'!H13","v":0},{"$f":"'Dairy Lagoon'!I13","v":0}]
[{"$f":"'Cow Housing'!$C$6","v":"C-3333"},{"$f":"$B$13","v":"Lagoon 2"},{"$f":"$C$13","v":3},{"$f":"$D$13","v":2},95501,null,{"$f":"'Dairy Lagoon'!H16","v":0},{"$f":"'Dairy Lagoon'!I16","v":0}]
[{"$f":"'Cow Housing'!$C$6","v":"C-3333"},{"$f":"$B$13","v":"Lagoon 2"},{"$f":"$C$13","v":3},{"$f":"$D$13","v":2},95636,null,{"$f":"'Dairy Lagoon'!H15","v":0},{"$f":"'Dairy Lagoon'!I15","v":0}]
[{"$f":"'Cow Housing'!$C$6","v":"C-3333"},{"$f":"$B$13","v":"Lagoon 2"},{"$f":"$C$13","v":3},{"$f":"$D$13","v":2},98828,null,{"$f":"'Dairy Lagoon'!H28","v":0},{"$f":"'Dairy Lagoon'!I28","v":0}]
[{"$f":"'Cow Housing'!$C$6","v":"C-3333"},{"$f":"$B$13","v":"Lagoon 2"},{"$f":"$C$13","v":3},{"$f":"$D$13","v":2},100414,null,{"$f":"'Dairy Lagoon'!H31","v":0},{"$f":"'Dairy Lagoon'!I31","v":0}]
[{"$f":"'Cow Housing'!$C$6","v":"C-3333"},{"$f":"$B$13","v":"Lagoon 2"},{"$f":"$C$13","v":3},{"$f":"$D$13","v":2},100425,null,{"$f":"'Dairy Lagoon'!H39","v":0},{"$f":"'Dairy Lagoon'!I39","v":0}]
[{"$f":"'Cow Housing'!$C$6","v":"C-3333"},{"$f":"$B$13","v":"Lagoon 2"},{"$f":"$C$13","v":3},{"$f":"$D$13","v":2},100447,null,{"$f":"'Dairy Lagoon'!H25","v":0},{"$f":"'Dairy Lagoon'!I25","v":0}]
[{"$f":"'Cow Housing'!$C$6","v":"C-3333"},{"$f":"$B$13","v":"Lagoon 2"},{"$f":"$C$13","v":3},{"$f":"$D$13","v":2},106467,null,{"$f":"'Dairy Lagoon'!H21","v":0},{"$f":"'Dairy Lagoon'!I21","v":0}]
[{"$f":"'Cow Housing'!$C$6","v":"C-3333"},{"$f":"$B$13","v":"Lagoon 2"},{"$f":"$C$13","v":3},{"$f":"$D$13","v":2},106934,null,{"$f":"'Dairy Lagoon'!H32","v":0},{"$f":"'Dairy Lagoon'!I32","v":0}]
[{"$f":"'Cow Housing'!$C$6","v":"C-3333"},{"$f":"$B$13","v":"Lagoon 2"},{"$f":"$C$13","v":3},{"$f":"$D$13","v":2},107062,null,{"$f":"'Dairy Lagoon'!H33","v":0},{"$f":"'Dairy Lagoon'!I33","v":0}]
[{"$f":"'Cow Housing'!$C$6","v":"C-3333"},{"$f":"$B$13","v":"Lagoon 2"},{"$f":"$C$13","v":3},{"$f":"$D$13","v":2},107131,null,{"$f":"'Dairy Lagoon'!H23","v":0},{"$f":"'Dairy Lagoon'!I23","v":0}]
[{"$f":"'Cow Housing'!$C$6","v":"C-3333"},{"$f":"$B$13","v":"Lagoon 2"},{"$f":"$C$13","v":3},{"$f":"$D$13","v":2},108101,null,{"$f":"'Dairy Lagoon'!H38","v":0},{"$f":"'Dairy Lagoon'!I38","v":0}]
[{"$f":"'Cow Housing'!$C$6","v":"C-3333"},{"$f":"$B$13","v":"Lagoon 2"},{"$f":"$C$13","v":3},{"$f":"$D$13","v":2},108883,null,{"$f":"'Dairy Lagoon'!H40","v":0},{"$f":"'Dairy Lagoon'!I40","v":0}]
[{"$f":"'Cow Housing'!$C$6","v":"C-3333"},{"$f":"$B$13","v":"Lagoon 2"},{"$f":"$C$13","v":3},{"$f":"$D$13","v":2},108907,null,{"$f":"'Dairy Lagoon'!H27","v":0},{"$f":"'Dairy Lagoon'!I27","v":0}]
[{"$f":"'Cow Housing'!$C$6","v":"C-3333"},{"$f":"$B$13","v":"Lagoon 2"},{"$f":"$C$13","v":3},{"$f":"$D$13","v":2},110543,null,{"$f":"'Dairy Lagoon'!H35","v":0},{"$f":"'Dairy Lagoon'!I35","v":0}]
[{"$f":"'Cow Housing'!$C$6","v":"C-3333"},{"$f":"$B$13","v":"Lagoon 2"},{"$f":"$C$13","v":3},{"$f":"$D$13","v":2},110827,null,{"$f":"'Dairy Lagoon'!H29","v":0},{"$f":"'Dairy Lagoon'!I29","v":0}]
[{"$f":"'Cow Housing'!$C$6","v":"C-3333"},{"$f":"$B$13","v":"Lagoon 2"},{"$f":"$C$13","v":3},{"$f":"$D$13","v":2},123911,null,{"$f":"'Dairy Lagoon'!H19","v":0},{"$f":"'Dairy Lagoon'!I19","v":0}]
[{"$f":"'Cow Housing'!$C$6","v":"C-3333"},{"$f":"$B$13","v":"Lagoon 2"},{"$f":"$C$13","v":3},{"$f":"$D$13","v":2},541731,null,{"$f":"'Dairy Lagoon'!H17","v":0},{"$f":"'Dairy Lagoon'!I17","v":0}]
[{"$f":"'Cow Housing'!$C$6","v":"C-3333"},{"$f":"$B$13","v":"Lagoon 2"},{"$f":"$C$13","v":3},{"$f":"$D$13","v":2},542756,null,{"$f":"'Dairy Lagoon'!H18","v":0},{"$f":"'Dairy Lagoon'!I18","v":0}]
[{"$f":"'Cow Housing'!$C$6","v":"C-3333"},{"$f":"$B$13","v":"Lagoon 2"},{"$f":"$C$13","v":3},{"$f":"$D$13","v":2},764410,null,{"$f":"'Dairy Lagoon'!H20","v":0},{"$f":"'Dairy Lagoon'!I20","v":0}]
[{"$f":"'Cow Housing'!$C$6","v":"C-3333"},{"$f":"$B$13","v":"Lagoon 2"},{"$f":"$C$13","v":3},{"$f":"$D$13","v":2},1330207,null,{"$f":"'Dairy Lagoon'!H42","v":0},{"$f":"'Dairy Lagoon'!I42","v":0}]
[{"$f":"'Cow Housing'!$C$6","v":"C-3333"},{"$f":"$B$13","v":"Lagoon 2"},{"$f":"$C$13","v":3},{"$f":"$D$13","v":2},7664417,null,{"$f":"'Dairy Lagoon'!H43","v":0},{"$f":"'Dairy Lagoon'!I43","v":0}]
[{"$f":"'Cow Housing'!$C$6","v":"C-3333"},{"$f":"$B$14","v":"Lagoon 3"},{"$f":"$C$14","v":3},{"$f":"$D$14","v":3},50000,null,{"$f":"'Dairy Lagoon'!J34","v":0},{"$f":"'Dairy Lagoon'!K34","v":0}]
[{"$f":"'Cow Housing'!$C$6","v":"C-3333"},{"$f":"$B$14","v":"Lagoon 3"},{"$f":"$C$14","v":3},{"$f":"$D$14","v":3},67630,null,{"$f":"'Dairy Lagoon'!J36","v":0},{"$f":"'Dairy Lagoon'!K36","v":0}]
[{"$f":"'Cow Housing'!$C$6","v":"C-3333"},{"$f":"$B$14","v":"Lagoon 3"},{"$f":"$C$14","v":3},{"$f":"$D$14","v":3},71432,null,{"$f":"'Dairy Lagoon'!J24","v":0},{"$f":"'Dairy Lagoon'!K24","v":0}]
[{"$f":"'Cow Housing'!$C$6","v":"C-3333"},{"$f":"$B$14","v":"Lagoon 3"},{"$f":"$C$14","v":3},{"$f":"$D$14","v":3},75003,null,{"$f":"'Dairy Lagoon'!J30","v":0},{"$f":"'Dairy Lagoon'!K30","v":0}]
[{"$f":"'Cow Housing'!$C$6","v":"C-3333"},{"$f":"$B$14","v":"Lagoon 3"},{"$f":"$C$14","v":3},{"$f":"$D$14","v":3},75070,null,{"$f":"'Dairy Lagoon'!J22","v":0},{"$f":"'Dairy Lagoon'!K22","v":0}]
[{"$f":"'Cow Housing'!$C$6","v":"C-3333"},{"$f":"$B$14","v":"Lagoon 3"},{"$f":"$C$14","v":3},{"$f":"$D$14","v":3},75150,null,{"$f":"'Dairy Lagoon'!J26","v":0},{"$f":"'Dairy Lagoon'!K26","v":0}]
[{"$f":"'Cow Housing'!$C$6","v":"C-3333"},{"$f":"$B$14","v":"Lagoon 3"},{"$f":"$C$14","v":3},{"$f":"$D$14","v":3},78933,null,{"$f":"'Dairy Lagoon'!J37","v":0},{"$f":"'Dairy Lagoon'!K37","v":0}]
[{"$f":"'Cow Housing'!$C$6","v":"C-3333"},{"$f":"$B$14","v":"Lagoon 3"},{"$f":"$C$14","v":3},{"$f":"$D$14","v":3},79005,null,{"$f":"'Dairy Lagoon'!J14","v":0},{"$f":"'Dairy Lagoon'!K14","v":0}]
[{"$f":"'Cow Housing'!$C$6","v":"C-3333"},{"$f":"$B$14","v":"Lagoon 3"},{"$f":"$C$14","v":3},{"$f":"$D$14","v":3},79016,null,{"$f":"'Dairy Lagoon'!J41","v":0},{"$f":"'Dairy Lagoon'!K41","v":0}]
[{"$f":"'Cow Housing'!$C$6","v":"C-3333"},{"$f":"$B$14","v":"Lagoon 3"},{"$f":"$C$14","v":3},{"$f":"$D$14","v":3},79345,null,{"$f":"'Dairy Lagoon'!J13","v":0},{"$f":"'Dairy Lagoon'!K13","v":0}]
[{"$f":"'Cow Housing'!$C$6","v":"C-3333"},{"$f":"$B$14","v":"Lagoon 3"},{"$f":"$C$14","v":3},{"$f":"$D$14","v":3},95501,null,{"$f":"'Dairy Lagoon'!J16","v":0},{"$f":"'Dairy Lagoon'!K16","v":0}]
[{"$f":"'Cow Housing'!$C$6","v":"C-3333"},{"$f":"$B$14","v":"Lagoon 3"},{"$f":"$C$14","v":3},{"$f":"$D$14","v":3},95636,null,{"$f":"'Dairy Lagoon'!J15","v":0},{"$f":"'Dairy Lagoon'!K15","v":0}]
[{"$f":"'Cow Housing'!$C$6","v":"C-3333"},{"$f":"$B$14","v":"Lagoon 3"},{"$f":"$C$14","v":3},{"$f":"$D$14","v":3},98828,null,{"$f":"'Dairy Lagoon'!J28","v":0},{"$f":"'Dairy Lagoon'!K28","v":0}]
[{"$f":"'Cow Housing'!$C$6","v":"C-3333"},{"$f":"$B$14","v":"Lagoon 3"},{"$f":"$C$14","v":3},{"$f":"$D$14","v":3},100414,null,{"$f":"'Dairy Lagoon'!J31","v":0},{"$f":"'Dairy Lagoon'!K31","v":0}]
[{"$f":"'Cow Housing'!$C$6","v":"C-3333"},{"$f":"$B$14","v":"Lagoon 3"},{"$f":"$C$14","v":3},{"$f":"$D$14","v":3},100425,null,{"$f":"'Dairy Lagoon'!J39","v":0},{"$f":"'Dairy Lagoon'!K39","v":0}]
[{"$f":"'Cow Housing'!$C$6","v":"C-3333"},{"$f":"$B$14","v":"Lagoon 3"},{"$f":"$C$14","v":3},{"$f":"$D$14","v":3},100447,null,{"$f":"'Dairy Lagoon'!J25","v":0},{"$f":"'Dairy Lagoon'!K25","v":0}]
[{"$f":"'Cow Housing'!$C$6","v":"C-3333"},{"$f":"$B$14","v":"Lagoon 3"},{"$f":"$C$14","v":3},{"$f":"$D$14","v":3},106467,null,{"$f":"'Dairy Lagoon'!J21","v":0},{"$f":"'Dairy Lagoon'!K21","v":0}]
[{"$f":"'Cow Housing'!$C$6","v":"C-3333"},{"$f":"$B$14","v":"Lagoon 3"},{"$f":"$C$14","v":3},{"$f":"$D$14","v":3},106934,null,{"$f":"'Dairy Lagoon'!J32","v":0},{"$f":"'Dairy Lagoon'!K32","v":0}]
[{"$f":"'Cow Housing'!$C$6","v":"C-3333"},{"$f":"$B$14","v":"Lagoon 3"},{"$f":"$C$14","v":3},{"$f":"$D$14","v":3},107062,null,{"$f":"'Dairy Lagoon'!J33","v":0},{"$f":"'Dairy Lagoon'!K33","v":0}]
[{"$f":"'Cow Housing'!$C$6","v":"C-3333"},{"$f":"$B$14","v":"Lagoon 3"},{"$f":"$C$14","v":3},{"$f":"$D$14","v":3},107131,null,{"$f":"'Dairy Lagoon'!J23","v":0},{"$f":"'Dairy Lagoon'!K23","v":0}]
[{"$f":"'Cow Housing'!$C$6","v":"C-3333"},{"$f":"$B$14","v":"Lagoon 3"},{"$f":"$C$14","v":3},{"$f":"$D$14","v":3},108101,null,{"$f":"'Dairy Lagoon'!J38","v":0},{"$f":"'Dairy Lagoon'!K38","v":0}]
[{"$f":"'Cow Housing'!$C$6","v":"C-3333"},{"$f":"$B$14","v":"Lagoon 3"},{"$f":"$C$14","v":3},{"$f":"$D$14","v":3},108883,null,{"$f":"'Dairy Lagoon'!J40","v":0},{"$f":"'Dairy Lagoon'!K40","v":0}]
[{"$f":"'Cow Housing'!$C$6","v":"C-3333"},{"$f":"$B$14","v":"Lagoon 3"},{"$f":"$C$14","v":3},{"$f":"$D$14","v":3},108907,null,{"$f":"'Dairy Lagoon'!J27","v":0},{"$f":"'Dairy Lagoon'!K27","v":0}]
[{"$f":"'Cow Housing'!$C$6","v":"C-3333"},{"$f":"$B$14","v":"Lagoon 3"},{"$f":"$C$14","v":3},{"$f":"$D$14","v":3},110543,null,{"$f":"'Dairy Lagoon'!J35","v":0},{"$f":"'Dairy Lagoon'!K35","v":0}]
[{"$f":"'Cow Housing'!$C$6","v":"C-3333"},{"$f":"$B$14","v":"Lagoon 3"},{"$f":"$C$14","v":3},{"$f":"$D$14","v":3},110827,null,{"$f":"'Dairy Lagoon'!J29","v":0},{"$f":"'Dairy Lagoon'!K29","v":0}]
[{"$f":"'Cow Housing'!$C$6","v":"C-3333"},{"$f":"$B$14","v":"Lagoon 3"},{"$f":"$C$14","v":3},{"$f":"$D$14","v":3},123911,null,{"$f":"'Dairy Lagoon'!J19","v":0},{"$f":"'Dairy Lagoon'!K19","v":0}]
[{"$f":"'Cow Housing'!$C$6","v":"C-3333"},{"$f":"$B$14","v":"Lagoon 3"},{"$f":"$C$14","v":3},{"$f":"$D$14","v":3},541731,null,{"$f":"'Dairy Lagoon'!J17","v":0},{"$f":"'Dairy Lagoon'!K17","v":0}]
[{"$f":"'Cow Housing'!$C$6","v":"C-3333"},{"$f":"$B$14","v":"Lagoon 3"},{"$f":"$C$14","v":3},{"$f":"$D$14","v":3},542756,null,{"$f":"'Dairy Lagoon'!J18","v":0},{"$f":"'Dairy Lagoon'!K18","v":0}]
[{"$f":"'Cow Housing'!$C$6","v":"C-3333"},{"$f":"$B$14","v":"Lagoon 3"},{"$f":"$C$14","v":3},{"$f":"$D$14","v":3},764410,null,{"$f":"'Dairy Lagoon'!J20","v":0},{"$f":"'Dairy Lagoon'!K20","v":0}]
[{"$f":"'Cow Housing'!$C$6","v":"C-3333"},{"$f":"$B$14","v":"Lagoon 3"},{"$f":"$C$14","v":3},{"$f":"$D$14","v":3},1330207,null,{"$f":"'Dairy Lagoon'!J42","v":0},{"$f":"'Dairy Lagoon'!K42","v":0}]
[{"$f":"'Cow Housing'!$C$6","v":"C-3333"},{"$f":"$B$14","v":"Lagoon 3"},{"$f":"$C$14","v":3},{"$f":"$D$14","v":3},7664417,null,{"$f":"'Dairy Lagoon'!J43","v":0},{"$f":"'Dairy Lagoon'!K43","v":0}]
[{"$f":"'Cow Housing'!$C$6","v":"C-3333"},{"$f":"$B$9","v":"Land App Liquid"},{"$f":"$C$9","v":3},{"$f":"$D$9","v":4},7664417,null,{"$f":"$M$19*$N$13","v":{"$error":"#DIV/0!"}},{"$f":"$N$19*$N$13","v":{"$error":"#DIV/0!"}}]
[{"$f":"'Cow Housing'!$C$6","v":"C-3333"},{"$f":"$B$10","v":"Land App Liquid"},{"$f":"$C$10","v":3},{"$f":"$D$10","v":5},7664417,null,{"$f":"$M$19*$N$14","v":{"$error":"#DIV/0!"}},{"$f":"$N$19*$N$14","v":{"$error":"#DIV/0!"}}]
[{"$f":"'Cow Housing'!$C$6","v":"C-3333"},{"$f":"$B$11","v":"Land App Liquid"},{"$f":"$C$11","v":3},{"$f":"$D$11","v":6},7664417,null,{"$f":"$M$19*$N$15","v":{"$error":"#DIV/0!"}},{"$f":"$N$19*$N$15","v":{"$error":"#DIV/0!"}}]
[{"$f":"'Cow Housing'!$C$6","v":"C-3333"},{"$f":"$B$3","v":"Soild Pile Storage"},{"$f":"$C$3","v":4},{"$f":"$D$3","v":1},7664417,null,{"$f":"$M$9*$N$4","v":{"$error":"#DIV/0!"}},{"$f":"$N$9*$N$4","v":{"$error":"#DIV/0!"}}]
[{"$f":"'Cow Housing'!$C$6","v":"C-3333"},{"$f":"$B$4","v":"Soild Pile Storage"},{"$f":"$C$4","v":4},{"$f":"$D$4","v":2},7664417,null,{"$f":"$M$9*$N$5","v":{"$error":"#DIV/0!"}},{"$f":"$N$9*$N$5","v":{"$error":"#DIV/0!"}}]
[{"$f":"'Cow Housing'!$C$6","v":"C-3333"},{"$f":"$B$5","v":"Soild Pile Storage"},{"$f":"$C$5","v":4},{"$f":"$D$5","v":3},7664417,null,{"$f":"$M$9*$N$6","v":{"$error":"#DIV/0!"}},{"$f":"$N$9*$N$6","v":{"$error":"#DIV/0!"}}]
[{"$f":"'Cow Housing'!$C$6","v":"C-3333"},{"$f":"$B$6","v":"Land App Solid"},{"$f":"$C$6","v":4},{"$f":"$D$6","v":4},7664417,null,{"$f":"$M$18*$N$13","v":{"$error":"#DIV/0!"}},{"$f":"$N$18*$N$13","v":{"$error":"#DIV/0!"}}]
[{"$f":"'Cow Housing'!$C$6","v":"C-3333"},{"$f":"$B$7","v":"Land App Solid"},{"$f":"$C$7","v":4},{"$f":"$D$7","v":5},7664417,null,{"$f":"$M$18*$N$14","v":{"$error":"#DIV/0!"}},{"$f":"$N$18*$N$14","v":{"$error":"#DIV/0!"}}]
[{"$f":"'Cow Housing'!$C$6","v":"C-3333"},{"$f":"$B$8","v":"Land App Solid"},{"$f":"$C$8","v":4},{"$f":"$D$8","v":6},7664417,null,{"$f":"$M$18*$N$15","v":{"$error":"#DIV/0!"}},{"$f":"$N$18*$N$15","v":{"$error":"#DIV/0!"}}]