{"text_format":"1","workbook":"xlsx","n_sheets":3,"sheets":["Instructions","Emissions Estimator","Fee Estimator"],"not_rendered":{"charts":0,"images":0,"macros":1,"external_links":0,"defined_names":6,"comments":0,"pivot_tables":0},"unopened":[],"bounds":{"document_bytes":16777216,"sheet_cells":100000,"rows_first":2000,"rows_last":500,"rows_between":2000,"halvings":0,"cell_chars":16384,"cell_head_chars":4096},"cells_cut":0,"cells_raw":0,"read":"whole","date_system":"1900"}

{"sheet":"Instructions","index":0,"n_rows":36,"n_cols":22,"rows_kept":36,"cut":false,"hidden":false,"merged":[[1,1,1,12],[11,2,11,12],[4,1,4,4],[25,1,25,12],[17,1,17,12],[19,2,19,12],[21,1,21,12],[18,2,18,12],[3,1,3,12],[9,1,9,12],[10,2,10,12],[23,1,23,12],[15,1,15,12],[5,1,5,12],[6,2,6,12],[7,2,7,12],[31,1,31,12],[27,1,27,12],[32,2,32,12],[29,1,29,12],[13,1,13,12]]}
[]
[null,"The following instructions are intended to provide general guidance for using the Emissions Estimator and Fee Estimator tabs.  If you need additional assistance, please contact the District at (559) 230-6000.  "]
[]
[null,"Fields highlighted in yellow are for data entry, the remaining cells are write protected.  The spreadsheet does not check for reasonableness of the data ranges, thus, please review the accuracy of your data entry."]
[null,"Instruction  Below"]
[null,"1. Start by selecting the number of ISR phases (ISR phase = 1 calendar year) from the drop down menu to the right.",null,null,null,null,null,null,null,null,null,null,null,1,null,"ISR"]
[null,null,"A.  Drop Down Menu. Select from 10, 20, 30, 40, and 50 ISR phase project."]
[null,null,"B. Changing ISR phases. ISR phases can be changed even after a phase number has been selected and data has been entered in the emissions estimator tab. To do this select the Default option from the drop down and then select the new phase number option."]
[]
[null,"2. \"Emissions Estimator\" tab.  First type the Applicant/Business Name, Project Name and Project Location.",null,null,null,null,null,null,null,null,null,null,null,null,null,null,null,null,null,null,null,"10 Phases"]
[null,null,"A.  Project Name. If the Project does not have a specific name, please type the permit type and number.  Ex. Tract Map 6061.",null,null,null,null,null,null,null,null,null,null,null,null,null,null,null,null,null,null,"20 Phases"]
[null,null,"B.  Project Location. Please enter any of the following for Project Location: Assessor's Parcel Number, Cross Streets, the City or County issuing the discretionary permit.",null,null,null,null,null,null,null,null,null,null,null,null,null,null,null,null,null,null,"30 Phases"]
[null,null,null,null,null,null,null,null,null,null,null,null,null,null,null,null,null,null,null,null,null,"40 Phases"]
[null,"3 Construction Clean Fleet Mitigation Measure line 9. Selecting \"Yes\" from the Clean Fleet Mitigation Measure will apply the approiate percent reduction from the \"Unmitigated Baseline\".",null,null,null,null,null,null,null,null,null,null,null,null,null,null,null,null,null,null,null,"50 Phases"]
[null,null,null,null,null,null,null,null,null,null,null,null,null,null,null,null,null,null,null,null,null,"Default"]
[null,"4.  Go to the \"Construction Start Date\" column and type the estimated start of construction for each phase.  Best guesses are acceptable.  If it is known, you may also enter dates for each phase within the \"Operation Start Date\" column.  For each phase, the earlier of these two dates will carry over to the \"Fee Estimator\" spreadsheet and autofill the \"Start Date per Phase\" column."]
[]
[null,"5. Project Emissions. Type the Construction and Operational Emissions into the corresponding yellow boxes."]
[null,null,"A.  Construction Emissions. Under the \"Project Construction Emissions\" section input the constuction NOx and PM10 Exhaust in tons per year in the corresponding yellow boxes. Be advised that if the project has only one phase, but construction occurs during two years, then there will be two ISR phases for each year with the associated NOx and PM10 Exhaust for those years. Also, if the project does not have a mitigated baseline for NOx and PM10 Exhaust then the \"Mitigated Baseline\" field should be equal to the \"Unmitigated Baseline\" field."]
[null,null,"B.  Operational Emissions. Under the \"Project Operation Emissions (Area = Mobile)\" section input the total NOx and PM10 in tons per year in the corresponding yellow boxes.  If the project does not have a mitigated baseline, the \"Mitigated Baseline\" field should be equal to the \"Unmitigated Baseline\" field. "]
[]
[null,"6.  Reading \"Total Achieved On-Site Reductions\".  This section shows the total tons of NOx and PM10 that the project reduced on-site through selected mitigation measures."]
[]
[null,"7.  Reading \"Total Required Off-Site Reductions\".  This section shows the total tons of NOx and PM10 that the project is required to reduce through off-site fees.  The fee formulas in Rule 9510 are used to credit on-site emission reduction measures, and calculate the emissions that must be off-set through the off-site fee."]
[]
[null,"8. Next go to the \"Fee Estimator\" sheet. The Applicant/Business Name, Project Name, Project Location and Start Date per Phase should 'auto-fill' from the Emissions Estimator spreadsheet."]
[]
[null,"9. Fee Deferral Schedule line12. If a Fee Deferral Schedule (FDS) is proposed for the project, then select \"Yes\" from the drop down menu. The require emission reductions will be auto-filled in the \"Table 3 - Approved Fee Deferral Schedule (FDS) by payment year.\" "]
[]
[null,"10. Required Offsite Reductions shows the tons that must be met through off-site fees."]
[]
[null,"11.  Save and Print the File."]
[null,null,"A.  If you provide an Air Impact Analysis to the District with the ISR application, you must include hard copies and electronic copies of all calculations and modeling performed."]
[]
[]
["version date:",null,"2022-02-16"]

{"sheet":"Emissions Estimator","index":1,"n_rows":128,"n_cols":25,"rows_kept":128,"cut":false,"hidden":false,"merged":[[53,13,53,14],[54,13,54,14],[55,13,55,14],[56,13,56,14],[57,13,57,14],[58,13,58,14],[59,13,59,14],[60,13,60,14],[61,13,61,14],[10,7,10,8],[10,13,10,14],[46,13,46,14],[47,13,47,14],[48,13,48,14],[49,13,49,14],[50,13,50,14],[51,13,51,14],[52,13,52,14],[15,7,15,8],[16,7,16,8],[17,7,17,8],[18,7,18,8],[19,7,19,8],[20,7,20,8],[21,7,21,8],[22,7,22,8],[23,7,23,8],[24,7,24,8],[25,7,25,8],[36,7,36,8],[37,7,37,8],[38,7,38,8],[39,7,39,8],[0,2,0,9],[0,0,0,1],[1,0,1,1],[2,0,2,1],[3,0,3,1],[1,2,1,9],[2,2,2,9],[3,2,3,9],[64,16,64,18],[9,16,9,18],[9,0,9,2],[64,0,64,2],[64,3,64,8],[63,0,63,14],[64,9,64,14],[26,7,26,8],[27,7,27,8],[28,7,28,8],[29,7,29,8],[30,7,30,8],[11,7,11,8],[12,7,12,8],[13,7,13,8],[14,7,14,8],[40,7,40,8],[31,7,31,8],[32,7,32,8],[33,7,33,8],[34,7,34,8],[35,7,35,8],[54,7,54,8],[55,7,55,8],[46,7,46,8],[47,7,47,8],[48,7,48,8],[49,7,49,8],[50,7,50,8],[41,7,41,8],[42,7,42,8],[43,7,43,8],[44,7,44,8],[45,7,45,8],[61,7,61,8],[11,13,11,14],[12,13,12,14],[13,13,13,14],[14,13,14,14],[15,13,15,14],[16,13,16,14],[17,13,17,14],[18,13,18,14],[19,13,19,14],[20,13,20,14],[21,13,21,14],[22,13,22,14],[23,13,23,14],[24,13,24,14],[25,13,25,14],[56,7,56,8],[57,7,57,8],[58,7,58,8],[59,7,59,8],[60,7,60,8],[51,7,51,8],[52,7,52,8],[53,7,53,8],[9,9,9,14],[9,3,9,8],[8,0,8,13],[7,0,7,14],[41,13,41,14],[42,13,42,14],[43,13,43,14],[44,13,44,14],[45,13,45,14],[36,13,36,14],[37,13,37,14],[38,13,38,14],[39,13,39,14],[40,13,40,14],[31,13,31,14],[32,13,32,14],[33,13,33,14],[34,13,34,14],[35,13,35,14],[26,13,26,14],[27,13,27,14],[28,13,28,14],[29,13,29,14],[30,13,30,14]]}
["Applicant/Business Name:"]
["Project Name:"]
["Project Location:"]
["District Project ID No.:",null,null,null,null,null,null,null,null,null,null,null,null,null,null,null,null,null,null,null,null,null,null,null,"Yes"]
[null,null,null,null,null,null,null,null,null,null,null,null,null,null,null,null,null,null,null,null,null,null,null,null,"No"]
[]
[]
["Project Construction Emissions"]
["If applicant selected Construction Clean Fleet Mitigation Measure - Please select \"Yes\" from dropdown menu",null,null,null,null,null,null,null,null,null,null,null,null,null,"No","q"]
[null,null,null,"NOx",null,null,null,null,null,"PM10",null,null,null,null,null,null,"Total Achieved On-Site Reductions (tons)",null,null,null,null,null,null,{"$f":"IF(W10=\"\",\"\",W10)","v":""}]
["Project \nPhase Name","ISR Phase","Construction Start Date","Unmitigated Baseline(1)\n (TPY)","Mitigated Baseline(2)\n(TPY)","Achieved \nOn-site Reductions(3) (tons)","Required\nOff-site \nReductions(4)\n(tons)","Emission Reductions Required by Rule(5)",null,"Unmitigated Baseline(1)\n (TPY)","Mitigated Baseline(2)\n(TPY)","Achieved \nOn-site Reductions(3) (tons)","Required\nOff-site \nReductions(4)\n(tons)","Emission Reductions Required by Rule(5)",null,null,"ISR Phase","NOx","PM10"]
[null,1,null,null,{"$f":"IF($O$9=\"No\",$D12,IF($O$9=\"Yes\",ROUNDDOWN($D12*0.8,4),IF($O$9=\"\",\"\")))","v":0},{"$f":"ROUND(IF(D12=\"\",0,IF((D12-E12)<0,0,D12-E12)),4)","v":0},{"$f":"ROUND(IF(ISERROR((E12-(0.8*D12))),0,IF((E12-(0.8*D12))<=0,0,IF(D12<=0,0,(E12-(0.8*D12))))),4)","v":0},{"$f":"D12*0.2","v":0},null,null,{"$f":"IF($O$9=\"No\",$J12,IF($O$9=\"Yes\",ROUNDDOWN($J12*0.55,4),IF($O$9=\"\",\"\")))","v":0},{"$f":"ROUND(IF(J12=\"\",0,IF((J12-K12)<0,0,J12-K12)),4)","v":0},{"$f":"ROUND(IF(ISERROR(K12-(0.55*J12)),0,IF(K12-(0.55*J12)<=0,0,IF(J12<=0,0,K12-(0.55*J12)))),4)","v":0},{"$f":"J12*0.45","v":0},null,null,1,{"$f":"SUM(F12,F67)","v":0},{"$f":"SUM(L12, L67)","v":0}]
[null,{"$f":"B12+1","v":2},null,null,{"$f":"IF($O$9=\"No\",$D13,IF($O$9=\"Yes\",ROUNDDOWN($D13*0.8,4),IF($O$9=\"\",\"\")))","v":0},0,0,{"$f":"D13*0.2","v":0},null,null,0,0,0,{"$f":"J13*0.45","v":0},null,null,{"$f":"Q12+1","v":2},0,0]
[null,{"$f":"B13+1","v":3},null,null,{"$f":"IF($O$9=\"No\",$D14,IF($O$9=\"Yes\",ROUNDDOWN($D14*0.8,4),IF($O$9=\"\",\"\")))","v":0},0,0,0,null,null,0,0,0,0,null,null,{"$f":"Q13+1","v":3},0,0]
[null,4,null,null,0,0,0,0,null,null,0,0,0,0,null,null,4,0,0]
[null,5,null,null,0,0,0,0,null,null,0,0,0,0,null,null,5,0,0]
[null,6,null,null,0,0,0,0,null,null,0,0,0,0,null,null,6,0,0]
[null,7,null,null,0,0,0,0,null,null,0,0,0,0,null,null,7,0,0]
[null,8,null,null,0,0,0,0,null,null,0,0,0,0,null,null,8,0,0]
[null,9,null,null,0,0,0,0,null,null,0,0,0,0,null,null,9,0,0]
[null,10,null,null,0,0,0,0,null,null,0,0,0,0,null,null,10,0,0]
[null,11,null,null,0,0,0,0,null,null,0,0,0,0,null,null,11,0,0]
[null,12,null,null,0,0,0,0,null,null,0,0,0,0,null,null,12,0,0]
[null,13,null,null,0,0,0,0,null,null,0,0,0,0,null,null,13,0,0]
[null,14,null,null,0,0,0,0,null,null,0,0,0,0,null,null,14,0,0]
[null,15,null,null,0,0,0,0,null,null,0,0,0,0,null,null,15,0,0]
[null,16,null,null,0,0,0,0,null,null,0,0,0,0,null,null,16,0,0]
[null,17,null,null,0,0,0,0,null,null,0,0,0,0,null,null,17,0,0]
[null,18,null,null,0,0,0,0,null,null,0,0,0,0,null,null,18,0,0]
[null,19,null,null,0,0,0,0,null,null,0,0,0,0,null,null,19,0,0]
[null,20,null,null,0,0,0,0,null,null,0,0,0,0,null,null,20,0,0]
[null,21,null,null,0,0,0,0,null,null,0,0,0,0,null,null,21,0,0]
[null,22,null,null,0,0,0,0,null,null,0,0,0,0,null,null,22,0,0]
[null,23,null,null,0,0,0,0,null,null,0,0,0,0,null,null,23,0,0]
[null,24,null,null,0,0,0,0,null,null,0,0,0,0,null,null,24,0,0]
[null,25,null,null,0,0,0,0,null,null,0,0,0,0,null,null,25,0,0]
[null,26,null,null,0,0,0,0,null,null,0,0,0,0,null,null,26,0,0]
[null,27,null,null,0,0,0,0,null,null,0,0,0,0,null,null,27,0,0]
[null,28,null,null,0,0,0,0,null,null,0,0,0,0,null,null,28,0,0]
[null,{"$f":"B39+1","v":29},null,null,0,0,0,0,null,null,0,0,0,0,null,null,{"$f":"Q39+1","v":29},0,0]
[null,{"$f":"B40+1","v":30},null,null,0,0,0,0,null,null,0,0,0,0,null,null,{"$f":"Q40+1","v":30},0,0]
[null,31,null,null,0,0,0,0,null,null,0,0,0,0,null,null,31,0,0]
[null,32,null,null,0,0,0,0,null,null,0,0,0,0,null,null,32,0,0]
[null,33,null,null,{"$f":"IF($O$9=\"No\",$D44,IF($O$9=\"Yes\",ROUNDDOWN($D44*0.8,4),IF($O$9=\"\",\"\")))","v":0},{"$f":"ROUND(IF(D44=\"\",0,IF((D44-E44)<0,0,D44-E44)),4)","v":0},{"$f":"ROUND(IF(ISERROR((E44-(0.8*D44))),0,IF((E44-(0.8*D44))<=0,0,IF(D44<=0,0,(E44-(0.8*D44))))),4)","v":0},0,null,null,{"$f":"IF($O$9=\"No\",$J44,IF($O$9=\"Yes\",ROUNDDOWN($J44*0.55,4),IF($O$9=\"\",\"\")))","v":0},{"$f":"ROUND(IF(J44=\"\",0,IF((J44-K44)<0,0,J44-K44)),4)","v":0},{"$f":"ROUND(IF(ISERROR(K44-(0.55*J44)),0,IF(K44-(0.55*J44)<=0,0,IF(J44<=0,0,K44-(0.55*J44)))),4)","v":0},0,null,null,33,{"$f":"SUM(F44,F99)","v":0},{"$f":"SUM(L44, L99)","v":0}]
[null,34,null,null,0,0,0,0,null,null,0,0,0,0,null,null,34,0,0]
[null,35,null,null,0,0,0,0,null,null,0,0,0,0,null,null,35,0,0]
[null,36,null,null,0,0,0,0,null,null,0,0,0,0,null,null,36,0,0]
[null,37,null,null,0,0,0,0,null,null,0,0,0,0,null,null,37,0,0]
[null,38,null,null,0,0,0,0,null,null,0,0,0,0,null,null,38,0,0]
[null,39,null,null,0,0,0,0,null,null,0,0,0,0,null,null,39,0,0]
[null,40,null,null,0,0,0,0,null,null,0,0,0,0,null,null,40,0,0]
[null,41,null,null,0,0,0,0,null,null,0,0,0,0,null,null,41,0,0]
[null,42,null,null,0,0,0,0,null,null,0,0,0,0,null,null,42,0,0]
[null,43,null,null,0,0,0,0,null,null,0,0,0,0,null,null,43,0,0]
[null,44,null,null,0,0,0,0,null,null,0,0,0,0,null,null,44,0,0]
[null,45,null,null,0,0,0,0,null,null,0,0,0,0,null,null,45,0,0]
[null,46,null,null,0,0,0,0,null,null,0,0,0,0,null,null,46,0,0]
[null,47,null,null,0,0,0,0,null,null,0,0,0,0,null,null,47,0,0]
[null,48,null,null,0,0,0,0,null,null,0,0,0,0,null,null,48,0,0]
[null,49,null,null,0,0,0,0,null,null,0,0,0,0,null,null,49,0,0]
[null,50,null,null,0,0,0,0,null,null,0,0,0,0,null,null,50,0,0]
[null,null,"Total",{"$f":"SUM(D12:D61)","v":0},0,0,{"$f":"SUM(G12:G61)","v":0},{"$f":"SUM(H12:I61)","v":0},null,{"$f":"SUM(J12:J61)","v":0},{"$f":"SUM(K12:K61)","v":0},{"$f":"SUM(L12:L61)","v":0},{"$f":"SUM(M12:M61)","v":0},{"$f":"SUM(N12:O61)","v":0},null,null,"Total",{"$f":"SUM(R12:R61)","v":0},{"$f":"SUM(S12:S61)","v":0}]
[]
["Project Operations Emissions (Area + Mobile)"]
[null,null,null,"NOx",null,null,null,null,null,"PM10",null,null,null,null,null,null,"Total Required Off-Site Reductions (tons)"]
["Project \nPhase Name","ISR Phase","Operation Start Date","Unmitigated Baseline(1)\n (TPY)","Mitigated Baseline(2)\n(TPY)","Achieved \nOn-site Reductions(3) (tons)","Required\nOff-site \nReductions(4)\n(tons)","Total Emission Reductions Required by Rule(6)","Average Annual Emission Reductions Required by Rule(7)","Unmitigated Baseline(1)\n (TPY)","Mitigated Baseline(2)\n(TPY)","Achieved \nOn-site Reductions(3) (tons)","Required\nOff-site \nReductions(4)\n(tons)","Total Emission Reductions Required by Rule(6)","Average Annual Emission Reductions Required by Rule(7)",null,"ISR Phase","NOx","PM10"]
[null,1,null,null,null,{"$f":"ROUND(IF((D67-E67)*7.5<0,0,(D67-E67)*7.5),4)","v":0},{"$f":"ROUND(IF(ISERROR((E67-(2/3)*D67)*7.5),0,IF(ISERROR((D67-E67)/D67)<0,0,IF((E67-(2/3)*D67)*7.5<0,0,(E67-(2/3)*D67)*7.5))),4)","v":0},{"$f":"(((1/3)*D67)*0.75)*10","v":0},{"$f":"IF(H67=\"\",\"\",H67/10)","v":0},null,null,{"$f":"ROUND(IF((J67-K67)*10<0,0,(J67-K67)*10),4)","v":0},{"$f":"ROUND(IF(ISERROR((K67-(0.5*J67))*10),0,IF(K67<=0,0,IF((K67-(0.5*J67))*10<=0,0,IF(J67<K67,0,(K67-(0.5*J67))*10)))),4)","v":0},{"$f":"(J67*10)*0.5","v":0},{"$f":"IF(N67=\"\",\"\",N67/10)","v":0},null,1,{"$f":"SUM(G67,G12)","v":0},{"$f":"SUM(M67,M12)","v":0}]
[null,2,null,null,null,0,0,{"$f":"(((1/3)*D68)*0.75)*10","v":0},{"$f":"IF(H68=\"\",\"\",H68/10)","v":0},null,null,0,0,{"$f":"(J68*10)*0.5","v":0},{"$f":"IF(N68=\"\",\"\",N68/10)","v":0},null,{"$f":"Q67+1","v":2},0,0]
[null,3,null,null,null,0,0,0,0,null,null,0,0,0,0,null,{"$f":"Q68+1","v":3},0,0]
[null,4,null,null,null,0,0,0,0,null,null,0,0,0,0,null,4,0,0]
[null,5,null,null,null,0,0,0,0,null,null,0,0,0,0,null,5,0,0]
[null,6,null,null,null,0,0,0,0,null,null,0,0,0,0,null,6,0,0]
[null,7,null,null,null,0,0,0,0,null,null,0,0,0,0,null,7,0,0]
[null,8,null,null,null,0,0,0,0,null,null,0,0,0,0,null,8,0,0]
[null,9,null,null,null,0,0,0,0,null,null,0,0,0,0,null,9,0,0]
[null,10,null,null,null,0,0,0,0,null,null,0,0,0,0,null,10,0,0]
[null,11,null,null,null,0,0,0,0,null,null,0,0,0,0,null,11,0,0]
[null,12,null,null,null,0,0,0,0,null,null,0,0,0,0,null,12,0,0]
[null,13,null,null,null,0,0,0,0,null,null,0,0,0,0,null,13,0,0]
[null,14,null,null,null,0,0,0,0,null,null,0,0,0,0,null,14,0,0]
[null,15,null,null,null,0,0,0,0,null,null,0,0,0,0,null,15,0,0]
[null,16,null,null,null,0,0,0,0,null,null,0,0,0,0,null,16,0,0]
[null,17,null,null,null,0,0,0,0,null,null,0,0,0,0,null,17,0,0]
[null,18,null,null,null,0,0,0,0,null,null,0,0,0,0,null,18,0,0]
[null,19,null,null,null,0,0,0,0,null,null,0,0,0,0,null,19,0,0]
[null,{"$f":"B85+1","v":20},null,null,null,0,0,0,0,null,null,0,0,0,0,null,20,0,0]
[null,{"$f":"B86+1","v":21},null,null,null,0,0,0,0,null,null,0,0,0,0,null,21,0,0]
[null,22,null,null,null,0,0,0,0,null,null,0,0,0,0,null,22,0,0]
[null,23,null,null,null,0,0,0,0,null,null,0,0,0,0,null,23,0,0]
[null,24,null,null,null,0,0,0,0,null,null,0,0,0,0,null,24,0,0]
[null,25,null,null,null,0,0,0,0,null,null,0,0,0,0,null,25,0,0]
[null,26,null,null,null,0,0,0,0,null,null,0,0,0,0,null,26,0,0]
[null,27,null,null,null,0,0,0,0,null,null,0,0,0,0,null,27,0,0]
[null,28,null,null,null,0,0,0,0,null,null,0,0,0,0,null,28,0,0]
[null,29,null,null,null,0,0,0,0,null,null,0,0,0,0,null,29,0,0]
[null,30,null,null,null,0,0,0,0,null,null,0,0,0,0,null,30,0,0]
[null,31,null,null,null,0,0,0,0,null,null,0,0,0,0,null,31,0,0]
[null,32,null,null,null,0,0,0,0,null,null,0,0,0,0,null,32,0,0]
[null,33,null,null,null,{"$f":"ROUND(IF((D99-E99)*7.5<0,0,(D99-E99)*7.5),4)","v":0},{"$f":"ROUND(IF(ISERROR((E99-(2/3)*D99)*7.5),0,IF(ISERROR((D99-E99)/D99)<0,0,IF((E99-(2/3)*D99)*7.5<0,0,(E99-(2/3)*D99)*7.5))),4)","v":0},0,0,null,null,{"$f":"ROUND(IF((J99-K99)*10<0,0,(J99-K99)*10),4)","v":0},{"$f":"ROUND(IF(ISERROR((K99-(0.5*J99))*10),0,IF(K99<=0,0,IF((K99-(0.5*J99))*10<=0,0,IF(J99<K99,0,(K99-(0.5*J99))*10)))),4)","v":0},0,0,null,33,{"$f":"SUM(G99,G44)","v":0},{"$f":"SUM(M99,M44)","v":0}]
[null,34,null,null,null,0,0,0,0,null,null,0,0,0,0,null,34,0,0]
[null,35,null,null,null,0,0,0,0,null,null,0,0,0,0,null,35,0,0]
[null,36,null,null,null,0,0,0,0,null,null,0,0,0,0,null,36,0,0]
[null,37,null,null,null,0,0,0,0,null,null,0,0,0,0,null,37,0,0]
[null,38,null,null,null,0,0,0,0,null,null,0,0,0,0,null,38,0,0]
[null,39,null,null,null,0,0,0,0,null,null,0,0,0,0,null,39,0,0]
[null,40,null,null,null,0,0,0,0,null,null,0,0,0,0,null,40,0,0]
[null,41,null,null,null,0,0,0,0,null,null,0,0,0,0,null,41,0,0]
[null,42,null,null,null,0,0,0,0,null,null,0,0,0,0,null,42,0,0]
[null,43,null,null,null,0,0,0,0,null,null,0,0,0,0,null,43,0,0]
[null,44,null,null,null,0,0,0,0,null,null,0,0,0,0,null,44,0,0]
[null,45,null,null,null,0,0,0,0,null,null,0,0,0,0,null,45,0,0]
[null,46,null,null,null,0,0,0,0,null,null,0,0,0,0,null,46,0,0]
[null,47,null,null,null,0,0,0,0,null,null,0,0,0,0,null,47,0,0]
[null,48,null,null,null,0,0,0,0,null,null,0,0,0,0,null,48,0,0]
[null,49,null,null,null,0,0,0,0,null,null,0,0,0,0,null,49,0,0]
[null,50,null,null,null,0,0,0,0,null,null,0,0,0,0,null,50,0,0]
[null,null,"Total",{"$f":"SUM(D67:D116)","v":0},0,0,0,0,0,0,0,0,0,0,0,null,"Total",{"$f":"SUM(R67:R116)","v":0},{"$f":"SUM(S67:S116)","v":0}]
[]
[]
[]
[]
[]
[]
[]
[]
[]
[]
["  "]

{"sheet":"Fee Estimator","index":2,"n_rows":148,"n_cols":35,"rows_kept":148,"cut":false,"hidden":false,"merged":[[0,4,0,12],[1,4,1,12],[2,4,2,12],[3,4,3,12],[30,4,31,4],[32,4,33,4],[36,3,37,3],[11,2,11,4],[108,4,109,4],[40,3,41,3],[38,5,39,5],[38,3,39,3],[40,5,41,5],[44,4,45,4],[48,2,49,2],[16,3,17,3],[16,5,17,5],[18,2,19,2],[18,3,19,3],[16,4,17,4],[34,3,35,3],[50,3,51,3],[30,5,31,5],[36,4,37,4],[22,5,23,5],[24,2,25,2],[110,2,111,2],[110,3,111,3],[58,2,59,2],[58,3,59,3],[38,4,39,4],[40,4,41,4],[42,4,43,4],[50,2,51,2],[102,3,103,3],[60,2,61,2],[60,3,61,3],[66,4,67,4],[96,3,97,3],[98,3,99,3],[100,3,101,3],[82,3,83,3],[54,2,55,2],[54,3,55,3],[106,3,107,3],[76,4,77,4],[78,4,79,4],[80,4,81,4],[20,4,21,4],[22,4,23,4],[24,4,25,4],[84,3,85,3],[86,3,87,3],[88,3,89,3],[70,2,71,2],[22,2,23,2],[22,3,23,3],[82,4,83,4],[84,4,85,4],[74,2,75,2],[34,2,35,2],[52,3,53,3],[74,4,75,4],[92,3,93,3],[94,3,95,3],[56,4,57,4],[58,4,59,4],[60,4,61,4],[62,4,63,4],[0,2,0,3],[1,2,1,3],[2,2,2,3],[3,2,3,3],[46,4,47,4],[48,4,49,4],[50,4,51,4],[52,4,53,4],[54,4,55,4],[14,4,15,4],[12,2,12,5],[26,4,27,4],[20,2,21,2],[20,3,21,3],[20,5,21,5],[16,2,17,2],[28,3,29,3],[18,4,19,4],[28,5,29,5],[30,2,31,2],[30,3,31,3],[32,2,33,2],[32,3,33,3],[32,5,33,5],[28,2,29,2],[26,3,27,3],[26,5,27,5],[125,23,125,24],[14,2,15,2],[36,2,37,2],[38,2,39,2],[40,2,41,2],[42,2,43,2],[44,2,45,2],[46,2,47,2],[121,18,121,20],[123,2,123,4],[46,5,47,5],[46,3,47,3],[48,5,49,5],[48,3,49,3],[42,5,43,5],[42,3,43,3],[44,5,45,5],[110,4,111,4],[117,2,118,2],[18,5,19,5],[28,4,29,4],[36,5,37,5],[50,5,51,5],[52,2,53,2],[52,5,53,5],[56,5,57,5],[124,18,124,19],[44,3,45,3],[110,5,111,5],[112,2,113,2],[112,3,113,3],[112,5,113,5],[64,2,65,2],[64,3,65,3],[64,5,65,5],[66,2,67,2],[66,3,67,3],[66,5,67,5],[108,2,109,2],[108,3,109,3],[108,5,109,5],[64,4,65,4],[62,2,63,2],[62,3,63,3],[62,5,63,5],[54,5,55,5],[56,2,57,2],[56,3,57,3],[141,9,141,11],[144,9,144,11],[145,9,145,11],[138,9,138,11],[147,9,147,11],[133,7,133,11],[134,7,134,11],[135,7,135,11],[136,7,136,11],[146,9,146,11],[129,9,129,11],[130,9,130,11],[139,9,139,11],[140,9,140,11],[58,5,59,5],[96,5,97,5],[98,5,99,5],[100,5,101,5],[102,5,103,5],[104,5,105,5],[106,5,107,5],[88,7,88,8],[68,7,68,8],[78,7,78,8],[79,7,79,8],[80,7,80,8],[81,7,81,8],[70,7,70,8],[71,7,71,8],[72,7,72,8],[74,7,74,8],[73,7,73,8],[75,7,75,8],[82,7,82,8],[12,7,12,10],[82,5,83,5],[84,5,85,5],[86,5,87,5],[88,5,89,5],[90,5,91,5],[92,5,93,5],[94,5,95,5],[76,7,76,8],[77,7,77,8],[34,5,35,5],[69,7,69,8],[60,5,61,5],[91,7,91,8],[92,7,92,8],[93,7,93,8],[94,7,94,8],[95,7,95,8],[45,7,45,8],[46,7,46,8],[58,7,58,8],[57,7,57,8],[56,7,56,8],[55,7,55,8],[112,4,113,4],[114,2,115,4],[127,9,127,11],[128,9,128,11],[84,2,85,2],[86,2,87,2],[88,2,89,2],[90,2,91,2],[92,2,93,2],[94,2,95,2],[96,2,97,2],[98,2,99,2],[100,2,101,2],[102,2,103,2],[104,2,105,2],[106,2,107,2],[104,3,105,3],[84,7,84,8],[85,7,85,8],[86,7,86,8],[87,7,87,8],[102,4,103,4],[89,7,89,8],[90,3,91,3],[90,7,90,8],[76,2,77,2],[78,2,79,2],[80,2,81,2],[68,5,69,5],[70,5,71,5],[72,5,73,5],[74,5,75,5],[76,5,77,5],[78,5,79,5],[80,5,81,5],[68,3,69,3],[70,3,71,3],[72,3,73,3],[74,3,75,3],[76,3,77,3],[78,3,79,3],[80,3,81,3],[82,2,83,2],[68,4,69,4],[70,4,71,4],[72,4,73,4],[83,7,83,8],[104,4,105,4],[106,4,107,4],[68,2,69,2],[72,2,73,2],[96,7,96,8],[97,7,97,8],[98,7,98,8],[99,7,99,8],[100,7,100,8],[101,7,101,8],[102,7,102,8],[103,7,103,8],[104,7,104,8],[105,7,105,8],[106,7,106,8],[107,7,107,8],[86,4,87,4],[88,4,89,4],[90,4,91,4],[92,4,93,4],[94,4,95,4],[96,4,97,4],[98,4,99,4],[100,4,101,4],[108,7,108,8],[109,7,109,8],[110,7,110,8],[111,7,111,8],[112,7,112,8],[113,7,113,8],[114,7,114,8],[115,7,115,8],[117,7,117,8],[118,7,118,8],[13,7,13,8],[14,7,14,8],[15,7,15,8],[16,7,16,8],[17,7,17,8],[18,7,18,8],[19,7,19,8],[20,7,20,8],[21,7,21,8],[22,7,22,8],[23,7,23,8],[66,7,66,8],[67,7,67,8],[65,7,65,8],[64,7,64,8],[63,7,63,8],[62,7,62,8],[61,7,61,8],[60,7,60,8],[59,7,59,8],[54,7,54,8],[53,7,53,8],[52,7,52,8],[51,7,51,8],[50,7,50,8],[25,7,25,8],[26,7,26,8],[27,7,27,8],[24,7,24,8],[48,7,48,8],[49,7,49,8],[47,7,47,8],[37,7,37,8],[38,7,38,8],[39,7,39,8],[40,7,40,8],[28,7,28,8],[29,7,29,8],[30,7,30,8],[31,7,31,8],[32,7,32,8],[33,7,33,8],[34,7,34,8],[35,7,35,8],[36,7,36,8],[41,7,41,8],[42,7,42,8],[43,7,43,8],[44,7,44,8],[14,0,15,0],[16,0,17,0],[18,0,19,0],[20,0,21,0],[22,0,23,0],[24,0,25,0],[26,0,27,0],[28,0,29,0],[30,0,31,0],[32,0,33,0],[34,0,35,0],[36,0,37,0],[38,0,39,0],[40,0,41,0],[42,0,43,0],[44,0,45,0],[14,5,15,5],[14,3,15,3],[34,4,35,4],[24,3,25,3],[24,5,25,5],[26,2,27,2],[46,0,47,0],[48,0,49,0],[50,0,51,0],[52,0,53,0],[54,0,55,0],[56,0,57,0],[58,0,59,0],[60,0,61,0],[62,0,63,0],[64,0,65,0],[66,0,67,0],[68,0,69,0],[70,0,71,0],[72,0,73,0],[74,0,75,0],[76,0,77,0],[78,0,79,0],[80,0,81,0],[82,0,83,0],[84,0,85,0],[86,0,87,0],[88,0,89,0],[90,0,91,0],[92,0,93,0],[94,0,95,0],[96,0,97,0],[98,0,99,0],[100,0,101,0],[102,0,103,0],[104,0,105,0],[106,0,107,0],[108,0,109,0],[110,0,111,0],[112,0,113,0],[14,1,15,1],[16,1,17,1],[18,1,19,1],[20,1,21,1],[22,1,23,1],[24,1,25,1],[26,1,27,1],[28,1,29,1],[30,1,31,1],[32,1,33,1],[34,1,35,1],[36,1,37,1],[38,1,39,1],[40,1,41,1],[42,1,43,1],[44,1,45,1],[46,1,47,1],[48,1,49,1],[50,1,51,1],[52,1,53,1],[54,1,55,1],[56,1,57,1],[58,1,59,1],[60,1,61,1],[62,1,63,1],[64,1,65,1],[66,1,67,1],[68,1,69,1],[70,1,71,1],[72,1,73,1],[74,1,75,1],[76,1,77,1],[78,1,79,1],[80,1,81,1],[82,1,83,1],[84,1,85,1],[86,1,87,1],[106,1,107,1],[108,1,109,1],[110,1,111,1],[112,1,113,1],[88,1,89,1],[90,1,91,1],[92,1,93,1],[94,1,95,1],[96,1,97,1],[98,1,99,1],[100,1,101,1],[102,1,103,1],[104,1,105,1]]}
[null,null,"Applicant/Business Name:",null,{"$f":"IF('Emissions Estimator'!C1=\"\",\"\",'Emissions Estimator'!C1)","v":""}]
[null,null,"Project Name:",null,{"$f":"IF('Emissions Estimator'!C2=\"\",\"\",'Emissions Estimator'!C2)","v":""}]
[null,null,"Project Location:",null,{"$f":"IF('Emissions Estimator'!C3=\"\",\"\",'Emissions Estimator'!C3)","v":""}]
[null,null,"District Project ID No.:",null,{"$f":"IF('Emissions Estimator'!C4=\"\",\"\",'Emissions Estimator'!C4)","v":""}]
[]
[null,null,"NOTES:"]
[null,null,"(1) The start date for each ISR phase is shown in TABLE 1."]
[null,null,"(2) If you have chosen a ONE-TIME payment for the project, then the total amount due for ALL PHASES is shown under TABLE 2."]
[null,null,"(3) If you have chosen a DEFERRED payment schedule or would like to propose a DEFERRED payment schedule for the project, the total amount due for a specific year is shown in TABLE 3 according to the schedule in TABLE 1."]
[null,null,"* If you have not provided a proposed payment date, the District sets a default invoice date of 60 days prior to start of the ISR phase."]
[]
[null,null,"If applicant selected Fee Deferral Schedule -  \nPlease select \"Yes\" from dropdown menu",null,null,"Yes","q"]
[null,null,"TABLE 1 - PROJECT INFORMATION",null,null,null,null,"TABLE 2 -                                                                          No Fee Deferral Schedule (FDS)",null,null,null,null,"TABLE 2 - NO  FDS ",null,null,null,"                                               TABLE 3 - APPROVED FEE DEFERRAL SCHEDULE (FDS) BY PAYMENT YEAR "]
["Phase Type","Construction Clean Fleet Selected","Project \nPhase Name","ISR \nPhase","\nStart Date\nper Phase","Scheduled\nPayment\nDate*",null,"Pollutant",null,"Required\nReductions\n (tons)","Required Offsite Reductions (tons)",null,2022,null,2018,2019,2022,{"$f":"Q14+1","v":2023},{"$f":"R14+1","v":2024},2025,2026,2027,2028,2029,2030,2031,2032,2033,2034,2035,2036,2037,2038,2039,2040]
[{"$f":"IF(AND('Emissions Estimator'!$A12=\"\",'Emissions Estimator'!$A67=\"\"),\"\",IF(AND('Emissions Estimator'!$A12=\"\",'Emissions Estimator'!$A67<>\"\"),\"Operation\",IF(AND('Emissions Estimator'!$A67=\"\",'Emissions Estimator'!$A12<>\"\"),\"Construction\",MIN('Emissions Estimator'!$A12,'Emissions Estimator'!$A67))))","v":""},{"$f":"IF(A15=\"\",\"\",IF(AND(A15=\"Construction\",'Emissions Estimator'!$O$9=\"No\"),\"No\",IF(AND(A15=\"Construction\",'Emissions Estimator'!$O$9=\"Yes\"),\"Yes\",IF(A15=\"Operation\",\"\"))))","v":""},{"$f":"IF(AND('Emissions Estimator'!$A12=\"\",'Emissions Estimator'!$A67=\"\"),\"\",IF(AND('Emissions Estimator'!$A12=\"\",'Emissions Estimator'!$A67<>\"\"),'Emissions Estimator'!$A67,IF(AND('Emissions Estimator'!$A67=\"\",'Emissions Estimator'!$A12<>\"\"),'Emissions Estimator'!$A12,MIN('Emissions Estimator'!$A12,'Emissions Estimator'!$A67))))","v":""},1,{"$f":"IF(AND('Emissions Estimator'!C12=\"\",'Emissions Estimator'!C67=\"\"),\"\",IF(AND('Emissions Estimator'!C12=\"\",'Emissions Estimator'!C67<>\"\"),'Emissions Estimator'!C67,IF(AND('Emissions Estimator'!C67=\"\",'Emissions Estimator'!C12<>\"\"),'Emissions Estimator'!C12,MIN('Emissions Estimator'!C12,'Emissions Estimator'!C67))))","v":""},{"$f":"IF(AND(B15=\"\",E15=\"\"),\"\",IF(AND(B15=\"Yes\",$F$12=\"Yes\"),\"Clean Fleet\",IF(AND(B15=\"Yes\",$F$12=\"No\"),\"Clean Fleet\",IF(AND(A15=\"Operation\",$F$12=\"No\"),$E$15-1,IF(AND(A15=\"Operation\",$F$12=\"Yes\"),E15-1,IF(AND(B15=\"No\",$F$12=\"No\"),$E$15-1,IF(AND(B15=\"No\",$F$12=\"Yes\"),E15-1)))))))","v":""},null,"NOx",null,{"$f":"('Emissions Estimator'!R67)","v":0},{"$f":"IF(SUM(Q15:AI15)<J15,J15-SUM(Q15:AI15),IF(SUM(Q15:AI15)>J15,J15-SUM(Q15:AI15),SUM(Q15:AI15)))","v":0},null,{"$f":"J15","v":0},null,{"$f":"IF(ISTEXT('Fee Estimator'!$F15),0,IF('Fee Estimator'!$F15=\"\",0,IF($F$12=\"No\",0,IF(O$14=YEAR('Fee Estimator'!$F15),'Fee Estimator'!$M15,0))))","v":0},{"$f":"IF(ISTEXT('Fee Estimator'!$F15),0,IF('Fee Estimator'!$F15=\"\",0,IF($F$12=\"No\",0,IF(P$14=YEAR('Fee Estimator'!$F15),'Fee Estimator'!$M15,0))))","v":0},{"$f":"IF(ISTEXT('Fee Estimator'!$F15),0,IF('Fee Estimator'!$F15=\"\",0,IF($F$12=\"No\",0,IF(Q$14=YEAR('Fee Estimator'!$F15),'Fee Estimator'!$M15,0))))","v":0},{"$f":"IF(ISTEXT('Fee Estimator'!$F15),0,IF('Fee Estimator'!$F15=\"\",0,IF($F$12=\"No\",0,IF(R$14=YEAR('Fee Estimator'!$F15),'Fee Estimator'!$M15,0))))","v":0},{"$f":"IF(ISTEXT('Fee Estimator'!$F15),0,IF('Fee Estimator'!$F15=\"\",0,IF($F$12=\"No\",0,IF(S$14=YEAR('Fee Estimator'!$F15),'Fee Estimator'!$M15,0))))","v":0},{"$f":"IF(ISTEXT('Fee Estimator'!$F15),0,IF('Fee Estimator'!$F15=\"\",0,IF($F$12=\"No\",0,IF(T$14=YEAR('Fee Estimator'!$F15),'Fee Estimator'!$M15,0))))","v":0},{"$f":"IF(ISTEXT('Fee Estimator'!$F15),0,IF('Fee Estimator'!$F15=\"\",0,IF($F$12=\"No\",0,IF(U$14=YEAR('Fee Estimator'!$F15),'Fee Estimator'!$M15,0))))","v":0},{"$f":"IF(ISTEXT('Fee Estimator'!$F15),0,IF('Fee Estimator'!$F15=\"\",0,IF($F$12=\"No\",0,IF(V$14=YEAR('Fee Estimator'!$F15),'Fee Estimator'!$M15,0))))","v":0},{"$f":"IF(ISTEXT('Fee Estimator'!$F15),0,IF('Fee Estimator'!$F15=\"\",0,IF($F$12=\"No\",0,IF(W$14=YEAR('Fee Estimator'!$F15),'Fee Estimator'!$M15,0))))","v":0},{"$f":"IF(ISTEXT('Fee Estimator'!$F15),0,IF('Fee Estimator'!$F15=\"\",0,IF($F$12=\"No\",0,IF(X$14=YEAR('Fee Estimator'!$F15),'Fee Estimator'!$M15,0))))","v":0},{"$f":"IF(ISTEXT('Fee Estimator'!$F15),0,IF('Fee Estimator'!$F15=\"\",0,IF($F$12=\"No\",0,IF(Y$14=YEAR('Fee Estimator'!$F15),'Fee Estimator'!$M15,0))))","v":0},{"$f":"IF(ISTEXT('Fee Estimator'!$F15),0,IF('Fee Estimator'!$F15=\"\",0,IF($F$12=\"No\",0,IF(Z$14=YEAR('Fee Estimator'!$F15),'Fee Estimator'!$M15,0))))","v":0},{"$f":"IF(ISTEXT('Fee Estimator'!$F15),0,IF('Fee Estimator'!$F15=\"\",0,IF($F$12=\"No\",0,IF(AA$14=YEAR('Fee Estimator'!$F15),'Fee Estimator'!$M15,0))))","v":0},{"$f":"IF(ISTEXT('Fee Estimator'!$F15),0,IF('Fee Estimator'!$F15=\"\",0,IF($F$12=\"No\",0,IF(AB$14=YEAR('Fee Estimator'!$F15),'Fee Estimator'!$M15,0))))","v":0},{"$f":"IF(ISTEXT('Fee Estimator'!$F15),0,IF('Fee Estimator'!$F15=\"\",0,IF($F$12=\"No\",0,IF(AC$14=YEAR('Fee Estimator'!$F15),'Fee Estimator'!$M15,0))))","v":0},{"$f":"IF(ISTEXT('Fee Estimator'!$F15),0,IF('Fee Estimator'!$F15=\"\",0,IF($F$12=\"No\",0,IF(AD$14=YEAR('Fee Estimator'!$F15),'Fee Estimator'!$M15,0))))","v":0},{"$f":"IF(ISTEXT('Fee Estimator'!$F15),0,IF('Fee Estimator'!$F15=\"\",0,IF($F$12=\"No\",0,IF(AE$14=YEAR('Fee Estimator'!$F15),'Fee Estimator'!$M15,0))))","v":0},{"$f":"IF(ISTEXT('Fee Estimator'!$F15),0,IF('Fee Estimator'!$F15=\"\",0,IF($F$12=\"No\",0,IF(AF$14=YEAR('Fee Estimator'!$F15),'Fee Estimator'!$M15,0))))","v":0},{"$f":"IF(ISTEXT('Fee Estimator'!$F15),0,IF('Fee Estimator'!$F15=\"\",0,IF($F$12=\"No\",0,IF(AG$14=YEAR('Fee Estimator'!$F15),'Fee Estimator'!$M15,0))))","v":0},{"$f":"IF(ISTEXT('Fee Estimator'!$F15),0,IF('Fee Estimator'!$F15=\"\",0,IF($F$12=\"No\",0,IF(AH$14=YEAR('Fee Estimator'!$F15),'Fee Estimator'!$M15,0))))","v":0},{"$f":"IF(ISTEXT('Fee Estimator'!$F15),0,IF('Fee Estimator'!$F15=\"\",0,IF($F$12=\"No\",0,IF(AI$14=YEAR('Fee Estimator'!$F15),'Fee Estimator'!$M15,0))))","v":0}]
[null,null,null,null,null,null,null,"PM10",null,{"$f":"('Emissions Estimator'!S67)","v":0},{"$f":"IF(SUM(Q16:AI16)<J16,J16-SUM(Q16:AI16),IF(SUM(Q16:AI16)>J16,J16-SUM(Q16:AI16),SUM(Q16:AI16)))","v":0},null,0,null,{"$f":"IF(ISTEXT('Fee Estimator'!$F15),0,IF('Fee Estimator'!$F15=\"\",0,IF($F$12=\"No\",0,IF(O$14=YEAR('Fee Estimator'!$F15),'Fee Estimator'!$M16,0))))","v":0},{"$f":"IF(ISTEXT('Fee Estimator'!$F15),0,IF('Fee Estimator'!$F15=\"\",0,IF($F$12=\"No\",0,IF(P$14=YEAR('Fee Estimator'!$F15),'Fee Estimator'!$M16,0))))","v":0},{"$f":"IF(ISTEXT('Fee Estimator'!$F15),0,IF('Fee Estimator'!$F15=\"\",0,IF($F$12=\"No\",0,IF(Q$14=YEAR('Fee Estimator'!$F15),'Fee Estimator'!$M16,0))))","v":0},{"$f":"IF(ISTEXT('Fee Estimator'!$F15),0,IF('Fee Estimator'!$F15=\"\",0,IF($F$12=\"No\",0,IF(R$14=YEAR('Fee Estimator'!$F15),'Fee Estimator'!$M16,0))))","v":0},{"$f":"IF(ISTEXT('Fee Estimator'!$F15),0,IF('Fee Estimator'!$F15=\"\",0,IF($F$12=\"No\",0,IF(S$14=YEAR('Fee Estimator'!$F15),'Fee Estimator'!$M16,0))))","v":0},{"$f":"IF(ISTEXT('Fee Estimator'!$F15),0,IF('Fee Estimator'!$F15=\"\",0,IF($F$12=\"No\",0,IF(T$14=YEAR('Fee Estimator'!$F15),'Fee Estimator'!$M16,0))))","v":0},{"$f":"IF(ISTEXT('Fee Estimator'!$F15),0,IF('Fee Estimator'!$F15=\"\",0,IF($F$12=\"No\",0,IF(U$14=YEAR('Fee Estimator'!$F15),'Fee Estimator'!$M16,0))))","v":0},{"$f":"IF(ISTEXT('Fee Estimator'!$F15),0,IF('Fee Estimator'!$F15=\"\",0,IF($F$12=\"No\",0,IF(V$14=YEAR('Fee Estimator'!$F15),'Fee Estimator'!$M16,0))))","v":0},{"$f":"IF(ISTEXT('Fee Estimator'!$F15),0,IF('Fee Estimator'!$F15=\"\",0,IF($F$12=\"No\",0,IF(W$14=YEAR('Fee Estimator'!$F15),'Fee Estimator'!$M16,0))))","v":0},{"$f":"IF(ISTEXT('Fee Estimator'!$F15),0,IF('Fee Estimator'!$F15=\"\",0,IF($F$12=\"No\",0,IF(X$14=YEAR('Fee Estimator'!$F15),'Fee Estimator'!$M16,0))))","v":0},{"$f":"IF(ISTEXT('Fee Estimator'!$F15),0,IF('Fee Estimator'!$F15=\"\",0,IF($F$12=\"No\",0,IF(Y$14=YEAR('Fee Estimator'!$F15),'Fee Estimator'!$M16,0))))","v":0},{"$f":"IF(ISTEXT('Fee Estimator'!$F15),0,IF('Fee Estimator'!$F15=\"\",0,IF($F$12=\"No\",0,IF(Z$14=YEAR('Fee Estimator'!$F15),'Fee Estimator'!$M16,0))))","v":0},{"$f":"IF(ISTEXT('Fee Estimator'!$F15),0,IF('Fee Estimator'!$F15=\"\",0,IF($F$12=\"No\",0,IF(AA$14=YEAR('Fee Estimator'!$F15),'Fee Estimator'!$M16,0))))","v":0},{"$f":"IF(ISTEXT('Fee Estimator'!$F15),0,IF('Fee Estimator'!$F15=\"\",0,IF($F$12=\"No\",0,IF(AB$14=YEAR('Fee Estimator'!$F15),'Fee Estimator'!$M16,0))))","v":0},{"$f":"IF(ISTEXT('Fee Estimator'!$F15),0,IF('Fee Estimator'!$F15=\"\",0,IF($F$12=\"No\",0,IF(AC$14=YEAR('Fee Estimator'!$F15),'Fee Estimator'!$M16,0))))","v":0},{"$f":"IF(ISTEXT('Fee Estimator'!$F15),0,IF('Fee Estimator'!$F15=\"\",0,IF($F$12=\"No\",0,IF(AD$14=YEAR('Fee Estimator'!$F15),'Fee Estimator'!$M16,0))))","v":0},{"$f":"IF(ISTEXT('Fee Estimator'!$F15),0,IF('Fee Estimator'!$F15=\"\",0,IF($F$12=\"No\",0,IF(AE$14=YEAR('Fee Estimator'!$F15),'Fee Estimator'!$M16,0))))","v":0},{"$f":"IF(ISTEXT('Fee Estimator'!$F15),0,IF('Fee Estimator'!$F15=\"\",0,IF($F$12=\"No\",0,IF(AF$14=YEAR('Fee Estimator'!$F15),'Fee Estimator'!$M16,0))))","v":0},{"$f":"IF(ISTEXT('Fee Estimator'!$F15),0,IF('Fee Estimator'!$F15=\"\",0,IF($F$12=\"No\",0,IF(AG$14=YEAR('Fee Estimator'!$F15),'Fee Estimator'!$M16,0))))","v":0},{"$f":"IF(ISTEXT('Fee Estimator'!$F15),0,IF('Fee Estimator'!$F15=\"\",0,IF($F$12=\"No\",0,IF(AH$14=YEAR('Fee Estimator'!$F15),'Fee Estimator'!$M16,0))))","v":0},{"$f":"IF(ISTEXT('Fee Estimator'!$F15),0,IF('Fee Estimator'!$F15=\"\",0,IF($F$12=\"No\",0,IF(AI$14=YEAR('Fee Estimator'!$F15),'Fee Estimator'!$M16,0))))","v":0}]
[{"$f":"IF(AND('Emissions Estimator'!$A13=\"\",'Emissions Estimator'!$A68=\"\"),\"\",IF(AND('Emissions Estimator'!$A13=\"\",'Emissions Estimator'!$A68<>\"\"),\"Operation\",IF(AND('Emissions Estimator'!$A68=\"\",'Emissions Estimator'!$A13<>\"\"),\"Construction\",MIN('Emissions Estimator'!$A13,'Emissions Estimator'!$A68))))","v":""},{"$f":"IF(A17=\"\",\"\",IF(AND(A17=\"Construction\",'Emissions Estimator'!$O$9=\"No\"),\"No\",IF(AND(A17=\"Construction\",'Emissions Estimator'!$O$9=\"Yes\"),\"Yes\",IF(A17=\"Operation\",\"\"))))","v":""},{"$f":"IF(AND('Emissions Estimator'!$A13=\"\",'Emissions Estimator'!$A68=\"\"),\"\",IF(AND('Emissions Estimator'!$A13=\"\",'Emissions Estimator'!$A68<>\"\"),'Emissions Estimator'!$A68,IF(AND('Emissions Estimator'!$A68=\"\",'Emissions Estimator'!$A13<>\"\"),'Emissions Estimator'!$A13,MIN('Emissions Estimator'!$A13,'Emissions Estimator'!$A68))))","v":""},2,{"$f":"IF(AND('Emissions Estimator'!C13=\"\",'Emissions Estimator'!C68=\"\"),\"\",IF(AND('Emissions Estimator'!C13=\"\",'Emissions Estimator'!C68<>\"\"),'Emissions Estimator'!C68,IF(AND('Emissions Estimator'!C68=\"\",'Emissions Estimator'!C13<>\"\"),'Emissions Estimator'!C13,MIN('Emissions Estimator'!C13,'Emissions Estimator'!C68))))","v":""},{"$f":"IF(AND(B17=\"\",E17=\"\"),\"\",IF(AND(B17=\"Yes\",$F$12=\"Yes\"),\"Clean Fleet\",IF(AND(B17=\"Yes\",$F$12=\"No\"),\"Clean Fleet\",IF(AND(A17=\"Operation\",$F$12=\"No\"),$E$15-1,IF(AND(A17=\"Operation\",$F$12=\"Yes\"),E17-1,IF(AND(B17=\"No\",$F$12=\"No\"),$E$15-1,IF(AND(B17=\"No\",$F$12=\"Yes\"),E17-1)))))))","v":""},null,"NOx",null,{"$f":"('Emissions Estimator'!R68)","v":0},0,null,0,null,{"$f":"IF(ISTEXT('Fee Estimator'!$F17),0,IF('Fee Estimator'!$F17=\"\",0,IF($F$12=\"No\",0,IF(O$14=YEAR('Fee Estimator'!$F17),'Fee Estimator'!$M17,0))))","v":0},{"$f":"IF(ISTEXT('Fee Estimator'!$F17),0,IF('Fee Estimator'!$F17=\"\",0,IF($F$12=\"No\",0,IF(P$14=YEAR('Fee Estimator'!$F17),'Fee Estimator'!$M17,0))))","v":0},{"$f":"IF(ISTEXT('Fee Estimator'!$F17),0,IF('Fee Estimator'!$F17=\"\",0,IF($F$12=\"No\",0,IF(Q$14=YEAR('Fee Estimator'!$F17),'Fee Estimator'!$M17,0))))","v":0},{"$f":"IF(ISTEXT('Fee Estimator'!$F17),0,IF('Fee Estimator'!$F17=\"\",0,IF($F$12=\"No\",0,IF(R$14=YEAR('Fee Estimator'!$F17),'Fee Estimator'!$M17,0))))","v":0},{"$f":"IF(ISTEXT('Fee Estimator'!$F17),0,IF('Fee Estimator'!$F17=\"\",0,IF($F$12=\"No\",0,IF(S$14=YEAR('Fee Estimator'!$F17),'Fee Estimator'!$M17,0))))","v":0},{"$f":"IF(ISTEXT('Fee Estimator'!$F17),0,IF('Fee Estimator'!$F17=\"\",0,IF($F$12=\"No\",0,IF(T$14=YEAR('Fee Estimator'!$F17),'Fee Estimator'!$M17,0))))","v":0},{"$f":"IF(ISTEXT('Fee Estimator'!$F17),0,IF('Fee Estimator'!$F17=\"\",0,IF($F$12=\"No\",0,IF(U$14=YEAR('Fee Estimator'!$F17),'Fee Estimator'!$M17,0))))","v":0},{"$f":"IF(ISTEXT('Fee Estimator'!$F17),0,IF('Fee Estimator'!$F17=\"\",0,IF($F$12=\"No\",0,IF(V$14=YEAR('Fee Estimator'!$F17),'Fee Estimator'!$M17,0))))","v":0},{"$f":"IF(ISTEXT('Fee Estimator'!$F17),0,IF('Fee Estimator'!$F17=\"\",0,IF($F$12=\"No\",0,IF(W$14=YEAR('Fee Estimator'!$F17),'Fee Estimator'!$M17,0))))","v":0},{"$f":"IF(ISTEXT('Fee Estimator'!$F17),0,IF('Fee Estimator'!$F17=\"\",0,IF($F$12=\"No\",0,IF(X$14=YEAR('Fee Estimator'!$F17),'Fee Estimator'!$M17,0))))","v":0},{"$f":"IF(ISTEXT('Fee Estimator'!$F17),0,IF('Fee Estimator'!$F17=\"\",0,IF($F$12=\"No\",0,IF(Y$14=YEAR('Fee Estimator'!$F17),'Fee Estimator'!$M17,0))))","v":0},{"$f":"IF(ISTEXT('Fee Estimator'!$F17),0,IF('Fee Estimator'!$F17=\"\",0,IF($F$12=\"No\",0,IF(Z$14=YEAR('Fee Estimator'!$F17),'Fee Estimator'!$M17,0))))","v":0},{"$f":"IF(ISTEXT('Fee Estimator'!$F17),0,IF('Fee Estimator'!$F17=\"\",0,IF($F$12=\"No\",0,IF(AA$14=YEAR('Fee Estimator'!$F17),'Fee Estimator'!$M17,0))))","v":0},{"$f":"IF(ISTEXT('Fee Estimator'!$F17),0,IF('Fee Estimator'!$F17=\"\",0,IF($F$12=\"No\",0,IF(AB$14=YEAR('Fee Estimator'!$F17),'Fee Estimator'!$M17,0))))","v":0},{"$f":"IF(ISTEXT('Fee Estimator'!$F17),0,IF('Fee Estimator'!$F17=\"\",0,IF($F$12=\"No\",0,IF(AC$14=YEAR('Fee Estimator'!$F17),'Fee Estimator'!$M17,0))))","v":0},{"$f":"IF(ISTEXT('Fee Estimator'!$F17),0,IF('Fee Estimator'!$F17=\"\",0,IF($F$12=\"No\",0,IF(AD$14=YEAR('Fee Estimator'!$F17),'Fee Estimator'!$M17,0))))","v":0},{"$f":"IF(ISTEXT('Fee Estimator'!$F17),0,IF('Fee Estimator'!$F17=\"\",0,IF($F$12=\"No\",0,IF(AE$14=YEAR('Fee Estimator'!$F17),'Fee Estimator'!$M17,0))))","v":0},{"$f":"IF(ISTEXT('Fee Estimator'!$F17),0,IF('Fee Estimator'!$F17=\"\",0,IF($F$12=\"No\",0,IF(AF$14=YEAR('Fee Estimator'!$F17),'Fee Estimator'!$M17,0))))","v":0},{"$f":"IF(ISTEXT('Fee Estimator'!$F17),0,IF('Fee Estimator'!$F17=\"\",0,IF($F$12=\"No\",0,IF(AG$14=YEAR('Fee Estimator'!$F17),'Fee Estimator'!$M17,0))))","v":0},{"$f":"IF(ISTEXT('Fee Estimator'!$F17),0,IF('Fee Estimator'!$F17=\"\",0,IF($F$12=\"No\",0,IF(AH$14=YEAR('Fee Estimator'!$F17),'Fee Estimator'!$M17,0))))","v":0},{"$f":"IF(ISTEXT('Fee Estimator'!$F17),0,IF('Fee Estimator'!$F17=\"\",0,IF($F$12=\"No\",0,IF(AI$14=YEAR('Fee Estimator'!$F17),'Fee Estimator'!$M17,0))))","v":0}]
[null,null,null,null,null,null,null,"PM10",null,{"$f":"('Emissions Estimator'!S68)","v":0},0,null,0,null,{"$f":"IF(ISTEXT('Fee Estimator'!$F17),0,IF('Fee Estimator'!$F17=\"\",0,IF($F$12=\"No\",0,IF(O$14=YEAR('Fee Estimator'!$F17),'Fee Estimator'!$M18,0))))","v":0},{"$f":"IF(ISTEXT('Fee Estimator'!$F17),0,IF('Fee Estimator'!$F17=\"\",0,IF($F$12=\"No\",0,IF(P$14=YEAR('Fee Estimator'!$F17),'Fee Estimator'!$M18,0))))","v":0},{"$f":"IF(ISTEXT('Fee Estimator'!$F17),0,IF('Fee Estimator'!$F17=\"\",0,IF($F$12=\"No\",0,IF(Q$14=YEAR('Fee Estimator'!$F17),'Fee Estimator'!$M18,0))))","v":0},{"$f":"IF(ISTEXT('Fee Estimator'!$F17),0,IF('Fee Estimator'!$F17=\"\",0,IF($F$12=\"No\",0,IF(R$14=YEAR('Fee Estimator'!$F17),'Fee Estimator'!$M18,0))))","v":0},{"$f":"IF(ISTEXT('Fee Estimator'!$F17),0,IF('Fee Estimator'!$F17=\"\",0,IF($F$12=\"No\",0,IF(S$14=YEAR('Fee Estimator'!$F17),'Fee Estimator'!$M18,0))))","v":0},{"$f":"IF(ISTEXT('Fee Estimator'!$F17),0,IF('Fee Estimator'!$F17=\"\",0,IF($F$12=\"No\",0,IF(T$14=YEAR('Fee Estimator'!$F17),'Fee Estimator'!$M18,0))))","v":0},{"$f":"IF(ISTEXT('Fee Estimator'!$F17),0,IF('Fee Estimator'!$F17=\"\",0,IF($F$12=\"No\",0,IF(U$14=YEAR('Fee Estimator'!$F17),'Fee Estimator'!$M18,0))))","v":0},{"$f":"IF(ISTEXT('Fee Estimator'!$F17),0,IF('Fee Estimator'!$F17=\"\",0,IF($F$12=\"No\",0,IF(V$14=YEAR('Fee Estimator'!$F17),'Fee Estimator'!$M18,0))))","v":0},{"$f":"IF(ISTEXT('Fee Estimator'!$F17),0,IF('Fee Estimator'!$F17=\"\",0,IF($F$12=\"No\",0,IF(W$14=YEAR('Fee Estimator'!$F17),'Fee Estimator'!$M18,0))))","v":0},{"$f":"IF(ISTEXT('Fee Estimator'!$F17),0,IF('Fee Estimator'!$F17=\"\",0,IF($F$12=\"No\",0,IF(X$14=YEAR('Fee Estimator'!$F17),'Fee Estimator'!$M18,0))))","v":0},{"$f":"IF(ISTEXT('Fee Estimator'!$F17),0,IF('Fee Estimator'!$F17=\"\",0,IF($F$12=\"No\",0,IF(Y$14=YEAR('Fee Estimator'!$F17),'Fee Estimator'!$M18,0))))","v":0},{"$f":"IF(ISTEXT('Fee Estimator'!$F17),0,IF('Fee Estimator'!$F17=\"\",0,IF($F$12=\"No\",0,IF(Z$14=YEAR('Fee Estimator'!$F17),'Fee Estimator'!$M18,0))))","v":0},{"$f":"IF(ISTEXT('Fee Estimator'!$F17),0,IF('Fee Estimator'!$F17=\"\",0,IF($F$12=\"No\",0,IF(AA$14=YEAR('Fee Estimator'!$F17),'Fee Estimator'!$M18,0))))","v":0},{"$f":"IF(ISTEXT('Fee Estimator'!$F17),0,IF('Fee Estimator'!$F17=\"\",0,IF($F$12=\"No\",0,IF(AB$14=YEAR('Fee Estimator'!$F17),'Fee Estimator'!$M18,0))))","v":0},{"$f":"IF(ISTEXT('Fee Estimator'!$F17),0,IF('Fee Estimator'!$F17=\"\",0,IF($F$12=\"No\",0,IF(AC$14=YEAR('Fee Estimator'!$F17),'Fee Estimator'!$M18,0))))","v":0},{"$f":"IF(ISTEXT('Fee Estimator'!$F17),0,IF('Fee Estimator'!$F17=\"\",0,IF($F$12=\"No\",0,IF(AD$14=YEAR('Fee Estimator'!$F17),'Fee Estimator'!$M18,0))))","v":0},{"$f":"IF(ISTEXT('Fee Estimator'!$F17),0,IF('Fee Estimator'!$F17=\"\",0,IF($F$12=\"No\",0,IF(AE$14=YEAR('Fee Estimator'!$F17),'Fee Estimator'!$M18,0))))","v":0},{"$f":"IF(ISTEXT('Fee Estimator'!$F17),0,IF('Fee Estimator'!$F17=\"\",0,IF($F$12=\"No\",0,IF(AF$14=YEAR('Fee Estimator'!$F17),'Fee Estimator'!$M18,0))))","v":0},{"$f":"IF(ISTEXT('Fee Estimator'!$F17),0,IF('Fee Estimator'!$F17=\"\",0,IF($F$12=\"No\",0,IF(AG$14=YEAR('Fee Estimator'!$F17),'Fee Estimator'!$M18,0))))","v":0},{"$f":"IF(ISTEXT('Fee Estimator'!$F17),0,IF('Fee Estimator'!$F17=\"\",0,IF($F$12=\"No\",0,IF(AH$14=YEAR('Fee Estimator'!$F17),'Fee Estimator'!$M18,0))))","v":0},{"$f":"IF(ISTEXT('Fee Estimator'!$F17),0,IF('Fee Estimator'!$F17=\"\",0,IF($F$12=\"No\",0,IF(AI$14=YEAR('Fee Estimator'!$F17),'Fee Estimator'!$M18,0))))","v":0}]
[{"$f":"IF(AND('Emissions Estimator'!$A14=\"\",'Emissions Estimator'!$A69=\"\"),\"\",IF(AND('Emissions Estimator'!$A14=\"\",'Emissions Estimator'!$A69<>\"\"),\"Operation\",IF(AND('Emissions Estimator'!$A69=\"\",'Emissions Estimator'!$A14<>\"\"),\"Construction\",MIN('Emissions Estimator'!$A14,'Emissions Estimator'!$A69))))","v":""},{"$f":"IF(A19=\"\",\"\",IF(AND(A19=\"Construction\",'Emissions Estimator'!$O$9=\"No\"),\"No\",IF(AND(A19=\"Construction\",'Emissions Estimator'!$O$9=\"Yes\"),\"Yes\",IF(A19=\"Operation\",\"\"))))","v":""},{"$f":"IF(AND('Emissions Estimator'!$A14=\"\",'Emissions Estimator'!$A69=\"\"),\"\",IF(AND('Emissions Estimator'!$A14=\"\",'Emissions Estimator'!$A69<>\"\"),'Emissions Estimator'!$A69,IF(AND('Emissions Estimator'!$A69=\"\",'Emissions Estimator'!$A14<>\"\"),'Emissions Estimator'!$A14,MIN('Emissions Estimator'!$A14,'Emissions Estimator'!$A69))))","v":""},3,{"$f":"IF(AND('Emissions Estimator'!C14=\"\",'Emissions Estimator'!C69=\"\"),\"\",IF(AND('Emissions Estimator'!C14=\"\",'Emissions Estimator'!C69<>\"\"),'Emissions Estimator'!C69,IF(AND('Emissions Estimator'!C69=\"\",'Emissions Estimator'!C14<>\"\"),'Emissions Estimator'!C14,MIN('Emissions Estimator'!C14,'Emissions Estimator'!C69))))","v":""},{"$f":"IF(AND(B19=\"\",E19=\"\"),\"\",IF(AND(B19=\"Yes\",$F$12=\"Yes\"),\"Clean Fleet\",IF(AND(B19=\"Yes\",$F$12=\"No\"),\"Clean Fleet\",IF(AND(A19=\"Operation\",$F$12=\"No\"),$E$15-1,IF(AND(A19=\"Operation\",$F$12=\"Yes\"),E19-1,IF(AND(B19=\"No\",$F$12=\"No\"),$E$15-1,IF(AND(B19=\"No\",$F$12=\"Yes\"),E19-1)))))))","v":""},null,"NOx",null,{"$f":"('Emissions Estimator'!R69)","v":0},0,null,0,null,{"$f":"IF(ISTEXT('Fee Estimator'!$F19),0,IF('Fee Estimator'!$F19=\"\",0,IF($F$12=\"No\",0,IF(O$14=YEAR('Fee Estimator'!$F19),'Fee Estimator'!$M19,0))))","v":0},{"$f":"IF(ISTEXT('Fee Estimator'!$F19),0,IF('Fee Estimator'!$F19=\"\",0,IF($F$12=\"No\",0,IF(P$14=YEAR('Fee Estimator'!$F19),'Fee Estimator'!$M19,0))))","v":0},{"$f":"IF(ISTEXT('Fee Estimator'!$F19),0,IF('Fee Estimator'!$F19=\"\",0,IF($F$12=\"No\",0,IF(Q$14=YEAR('Fee Estimator'!$F19),'Fee Estimator'!$M19,0))))","v":0},{"$f":"IF(ISTEXT('Fee Estimator'!$F19),0,IF('Fee Estimator'!$F19=\"\",0,IF($F$12=\"No\",0,IF(R$14=YEAR('Fee Estimator'!$F19),'Fee Estimator'!$M19,0))))","v":0},{"$f":"IF(ISTEXT('Fee Estimator'!$F19),0,IF('Fee Estimator'!$F19=\"\",0,IF($F$12=\"No\",0,IF(S$14=YEAR('Fee Estimator'!$F19),'Fee Estimator'!$M19,0))))","v":0},{"$f":"IF(ISTEXT('Fee Estimator'!$F19),0,IF('Fee Estimator'!$F19=\"\",0,IF($F$12=\"No\",0,IF(T$14=YEAR('Fee Estimator'!$F19),'Fee Estimator'!$M19,0))))","v":0},{"$f":"IF(ISTEXT('Fee Estimator'!$F19),0,IF('Fee Estimator'!$F19=\"\",0,IF($F$12=\"No\",0,IF(U$14=YEAR('Fee Estimator'!$F19),'Fee Estimator'!$M19,0))))","v":0},{"$f":"IF(ISTEXT('Fee Estimator'!$F19),0,IF('Fee Estimator'!$F19=\"\",0,IF($F$12=\"No\",0,IF(V$14=YEAR('Fee Estimator'!$F19),'Fee Estimator'!$M19,0))))","v":0},{"$f":"IF(ISTEXT('Fee Estimator'!$F19),0,IF('Fee Estimator'!$F19=\"\",0,IF($F$12=\"No\",0,IF(W$14=YEAR('Fee Estimator'!$F19),'Fee Estimator'!$M19,0))))","v":0},{"$f":"IF(ISTEXT('Fee Estimator'!$F19),0,IF('Fee Estimator'!$F19=\"\",0,IF($F$12=\"No\",0,IF(X$14=YEAR('Fee Estimator'!$F19),'Fee Estimator'!$M19,0))))","v":0},{"$f":"IF(ISTEXT('Fee Estimator'!$F19),0,IF('Fee Estimator'!$F19=\"\",0,IF($F$12=\"No\",0,IF(Y$14=YEAR('Fee Estimator'!$F19),'Fee Estimator'!$M19,0))))","v":0},{"$f":"IF(ISTEXT('Fee Estimator'!$F19),0,IF('Fee Estimator'!$F19=\"\",0,IF($F$12=\"No\",0,IF(Z$14=YEAR('Fee Estimator'!$F19),'Fee Estimator'!$M19,0))))","v":0},{"$f":"IF(ISTEXT('Fee Estimator'!$F19),0,IF('Fee Estimator'!$F19=\"\",0,IF($F$12=\"No\",0,IF(AA$14=YEAR('Fee Estimator'!$F19),'Fee Estimator'!$M19,0))))","v":0},{"$f":"IF(ISTEXT('Fee Estimator'!$F19),0,IF('Fee Estimator'!$F19=\"\",0,IF($F$12=\"No\",0,IF(AB$14=YEAR('Fee Estimator'!$F19),'Fee Estimator'!$M19,0))))","v":0},{"$f":"IF(ISTEXT('Fee Estimator'!$F19),0,IF('Fee Estimator'!$F19=\"\",0,IF($F$12=\"No\",0,IF(AC$14=YEAR('Fee Estimator'!$F19),'Fee Estimator'!$M19,0))))","v":0},{"$f":"IF(ISTEXT('Fee Estimator'!$F19),0,IF('Fee Estimator'!$F19=\"\",0,IF($F$12=\"No\",0,IF(AD$14=YEAR('Fee Estimator'!$F19),'Fee Estimator'!$M19,0))))","v":0},{"$f":"IF(ISTEXT('Fee Estimator'!$F19),0,IF('Fee Estimator'!$F19=\"\",0,IF($F$12=\"No\",0,IF(AE$14=YEAR('Fee Estimator'!$F19),'Fee Estimator'!$M19,0))))","v":0},{"$f":"IF(ISTEXT('Fee Estimator'!$F19),0,IF('Fee Estimator'!$F19=\"\",0,IF($F$12=\"No\",0,IF(AF$14=YEAR('Fee Estimator'!$F19),'Fee Estimator'!$M19,0))))","v":0},{"$f":"IF(ISTEXT('Fee Estimator'!$F19),0,IF('Fee Estimator'!$F19=\"\",0,IF($F$12=\"No\",0,IF(AG$14=YEAR('Fee Estimator'!$F19),'Fee Estimator'!$M19,0))))","v":0},{"$f":"IF(ISTEXT('Fee Estimator'!$F19),0,IF('Fee Estimator'!$F19=\"\",0,IF($F$12=\"No\",0,IF(AH$14=YEAR('Fee Estimator'!$F19),'Fee Estimator'!$M19,0))))","v":0},{"$f":"IF(ISTEXT('Fee Estimator'!$F19),0,IF('Fee Estimator'!$F19=\"\",0,IF($F$12=\"No\",0,IF(AI$14=YEAR('Fee Estimator'!$F19),'Fee Estimator'!$M19,0))))","v":0}]
[null,null,null,null,null,null,null,"PM10",null,{"$f":"('Emissions Estimator'!S69)","v":0},0,null,0,null,{"$f":"IF(ISTEXT('Fee Estimator'!$F19),0,IF('Fee Estimator'!$F19=\"\",0,IF($F$12=\"No\",0,IF(O$14=YEAR('Fee Estimator'!$F19),'Fee Estimator'!$M20,0))))","v":0},{"$f":"IF(ISTEXT('Fee Estimator'!$F19),0,IF('Fee Estimator'!$F19=\"\",0,IF($F$12=\"No\",0,IF(P$14=YEAR('Fee Estimator'!$F19),'Fee Estimator'!$M20,0))))","v":0},{"$f":"IF(ISTEXT('Fee Estimator'!$F19),0,IF('Fee Estimator'!$F19=\"\",0,IF($F$12=\"No\",0,IF(Q$14=YEAR('Fee Estimator'!$F19),'Fee Estimator'!$M20,0))))","v":0},{"$f":"IF(ISTEXT('Fee Estimator'!$F19),0,IF('Fee Estimator'!$F19=\"\",0,IF($F$12=\"No\",0,IF(R$14=YEAR('Fee Estimator'!$F19),'Fee Estimator'!$M20,0))))","v":0},{"$f":"IF(ISTEXT('Fee Estimator'!$F19),0,IF('Fee Estimator'!$F19=\"\",0,IF($F$12=\"No\",0,IF(S$14=YEAR('Fee Estimator'!$F19),'Fee Estimator'!$M20,0))))","v":0},{"$f":"IF(ISTEXT('Fee Estimator'!$F19),0,IF('Fee Estimator'!$F19=\"\",0,IF($F$12=\"No\",0,IF(T$14=YEAR('Fee Estimator'!$F19),'Fee Estimator'!$M20,0))))","v":0},{"$f":"IF(ISTEXT('Fee Estimator'!$F19),0,IF('Fee Estimator'!$F19=\"\",0,IF($F$12=\"No\",0,IF(U$14=YEAR('Fee Estimator'!$F19),'Fee Estimator'!$M20,0))))","v":0},{"$f":"IF(ISTEXT('Fee Estimator'!$F19),0,IF('Fee Estimator'!$F19=\"\",0,IF($F$12=\"No\",0,IF(V$14=YEAR('Fee Estimator'!$F19),'Fee Estimator'!$M20,0))))","v":0},{"$f":"IF(ISTEXT('Fee Estimator'!$F19),0,IF('Fee Estimator'!$F19=\"\",0,IF($F$12=\"No\",0,IF(W$14=YEAR('Fee Estimator'!$F19),'Fee Estimator'!$M20,0))))","v":0},{"$f":"IF(ISTEXT('Fee Estimator'!$F19),0,IF('Fee Estimator'!$F19=\"\",0,IF($F$12=\"No\",0,IF(X$14=YEAR('Fee Estimator'!$F19),'Fee Estimator'!$M20,0))))","v":0},{"$f":"IF(ISTEXT('Fee Estimator'!$F19),0,IF('Fee Estimator'!$F19=\"\",0,IF($F$12=\"No\",0,IF(Y$14=YEAR('Fee Estimator'!$F19),'Fee Estimator'!$M20,0))))","v":0},{"$f":"IF(ISTEXT('Fee Estimator'!$F19),0,IF('Fee Estimator'!$F19=\"\",0,IF($F$12=\"No\",0,IF(Z$14=YEAR('Fee Estimator'!$F19),'Fee Estimator'!$M20,0))))","v":0},{"$f":"IF(ISTEXT('Fee Estimator'!$F19),0,IF('Fee Estimator'!$F19=\"\",0,IF($F$12=\"No\",0,IF(AA$14=YEAR('Fee Estimator'!$F19),'Fee Estimator'!$M20,0))))","v":0},{"$f":"IF(ISTEXT('Fee Estimator'!$F19),0,IF('Fee Estimator'!$F19=\"\",0,IF($F$12=\"No\",0,IF(AB$14=YEAR('Fee Estimator'!$F19),'Fee Estimator'!$M20,0))))","v":0},{"$f":"IF(ISTEXT('Fee Estimator'!$F19),0,IF('Fee Estimator'!$F19=\"\",0,IF($F$12=\"No\",0,IF(AC$14=YEAR('Fee Estimator'!$F19),'Fee Estimator'!$M20,0))))","v":0},{"$f":"IF(ISTEXT('Fee Estimator'!$F19),0,IF('Fee Estimator'!$F19=\"\",0,IF($F$12=\"No\",0,IF(AD$14=YEAR('Fee Estimator'!$F19),'Fee Estimator'!$M20,0))))","v":0},{"$f":"IF(ISTEXT('Fee Estimator'!$F19),0,IF('Fee Estimator'!$F19=\"\",0,IF($F$12=\"No\",0,IF(AE$14=YEAR('Fee Estimator'!$F19),'Fee Estimator'!$M20,0))))","v":0},{"$f":"IF(ISTEXT('Fee Estimator'!$F19),0,IF('Fee Estimator'!$F19=\"\",0,IF($F$12=\"No\",0,IF(AF$14=YEAR('Fee Estimator'!$F19),'Fee Estimator'!$M20,0))))","v":0},{"$f":"IF(ISTEXT('Fee Estimator'!$F19),0,IF('Fee Estimator'!$F19=\"\",0,IF($F$12=\"No\",0,IF(AG$14=YEAR('Fee Estimator'!$F19),'Fee Estimator'!$M20,0))))","v":0},{"$f":"IF(ISTEXT('Fee Estimator'!$F19),0,IF('Fee Estimator'!$F19=\"\",0,IF($F$12=\"No\",0,IF(AH$14=YEAR('Fee Estimator'!$F19),'Fee Estimator'!$M20,0))))","v":0},{"$f":"IF(ISTEXT('Fee Estimator'!$F19),0,IF('Fee Estimator'!$F19=\"\",0,IF($F$12=\"No\",0,IF(AI$14=YEAR('Fee Estimator'!$F19),'Fee Estimator'!$M20,0))))","v":0}]
[{"$f":"IF(AND('Emissions Estimator'!$A15=\"\",'Emissions Estimator'!$A70=\"\"),\"\",IF(AND('Emissions Estimator'!$A15=\"\",'Emissions Estimator'!$A70<>\"\"),\"Operation\",IF(AND('Emissions Estimator'!$A70=\"\",'Emissions Estimator'!$A15<>\"\"),\"Construction\",MIN('Emissions Estimator'!$A15,'Emissions Estimator'!$A70))))","v":""},{"$f":"IF(A21=\"\",\"\",IF(AND(A21=\"Construction\",'Emissions Estimator'!$O$9=\"No\"),\"No\",IF(AND(A21=\"Construction\",'Emissions Estimator'!$O$9=\"Yes\"),\"Yes\",IF(A21=\"Operation\",\"\"))))","v":""},{"$f":"IF(AND('Emissions Estimator'!$A15=\"\",'Emissions Estimator'!$A70=\"\"),\"\",IF(AND('Emissions Estimator'!$A15=\"\",'Emissions Estimator'!$A70<>\"\"),'Emissions Estimator'!$A70,IF(AND('Emissions Estimator'!$A70=\"\",'Emissions Estimator'!$A15<>\"\"),'Emissions Estimator'!$A15,MIN('Emissions Estimator'!$A15,'Emissions Estimator'!$A70))))","v":""},4,{"$f":"IF(AND('Emissions Estimator'!C15=\"\",'Emissions Estimator'!C70=\"\"),\"\",IF(AND('Emissions Estimator'!C15=\"\",'Emissions Estimator'!C70<>\"\"),'Emissions Estimator'!C70,IF(AND('Emissions Estimator'!C70=\"\",'Emissions Estimator'!C15<>\"\"),'Emissions Estimator'!C15,MIN('Emissions Estimator'!C15,'Emissions Estimator'!C70))))","v":""},{"$f":"IF(AND(B21=\"\",E21=\"\"),\"\",IF(AND(B21=\"Yes\",$F$12=\"Yes\"),\"Clean Fleet\",IF(AND(B21=\"Yes\",$F$12=\"No\"),\"Clean Fleet\",IF(AND(A21=\"Operation\",$F$12=\"No\"),$E$15-1,IF(AND(A21=\"Operation\",$F$12=\"Yes\"),E21-1,IF(AND(B21=\"No\",$F$12=\"No\"),$E$15-1,IF(AND(B21=\"No\",$F$12=\"Yes\"),E21-1)))))))","v":""},null,"NOx",null,{"$f":"('Emissions Estimator'!R70)","v":0},0,null,{"$f":"J21","v":0},null,{"$f":"IF(ISTEXT('Fee Estimator'!$F21),0,IF('Fee Estimator'!$F21=\"\",0,IF($F$12=\"No\",0,IF(O$14=YEAR('Fee Estimator'!$F21),'Fee Estimator'!$M21,0))))","v":0},{"$f":"IF(ISTEXT('Fee Estimator'!$F21),0,IF('Fee Estimator'!$F21=\"\",0,IF($F$12=\"No\",0,IF(P$14=YEAR('Fee Estimator'!$F21),'Fee Estimator'!$M21,0))))","v":0},{"$f":"IF(ISTEXT('Fee Estimator'!$F21),0,IF('Fee Estimator'!$F21=\"\",0,IF($F$12=\"No\",0,IF(Q$14=YEAR('Fee Estimator'!$F21),'Fee Estimator'!$M21,0))))","v":0},{"$f":"IF(ISTEXT('Fee Estimator'!$F21),0,IF('Fee Estimator'!$F21=\"\",0,IF($F$12=\"No\",0,IF(R$14=YEAR('Fee Estimator'!$F21),'Fee Estimator'!$M21,0))))","v":0},{"$f":"IF(ISTEXT('Fee Estimator'!$F21),0,IF('Fee Estimator'!$F21=\"\",0,IF($F$12=\"No\",0,IF(S$14=YEAR('Fee Estimator'!$F21),'Fee Estimator'!$M21,0))))","v":0},{"$f":"IF(ISTEXT('Fee Estimator'!$F21),0,IF('Fee Estimator'!$F21=\"\",0,IF($F$12=\"No\",0,IF(T$14=YEAR('Fee Estimator'!$F21),'Fee Estimator'!$M21,0))))","v":0},{"$f":"IF(ISTEXT('Fee Estimator'!$F21),0,IF('Fee Estimator'!$F21=\"\",0,IF($F$12=\"No\",0,IF(U$14=YEAR('Fee Estimator'!$F21),'Fee Estimator'!$M21,0))))","v":0},{"$f":"IF(ISTEXT('Fee Estimator'!$F21),0,IF('Fee Estimator'!$F21=\"\",0,IF($F$12=\"No\",0,IF(V$14=YEAR('Fee Estimator'!$F21),'Fee Estimator'!$M21,0))))","v":0},{"$f":"IF(ISTEXT('Fee Estimator'!$F21),0,IF('Fee Estimator'!$F21=\"\",0,IF($F$12=\"No\",0,IF(W$14=YEAR('Fee Estimator'!$F21),'Fee Estimator'!$M21,0))))","v":0},{"$f":"IF(ISTEXT('Fee Estimator'!$F21),0,IF('Fee Estimator'!$F21=\"\",0,IF($F$12=\"No\",0,IF(X$14=YEAR('Fee Estimator'!$F21),'Fee Estimator'!$M21,0))))","v":0},{"$f":"IF(ISTEXT('Fee Estimator'!$F21),0,IF('Fee Estimator'!$F21=\"\",0,IF($F$12=\"No\",0,IF(Y$14=YEAR('Fee Estimator'!$F21),'Fee Estimator'!$M21,0))))","v":0},{"$f":"IF(ISTEXT('Fee Estimator'!$F21),0,IF('Fee Estimator'!$F21=\"\",0,IF($F$12=\"No\",0,IF(Z$14=YEAR('Fee Estimator'!$F21),'Fee Estimator'!$M21,0))))","v":0},{"$f":"IF(ISTEXT('Fee Estimator'!$F21),0,IF('Fee Estimator'!$F21=\"\",0,IF($F$12=\"No\",0,IF(AA$14=YEAR('Fee Estimator'!$F21),'Fee Estimator'!$M21,0))))","v":0},{"$f":"IF(ISTEXT('Fee Estimator'!$F21),0,IF('Fee Estimator'!$F21=\"\",0,IF($F$12=\"No\",0,IF(AB$14=YEAR('Fee Estimator'!$F21),'Fee Estimator'!$M21,0))))","v":0},{"$f":"IF(ISTEXT('Fee Estimator'!$F21),0,IF('Fee Estimator'!$F21=\"\",0,IF($F$12=\"No\",0,IF(AC$14=YEAR('Fee Estimator'!$F21),'Fee Estimator'!$M21,0))))","v":0},{"$f":"IF(ISTEXT('Fee Estimator'!$F21),0,IF('Fee Estimator'!$F21=\"\",0,IF($F$12=\"No\",0,IF(AD$14=YEAR('Fee Estimator'!$F21),'Fee Estimator'!$M21,0))))","v":0},{"$f":"IF(ISTEXT('Fee Estimator'!$F21),0,IF('Fee Estimator'!$F21=\"\",0,IF($F$12=\"No\",0,IF(AE$14=YEAR('Fee Estimator'!$F21),'Fee Estimator'!$M21,0))))","v":0},{"$f":"IF(ISTEXT('Fee Estimator'!$F21),0,IF('Fee Estimator'!$F21=\"\",0,IF($F$12=\"No\",0,IF(AF$14=YEAR('Fee Estimator'!$F21),'Fee Estimator'!$M21,0))))","v":0},{"$f":"IF(ISTEXT('Fee Estimator'!$F21),0,IF('Fee Estimator'!$F21=\"\",0,IF($F$12=\"No\",0,IF(AG$14=YEAR('Fee Estimator'!$F21),'Fee Estimator'!$M21,0))))","v":0},{"$f":"IF(ISTEXT('Fee Estimator'!$F21),0,IF('Fee Estimator'!$F21=\"\",0,IF($F$12=\"No\",0,IF(AH$14=YEAR('Fee Estimator'!$F21),'Fee Estimator'!$M21,0))))","v":0},{"$f":"IF(ISTEXT('Fee Estimator'!$F21),0,IF('Fee Estimator'!$F21=\"\",0,IF($F$12=\"No\",0,IF(AI$14=YEAR('Fee Estimator'!$F21),'Fee Estimator'!$M21,0))))","v":0}]
[null,null,null,null,null,null,null,"PM10",null,{"$f":"('Emissions Estimator'!S70)","v":0},0,null,0,null,{"$f":"IF(ISTEXT('Fee Estimator'!$F21),0,IF('Fee Estimator'!$F21=\"\",0,IF($F$12=\"No\",0,IF(O$14=YEAR('Fee Estimator'!$F21),'Fee Estimator'!$M22,0))))","v":0},{"$f":"IF(ISTEXT('Fee Estimator'!$F21),0,IF('Fee Estimator'!$F21=\"\",0,IF($F$12=\"No\",0,IF(P$14=YEAR('Fee Estimator'!$F21),'Fee Estimator'!$M22,0))))","v":0},{"$f":"IF(ISTEXT('Fee Estimator'!$F21),0,IF('Fee Estimator'!$F21=\"\",0,IF($F$12=\"No\",0,IF(Q$14=YEAR('Fee Estimator'!$F21),'Fee Estimator'!$M22,0))))","v":0},{"$f":"IF(ISTEXT('Fee Estimator'!$F21),0,IF('Fee Estimator'!$F21=\"\",0,IF($F$12=\"No\",0,IF(R$14=YEAR('Fee Estimator'!$F21),'Fee Estimator'!$M22,0))))","v":0},{"$f":"IF(ISTEXT('Fee Estimator'!$F21),0,IF('Fee Estimator'!$F21=\"\",0,IF($F$12=\"No\",0,IF(S$14=YEAR('Fee Estimator'!$F21),'Fee Estimator'!$M22,0))))","v":0},{"$f":"IF(ISTEXT('Fee Estimator'!$F21),0,IF('Fee Estimator'!$F21=\"\",0,IF($F$12=\"No\",0,IF(T$14=YEAR('Fee Estimator'!$F21),'Fee Estimator'!$M22,0))))","v":0},{"$f":"IF(ISTEXT('Fee Estimator'!$F21),0,IF('Fee Estimator'!$F21=\"\",0,IF($F$12=\"No\",0,IF(U$14=YEAR('Fee Estimator'!$F21),'Fee Estimator'!$M22,0))))","v":0},{"$f":"IF(ISTEXT('Fee Estimator'!$F21),0,IF('Fee Estimator'!$F21=\"\",0,IF($F$12=\"No\",0,IF(V$14=YEAR('Fee Estimator'!$F21),'Fee Estimator'!$M22,0))))","v":0},{"$f":"IF(ISTEXT('Fee Estimator'!$F21),0,IF('Fee Estimator'!$F21=\"\",0,IF($F$12=\"No\",0,IF(W$14=YEAR('Fee Estimator'!$F21),'Fee Estimator'!$M22,0))))","v":0},{"$f":"IF(ISTEXT('Fee Estimator'!$F21),0,IF('Fee Estimator'!$F21=\"\",0,IF($F$12=\"No\",0,IF(X$14=YEAR('Fee Estimator'!$F21),'Fee Estimator'!$M22,0))))","v":0},{"$f":"IF(ISTEXT('Fee Estimator'!$F21),0,IF('Fee Estimator'!$F21=\"\",0,IF($F$12=\"No\",0,IF(Y$14=YEAR('Fee Estimator'!$F21),'Fee Estimator'!$M22,0))))","v":0},{"$f":"IF(ISTEXT('Fee Estimator'!$F21),0,IF('Fee Estimator'!$F21=\"\",0,IF($F$12=\"No\",0,IF(Z$14=YEAR('Fee Estimator'!$F21),'Fee Estimator'!$M22,0))))","v":0},{"$f":"IF(ISTEXT('Fee Estimator'!$F21),0,IF('Fee Estimator'!$F21=\"\",0,IF($F$12=\"No\",0,IF(AA$14=YEAR('Fee Estimator'!$F21),'Fee Estimator'!$M22,0))))","v":0},{"$f":"IF(ISTEXT('Fee Estimator'!$F21),0,IF('Fee Estimator'!$F21=\"\",0,IF($F$12=\"No\",0,IF(AB$14=YEAR('Fee Estimator'!$F21),'Fee Estimator'!$M22,0))))","v":0},{"$f":"IF(ISTEXT('Fee Estimator'!$F21),0,IF('Fee Estimator'!$F21=\"\",0,IF($F$12=\"No\",0,IF(AC$14=YEAR('Fee Estimator'!$F21),'Fee Estimator'!$M22,0))))","v":0},{"$f":"IF(ISTEXT('Fee Estimator'!$F21),0,IF('Fee Estimator'!$F21=\"\",0,IF($F$12=\"No\",0,IF(AD$14=YEAR('Fee Estimator'!$F21),'Fee Estimator'!$M22,0))))","v":0},{"$f":"IF(ISTEXT('Fee Estimator'!$F21),0,IF('Fee Estimator'!$F21=\"\",0,IF($F$12=\"No\",0,IF(AE$14=YEAR('Fee Estimator'!$F21),'Fee Estimator'!$M22,0))))","v":0},{"$f":"IF(ISTEXT('Fee Estimator'!$F21),0,IF('Fee Estimator'!$F21=\"\",0,IF($F$12=\"No\",0,IF(AF$14=YEAR('Fee Estimator'!$F21),'Fee Estimator'!$M22,0))))","v":0},{"$f":"IF(ISTEXT('Fee Estimator'!$F21),0,IF('Fee Estimator'!$F21=\"\",0,IF($F$12=\"No\",0,IF(AG$14=YEAR('Fee Estimator'!$F21),'Fee Estimator'!$M22,0))))","v":0},{"$f":"IF(ISTEXT('Fee Estimator'!$F21),0,IF('Fee Estimator'!$F21=\"\",0,IF($F$12=\"No\",0,IF(AH$14=YEAR('Fee Estimator'!$F21),'Fee Estimator'!$M22,0))))","v":0},{"$f":"IF(ISTEXT('Fee Estimator'!$F21),0,IF('Fee Estimator'!$F21=\"\",0,IF($F$12=\"No\",0,IF(AI$14=YEAR('Fee Estimator'!$F21),'Fee Estimator'!$M22,0))))","v":0}]
[{"$f":"IF(AND('Emissions Estimator'!$A16=\"\",'Emissions Estimator'!$A71=\"\"),\"\",IF(AND('Emissions Estimator'!$A16=\"\",'Emissions Estimator'!$A71<>\"\"),\"Operation\",IF(AND('Emissions Estimator'!$A71=\"\",'Emissions Estimator'!$A16<>\"\"),\"Construction\",MIN('Emissions Estimator'!$A16,'Emissions Estimator'!$A71))))","v":""},{"$f":"IF(A23=\"\",\"\",IF(AND(A23=\"Construction\",'Emissions Estimator'!$O$9=\"No\"),\"No\",IF(AND(A23=\"Construction\",'Emissions Estimator'!$O$9=\"Yes\"),\"Yes\",IF(A23=\"Operation\",\"\"))))","v":""},{"$f":"IF(AND('Emissions Estimator'!$A16=\"\",'Emissions Estimator'!$A71=\"\"),\"\",IF(AND('Emissions Estimator'!$A16=\"\",'Emissions Estimator'!$A71<>\"\"),'Emissions Estimator'!$A71,IF(AND('Emissions Estimator'!$A71=\"\",'Emissions Estimator'!$A16<>\"\"),'Emissions Estimator'!$A16,MIN('Emissions Estimator'!$A16,'Emissions Estimator'!$A71))))","v":""},5,{"$f":"IF(AND('Emissions Estimator'!C16=\"\",'Emissions Estimator'!C71=\"\"),\"\",IF(AND('Emissions Estimator'!C16=\"\",'Emissions Estimator'!C71<>\"\"),'Emissions Estimator'!C71,IF(AND('Emissions Estimator'!C71=\"\",'Emissions Estimator'!C16<>\"\"),'Emissions Estimator'!C16,MIN('Emissions Estimator'!C16,'Emissions Estimator'!C71))))","v":""},{"$f":"IF(AND(B23=\"\",E23=\"\"),\"\",IF(AND(B23=\"Yes\",$F$12=\"Yes\"),\"Clean Fleet\",IF(AND(B23=\"Yes\",$F$12=\"No\"),\"Clean Fleet\",IF(AND(A23=\"Operation\",$F$12=\"No\"),$E$15-1,IF(AND(A23=\"Operation\",$F$12=\"Yes\"),E23-1,IF(AND(B23=\"No\",$F$12=\"No\"),$E$15-1,IF(AND(B23=\"No\",$F$12=\"Yes\"),E23-1)))))))","v":""},null,"NOx",null,{"$f":"('Emissions Estimator'!R71)","v":0},0,null,0,null,{"$f":"IF(ISTEXT('Fee Estimator'!$F23),0,IF('Fee Estimator'!$F23=\"\",0,IF($F$12=\"No\",0,IF(O$14=YEAR('Fee Estimator'!$F23),'Fee Estimator'!$M23,0))))","v":0},{"$f":"IF(ISTEXT('Fee Estimator'!$F23),0,IF('Fee Estimator'!$F23=\"\",0,IF($F$12=\"No\",0,IF(P$14=YEAR('Fee Estimator'!$F23),'Fee Estimator'!$M23,0))))","v":0},{"$f":"IF(ISTEXT('Fee Estimator'!$F23),0,IF('Fee Estimator'!$F23=\"\",0,IF($F$12=\"No\",0,IF(Q$14=YEAR('Fee Estimator'!$F23),'Fee Estimator'!$M23,0))))","v":0},{"$f":"IF(ISTEXT('Fee Estimator'!$F23),0,IF('Fee Estimator'!$F23=\"\",0,IF($F$12=\"No\",0,IF(R$14=YEAR('Fee Estimator'!$F23),'Fee Estimator'!$M23,0))))","v":0},{"$f":"IF(ISTEXT('Fee Estimator'!$F23),0,IF('Fee Estimator'!$F23=\"\",0,IF($F$12=\"No\",0,IF(S$14=YEAR('Fee Estimator'!$F23),'Fee Estimator'!$M23,0))))","v":0},{"$f":"IF(ISTEXT('Fee Estimator'!$F23),0,IF('Fee Estimator'!$F23=\"\",0,IF($F$12=\"No\",0,IF(T$14=YEAR('Fee Estimator'!$F23),'Fee Estimator'!$M23,0))))","v":0},{"$f":"IF(ISTEXT('Fee Estimator'!$F23),0,IF('Fee Estimator'!$F23=\"\",0,IF($F$12=\"No\",0,IF(U$14=YEAR('Fee Estimator'!$F23),'Fee Estimator'!$M23,0))))","v":0},{"$f":"IF(ISTEXT('Fee Estimator'!$F23),0,IF('Fee Estimator'!$F23=\"\",0,IF($F$12=\"No\",0,IF(V$14=YEAR('Fee Estimator'!$F23),'Fee Estimator'!$M23,0))))","v":0},{"$f":"IF(ISTEXT('Fee Estimator'!$F23),0,IF('Fee Estimator'!$F23=\"\",0,IF($F$12=\"No\",0,IF(W$14=YEAR('Fee Estimator'!$F23),'Fee Estimator'!$M23,0))))","v":0},{"$f":"IF(ISTEXT('Fee Estimator'!$F23),0,IF('Fee Estimator'!$F23=\"\",0,IF($F$12=\"No\",0,IF(X$14=YEAR('Fee Estimator'!$F23),'Fee Estimator'!$M23,0))))","v":0},{"$f":"IF(ISTEXT('Fee Estimator'!$F23),0,IF('Fee Estimator'!$F23=\"\",0,IF($F$12=\"No\",0,IF(Y$14=YEAR('Fee Estimator'!$F23),'Fee Estimator'!$M23,0))))","v":0},{"$f":"IF(ISTEXT('Fee Estimator'!$F23),0,IF('Fee Estimator'!$F23=\"\",0,IF($F$12=\"No\",0,IF(Z$14=YEAR('Fee Estimator'!$F23),'Fee Estimator'!$M23,0))))","v":0},{"$f":"IF(ISTEXT('Fee Estimator'!$F23),0,IF('Fee Estimator'!$F23=\"\",0,IF($F$12=\"No\",0,IF(AA$14=YEAR('Fee Estimator'!$F23),'Fee Estimator'!$M23,0))))","v":0},{"$f":"IF(ISTEXT('Fee Estimator'!$F23),0,IF('Fee Estimator'!$F23=\"\",0,IF($F$12=\"No\",0,IF(AB$14=YEAR('Fee Estimator'!$F23),'Fee Estimator'!$M23,0))))","v":0},{"$f":"IF(ISTEXT('Fee Estimator'!$F23),0,IF('Fee Estimator'!$F23=\"\",0,IF($F$12=\"No\",0,IF(AC$14=YEAR('Fee Estimator'!$F23),'Fee Estimator'!$M23,0))))","v":0},{"$f":"IF(ISTEXT('Fee Estimator'!$F23),0,IF('Fee Estimator'!$F23=\"\",0,IF($F$12=\"No\",0,IF(AD$14=YEAR('Fee Estimator'!$F23),'Fee Estimator'!$M23,0))))","v":0},{"$f":"IF(ISTEXT('Fee Estimator'!$F23),0,IF('Fee Estimator'!$F23=\"\",0,IF($F$12=\"No\",0,IF(AE$14=YEAR('Fee Estimator'!$F23),'Fee Estimator'!$M23,0))))","v":0},{"$f":"IF(ISTEXT('Fee Estimator'!$F23),0,IF('Fee Estimator'!$F23=\"\",0,IF($F$12=\"No\",0,IF(AF$14=YEAR('Fee Estimator'!$F23),'Fee Estimator'!$M23,0))))","v":0},{"$f":"IF(ISTEXT('Fee Estimator'!$F23),0,IF('Fee Estimator'!$F23=\"\",0,IF($F$12=\"No\",0,IF(AG$14=YEAR('Fee Estimator'!$F23),'Fee Estimator'!$M23,0))))","v":0},{"$f":"IF(ISTEXT('Fee Estimator'!$F23),0,IF('Fee Estimator'!$F23=\"\",0,IF($F$12=\"No\",0,IF(AH$14=YEAR('Fee Estimator'!$F23),'Fee Estimator'!$M23,0))))","v":0},{"$f":"IF(ISTEXT('Fee Estimator'!$F23),0,IF('Fee Estimator'!$F23=\"\",0,IF($F$12=\"No\",0,IF(AI$14=YEAR('Fee Estimator'!$F23),'Fee Estimator'!$M23,0))))","v":0}]
[null,null,null,null,null,null,null,"PM10",null,{"$f":"('Emissions Estimator'!S71)","v":0},0,null,0,null,{"$f":"IF(ISTEXT('Fee Estimator'!$F23),0,IF('Fee Estimator'!$F23=\"\",0,IF($F$12=\"No\",0,IF(O$14=YEAR('Fee Estimator'!$F23),'Fee Estimator'!$M24,0))))","v":0},{"$f":"IF(ISTEXT('Fee Estimator'!$F23),0,IF('Fee Estimator'!$F23=\"\",0,IF($F$12=\"No\",0,IF(P$14=YEAR('Fee Estimator'!$F23),'Fee Estimator'!$M24,0))))","v":0},{"$f":"IF(ISTEXT('Fee Estimator'!$F23),0,IF('Fee Estimator'!$F23=\"\",0,IF($F$12=\"No\",0,IF(Q$14=YEAR('Fee Estimator'!$F23),'Fee Estimator'!$M24,0))))","v":0},{"$f":"IF(ISTEXT('Fee Estimator'!$F23),0,IF('Fee Estimator'!$F23=\"\",0,IF($F$12=\"No\",0,IF(R$14=YEAR('Fee Estimator'!$F23),'Fee Estimator'!$M24,0))))","v":0},{"$f":"IF(ISTEXT('Fee Estimator'!$F23),0,IF('Fee Estimator'!$F23=\"\",0,IF($F$12=\"No\",0,IF(S$14=YEAR('Fee Estimator'!$F23),'Fee Estimator'!$M24,0))))","v":0},{"$f":"IF(ISTEXT('Fee Estimator'!$F23),0,IF('Fee Estimator'!$F23=\"\",0,IF($F$12=\"No\",0,IF(T$14=YEAR('Fee Estimator'!$F23),'Fee Estimator'!$M24,0))))","v":0},{"$f":"IF(ISTEXT('Fee Estimator'!$F23),0,IF('Fee Estimator'!$F23=\"\",0,IF($F$12=\"No\",0,IF(U$14=YEAR('Fee Estimator'!$F23),'Fee Estimator'!$M24,0))))","v":0},{"$f":"IF(ISTEXT('Fee Estimator'!$F23),0,IF('Fee Estimator'!$F23=\"\",0,IF($F$12=\"No\",0,IF(V$14=YEAR('Fee Estimator'!$F23),'Fee Estimator'!$M24,0))))","v":0},{"$f":"IF(ISTEXT('Fee Estimator'!$F23),0,IF('Fee Estimator'!$F23=\"\",0,IF($F$12=\"No\",0,IF(W$14=YEAR('Fee Estimator'!$F23),'Fee Estimator'!$M24,0))))","v":0},{"$f":"IF(ISTEXT('Fee Estimator'!$F23),0,IF('Fee Estimator'!$F23=\"\",0,IF($F$12=\"No\",0,IF(X$14=YEAR('Fee Estimator'!$F23),'Fee Estimator'!$M24,0))))","v":0},{"$f":"IF(ISTEXT('Fee Estimator'!$F23),0,IF('Fee Estimator'!$F23=\"\",0,IF($F$12=\"No\",0,IF(Y$14=YEAR('Fee Estimator'!$F23),'Fee Estimator'!$M24,0))))","v":0},{"$f":"IF(ISTEXT('Fee Estimator'!$F23),0,IF('Fee Estimator'!$F23=\"\",0,IF($F$12=\"No\",0,IF(Z$14=YEAR('Fee Estimator'!$F23),'Fee Estimator'!$M24,0))))","v":0},{"$f":"IF(ISTEXT('Fee Estimator'!$F23),0,IF('Fee Estimator'!$F23=\"\",0,IF($F$12=\"No\",0,IF(AA$14=YEAR('Fee Estimator'!$F23),'Fee Estimator'!$M24,0))))","v":0},{"$f":"IF(ISTEXT('Fee Estimator'!$F23),0,IF('Fee Estimator'!$F23=\"\",0,IF($F$12=\"No\",0,IF(AB$14=YEAR('Fee Estimator'!$F23),'Fee Estimator'!$M24,0))))","v":0},{"$f":"IF(ISTEXT('Fee Estimator'!$F23),0,IF('Fee Estimator'!$F23=\"\",0,IF($F$12=\"No\",0,IF(AC$14=YEAR('Fee Estimator'!$F23),'Fee Estimator'!$M24,0))))","v":0},{"$f":"IF(ISTEXT('Fee Estimator'!$F23),0,IF('Fee Estimator'!$F23=\"\",0,IF($F$12=\"No\",0,IF(AD$14=YEAR('Fee Estimator'!$F23),'Fee Estimator'!$M24,0))))","v":0},{"$f":"IF(ISTEXT('Fee Estimator'!$F23),0,IF('Fee Estimator'!$F23=\"\",0,IF($F$12=\"No\",0,IF(AE$14=YEAR('Fee Estimator'!$F23),'Fee Estimator'!$M24,0))))","v":0},{"$f":"IF(ISTEXT('Fee Estimator'!$F23),0,IF('Fee Estimator'!$F23=\"\",0,IF($F$12=\"No\",0,IF(AF$14=YEAR('Fee Estimator'!$F23),'Fee Estimator'!$M24,0))))","v":0},{"$f":"IF(ISTEXT('Fee Estimator'!$F23),0,IF('Fee Estimator'!$F23=\"\",0,IF($F$12=\"No\",0,IF(AG$14=YEAR('Fee Estimator'!$F23),'Fee Estimator'!$M24,0))))","v":0},{"$f":"IF(ISTEXT('Fee Estimator'!$F23),0,IF('Fee Estimator'!$F23=\"\",0,IF($F$12=\"No\",0,IF(AH$14=YEAR('Fee Estimator'!$F23),'Fee Estimator'!$M24,0))))","v":0},{"$f":"IF(ISTEXT('Fee Estimator'!$F23),0,IF('Fee Estimator'!$F23=\"\",0,IF($F$12=\"No\",0,IF(AI$14=YEAR('Fee Estimator'!$F23),'Fee Estimator'!$M24,0))))","v":0}]
[{"$f":"IF(AND('Emissions Estimator'!$A17=\"\",'Emissions Estimator'!$A72=\"\"),\"\",IF(AND('Emissions Estimator'!$A17=\"\",'Emissions Estimator'!$A72<>\"\"),\"Operation\",IF(AND('Emissions Estimator'!$A72=\"\",'Emissions Estimator'!$A17<>\"\"),\"Construction\",MIN('Emissions Estimator'!$A17,'Emissions Estimator'!$A72))))","v":""},{"$f":"IF(A25=\"\",\"\",IF(AND(A25=\"Construction\",'Emissions Estimator'!$O$9=\"No\"),\"No\",IF(AND(A25=\"Construction\",'Emissions Estimator'!$O$9=\"Yes\"),\"Yes\",IF(A25=\"Operation\",\"\"))))","v":""},{"$f":"IF(AND('Emissions Estimator'!$A17=\"\",'Emissions Estimator'!$A72=\"\"),\"\",IF(AND('Emissions Estimator'!$A17=\"\",'Emissions Estimator'!$A72<>\"\"),'Emissions Estimator'!$A72,IF(AND('Emissions Estimator'!$A72=\"\",'Emissions Estimator'!$A17<>\"\"),'Emissions Estimator'!$A17,MIN('Emissions Estimator'!$A17,'Emissions Estimator'!$A72))))","v":""},6,{"$f":"IF(AND('Emissions Estimator'!C17=\"\",'Emissions Estimator'!C72=\"\"),\"\",IF(AND('Emissions Estimator'!C17=\"\",'Emissions Estimator'!C72<>\"\"),'Emissions Estimator'!C72,IF(AND('Emissions Estimator'!C72=\"\",'Emissions Estimator'!C17<>\"\"),'Emissions Estimator'!C17,MIN('Emissions Estimator'!C17,'Emissions Estimator'!C72))))","v":""},{"$f":"IF(AND(B25=\"\",E25=\"\"),\"\",IF(AND(B25=\"Yes\",$F$12=\"Yes\"),\"Clean Fleet\",IF(AND(B25=\"Yes\",$F$12=\"No\"),\"Clean Fleet\",IF(AND(A25=\"Operation\",$F$12=\"No\"),$E$15-1,IF(AND(A25=\"Operation\",$F$12=\"Yes\"),E25-1,IF(AND(B25=\"No\",$F$12=\"No\"),$E$15-1,IF(AND(B25=\"No\",$F$12=\"Yes\"),E25-1)))))))","v":""},null,"NOx",null,{"$f":"('Emissions Estimator'!R72)","v":0},{"$f":"IF(SUM(Q25:AI25)<J25,J25-SUM(Q25:AI25),IF(SUM(Q25:AI25)>J25,J25-SUM(Q25:AI25),SUM(Q25:AI25)))","v":0},null,{"$f":"J25","v":0},null,{"$f":"IF(ISTEXT('Fee Estimator'!$F25),0,IF('Fee Estimator'!$F25=\"\",0,IF($F$12=\"No\",0,IF(O$14=YEAR('Fee Estimator'!$F25),'Fee Estimator'!$M25,0))))","v":0},{"$f":"IF(ISTEXT('Fee Estimator'!$F25),0,IF('Fee Estimator'!$F25=\"\",0,IF($F$12=\"No\",0,IF(P$14=YEAR('Fee Estimator'!$F25),'Fee Estimator'!$M25,0))))","v":0},{"$f":"IF(ISTEXT('Fee Estimator'!$F25),0,IF('Fee Estimator'!$F25=\"\",0,IF($F$12=\"No\",0,IF(Q$14=YEAR('Fee Estimator'!$F25),'Fee Estimator'!$M25,0))))","v":0},{"$f":"IF(ISTEXT('Fee Estimator'!$F25),0,IF('Fee Estimator'!$F25=\"\",0,IF($F$12=\"No\",0,IF(R$14=YEAR('Fee Estimator'!$F25),'Fee Estimator'!$M25,0))))","v":0},{"$f":"IF(ISTEXT('Fee Estimator'!$F25),0,IF('Fee Estimator'!$F25=\"\",0,IF($F$12=\"No\",0,IF(S$14=YEAR('Fee Estimator'!$F25),'Fee Estimator'!$M25,0))))","v":0},{"$f":"IF(ISTEXT('Fee Estimator'!$F25),0,IF('Fee Estimator'!$F25=\"\",0,IF($F$12=\"No\",0,IF(T$14=YEAR('Fee Estimator'!$F25),'Fee Estimator'!$M25,0))))","v":0},{"$f":"IF(ISTEXT('Fee Estimator'!$F25),0,IF('Fee Estimator'!$F25=\"\",0,IF($F$12=\"No\",0,IF(U$14=YEAR('Fee Estimator'!$F25),'Fee Estimator'!$M25,0))))","v":0},{"$f":"IF(ISTEXT('Fee Estimator'!$F25),0,IF('Fee Estimator'!$F25=\"\",0,IF($F$12=\"No\",0,IF(V$14=YEAR('Fee Estimator'!$F25),'Fee Estimator'!$M25,0))))","v":0},{"$f":"IF(ISTEXT('Fee Estimator'!$F25),0,IF('Fee Estimator'!$F25=\"\",0,IF($F$12=\"No\",0,IF(W$14=YEAR('Fee Estimator'!$F25),'Fee Estimator'!$M25,0))))","v":0},{"$f":"IF(ISTEXT('Fee Estimator'!$F25),0,IF('Fee Estimator'!$F25=\"\",0,IF($F$12=\"No\",0,IF(X$14=YEAR('Fee Estimator'!$F25),'Fee Estimator'!$M25,0))))","v":0},{"$f":"IF(ISTEXT('Fee Estimator'!$F25),0,IF('Fee Estimator'!$F25=\"\",0,IF($F$12=\"No\",0,IF(Y$14=YEAR('Fee Estimator'!$F25),'Fee Estimator'!$M25,0))))","v":0},{"$f":"IF(ISTEXT('Fee Estimator'!$F25),0,IF('Fee Estimator'!$F25=\"\",0,IF($F$12=\"No\",0,IF(Z$14=YEAR('Fee Estimator'!$F25),'Fee Estimator'!$M25,0))))","v":0},{"$f":"IF(ISTEXT('Fee Estimator'!$F25),0,IF('Fee Estimator'!$F25=\"\",0,IF($F$12=\"No\",0,IF(AA$14=YEAR('Fee Estimator'!$F25),'Fee Estimator'!$M25,0))))","v":0},{"$f":"IF(ISTEXT('Fee Estimator'!$F25),0,IF('Fee Estimator'!$F25=\"\",0,IF($F$12=\"No\",0,IF(AB$14=YEAR('Fee Estimator'!$F25),'Fee Estimator'!$M25,0))))","v":0},{"$f":"IF(ISTEXT('Fee Estimator'!$F25),0,IF('Fee Estimator'!$F25=\"\",0,IF($F$12=\"No\",0,IF(AC$14=YEAR('Fee Estimator'!$F25),'Fee Estimator'!$M25,0))))","v":0},{"$f":"IF(ISTEXT('Fee Estimator'!$F25),0,IF('Fee Estimator'!$F25=\"\",0,IF($F$12=\"No\",0,IF(AD$14=YEAR('Fee Estimator'!$F25),'Fee Estimator'!$M25,0))))","v":0},{"$f":"IF(ISTEXT('Fee Estimator'!$F25),0,IF('Fee Estimator'!$F25=\"\",0,IF($F$12=\"No\",0,IF(AE$14=YEAR('Fee Estimator'!$F25),'Fee Estimator'!$M25,0))))","v":0},{"$f":"IF(ISTEXT('Fee Estimator'!$F25),0,IF('Fee Estimator'!$F25=\"\",0,IF($F$12=\"No\",0,IF(AF$14=YEAR('Fee Estimator'!$F25),'Fee Estimator'!$M25,0))))","v":0},{"$f":"IF(ISTEXT('Fee Estimator'!$F25),0,IF('Fee Estimator'!$F25=\"\",0,IF($F$12=\"No\",0,IF(AG$14=YEAR('Fee Estimator'!$F25),'Fee Estimator'!$M25,0))))","v":0},{"$f":"IF(ISTEXT('Fee Estimator'!$F25),0,IF('Fee Estimator'!$F25=\"\",0,IF($F$12=\"No\",0,IF(AH$14=YEAR('Fee Estimator'!$F25),'Fee Estimator'!$M25,0))))","v":0},{"$f":"IF(ISTEXT('Fee Estimator'!$F25),0,IF('Fee Estimator'!$F25=\"\",0,IF($F$12=\"No\",0,IF(AI$14=YEAR('Fee Estimator'!$F25),'Fee Estimator'!$M25,0))))","v":0}]
[null,null,null,null,null,null,null,"PM10",null,{"$f":"('Emissions Estimator'!S72)","v":0},0,null,0,null,{"$f":"IF(ISTEXT('Fee Estimator'!$F25),0,IF('Fee Estimator'!$F25=\"\",0,IF($F$12=\"No\",0,IF(O$14=YEAR('Fee Estimator'!$F25),'Fee Estimator'!$M26,0))))","v":0},{"$f":"IF(ISTEXT('Fee Estimator'!$F25),0,IF('Fee Estimator'!$F25=\"\",0,IF($F$12=\"No\",0,IF(P$14=YEAR('Fee Estimator'!$F25),'Fee Estimator'!$M26,0))))","v":0},{"$f":"IF(ISTEXT('Fee Estimator'!$F25),0,IF('Fee Estimator'!$F25=\"\",0,IF($F$12=\"No\",0,IF(Q$14=YEAR('Fee Estimator'!$F25),'Fee Estimator'!$M26,0))))","v":0},{"$f":"IF(ISTEXT('Fee Estimator'!$F25),0,IF('Fee Estimator'!$F25=\"\",0,IF($F$12=\"No\",0,IF(R$14=YEAR('Fee Estimator'!$F25),'Fee Estimator'!$M26,0))))","v":0},{"$f":"IF(ISTEXT('Fee Estimator'!$F25),0,IF('Fee Estimator'!$F25=\"\",0,IF($F$12=\"No\",0,IF(S$14=YEAR('Fee Estimator'!$F25),'Fee Estimator'!$M26,0))))","v":0},{"$f":"IF(ISTEXT('Fee Estimator'!$F25),0,IF('Fee Estimator'!$F25=\"\",0,IF($F$12=\"No\",0,IF(T$14=YEAR('Fee Estimator'!$F25),'Fee Estimator'!$M26,0))))","v":0},{"$f":"IF(ISTEXT('Fee Estimator'!$F25),0,IF('Fee Estimator'!$F25=\"\",0,IF($F$12=\"No\",0,IF(U$14=YEAR('Fee Estimator'!$F25),'Fee Estimator'!$M26,0))))","v":0},{"$f":"IF(ISTEXT('Fee Estimator'!$F25),0,IF('Fee Estimator'!$F25=\"\",0,IF($F$12=\"No\",0,IF(V$14=YEAR('Fee Estimator'!$F25),'Fee Estimator'!$M26,0))))","v":0},{"$f":"IF(ISTEXT('Fee Estimator'!$F25),0,IF('Fee Estimator'!$F25=\"\",0,IF($F$12=\"No\",0,IF(W$14=YEAR('Fee Estimator'!$F25),'Fee Estimator'!$M26,0))))","v":0},{"$f":"IF(ISTEXT('Fee Estimator'!$F25),0,IF('Fee Estimator'!$F25=\"\",0,IF($F$12=\"No\",0,IF(X$14=YEAR('Fee Estimator'!$F25),'Fee Estimator'!$M26,0))))","v":0},{"$f":"IF(ISTEXT('Fee Estimator'!$F25),0,IF('Fee Estimator'!$F25=\"\",0,IF($F$12=\"No\",0,IF(Y$14=YEAR('Fee Estimator'!$F25),'Fee Estimator'!$M26,0))))","v":0},{"$f":"IF(ISTEXT('Fee Estimator'!$F25),0,IF('Fee Estimator'!$F25=\"\",0,IF($F$12=\"No\",0,IF(Z$14=YEAR('Fee Estimator'!$F25),'Fee Estimator'!$M26,0))))","v":0},{"$f":"IF(ISTEXT('Fee Estimator'!$F25),0,IF('Fee Estimator'!$F25=\"\",0,IF($F$12=\"No\",0,IF(AA$14=YEAR('Fee Estimator'!$F25),'Fee Estimator'!$M26,0))))","v":0},{"$f":"IF(ISTEXT('Fee Estimator'!$F25),0,IF('Fee Estimator'!$F25=\"\",0,IF($F$12=\"No\",0,IF(AB$14=YEAR('Fee Estimator'!$F25),'Fee Estimator'!$M26,0))))","v":0},{"$f":"IF(ISTEXT('Fee Estimator'!$F25),0,IF('Fee Estimator'!$F25=\"\",0,IF($F$12=\"No\",0,IF(AC$14=YEAR('Fee Estimator'!$F25),'Fee Estimator'!$M26,0))))","v":0},{"$f":"IF(ISTEXT('Fee Estimator'!$F25),0,IF('Fee Estimator'!$F25=\"\",0,IF($F$12=\"No\",0,IF(AD$14=YEAR('Fee Estimator'!$F25),'Fee Estimator'!$M26,0))))","v":0},{"$f":"IF(ISTEXT('Fee Estimator'!$F25),0,IF('Fee Estimator'!$F25=\"\",0,IF($F$12=\"No\",0,IF(AE$14=YEAR('Fee Estimator'!$F25),'Fee Estimator'!$M26,0))))","v":0},{"$f":"IF(ISTEXT('Fee Estimator'!$F25),0,IF('Fee Estimator'!$F25=\"\",0,IF($F$12=\"No\",0,IF(AF$14=YEAR('Fee Estimator'!$F25),'Fee Estimator'!$M26,0))))","v":0},{"$f":"IF(ISTEXT('Fee Estimator'!$F25),0,IF('Fee Estimator'!$F25=\"\",0,IF($F$12=\"No\",0,IF(AG$14=YEAR('Fee Estimator'!$F25),'Fee Estimator'!$M26,0))))","v":0},{"$f":"IF(ISTEXT('Fee Estimator'!$F25),0,IF('Fee Estimator'!$F25=\"\",0,IF($F$12=\"No\",0,IF(AH$14=YEAR('Fee Estimator'!$F25),'Fee Estimator'!$M26,0))))","v":0},{"$f":"IF(ISTEXT('Fee Estimator'!$F25),0,IF('Fee Estimator'!$F25=\"\",0,IF($F$12=\"No\",0,IF(AI$14=YEAR('Fee Estimator'!$F25),'Fee Estimator'!$M26,0))))","v":0}]
[{"$f":"IF(AND('Emissions Estimator'!$A18=\"\",'Emissions Estimator'!$A73=\"\"),\"\",IF(AND('Emissions Estimator'!$A18=\"\",'Emissions Estimator'!$A73<>\"\"),\"Operation\",IF(AND('Emissions Estimator'!$A73=\"\",'Emissions Estimator'!$A18<>\"\"),\"Construction\",MIN('Emissions Estimator'!$A18,'Emissions Estimator'!$A73))))","v":""},{"$f":"IF(A27=\"\",\"\",IF(AND(A27=\"Construction\",'Emissions Estimator'!$O$9=\"No\"),\"No\",IF(AND(A27=\"Construction\",'Emissions Estimator'!$O$9=\"Yes\"),\"Yes\",IF(A27=\"Operation\",\"\"))))","v":""},{"$f":"IF(AND('Emissions Estimator'!$A18=\"\",'Emissions Estimator'!$A73=\"\"),\"\",IF(AND('Emissions Estimator'!$A18=\"\",'Emissions Estimator'!$A73<>\"\"),'Emissions Estimator'!$A73,IF(AND('Emissions Estimator'!$A73=\"\",'Emissions Estimator'!$A18<>\"\"),'Emissions Estimator'!$A18,MIN('Emissions Estimator'!$A18,'Emissions Estimator'!$A73))))","v":""},7,{"$f":"IF(AND('Emissions Estimator'!C18=\"\",'Emissions Estimator'!C73=\"\"),\"\",IF(AND('Emissions Estimator'!C18=\"\",'Emissions Estimator'!C73<>\"\"),'Emissions Estimator'!C73,IF(AND('Emissions Estimator'!C73=\"\",'Emissions Estimator'!C18<>\"\"),'Emissions Estimator'!C18,MIN('Emissions Estimator'!C18,'Emissions Estimator'!C73))))","v":""},{"$f":"IF(AND(B27=\"\",E27=\"\"),\"\",IF(AND(B27=\"Yes\",$F$12=\"Yes\"),\"Clean Fleet\",IF(AND(B27=\"Yes\",$F$12=\"No\"),\"Clean Fleet\",IF(AND(A27=\"Operation\",$F$12=\"No\"),$E$15-1,IF(AND(A27=\"Operation\",$F$12=\"Yes\"),E27-1,IF(AND(B27=\"No\",$F$12=\"No\"),$E$15-1,IF(AND(B27=\"No\",$F$12=\"Yes\"),E27-1)))))))","v":""},null,"NOx",null,{"$f":"('Emissions Estimator'!R73)","v":0},0,null,0,null,{"$f":"IF(ISTEXT('Fee Estimator'!$F27),0,IF('Fee Estimator'!$F27=\"\",0,IF($F$12=\"No\",0,IF(O$14=YEAR('Fee Estimator'!$F27),'Fee Estimator'!$M27,0))))","v":0},{"$f":"IF(ISTEXT('Fee Estimator'!$F27),0,IF('Fee Estimator'!$F27=\"\",0,IF($F$12=\"No\",0,IF(P$14=YEAR('Fee Estimator'!$F27),'Fee Estimator'!$M27,0))))","v":0},{"$f":"IF(ISTEXT('Fee Estimator'!$F27),0,IF('Fee Estimator'!$F27=\"\",0,IF($F$12=\"No\",0,IF(Q$14=YEAR('Fee Estimator'!$F27),'Fee Estimator'!$M27,0))))","v":0},{"$f":"IF(ISTEXT('Fee Estimator'!$F27),0,IF('Fee Estimator'!$F27=\"\",0,IF($F$12=\"No\",0,IF(R$14=YEAR('Fee Estimator'!$F27),'Fee Estimator'!$M27,0))))","v":0},{"$f":"IF(ISTEXT('Fee Estimator'!$F27),0,IF('Fee Estimator'!$F27=\"\",0,IF($F$12=\"No\",0,IF(S$14=YEAR('Fee Estimator'!$F27),'Fee Estimator'!$M27,0))))","v":0},{"$f":"IF(ISTEXT('Fee Estimator'!$F27),0,IF('Fee Estimator'!$F27=\"\",0,IF($F$12=\"No\",0,IF(T$14=YEAR('Fee Estimator'!$F27),'Fee Estimator'!$M27,0))))","v":0},{"$f":"IF(ISTEXT('Fee Estimator'!$F27),0,IF('Fee Estimator'!$F27=\"\",0,IF($F$12=\"No\",0,IF(U$14=YEAR('Fee Estimator'!$F27),'Fee Estimator'!$M27,0))))","v":0},{"$f":"IF(ISTEXT('Fee Estimator'!$F27),0,IF('Fee Estimator'!$F27=\"\",0,IF($F$12=\"No\",0,IF(V$14=YEAR('Fee Estimator'!$F27),'Fee Estimator'!$M27,0))))","v":0},{"$f":"IF(ISTEXT('Fee Estimator'!$F27),0,IF('Fee Estimator'!$F27=\"\",0,IF($F$12=\"No\",0,IF(W$14=YEAR('Fee Estimator'!$F27),'Fee Estimator'!$M27,0))))","v":0},{"$f":"IF(ISTEXT('Fee Estimator'!$F27),0,IF('Fee Estimator'!$F27=\"\",0,IF($F$12=\"No\",0,IF(X$14=YEAR('Fee Estimator'!$F27),'Fee Estimator'!$M27,0))))","v":0},{"$f":"IF(ISTEXT('Fee Estimator'!$F27),0,IF('Fee Estimator'!$F27=\"\",0,IF($F$12=\"No\",0,IF(Y$14=YEAR('Fee Estimator'!$F27),'Fee Estimator'!$M27,0))))","v":0},{"$f":"IF(ISTEXT('Fee Estimator'!$F27),0,IF('Fee Estimator'!$F27=\"\",0,IF($F$12=\"No\",0,IF(Z$14=YEAR('Fee Estimator'!$F27),'Fee Estimator'!$M27,0))))","v":0},{"$f":"IF(ISTEXT('Fee Estimator'!$F27),0,IF('Fee Estimator'!$F27=\"\",0,IF($F$12=\"No\",0,IF(AA$14=YEAR('Fee Estimator'!$F27),'Fee Estimator'!$M27,0))))","v":0},{"$f":"IF(ISTEXT('Fee Estimator'!$F27),0,IF('Fee Estimator'!$F27=\"\",0,IF($F$12=\"No\",0,IF(AB$14=YEAR('Fee Estimator'!$F27),'Fee Estimator'!$M27,0))))","v":0},{"$f":"IF(ISTEXT('Fee Estimator'!$F27),0,IF('Fee Estimator'!$F27=\"\",0,IF($F$12=\"No\",0,IF(AC$14=YEAR('Fee Estimator'!$F27),'Fee Estimator'!$M27,0))))","v":0},{"$f":"IF(ISTEXT('Fee Estimator'!$F27),0,IF('Fee Estimator'!$F27=\"\",0,IF($F$12=\"No\",0,IF(AD$14=YEAR('Fee Estimator'!$F27),'Fee Estimator'!$M27,0))))","v":0},{"$f":"IF(ISTEXT('Fee Estimator'!$F27),0,IF('Fee Estimator'!$F27=\"\",0,IF($F$12=\"No\",0,IF(AE$14=YEAR('Fee Estimator'!$F27),'Fee Estimator'!$M27,0))))","v":0},{"$f":"IF(ISTEXT('Fee Estimator'!$F27),0,IF('Fee Estimator'!$F27=\"\",0,IF($F$12=\"No\",0,IF(AF$14=YEAR('Fee Estimator'!$F27),'Fee Estimator'!$M27,0))))","v":0},{"$f":"IF(ISTEXT('Fee Estimator'!$F27),0,IF('Fee Estimator'!$F27=\"\",0,IF($F$12=\"No\",0,IF(AG$14=YEAR('Fee Estimator'!$F27),'Fee Estimator'!$M27,0))))","v":0},{"$f":"IF(ISTEXT('Fee Estimator'!$F27),0,IF('Fee Estimator'!$F27=\"\",0,IF($F$12=\"No\",0,IF(AH$14=YEAR('Fee Estimator'!$F27),'Fee Estimator'!$M27,0))))","v":0},{"$f":"IF(ISTEXT('Fee Estimator'!$F27),0,IF('Fee Estimator'!$F27=\"\",0,IF($F$12=\"No\",0,IF(AI$14=YEAR('Fee Estimator'!$F27),'Fee Estimator'!$M27,0))))","v":0}]
[null,null,null,null,null,null,null,"PM10",null,{"$f":"('Emissions Estimator'!S73)","v":0},0,null,0,null,{"$f":"IF(ISTEXT('Fee Estimator'!$F27),0,IF('Fee Estimator'!$F27=\"\",0,IF($F$12=\"No\",0,IF(O$14=YEAR('Fee Estimator'!$F27),'Fee Estimator'!$M28,0))))","v":0},{"$f":"IF(ISTEXT('Fee Estimator'!$F27),0,IF('Fee Estimator'!$F27=\"\",0,IF($F$12=\"No\",0,IF(P$14=YEAR('Fee Estimator'!$F27),'Fee Estimator'!$M28,0))))","v":0},{"$f":"IF(ISTEXT('Fee Estimator'!$F27),0,IF('Fee Estimator'!$F27=\"\",0,IF($F$12=\"No\",0,IF(Q$14=YEAR('Fee Estimator'!$F27),'Fee Estimator'!$M28,0))))","v":0},{"$f":"IF(ISTEXT('Fee Estimator'!$F27),0,IF('Fee Estimator'!$F27=\"\",0,IF($F$12=\"No\",0,IF(R$14=YEAR('Fee Estimator'!$F27),'Fee Estimator'!$M28,0))))","v":0},{"$f":"IF(ISTEXT('Fee Estimator'!$F27),0,IF('Fee Estimator'!$F27=\"\",0,IF($F$12=\"No\",0,IF(S$14=YEAR('Fee Estimator'!$F27),'Fee Estimator'!$M28,0))))","v":0},{"$f":"IF(ISTEXT('Fee Estimator'!$F27),0,IF('Fee Estimator'!$F27=\"\",0,IF($F$12=\"No\",0,IF(T$14=YEAR('Fee Estimator'!$F27),'Fee Estimator'!$M28,0))))","v":0},{"$f":"IF(ISTEXT('Fee Estimator'!$F27),0,IF('Fee Estimator'!$F27=\"\",0,IF($F$12=\"No\",0,IF(U$14=YEAR('Fee Estimator'!$F27),'Fee Estimator'!$M28,0))))","v":0},{"$f":"IF(ISTEXT('Fee Estimator'!$F27),0,IF('Fee Estimator'!$F27=\"\",0,IF($F$12=\"No\",0,IF(V$14=YEAR('Fee Estimator'!$F27),'Fee Estimator'!$M28,0))))","v":0},{"$f":"IF(ISTEXT('Fee Estimator'!$F27),0,IF('Fee Estimator'!$F27=\"\",0,IF($F$12=\"No\",0,IF(W$14=YEAR('Fee Estimator'!$F27),'Fee Estimator'!$M28,0))))","v":0},{"$f":"IF(ISTEXT('Fee Estimator'!$F27),0,IF('Fee Estimator'!$F27=\"\",0,IF($F$12=\"No\",0,IF(X$14=YEAR('Fee Estimator'!$F27),'Fee Estimator'!$M28,0))))","v":0},{"$f":"IF(ISTEXT('Fee Estimator'!$F27),0,IF('Fee Estimator'!$F27=\"\",0,IF($F$12=\"No\",0,IF(Y$14=YEAR('Fee Estimator'!$F27),'Fee Estimator'!$M28,0))))","v":0},{"$f":"IF(ISTEXT('Fee Estimator'!$F27),0,IF('Fee Estimator'!$F27=\"\",0,IF($F$12=\"No\",0,IF(Z$14=YEAR('Fee Estimator'!$F27),'Fee Estimator'!$M28,0))))","v":0},{"$f":"IF(ISTEXT('Fee Estimator'!$F27),0,IF('Fee Estimator'!$F27=\"\",0,IF($F$12=\"No\",0,IF(AA$14=YEAR('Fee Estimator'!$F27),'Fee Estimator'!$M28,0))))","v":0},{"$f":"IF(ISTEXT('Fee Estimator'!$F27),0,IF('Fee Estimator'!$F27=\"\",0,IF($F$12=\"No\",0,IF(AB$14=YEAR('Fee Estimator'!$F27),'Fee Estimator'!$M28,0))))","v":0},{"$f":"IF(ISTEXT('Fee Estimator'!$F27),0,IF('Fee Estimator'!$F27=\"\",0,IF($F$12=\"No\",0,IF(AC$14=YEAR('Fee Estimator'!$F27),'Fee Estimator'!$M28,0))))","v":0},{"$f":"IF(ISTEXT('Fee Estimator'!$F27),0,IF('Fee Estimator'!$F27=\"\",0,IF($F$12=\"No\",0,IF(AD$14=YEAR('Fee Estimator'!$F27),'Fee Estimator'!$M28,0))))","v":0},{"$f":"IF(ISTEXT('Fee Estimator'!$F27),0,IF('Fee Estimator'!$F27=\"\",0,IF($F$12=\"No\",0,IF(AE$14=YEAR('Fee Estimator'!$F27),'Fee Estimator'!$M28,0))))","v":0},{"$f":"IF(ISTEXT('Fee Estimator'!$F27),0,IF('Fee Estimator'!$F27=\"\",0,IF($F$12=\"No\",0,IF(AF$14=YEAR('Fee Estimator'!$F27),'Fee Estimator'!$M28,0))))","v":0},{"$f":"IF(ISTEXT('Fee Estimator'!$F27),0,IF('Fee Estimator'!$F27=\"\",0,IF($F$12=\"No\",0,IF(AG$14=YEAR('Fee Estimator'!$F27),'Fee Estimator'!$M28,0))))","v":0},{"$f":"IF(ISTEXT('Fee Estimator'!$F27),0,IF('Fee Estimator'!$F27=\"\",0,IF($F$12=\"No\",0,IF(AH$14=YEAR('Fee Estimator'!$F27),'Fee Estimator'!$M28,0))))","v":0},{"$f":"IF(ISTEXT('Fee Estimator'!$F27),0,IF('Fee Estimator'!$F27=\"\",0,IF($F$12=\"No\",0,IF(AI$14=YEAR('Fee Estimator'!$F27),'Fee Estimator'!$M28,0))))","v":0}]
[{"$f":"IF(AND('Emissions Estimator'!$A19=\"\",'Emissions Estimator'!$A74=\"\"),\"\",IF(AND('Emissions Estimator'!$A19=\"\",'Emissions Estimator'!$A74<>\"\"),\"Operation\",IF(AND('Emissions Estimator'!$A74=\"\",'Emissions Estimator'!$A19<>\"\"),\"Construction\",MIN('Emissions Estimator'!$A19,'Emissions Estimator'!$A74))))","v":""},{"$f":"IF(A29=\"\",\"\",IF(AND(A29=\"Construction\",'Emissions Estimator'!$O$9=\"No\"),\"No\",IF(AND(A29=\"Construction\",'Emissions Estimator'!$O$9=\"Yes\"),\"Yes\",IF(A29=\"Operation\",\"\"))))","v":""},{"$f":"IF(AND('Emissions Estimator'!$A19=\"\",'Emissions Estimator'!$A74=\"\"),\"\",IF(AND('Emissions Estimator'!$A19=\"\",'Emissions Estimator'!$A74<>\"\"),'Emissions Estimator'!$A74,IF(AND('Emissions Estimator'!$A74=\"\",'Emissions Estimator'!$A19<>\"\"),'Emissions Estimator'!$A19,MIN('Emissions Estimator'!$A19,'Emissions Estimator'!$A74))))","v":""},8,{"$f":"IF(AND('Emissions Estimator'!C19=\"\",'Emissions Estimator'!C74=\"\"),\"\",IF(AND('Emissions Estimator'!C19=\"\",'Emissions Estimator'!C74<>\"\"),'Emissions Estimator'!C74,IF(AND('Emissions Estimator'!C74=\"\",'Emissions Estimator'!C19<>\"\"),'Emissions Estimator'!C19,MIN('Emissions Estimator'!C19,'Emissions Estimator'!C74))))","v":""},{"$f":"IF(AND(B29=\"\",E29=\"\"),\"\",IF(AND(B29=\"Yes\",$F$12=\"Yes\"),\"Clean Fleet\",IF(AND(B29=\"Yes\",$F$12=\"No\"),\"Clean Fleet\",IF(AND(A29=\"Operation\",$F$12=\"No\"),$E$15-1,IF(AND(A29=\"Operation\",$F$12=\"Yes\"),E29-1,IF(AND(B29=\"No\",$F$12=\"No\"),$E$15-1,IF(AND(B29=\"No\",$F$12=\"Yes\"),E29-1)))))))","v":""},null,"NOx",null,{"$f":"('Emissions Estimator'!R74)","v":0},0,null,{"$f":"J29","v":0},null,{"$f":"IF(ISTEXT('Fee Estimator'!$F29),0,IF('Fee Estimator'!$F29=\"\",0,IF($F$12=\"No\",0,IF(O$14=YEAR('Fee Estimator'!$F29),'Fee Estimator'!$M29,0))))","v":0},{"$f":"IF(ISTEXT('Fee Estimator'!$F29),0,IF('Fee Estimator'!$F29=\"\",0,IF($F$12=\"No\",0,IF(P$14=YEAR('Fee Estimator'!$F29),'Fee Estimator'!$M29,0))))","v":0},{"$f":"IF(ISTEXT('Fee Estimator'!$F29),0,IF('Fee Estimator'!$F29=\"\",0,IF($F$12=\"No\",0,IF(Q$14=YEAR('Fee Estimator'!$F29),'Fee Estimator'!$M29,0))))","v":0},{"$f":"IF(ISTEXT('Fee Estimator'!$F29),0,IF('Fee Estimator'!$F29=\"\",0,IF($F$12=\"No\",0,IF(R$14=YEAR('Fee Estimator'!$F29),'Fee Estimator'!$M29,0))))","v":0},{"$f":"IF(ISTEXT('Fee Estimator'!$F29),0,IF('Fee Estimator'!$F29=\"\",0,IF($F$12=\"No\",0,IF(S$14=YEAR('Fee Estimator'!$F29),'Fee Estimator'!$M29,0))))","v":0},{"$f":"IF(ISTEXT('Fee Estimator'!$F29),0,IF('Fee Estimator'!$F29=\"\",0,IF($F$12=\"No\",0,IF(T$14=YEAR('Fee Estimator'!$F29),'Fee Estimator'!$M29,0))))","v":0},{"$f":"IF(ISTEXT('Fee Estimator'!$F29),0,IF('Fee Estimator'!$F29=\"\",0,IF($F$12=\"No\",0,IF(U$14=YEAR('Fee Estimator'!$F29),'Fee Estimator'!$M29,0))))","v":0},{"$f":"IF(ISTEXT('Fee Estimator'!$F29),0,IF('Fee Estimator'!$F29=\"\",0,IF($F$12=\"No\",0,IF(V$14=YEAR('Fee Estimator'!$F29),'Fee Estimator'!$M29,0))))","v":0},{"$f":"IF(ISTEXT('Fee Estimator'!$F29),0,IF('Fee Estimator'!$F29=\"\",0,IF($F$12=\"No\",0,IF(W$14=YEAR('Fee Estimator'!$F29),'Fee Estimator'!$M29,0))))","v":0},{"$f":"IF(ISTEXT('Fee Estimator'!$F29),0,IF('Fee Estimator'!$F29=\"\",0,IF($F$12=\"No\",0,IF(X$14=YEAR('Fee Estimator'!$F29),'Fee Estimator'!$M29,0))))","v":0},{"$f":"IF(ISTEXT('Fee Estimator'!$F29),0,IF('Fee Estimator'!$F29=\"\",0,IF($F$12=\"No\",0,IF(Y$14=YEAR('Fee Estimator'!$F29),'Fee Estimator'!$M29,0))))","v":0},{"$f":"IF(ISTEXT('Fee Estimator'!$F29),0,IF('Fee Estimator'!$F29=\"\",0,IF($F$12=\"No\",0,IF(Z$14=YEAR('Fee Estimator'!$F29),'Fee Estimator'!$M29,0))))","v":0},{"$f":"IF(ISTEXT('Fee Estimator'!$F29),0,IF('Fee Estimator'!$F29=\"\",0,IF($F$12=\"No\",0,IF(AA$14=YEAR('Fee Estimator'!$F29),'Fee Estimator'!$M29,0))))","v":0},{"$f":"IF(ISTEXT('Fee Estimator'!$F29),0,IF('Fee Estimator'!$F29=\"\",0,IF($F$12=\"No\",0,IF(AB$14=YEAR('Fee Estimator'!$F29),'Fee Estimator'!$M29,0))))","v":0},{"$f":"IF(ISTEXT('Fee Estimator'!$F29),0,IF('Fee Estimator'!$F29=\"\",0,IF($F$12=\"No\",0,IF(AC$14=YEAR('Fee Estimator'!$F29),'Fee Estimator'!$M29,0))))","v":0},{"$f":"IF(ISTEXT('Fee Estimator'!$F29),0,IF('Fee Estimator'!$F29=\"\",0,IF($F$12=\"No\",0,IF(AD$14=YEAR('Fee Estimator'!$F29),'Fee Estimator'!$M29,0))))","v":0},{"$f":"IF(ISTEXT('Fee Estimator'!$F29),0,IF('Fee Estimator'!$F29=\"\",0,IF($F$12=\"No\",0,IF(AE$14=YEAR('Fee Estimator'!$F29),'Fee Estimator'!$M29,0))))","v":0},{"$f":"IF(ISTEXT('Fee Estimator'!$F29),0,IF('Fee Estimator'!$F29=\"\",0,IF($F$12=\"No\",0,IF(AF$14=YEAR('Fee Estimator'!$F29),'Fee Estimator'!$M29,0))))","v":0},{"$f":"IF(ISTEXT('Fee Estimator'!$F29),0,IF('Fee Estimator'!$F29=\"\",0,IF($F$12=\"No\",0,IF(AG$14=YEAR('Fee Estimator'!$F29),'Fee Estimator'!$M29,0))))","v":0},{"$f":"IF(ISTEXT('Fee Estimator'!$F29),0,IF('Fee Estimator'!$F29=\"\",0,IF($F$12=\"No\",0,IF(AH$14=YEAR('Fee Estimator'!$F29),'Fee Estimator'!$M29,0))))","v":0},{"$f":"IF(ISTEXT('Fee Estimator'!$F29),0,IF('Fee Estimator'!$F29=\"\",0,IF($F$12=\"No\",0,IF(AI$14=YEAR('Fee Estimator'!$F29),'Fee Estimator'!$M29,0))))","v":0}]
[null,null,null,null,null,null,null,"PM10",null,{"$f":"('Emissions Estimator'!S74)","v":0},0,null,0,null,{"$f":"IF(ISTEXT('Fee Estimator'!$F29),0,IF('Fee Estimator'!$F29=\"\",0,IF($F$12=\"No\",0,IF(O$14=YEAR('Fee Estimator'!$F29),'Fee Estimator'!$M30,0))))","v":0},{"$f":"IF(ISTEXT('Fee Estimator'!$F29),0,IF('Fee Estimator'!$F29=\"\",0,IF($F$12=\"No\",0,IF(P$14=YEAR('Fee Estimator'!$F29),'Fee Estimator'!$M30,0))))","v":0},{"$f":"IF(ISTEXT('Fee Estimator'!$F29),0,IF('Fee Estimator'!$F29=\"\",0,IF($F$12=\"No\",0,IF(Q$14=YEAR('Fee Estimator'!$F29),'Fee Estimator'!$M30,0))))","v":0},{"$f":"IF(ISTEXT('Fee Estimator'!$F29),0,IF('Fee Estimator'!$F29=\"\",0,IF($F$12=\"No\",0,IF(R$14=YEAR('Fee Estimator'!$F29),'Fee Estimator'!$M30,0))))","v":0},{"$f":"IF(ISTEXT('Fee Estimator'!$F29),0,IF('Fee Estimator'!$F29=\"\",0,IF($F$12=\"No\",0,IF(S$14=YEAR('Fee Estimator'!$F29),'Fee Estimator'!$M30,0))))","v":0},{"$f":"IF(ISTEXT('Fee Estimator'!$F29),0,IF('Fee Estimator'!$F29=\"\",0,IF($F$12=\"No\",0,IF(T$14=YEAR('Fee Estimator'!$F29),'Fee Estimator'!$M30,0))))","v":0},{"$f":"IF(ISTEXT('Fee Estimator'!$F29),0,IF('Fee Estimator'!$F29=\"\",0,IF($F$12=\"No\",0,IF(U$14=YEAR('Fee Estimator'!$F29),'Fee Estimator'!$M30,0))))","v":0},{"$f":"IF(ISTEXT('Fee Estimator'!$F29),0,IF('Fee Estimator'!$F29=\"\",0,IF($F$12=\"No\",0,IF(V$14=YEAR('Fee Estimator'!$F29),'Fee Estimator'!$M30,0))))","v":0},{"$f":"IF(ISTEXT('Fee Estimator'!$F29),0,IF('Fee Estimator'!$F29=\"\",0,IF($F$12=\"No\",0,IF(W$14=YEAR('Fee Estimator'!$F29),'Fee Estimator'!$M30,0))))","v":0},{"$f":"IF(ISTEXT('Fee Estimator'!$F29),0,IF('Fee Estimator'!$F29=\"\",0,IF($F$12=\"No\",0,IF(X$14=YEAR('Fee Estimator'!$F29),'Fee Estimator'!$M30,0))))","v":0},{"$f":"IF(ISTEXT('Fee Estimator'!$F29),0,IF('Fee Estimator'!$F29=\"\",0,IF($F$12=\"No\",0,IF(Y$14=YEAR('Fee Estimator'!$F29),'Fee Estimator'!$M30,0))))","v":0},{"$f":"IF(ISTEXT('Fee Estimator'!$F29),0,IF('Fee Estimator'!$F29=\"\",0,IF($F$12=\"No\",0,IF(Z$14=YEAR('Fee Estimator'!$F29),'Fee Estimator'!$M30,0))))","v":0},{"$f":"IF(ISTEXT('Fee Estimator'!$F29),0,IF('Fee Estimator'!$F29=\"\",0,IF($F$12=\"No\",0,IF(AA$14=YEAR('Fee Estimator'!$F29),'Fee Estimator'!$M30,0))))","v":0},{"$f":"IF(ISTEXT('Fee Estimator'!$F29),0,IF('Fee Estimator'!$F29=\"\",0,IF($F$12=\"No\",0,IF(AB$14=YEAR('Fee Estimator'!$F29),'Fee Estimator'!$M30,0))))","v":0},{"$f":"IF(ISTEXT('Fee Estimator'!$F29),0,IF('Fee Estimator'!$F29=\"\",0,IF($F$12=\"No\",0,IF(AC$14=YEAR('Fee Estimator'!$F29),'Fee Estimator'!$M30,0))))","v":0},{"$f":"IF(ISTEXT('Fee Estimator'!$F29),0,IF('Fee Estimator'!$F29=\"\",0,IF($F$12=\"No\",0,IF(AD$14=YEAR('Fee Estimator'!$F29),'Fee Estimator'!$M30,0))))","v":0},{"$f":"IF(ISTEXT('Fee Estimator'!$F29),0,IF('Fee Estimator'!$F29=\"\",0,IF($F$12=\"No\",0,IF(AE$14=YEAR('Fee Estimator'!$F29),'Fee Estimator'!$M30,0))))","v":0},{"$f":"IF(ISTEXT('Fee Estimator'!$F29),0,IF('Fee Estimator'!$F29=\"\",0,IF($F$12=\"No\",0,IF(AF$14=YEAR('Fee Estimator'!$F29),'Fee Estimator'!$M30,0))))","v":0},{"$f":"IF(ISTEXT('Fee Estimator'!$F29),0,IF('Fee Estimator'!$F29=\"\",0,IF($F$12=\"No\",0,IF(AG$14=YEAR('Fee Estimator'!$F29),'Fee Estimator'!$M30,0))))","v":0},{"$f":"IF(ISTEXT('Fee Estimator'!$F29),0,IF('Fee Estimator'!$F29=\"\",0,IF($F$12=\"No\",0,IF(AH$14=YEAR('Fee Estimator'!$F29),'Fee Estimator'!$M30,0))))","v":0},{"$f":"IF(ISTEXT('Fee Estimator'!$F29),0,IF('Fee Estimator'!$F29=\"\",0,IF($F$12=\"No\",0,IF(AI$14=YEAR('Fee Estimator'!$F29),'Fee Estimator'!$M30,0))))","v":0}]
[{"$f":"IF(AND('Emissions Estimator'!$A20=\"\",'Emissions Estimator'!$A75=\"\"),\"\",IF(AND('Emissions Estimator'!$A20=\"\",'Emissions Estimator'!$A75<>\"\"),\"Operation\",IF(AND('Emissions Estimator'!$A75=\"\",'Emissions Estimator'!$A20<>\"\"),\"Construction\",MIN('Emissions Estimator'!$A20,'Emissions Estimator'!$A75))))","v":""},{"$f":"IF(A31=\"\",\"\",IF(AND(A31=\"Construction\",'Emissions Estimator'!$O$9=\"No\"),\"No\",IF(AND(A31=\"Construction\",'Emissions Estimator'!$O$9=\"Yes\"),\"Yes\",IF(A31=\"Operation\",\"\"))))","v":""},{"$f":"IF(AND('Emissions Estimator'!$A20=\"\",'Emissions Estimator'!$A75=\"\"),\"\",IF(AND('Emissions Estimator'!$A20=\"\",'Emissions Estimator'!$A75<>\"\"),'Emissions Estimator'!$A75,IF(AND('Emissions Estimator'!$A75=\"\",'Emissions Estimator'!$A20<>\"\"),'Emissions Estimator'!$A20,MIN('Emissions Estimator'!$A20,'Emissions Estimator'!$A75))))","v":""},9,{"$f":"IF(AND('Emissions Estimator'!C20=\"\",'Emissions Estimator'!C75=\"\"),\"\",IF(AND('Emissions Estimator'!C20=\"\",'Emissions Estimator'!C75<>\"\"),'Emissions Estimator'!C75,IF(AND('Emissions Estimator'!C75=\"\",'Emissions Estimator'!C20<>\"\"),'Emissions Estimator'!C20,MIN('Emissions Estimator'!C20,'Emissions Estimator'!C75))))","v":""},{"$f":"IF(AND(B31=\"\",E31=\"\"),\"\",IF(AND(B31=\"Yes\",$F$12=\"Yes\"),\"Clean Fleet\",IF(AND(B31=\"Yes\",$F$12=\"No\"),\"Clean Fleet\",IF(AND(A31=\"Operation\",$F$12=\"No\"),$E$15-1,IF(AND(A31=\"Operation\",$F$12=\"Yes\"),E31-1,IF(AND(B31=\"No\",$F$12=\"No\"),$E$15-1,IF(AND(B31=\"No\",$F$12=\"Yes\"),E31-1)))))))","v":""},null,"NOx",null,{"$f":"('Emissions Estimator'!R75)","v":0},0,null,0,null,{"$f":"IF(ISTEXT('Fee Estimator'!$F31),0,IF('Fee Estimator'!$F31=\"\",0,IF($F$12=\"No\",0,IF(O$14=YEAR('Fee Estimator'!$F31),'Fee Estimator'!$M31,0))))","v":0},{"$f":"IF(ISTEXT('Fee Estimator'!$F31),0,IF('Fee Estimator'!$F31=\"\",0,IF($F$12=\"No\",0,IF(P$14=YEAR('Fee Estimator'!$F31),'Fee Estimator'!$M31,0))))","v":0},{"$f":"IF(ISTEXT('Fee Estimator'!$F31),0,IF('Fee Estimator'!$F31=\"\",0,IF($F$12=\"No\",0,IF(Q$14=YEAR('Fee Estimator'!$F31),'Fee Estimator'!$M31,0))))","v":0},{"$f":"IF(ISTEXT('Fee Estimator'!$F31),0,IF('Fee Estimator'!$F31=\"\",0,IF($F$12=\"No\",0,IF(R$14=YEAR('Fee Estimator'!$F31),'Fee Estimator'!$M31,0))))","v":0},{"$f":"IF(ISTEXT('Fee Estimator'!$F31),0,IF('Fee Estimator'!$F31=\"\",0,IF($F$12=\"No\",0,IF(S$14=YEAR('Fee Estimator'!$F31),'Fee Estimator'!$M31,0))))","v":0},{"$f":"IF(ISTEXT('Fee Estimator'!$F31),0,IF('Fee Estimator'!$F31=\"\",0,IF($F$12=\"No\",0,IF(T$14=YEAR('Fee Estimator'!$F31),'Fee Estimator'!$M31,0))))","v":0},{"$f":"IF(ISTEXT('Fee Estimator'!$F31),0,IF('Fee Estimator'!$F31=\"\",0,IF($F$12=\"No\",0,IF(U$14=YEAR('Fee Estimator'!$F31),'Fee Estimator'!$M31,0))))","v":0},{"$f":"IF(ISTEXT('Fee Estimator'!$F31),0,IF('Fee Estimator'!$F31=\"\",0,IF($F$12=\"No\",0,IF(V$14=YEAR('Fee Estimator'!$F31),'Fee Estimator'!$M31,0))))","v":0},{"$f":"IF(ISTEXT('Fee Estimator'!$F31),0,IF('Fee Estimator'!$F31=\"\",0,IF($F$12=\"No\",0,IF(W$14=YEAR('Fee Estimator'!$F31),'Fee Estimator'!$M31,0))))","v":0},{"$f":"IF(ISTEXT('Fee Estimator'!$F31),0,IF('Fee Estimator'!$F31=\"\",0,IF($F$12=\"No\",0,IF(X$14=YEAR('Fee Estimator'!$F31),'Fee Estimator'!$M31,0))))","v":0},{"$f":"IF(ISTEXT('Fee Estimator'!$F31),0,IF('Fee Estimator'!$F31=\"\",0,IF($F$12=\"No\",0,IF(Y$14=YEAR('Fee Estimator'!$F31),'Fee Estimator'!$M31,0))))","v":0},{"$f":"IF(ISTEXT('Fee Estimator'!$F31),0,IF('Fee Estimator'!$F31=\"\",0,IF($F$12=\"No\",0,IF(Z$14=YEAR('Fee Estimator'!$F31),'Fee Estimator'!$M31,0))))","v":0},{"$f":"IF(ISTEXT('Fee Estimator'!$F31),0,IF('Fee Estimator'!$F31=\"\",0,IF($F$12=\"No\",0,IF(AA$14=YEAR('Fee Estimator'!$F31),'Fee Estimator'!$M31,0))))","v":0},{"$f":"IF(ISTEXT('Fee Estimator'!$F31),0,IF('Fee Estimator'!$F31=\"\",0,IF($F$12=\"No\",0,IF(AB$14=YEAR('Fee Estimator'!$F31),'Fee Estimator'!$M31,0))))","v":0},{"$f":"IF(ISTEXT('Fee Estimator'!$F31),0,IF('Fee Estimator'!$F31=\"\",0,IF($F$12=\"No\",0,IF(AC$14=YEAR('Fee Estimator'!$F31),'Fee Estimator'!$M31,0))))","v":0},{"$f":"IF(ISTEXT('Fee Estimator'!$F31),0,IF('Fee Estimator'!$F31=\"\",0,IF($F$12=\"No\",0,IF(AD$14=YEAR('Fee Estimator'!$F31),'Fee Estimator'!$M31,0))))","v":0},{"$f":"IF(ISTEXT('Fee Estimator'!$F31),0,IF('Fee Estimator'!$F31=\"\",0,IF($F$12=\"No\",0,IF(AE$14=YEAR('Fee Estimator'!$F31),'Fee Estimator'!$M31,0))))","v":0},{"$f":"IF(ISTEXT('Fee Estimator'!$F31),0,IF('Fee Estimator'!$F31=\"\",0,IF($F$12=\"No\",0,IF(AF$14=YEAR('Fee Estimator'!$F31),'Fee Estimator'!$M31,0))))","v":0},{"$f":"IF(ISTEXT('Fee Estimator'!$F31),0,IF('Fee Estimator'!$F31=\"\",0,IF($F$12=\"No\",0,IF(AG$14=YEAR('Fee Estimator'!$F31),'Fee Estimator'!$M31,0))))","v":0},{"$f":"IF(ISTEXT('Fee Estimator'!$F31),0,IF('Fee Estimator'!$F31=\"\",0,IF($F$12=\"No\",0,IF(AH$14=YEAR('Fee Estimator'!$F31),'Fee Estimator'!$M31,0))))","v":0},{"$f":"IF(ISTEXT('Fee Estimator'!$F31),0,IF('Fee Estimator'!$F31=\"\",0,IF($F$12=\"No\",0,IF(AI$14=YEAR('Fee Estimator'!$F31),'Fee Estimator'!$M31,0))))","v":0}]
[null,null,null,null,null,null,null,"PM10",null,{"$f":"('Emissions Estimator'!S75)","v":0},0,null,0,null,{"$f":"IF(ISTEXT('Fee Estimator'!$F31),0,IF('Fee Estimator'!$F31=\"\",0,IF($F$12=\"No\",0,IF(O$14=YEAR('Fee Estimator'!$F31),'Fee Estimator'!$M32,0))))","v":0},{"$f":"IF(ISTEXT('Fee Estimator'!$F31),0,IF('Fee Estimator'!$F31=\"\",0,IF($F$12=\"No\",0,IF(P$14=YEAR('Fee Estimator'!$F31),'Fee Estimator'!$M32,0))))","v":0},{"$f":"IF(ISTEXT('Fee Estimator'!$F31),0,IF('Fee Estimator'!$F31=\"\",0,IF($F$12=\"No\",0,IF(Q$14=YEAR('Fee Estimator'!$F31),'Fee Estimator'!$M32,0))))","v":0},{"$f":"IF(ISTEXT('Fee Estimator'!$F31),0,IF('Fee Estimator'!$F31=\"\",0,IF($F$12=\"No\",0,IF(R$14=YEAR('Fee Estimator'!$F31),'Fee Estimator'!$M32,0))))","v":0},{"$f":"IF(ISTEXT('Fee Estimator'!$F31),0,IF('Fee Estimator'!$F31=\"\",0,IF($F$12=\"No\",0,IF(S$14=YEAR('Fee Estimator'!$F31),'Fee Estimator'!$M32,0))))","v":0},{"$f":"IF(ISTEXT('Fee Estimator'!$F31),0,IF('Fee Estimator'!$F31=\"\",0,IF($F$12=\"No\",0,IF(T$14=YEAR('Fee Estimator'!$F31),'Fee Estimator'!$M32,0))))","v":0},{"$f":"IF(ISTEXT('Fee Estimator'!$F31),0,IF('Fee Estimator'!$F31=\"\",0,IF($F$12=\"No\",0,IF(U$14=YEAR('Fee Estimator'!$F31),'Fee Estimator'!$M32,0))))","v":0},{"$f":"IF(ISTEXT('Fee Estimator'!$F31),0,IF('Fee Estimator'!$F31=\"\",0,IF($F$12=\"No\",0,IF(V$14=YEAR('Fee Estimator'!$F31),'Fee Estimator'!$M32,0))))","v":0},{"$f":"IF(ISTEXT('Fee Estimator'!$F31),0,IF('Fee Estimator'!$F31=\"\",0,IF($F$12=\"No\",0,IF(W$14=YEAR('Fee Estimator'!$F31),'Fee Estimator'!$M32,0))))","v":0},{"$f":"IF(ISTEXT('Fee Estimator'!$F31),0,IF('Fee Estimator'!$F31=\"\",0,IF($F$12=\"No\",0,IF(X$14=YEAR('Fee Estimator'!$F31),'Fee Estimator'!$M32,0))))","v":0},{"$f":"IF(ISTEXT('Fee Estimator'!$F31),0,IF('Fee Estimator'!$F31=\"\",0,IF($F$12=\"No\",0,IF(Y$14=YEAR('Fee Estimator'!$F31),'Fee Estimator'!$M32,0))))","v":0},{"$f":"IF(ISTEXT('Fee Estimator'!$F31),0,IF('Fee Estimator'!$F31=\"\",0,IF($F$12=\"No\",0,IF(Z$14=YEAR('Fee Estimator'!$F31),'Fee Estimator'!$M32,0))))","v":0},{"$f":"IF(ISTEXT('Fee Estimator'!$F31),0,IF('Fee Estimator'!$F31=\"\",0,IF($F$12=\"No\",0,IF(AA$14=YEAR('Fee Estimator'!$F31),'Fee Estimator'!$M32,0))))","v":0},{"$f":"IF(ISTEXT('Fee Estimator'!$F31),0,IF('Fee Estimator'!$F31=\"\",0,IF($F$12=\"No\",0,IF(AB$14=YEAR('Fee Estimator'!$F31),'Fee Estimator'!$M32,0))))","v":0},{"$f":"IF(ISTEXT('Fee Estimator'!$F31),0,IF('Fee Estimator'!$F31=\"\",0,IF($F$12=\"No\",0,IF(AC$14=YEAR('Fee Estimator'!$F31),'Fee Estimator'!$M32,0))))","v":0},{"$f":"IF(ISTEXT('Fee Estimator'!$F31),0,IF('Fee Estimator'!$F31=\"\",0,IF($F$12=\"No\",0,IF(AD$14=YEAR('Fee Estimator'!$F31),'Fee Estimator'!$M32,0))))","v":0},{"$f":"IF(ISTEXT('Fee Estimator'!$F31),0,IF('Fee Estimator'!$F31=\"\",0,IF($F$12=\"No\",0,IF(AE$14=YEAR('Fee Estimator'!$F31),'Fee Estimator'!$M32,0))))","v":0},{"$f":"IF(ISTEXT('Fee Estimator'!$F31),0,IF('Fee Estimator'!$F31=\"\",0,IF($F$12=\"No\",0,IF(AF$14=YEAR('Fee Estimator'!$F31),'Fee Estimator'!$M32,0))))","v":0},{"$f":"IF(ISTEXT('Fee Estimator'!$F31),0,IF('Fee Estimator'!$F31=\"\",0,IF($F$12=\"No\",0,IF(AG$14=YEAR('Fee Estimator'!$F31),'Fee Estimator'!$M32,0))))","v":0},{"$f":"IF(ISTEXT('Fee Estimator'!$F31),0,IF('Fee Estimator'!$F31=\"\",0,IF($F$12=\"No\",0,IF(AH$14=YEAR('Fee Estimator'!$F31),'Fee Estimator'!$M32,0))))","v":0},{"$f":"IF(ISTEXT('Fee Estimator'!$F31),0,IF('Fee Estimator'!$F31=\"\",0,IF($F$12=\"No\",0,IF(AI$14=YEAR('Fee Estimator'!$F31),'Fee Estimator'!$M32,0))))","v":0}]
[{"$f":"IF(AND('Emissions Estimator'!$A21=\"\",'Emissions Estimator'!$A76=\"\"),\"\",IF(AND('Emissions Estimator'!$A21=\"\",'Emissions Estimator'!$A76<>\"\"),\"Operation\",IF(AND('Emissions Estimator'!$A76=\"\",'Emissions Estimator'!$A21<>\"\"),\"Construction\",MIN('Emissions Estimator'!$A21,'Emissions Estimator'!$A76))))","v":""},{"$f":"IF(A33=\"\",\"\",IF(AND(A33=\"Construction\",'Emissions Estimator'!$O$9=\"No\"),\"No\",IF(AND(A33=\"Construction\",'Emissions Estimator'!$O$9=\"Yes\"),\"Yes\",IF(A33=\"Operation\",\"\"))))","v":""},{"$f":"IF(AND('Emissions Estimator'!$A21=\"\",'Emissions Estimator'!$A76=\"\"),\"\",IF(AND('Emissions Estimator'!$A21=\"\",'Emissions Estimator'!$A76<>\"\"),'Emissions Estimator'!$A76,IF(AND('Emissions Estimator'!$A76=\"\",'Emissions Estimator'!$A21<>\"\"),'Emissions Estimator'!$A21,MIN('Emissions Estimator'!$A21,'Emissions Estimator'!$A76))))","v":""},10,{"$f":"IF(AND('Emissions Estimator'!C21=\"\",'Emissions Estimator'!C76=\"\"),\"\",IF(AND('Emissions Estimator'!C21=\"\",'Emissions Estimator'!C76<>\"\"),'Emissions Estimator'!C76,IF(AND('Emissions Estimator'!C76=\"\",'Emissions Estimator'!C21<>\"\"),'Emissions Estimator'!C21,MIN('Emissions Estimator'!C21,'Emissions Estimator'!C76))))","v":""},{"$f":"IF(AND(B33=\"\",E33=\"\"),\"\",IF(AND(B33=\"Yes\",$F$12=\"Yes\"),\"Clean Fleet\",IF(AND(B33=\"Yes\",$F$12=\"No\"),\"Clean Fleet\",IF(AND(A33=\"Operation\",$F$12=\"No\"),$E$15-1,IF(AND(A33=\"Operation\",$F$12=\"Yes\"),E33-1,IF(AND(B33=\"No\",$F$12=\"No\"),$E$15-1,IF(AND(B33=\"No\",$F$12=\"Yes\"),E33-1)))))))","v":""},null,"NOx",null,{"$f":"('Emissions Estimator'!R76)","v":0},0,null,0,null,{"$f":"IF(ISTEXT('Fee Estimator'!$F33),0,IF('Fee Estimator'!$F33=\"\",0,IF($F$12=\"No\",0,IF(O$14=YEAR('Fee Estimator'!$F33),'Fee Estimator'!$M33,0))))","v":0},{"$f":"IF(ISTEXT('Fee Estimator'!$F33),0,IF('Fee Estimator'!$F33=\"\",0,IF($F$12=\"No\",0,IF(P$14=YEAR('Fee Estimator'!$F33),'Fee Estimator'!$M33,0))))","v":0},{"$f":"IF(ISTEXT('Fee Estimator'!$F33),0,IF('Fee Estimator'!$F33=\"\",0,IF($F$12=\"No\",0,IF(Q$14=YEAR('Fee Estimator'!$F33),'Fee Estimator'!$M33,0))))","v":0},{"$f":"IF(ISTEXT('Fee Estimator'!$F33),0,IF('Fee Estimator'!$F33=\"\",0,IF($F$12=\"No\",0,IF(R$14=YEAR('Fee Estimator'!$F33),'Fee Estimator'!$M33,0))))","v":0},{"$f":"IF(ISTEXT('Fee Estimator'!$F33),0,IF('Fee Estimator'!$F33=\"\",0,IF($F$12=\"No\",0,IF(S$14=YEAR('Fee Estimator'!$F33),'Fee Estimator'!$M33,0))))","v":0},{"$f":"IF(ISTEXT('Fee Estimator'!$F33),0,IF('Fee Estimator'!$F33=\"\",0,IF($F$12=\"No\",0,IF(T$14=YEAR('Fee Estimator'!$F33),'Fee Estimator'!$M33,0))))","v":0},{"$f":"IF(ISTEXT('Fee Estimator'!$F33),0,IF('Fee Estimator'!$F33=\"\",0,IF($F$12=\"No\",0,IF(U$14=YEAR('Fee Estimator'!$F33),'Fee Estimator'!$M33,0))))","v":0},{"$f":"IF(ISTEXT('Fee Estimator'!$F33),0,IF('Fee Estimator'!$F33=\"\",0,IF($F$12=\"No\",0,IF(V$14=YEAR('Fee Estimator'!$F33),'Fee Estimator'!$M33,0))))","v":0},{"$f":"IF(ISTEXT('Fee Estimator'!$F33),0,IF('Fee Estimator'!$F33=\"\",0,IF($F$12=\"No\",0,IF(W$14=YEAR('Fee Estimator'!$F33),'Fee Estimator'!$M33,0))))","v":0},{"$f":"IF(ISTEXT('Fee Estimator'!$F33),0,IF('Fee Estimator'!$F33=\"\",0,IF($F$12=\"No\",0,IF(X$14=YEAR('Fee Estimator'!$F33),'Fee Estimator'!$M33,0))))","v":0},{"$f":"IF(ISTEXT('Fee Estimator'!$F33),0,IF('Fee Estimator'!$F33=\"\",0,IF($F$12=\"No\",0,IF(Y$14=YEAR('Fee Estimator'!$F33),'Fee Estimator'!$M33,0))))","v":0},{"$f":"IF(ISTEXT('Fee Estimator'!$F33),0,IF('Fee Estimator'!$F33=\"\",0,IF($F$12=\"No\",0,IF(Z$14=YEAR('Fee Estimator'!$F33),'Fee Estimator'!$M33,0))))","v":0},{"$f":"IF(ISTEXT('Fee Estimator'!$F33),0,IF('Fee Estimator'!$F33=\"\",0,IF($F$12=\"No\",0,IF(AA$14=YEAR('Fee Estimator'!$F33),'Fee Estimator'!$M33,0))))","v":0},{"$f":"IF(ISTEXT('Fee Estimator'!$F33),0,IF('Fee Estimator'!$F33=\"\",0,IF($F$12=\"No\",0,IF(AB$14=YEAR('Fee Estimator'!$F33),'Fee Estimator'!$M33,0))))","v":0},{"$f":"IF(ISTEXT('Fee Estimator'!$F33),0,IF('Fee Estimator'!$F33=\"\",0,IF($F$12=\"No\",0,IF(AC$14=YEAR('Fee Estimator'!$F33),'Fee Estimator'!$M33,0))))","v":0},{"$f":"IF(ISTEXT('Fee Estimator'!$F33),0,IF('Fee Estimator'!$F33=\"\",0,IF($F$12=\"No\",0,IF(AD$14=YEAR('Fee Estimator'!$F33),'Fee Estimator'!$M33,0))))","v":0},{"$f":"IF(ISTEXT('Fee Estimator'!$F33),0,IF('Fee Estimator'!$F33=\"\",0,IF($F$12=\"No\",0,IF(AE$14=YEAR('Fee Estimator'!$F33),'Fee Estimator'!$M33,0))))","v":0},{"$f":"IF(ISTEXT('Fee Estimator'!$F33),0,IF('Fee Estimator'!$F33=\"\",0,IF($F$12=\"No\",0,IF(AF$14=YEAR('Fee Estimator'!$F33),'Fee Estimator'!$M33,0))))","v":0},{"$f":"IF(ISTEXT('Fee Estimator'!$F33),0,IF('Fee Estimator'!$F33=\"\",0,IF($F$12=\"No\",0,IF(AG$14=YEAR('Fee Estimator'!$F33),'Fee Estimator'!$M33,0))))","v":0},{"$f":"IF(ISTEXT('Fee Estimator'!$F33),0,IF('Fee Estimator'!$F33=\"\",0,IF($F$12=\"No\",0,IF(AH$14=YEAR('Fee Estimator'!$F33),'Fee Estimator'!$M33,0))))","v":0},{"$f":"IF(ISTEXT('Fee Estimator'!$F33),0,IF('Fee Estimator'!$F33=\"\",0,IF($F$12=\"No\",0,IF(AI$14=YEAR('Fee Estimator'!$F33),'Fee Estimator'!$M33,0))))","v":0}]
[null,null,null,null,null,null,null,"PM10",null,{"$f":"('Emissions Estimator'!S76)","v":0},0,null,0,null,{"$f":"IF(ISTEXT('Fee Estimator'!$F33),0,IF('Fee Estimator'!$F33=\"\",0,IF($F$12=\"No\",0,IF(O$14=YEAR('Fee Estimator'!$F33),'Fee Estimator'!$M34,0))))","v":0},{"$f":"IF(ISTEXT('Fee Estimator'!$F33),0,IF('Fee Estimator'!$F33=\"\",0,IF($F$12=\"No\",0,IF(P$14=YEAR('Fee Estimator'!$F33),'Fee Estimator'!$M34,0))))","v":0},{"$f":"IF(ISTEXT('Fee Estimator'!$F33),0,IF('Fee Estimator'!$F33=\"\",0,IF($F$12=\"No\",0,IF(Q$14=YEAR('Fee Estimator'!$F33),'Fee Estimator'!$M34,0))))","v":0},{"$f":"IF(ISTEXT('Fee Estimator'!$F33),0,IF('Fee Estimator'!$F33=\"\",0,IF($F$12=\"No\",0,IF(R$14=YEAR('Fee Estimator'!$F33),'Fee Estimator'!$M34,0))))","v":0},{"$f":"IF(ISTEXT('Fee Estimator'!$F33),0,IF('Fee Estimator'!$F33=\"\",0,IF($F$12=\"No\",0,IF(S$14=YEAR('Fee Estimator'!$F33),'Fee Estimator'!$M34,0))))","v":0},{"$f":"IF(ISTEXT('Fee Estimator'!$F33),0,IF('Fee Estimator'!$F33=\"\",0,IF($F$12=\"No\",0,IF(T$14=YEAR('Fee Estimator'!$F33),'Fee Estimator'!$M34,0))))","v":0},{"$f":"IF(ISTEXT('Fee Estimator'!$F33),0,IF('Fee Estimator'!$F33=\"\",0,IF($F$12=\"No\",0,IF(U$14=YEAR('Fee Estimator'!$F33),'Fee Estimator'!$M34,0))))","v":0},{"$f":"IF(ISTEXT('Fee Estimator'!$F33),0,IF('Fee Estimator'!$F33=\"\",0,IF($F$12=\"No\",0,IF(V$14=YEAR('Fee Estimator'!$F33),'Fee Estimator'!$M34,0))))","v":0},{"$f":"IF(ISTEXT('Fee Estimator'!$F33),0,IF('Fee Estimator'!$F33=\"\",0,IF($F$12=\"No\",0,IF(W$14=YEAR('Fee Estimator'!$F33),'Fee Estimator'!$M34,0))))","v":0},{"$f":"IF(ISTEXT('Fee Estimator'!$F33),0,IF('Fee Estimator'!$F33=\"\",0,IF($F$12=\"No\",0,IF(X$14=YEAR('Fee Estimator'!$F33),'Fee Estimator'!$M34,0))))","v":0},{"$f":"IF(ISTEXT('Fee Estimator'!$F33),0,IF('Fee Estimator'!$F33=\"\",0,IF($F$12=\"No\",0,IF(Y$14=YEAR('Fee Estimator'!$F33),'Fee Estimator'!$M34,0))))","v":0},{"$f":"IF(ISTEXT('Fee Estimator'!$F33),0,IF('Fee Estimator'!$F33=\"\",0,IF($F$12=\"No\",0,IF(Z$14=YEAR('Fee Estimator'!$F33),'Fee Estimator'!$M34,0))))","v":0},{"$f":"IF(ISTEXT('Fee Estimator'!$F33),0,IF('Fee Estimator'!$F33=\"\",0,IF($F$12=\"No\",0,IF(AA$14=YEAR('Fee Estimator'!$F33),'Fee Estimator'!$M34,0))))","v":0},{"$f":"IF(ISTEXT('Fee Estimator'!$F33),0,IF('Fee Estimator'!$F33=\"\",0,IF($F$12=\"No\",0,IF(AB$14=YEAR('Fee Estimator'!$F33),'Fee Estimator'!$M34,0))))","v":0},{"$f":"IF(ISTEXT('Fee Estimator'!$F33),0,IF('Fee Estimator'!$F33=\"\",0,IF($F$12=\"No\",0,IF(AC$14=YEAR('Fee Estimator'!$F33),'Fee Estimator'!$M34,0))))","v":0},{"$f":"IF(ISTEXT('Fee Estimator'!$F33),0,IF('Fee Estimator'!$F33=\"\",0,IF($F$12=\"No\",0,IF(AD$14=YEAR('Fee Estimator'!$F33),'Fee Estimator'!$M34,0))))","v":0},{"$f":"IF(ISTEXT('Fee Estimator'!$F33),0,IF('Fee Estimator'!$F33=\"\",0,IF($F$12=\"No\",0,IF(AE$14=YEAR('Fee Estimator'!$F33),'Fee Estimator'!$M34,0))))","v":0},{"$f":"IF(ISTEXT('Fee Estimator'!$F33),0,IF('Fee Estimator'!$F33=\"\",0,IF($F$12=\"No\",0,IF(AF$14=YEAR('Fee Estimator'!$F33),'Fee Estimator'!$M34,0))))","v":0},{"$f":"IF(ISTEXT('Fee Estimator'!$F33),0,IF('Fee Estimator'!$F33=\"\",0,IF($F$12=\"No\",0,IF(AG$14=YEAR('Fee Estimator'!$F33),'Fee Estimator'!$M34,0))))","v":0},{"$f":"IF(ISTEXT('Fee Estimator'!$F33),0,IF('Fee Estimator'!$F33=\"\",0,IF($F$12=\"No\",0,IF(AH$14=YEAR('Fee Estimator'!$F33),'Fee Estimator'!$M34,0))))","v":0},{"$f":"IF(ISTEXT('Fee Estimator'!$F33),0,IF('Fee Estimator'!$F33=\"\",0,IF($F$12=\"No\",0,IF(AI$14=YEAR('Fee Estimator'!$F33),'Fee Estimator'!$M34,0))))","v":0}]
[{"$f":"IF(AND('Emissions Estimator'!$A22=\"\",'Emissions Estimator'!$A77=\"\"),\"\",IF(AND('Emissions Estimator'!$A22=\"\",'Emissions Estimator'!$A77<>\"\"),\"Operation\",IF(AND('Emissions Estimator'!$A77=\"\",'Emissions Estimator'!$A22<>\"\"),\"Construction\",MIN('Emissions Estimator'!$A22,'Emissions Estimator'!$A77))))","v":""},{"$f":"IF(A35=\"\",\"\",IF(AND(A35=\"Construction\",'Emissions Estimator'!$O$9=\"No\"),\"No\",IF(AND(A35=\"Construction\",'Emissions Estimator'!$O$9=\"Yes\"),\"Yes\",IF(A35=\"Operation\",\"\"))))","v":""},{"$f":"IF(AND('Emissions Estimator'!$A22=\"\",'Emissions Estimator'!$A77=\"\"),\"\",IF(AND('Emissions Estimator'!$A22=\"\",'Emissions Estimator'!$A77<>\"\"),'Emissions Estimator'!$A77,IF(AND('Emissions Estimator'!$A77=\"\",'Emissions Estimator'!$A22<>\"\"),'Emissions Estimator'!$A22,MIN('Emissions Estimator'!$A22,'Emissions Estimator'!$A77))))","v":""},11,{"$f":"IF(AND('Emissions Estimator'!C22=\"\",'Emissions Estimator'!C77=\"\"),\"\",IF(AND('Emissions Estimator'!C22=\"\",'Emissions Estimator'!C77<>\"\"),'Emissions Estimator'!C77,IF(AND('Emissions Estimator'!C77=\"\",'Emissions Estimator'!C22<>\"\"),'Emissions Estimator'!C22,MIN('Emissions Estimator'!C22,'Emissions Estimator'!C77))))","v":""},{"$f":"IF(AND(B35=\"\",E35=\"\"),\"\",IF(AND(B35=\"Yes\",$F$12=\"Yes\"),\"Clean Fleet\",IF(AND(B35=\"Yes\",$F$12=\"No\"),\"Clean Fleet\",IF(AND(A35=\"Operation\",$F$12=\"No\"),$E$15-1,IF(AND(A35=\"Operation\",$F$12=\"Yes\"),E35-1,IF(AND(B35=\"No\",$F$12=\"No\"),$E$15-1,IF(AND(B35=\"No\",$F$12=\"Yes\"),E35-1)))))))","v":""},null,"NOx",null,{"$f":"('Emissions Estimator'!R77)","v":0},0,null,0,null,{"$f":"IF(ISTEXT('Fee Estimator'!$F35),0,IF('Fee Estimator'!$F35=\"\",0,IF($F$12=\"No\",0,IF(O$14=YEAR('Fee Estimator'!$F35),'Fee Estimator'!$M35,0))))","v":0},{"$f":"IF(ISTEXT('Fee Estimator'!$F35),0,IF('Fee Estimator'!$F35=\"\",0,IF($F$12=\"No\",0,IF(P$14=YEAR('Fee Estimator'!$F35),'Fee Estimator'!$M35,0))))","v":0},{"$f":"IF(ISTEXT('Fee Estimator'!$F35),0,IF('Fee Estimator'!$F35=\"\",0,IF($F$12=\"No\",0,IF(Q$14=YEAR('Fee Estimator'!$F35),'Fee Estimator'!$M35,0))))","v":0},{"$f":"IF(ISTEXT('Fee Estimator'!$F35),0,IF('Fee Estimator'!$F35=\"\",0,IF($F$12=\"No\",0,IF(R$14=YEAR('Fee Estimator'!$F35),'Fee Estimator'!$M35,0))))","v":0},{"$f":"IF(ISTEXT('Fee Estimator'!$F35),0,IF('Fee Estimator'!$F35=\"\",0,IF($F$12=\"No\",0,IF(S$14=YEAR('Fee Estimator'!$F35),'Fee Estimator'!$M35,0))))","v":0},{"$f":"IF(ISTEXT('Fee Estimator'!$F35),0,IF('Fee Estimator'!$F35=\"\",0,IF($F$12=\"No\",0,IF(T$14=YEAR('Fee Estimator'!$F35),'Fee Estimator'!$M35,0))))","v":0},{"$f":"IF(ISTEXT('Fee Estimator'!$F35),0,IF('Fee Estimator'!$F35=\"\",0,IF($F$12=\"No\",0,IF(U$14=YEAR('Fee Estimator'!$F35),'Fee Estimator'!$M35,0))))","v":0},{"$f":"IF(ISTEXT('Fee Estimator'!$F35),0,IF('Fee Estimator'!$F35=\"\",0,IF($F$12=\"No\",0,IF(V$14=YEAR('Fee Estimator'!$F35),'Fee Estimator'!$M35,0))))","v":0},{"$f":"IF(ISTEXT('Fee Estimator'!$F35),0,IF('Fee Estimator'!$F35=\"\",0,IF($F$12=\"No\",0,IF(W$14=YEAR('Fee Estimator'!$F35),'Fee Estimator'!$M35,0))))","v":0},{"$f":"IF(ISTEXT('Fee Estimator'!$F35),0,IF('Fee Estimator'!$F35=\"\",0,IF($F$12=\"No\",0,IF(X$14=YEAR('Fee Estimator'!$F35),'Fee Estimator'!$M35,0))))","v":0},{"$f":"IF(ISTEXT('Fee Estimator'!$F35),0,IF('Fee Estimator'!$F35=\"\",0,IF($F$12=\"No\",0,IF(Y$14=YEAR('Fee Estimator'!$F35),'Fee Estimator'!$M35,0))))","v":0},{"$f":"IF(ISTEXT('Fee Estimator'!$F35),0,IF('Fee Estimator'!$F35=\"\",0,IF($F$12=\"No\",0,IF(Z$14=YEAR('Fee Estimator'!$F35),'Fee Estimator'!$M35,0))))","v":0},{"$f":"IF(ISTEXT('Fee Estimator'!$F35),0,IF('Fee Estimator'!$F35=\"\",0,IF($F$12=\"No\",0,IF(AA$14=YEAR('Fee Estimator'!$F35),'Fee Estimator'!$M35,0))))","v":0},{"$f":"IF(ISTEXT('Fee Estimator'!$F35),0,IF('Fee Estimator'!$F35=\"\",0,IF($F$12=\"No\",0,IF(AB$14=YEAR('Fee Estimator'!$F35),'Fee Estimator'!$M35,0))))","v":0},{"$f":"IF(ISTEXT('Fee Estimator'!$F35),0,IF('Fee Estimator'!$F35=\"\",0,IF($F$12=\"No\",0,IF(AC$14=YEAR('Fee Estimator'!$F35),'Fee Estimator'!$M35,0))))","v":0},{"$f":"IF(ISTEXT('Fee Estimator'!$F35),0,IF('Fee Estimator'!$F35=\"\",0,IF($F$12=\"No\",0,IF(AD$14=YEAR('Fee Estimator'!$F35),'Fee Estimator'!$M35,0))))","v":0},{"$f":"IF(ISTEXT('Fee Estimator'!$F35),0,IF('Fee Estimator'!$F35=\"\",0,IF($F$12=\"No\",0,IF(AE$14=YEAR('Fee Estimator'!$F35),'Fee Estimator'!$M35,0))))","v":0},{"$f":"IF(ISTEXT('Fee Estimator'!$F35),0,IF('Fee Estimator'!$F35=\"\",0,IF($F$12=\"No\",0,IF(AF$14=YEAR('Fee Estimator'!$F35),'Fee Estimator'!$M35,0))))","v":0},{"$f":"IF(ISTEXT('Fee Estimator'!$F35),0,IF('Fee Estimator'!$F35=\"\",0,IF($F$12=\"No\",0,IF(AG$14=YEAR('Fee Estimator'!$F35),'Fee Estimator'!$M35,0))))","v":0},{"$f":"IF(ISTEXT('Fee Estimator'!$F35),0,IF('Fee Estimator'!$F35=\"\",0,IF($F$12=\"No\",0,IF(AH$14=YEAR('Fee Estimator'!$F35),'Fee Estimator'!$M35,0))))","v":0},{"$f":"IF(ISTEXT('Fee Estimator'!$F35),0,IF('Fee Estimator'!$F35=\"\",0,IF($F$12=\"No\",0,IF(AI$14=YEAR('Fee Estimator'!$F35),'Fee Estimator'!$M35,0))))","v":0}]
[null,null,null,null,null,null,null,"PM10",null,{"$f":"('Emissions Estimator'!S77)","v":0},0,null,0,null,{"$f":"IF(ISTEXT('Fee Estimator'!$F35),0,IF('Fee Estimator'!$F35=\"\",0,IF($F$12=\"No\",0,IF(O$14=YEAR('Fee Estimator'!$F35),'Fee Estimator'!$M36,0))))","v":0},{"$f":"IF(ISTEXT('Fee Estimator'!$F35),0,IF('Fee Estimator'!$F35=\"\",0,IF($F$12=\"No\",0,IF(P$14=YEAR('Fee Estimator'!$F35),'Fee Estimator'!$M36,0))))","v":0},{"$f":"IF(ISTEXT('Fee Estimator'!$F35),0,IF('Fee Estimator'!$F35=\"\",0,IF($F$12=\"No\",0,IF(Q$14=YEAR('Fee Estimator'!$F35),'Fee Estimator'!$M36,0))))","v":0},{"$f":"IF(ISTEXT('Fee Estimator'!$F35),0,IF('Fee Estimator'!$F35=\"\",0,IF($F$12=\"No\",0,IF(R$14=YEAR('Fee Estimator'!$F35),'Fee Estimator'!$M36,0))))","v":0},{"$f":"IF(ISTEXT('Fee Estimator'!$F35),0,IF('Fee Estimator'!$F35=\"\",0,IF($F$12=\"No\",0,IF(S$14=YEAR('Fee Estimator'!$F35),'Fee Estimator'!$M36,0))))","v":0},{"$f":"IF(ISTEXT('Fee Estimator'!$F35),0,IF('Fee Estimator'!$F35=\"\",0,IF($F$12=\"No\",0,IF(T$14=YEAR('Fee Estimator'!$F35),'Fee Estimator'!$M36,0))))","v":0},{"$f":"IF(ISTEXT('Fee Estimator'!$F35),0,IF('Fee Estimator'!$F35=\"\",0,IF($F$12=\"No\",0,IF(U$14=YEAR('Fee Estimator'!$F35),'Fee Estimator'!$M36,0))))","v":0},{"$f":"IF(ISTEXT('Fee Estimator'!$F35),0,IF('Fee Estimator'!$F35=\"\",0,IF($F$12=\"No\",0,IF(V$14=YEAR('Fee Estimator'!$F35),'Fee Estimator'!$M36,0))))","v":0},{"$f":"IF(ISTEXT('Fee Estimator'!$F35),0,IF('Fee Estimator'!$F35=\"\",0,IF($F$12=\"No\",0,IF(W$14=YEAR('Fee Estimator'!$F35),'Fee Estimator'!$M36,0))))","v":0},{"$f":"IF(ISTEXT('Fee Estimator'!$F35),0,IF('Fee Estimator'!$F35=\"\",0,IF($F$12=\"No\",0,IF(X$14=YEAR('Fee Estimator'!$F35),'Fee Estimator'!$M36,0))))","v":0},{"$f":"IF(ISTEXT('Fee Estimator'!$F35),0,IF('Fee Estimator'!$F35=\"\",0,IF($F$12=\"No\",0,IF(Y$14=YEAR('Fee Estimator'!$F35),'Fee Estimator'!$M36,0))))","v":0},{"$f":"IF(ISTEXT('Fee Estimator'!$F35),0,IF('Fee Estimator'!$F35=\"\",0,IF($F$12=\"No\",0,IF(Z$14=YEAR('Fee Estimator'!$F35),'Fee Estimator'!$M36,0))))","v":0},{"$f":"IF(ISTEXT('Fee Estimator'!$F35),0,IF('Fee Estimator'!$F35=\"\",0,IF($F$12=\"No\",0,IF(AA$14=YEAR('Fee Estimator'!$F35),'Fee Estimator'!$M36,0))))","v":0},{"$f":"IF(ISTEXT('Fee Estimator'!$F35),0,IF('Fee Estimator'!$F35=\"\",0,IF($F$12=\"No\",0,IF(AB$14=YEAR('Fee Estimator'!$F35),'Fee Estimator'!$M36,0))))","v":0},{"$f":"IF(ISTEXT('Fee Estimator'!$F35),0,IF('Fee Estimator'!$F35=\"\",0,IF($F$12=\"No\",0,IF(AC$14=YEAR('Fee Estimator'!$F35),'Fee Estimator'!$M36,0))))","v":0},{"$f":"IF(ISTEXT('Fee Estimator'!$F35),0,IF('Fee Estimator'!$F35=\"\",0,IF($F$12=\"No\",0,IF(AD$14=YEAR('Fee Estimator'!$F35),'Fee Estimator'!$M36,0))))","v":0},{"$f":"IF(ISTEXT('Fee Estimator'!$F35),0,IF('Fee Estimator'!$F35=\"\",0,IF($F$12=\"No\",0,IF(AE$14=YEAR('Fee Estimator'!$F35),'Fee Estimator'!$M36,0))))","v":0},{"$f":"IF(ISTEXT('Fee Estimator'!$F35),0,IF('Fee Estimator'!$F35=\"\",0,IF($F$12=\"No\",0,IF(AF$14=YEAR('Fee Estimator'!$F35),'Fee Estimator'!$M36,0))))","v":0},{"$f":"IF(ISTEXT('Fee Estimator'!$F35),0,IF('Fee Estimator'!$F35=\"\",0,IF($F$12=\"No\",0,IF(AG$14=YEAR('Fee Estimator'!$F35),'Fee Estimator'!$M36,0))))","v":0},{"$f":"IF(ISTEXT('Fee Estimator'!$F35),0,IF('Fee Estimator'!$F35=\"\",0,IF($F$12=\"No\",0,IF(AH$14=YEAR('Fee Estimator'!$F35),'Fee Estimator'!$M36,0))))","v":0},{"$f":"IF(ISTEXT('Fee Estimator'!$F35),0,IF('Fee Estimator'!$F35=\"\",0,IF($F$12=\"No\",0,IF(AI$14=YEAR('Fee Estimator'!$F35),'Fee Estimator'!$M36,0))))","v":0}]
[{"$f":"IF(AND('Emissions Estimator'!$A23=\"\",'Emissions Estimator'!$A78=\"\"),\"\",IF(AND('Emissions Estimator'!$A23=\"\",'Emissions Estimator'!$A78<>\"\"),\"Operation\",IF(AND('Emissions Estimator'!$A78=\"\",'Emissions Estimator'!$A23<>\"\"),\"Construction\",MIN('Emissions Estimator'!$A23,'Emissions Estimator'!$A78))))","v":""},{"$f":"IF(A37=\"\",\"\",IF(AND(A37=\"Construction\",'Emissions Estimator'!$O$9=\"No\"),\"No\",IF(AND(A37=\"Construction\",'Emissions Estimator'!$O$9=\"Yes\"),\"Yes\",IF(A37=\"Operation\",\"\"))))","v":""},{"$f":"IF(AND('Emissions Estimator'!$A23=\"\",'Emissions Estimator'!$A78=\"\"),\"\",IF(AND('Emissions Estimator'!$A23=\"\",'Emissions Estimator'!$A78<>\"\"),'Emissions Estimator'!$A78,IF(AND('Emissions Estimator'!$A78=\"\",'Emissions Estimator'!$A23<>\"\"),'Emissions Estimator'!$A23,MIN('Emissions Estimator'!$A23,'Emissions Estimator'!$A78))))","v":""},12,{"$f":"IF(AND('Emissions Estimator'!C23=\"\",'Emissions Estimator'!C78=\"\"),\"\",IF(AND('Emissions Estimator'!C23=\"\",'Emissions Estimator'!C78<>\"\"),'Emissions Estimator'!C78,IF(AND('Emissions Estimator'!C78=\"\",'Emissions Estimator'!C23<>\"\"),'Emissions Estimator'!C23,MIN('Emissions Estimator'!C23,'Emissions Estimator'!C78))))","v":""},{"$f":"IF(AND(B37=\"\",E37=\"\"),\"\",IF(AND(B37=\"Yes\",$F$12=\"Yes\"),\"Clean Fleet\",IF(AND(B37=\"Yes\",$F$12=\"No\"),\"Clean Fleet\",IF(AND(A37=\"Operation\",$F$12=\"No\"),$E$15-1,IF(AND(A37=\"Operation\",$F$12=\"Yes\"),E37-1,IF(AND(B37=\"No\",$F$12=\"No\"),$E$15-1,IF(AND(B37=\"No\",$F$12=\"Yes\"),E37-1)))))))","v":""},null,"NOx",null,{"$f":"('Emissions Estimator'!R78)","v":0},0,null,{"$f":"J37","v":0},null,{"$f":"IF(ISTEXT('Fee Estimator'!$F37),0,IF('Fee Estimator'!$F37=\"\",0,IF($F$12=\"No\",0,IF(O$14=YEAR('Fee Estimator'!$F37),'Fee Estimator'!$M37,0))))","v":0},{"$f":"IF(ISTEXT('Fee Estimator'!$F37),0,IF('Fee Estimator'!$F37=\"\",0,IF($F$12=\"No\",0,IF(P$14=YEAR('Fee Estimator'!$F37),'Fee Estimator'!$M37,0))))","v":0},{"$f":"IF(ISTEXT('Fee Estimator'!$F37),0,IF('Fee Estimator'!$F37=\"\",0,IF($F$12=\"No\",0,IF(Q$14=YEAR('Fee Estimator'!$F37),'Fee Estimator'!$M37,0))))","v":0},{"$f":"IF(ISTEXT('Fee Estimator'!$F37),0,IF('Fee Estimator'!$F37=\"\",0,IF($F$12=\"No\",0,IF(R$14=YEAR('Fee Estimator'!$F37),'Fee Estimator'!$M37,0))))","v":0},{"$f":"IF(ISTEXT('Fee Estimator'!$F37),0,IF('Fee Estimator'!$F37=\"\",0,IF($F$12=\"No\",0,IF(S$14=YEAR('Fee Estimator'!$F37),'Fee Estimator'!$M37,0))))","v":0},{"$f":"IF(ISTEXT('Fee Estimator'!$F37),0,IF('Fee Estimator'!$F37=\"\",0,IF($F$12=\"No\",0,IF(T$14=YEAR('Fee Estimator'!$F37),'Fee Estimator'!$M37,0))))","v":0},{"$f":"IF(ISTEXT('Fee Estimator'!$F37),0,IF('Fee Estimator'!$F37=\"\",0,IF($F$12=\"No\",0,IF(U$14=YEAR('Fee Estimator'!$F37),'Fee Estimator'!$M37,0))))","v":0},{"$f":"IF(ISTEXT('Fee Estimator'!$F37),0,IF('Fee Estimator'!$F37=\"\",0,IF($F$12=\"No\",0,IF(V$14=YEAR('Fee Estimator'!$F37),'Fee Estimator'!$M37,0))))","v":0},{"$f":"IF(ISTEXT('Fee Estimator'!$F37),0,IF('Fee Estimator'!$F37=\"\",0,IF($F$12=\"No\",0,IF(W$14=YEAR('Fee Estimator'!$F37),'Fee Estimator'!$M37,0))))","v":0},{"$f":"IF(ISTEXT('Fee Estimator'!$F37),0,IF('Fee Estimator'!$F37=\"\",0,IF($F$12=\"No\",0,IF(X$14=YEAR('Fee Estimator'!$F37),'Fee Estimator'!$M37,0))))","v":0},{"$f":"IF(ISTEXT('Fee Estimator'!$F37),0,IF('Fee Estimator'!$F37=\"\",0,IF($F$12=\"No\",0,IF(Y$14=YEAR('Fee Estimator'!$F37),'Fee Estimator'!$M37,0))))","v":0},{"$f":"IF(ISTEXT('Fee Estimator'!$F37),0,IF('Fee Estimator'!$F37=\"\",0,IF($F$12=\"No\",0,IF(Z$14=YEAR('Fee Estimator'!$F37),'Fee Estimator'!$M37,0))))","v":0},{"$f":"IF(ISTEXT('Fee Estimator'!$F37),0,IF('Fee Estimator'!$F37=\"\",0,IF($F$12=\"No\",0,IF(AA$14=YEAR('Fee Estimator'!$F37),'Fee Estimator'!$M37,0))))","v":0},{"$f":"IF(ISTEXT('Fee Estimator'!$F37),0,IF('Fee Estimator'!$F37=\"\",0,IF($F$12=\"No\",0,IF(AB$14=YEAR('Fee Estimator'!$F37),'Fee Estimator'!$M37,0))))","v":0},{"$f":"IF(ISTEXT('Fee Estimator'!$F37),0,IF('Fee Estimator'!$F37=\"\",0,IF($F$12=\"No\",0,IF(AC$14=YEAR('Fee Estimator'!$F37),'Fee Estimator'!$M37,0))))","v":0},{"$f":"IF(ISTEXT('Fee Estimator'!$F37),0,IF('Fee Estimator'!$F37=\"\",0,IF($F$12=\"No\",0,IF(AD$14=YEAR('Fee Estimator'!$F37),'Fee Estimator'!$M37,0))))","v":0},{"$f":"IF(ISTEXT('Fee Estimator'!$F37),0,IF('Fee Estimator'!$F37=\"\",0,IF($F$12=\"No\",0,IF(AE$14=YEAR('Fee Estimator'!$F37),'Fee Estimator'!$M37,0))))","v":0},{"$f":"IF(ISTEXT('Fee Estimator'!$F37),0,IF('Fee Estimator'!$F37=\"\",0,IF($F$12=\"No\",0,IF(AF$14=YEAR('Fee Estimator'!$F37),'Fee Estimator'!$M37,0))))","v":0},{"$f":"IF(ISTEXT('Fee Estimator'!$F37),0,IF('Fee Estimator'!$F37=\"\",0,IF($F$12=\"No\",0,IF(AG$14=YEAR('Fee Estimator'!$F37),'Fee Estimator'!$M37,0))))","v":0},{"$f":"IF(ISTEXT('Fee Estimator'!$F37),0,IF('Fee Estimator'!$F37=\"\",0,IF($F$12=\"No\",0,IF(AH$14=YEAR('Fee Estimator'!$F37),'Fee Estimator'!$M37,0))))","v":0},{"$f":"IF(ISTEXT('Fee Estimator'!$F37),0,IF('Fee Estimator'!$F37=\"\",0,IF($F$12=\"No\",0,IF(AI$14=YEAR('Fee Estimator'!$F37),'Fee Estimator'!$M37,0))))","v":0}]
[null,null,null,null,null,null,null,"PM10",null,{"$f":"('Emissions Estimator'!S78)","v":0},0,null,{"$f":"J38","v":0},null,{"$f":"IF(ISTEXT('Fee Estimator'!$F37),0,IF('Fee Estimator'!$F37=\"\",0,IF($F$12=\"No\",0,IF(O$14=YEAR('Fee Estimator'!$F37),'Fee Estimator'!$M38,0))))","v":0},{"$f":"IF(ISTEXT('Fee Estimator'!$F37),0,IF('Fee Estimator'!$F37=\"\",0,IF($F$12=\"No\",0,IF(P$14=YEAR('Fee Estimator'!$F37),'Fee Estimator'!$M38,0))))","v":0},{"$f":"IF(ISTEXT('Fee Estimator'!$F37),0,IF('Fee Estimator'!$F37=\"\",0,IF($F$12=\"No\",0,IF(Q$14=YEAR('Fee Estimator'!$F37),'Fee Estimator'!$M38,0))))","v":0},{"$f":"IF(ISTEXT('Fee Estimator'!$F37),0,IF('Fee Estimator'!$F37=\"\",0,IF($F$12=\"No\",0,IF(R$14=YEAR('Fee Estimator'!$F37),'Fee Estimator'!$M38,0))))","v":0},{"$f":"IF(ISTEXT('Fee Estimator'!$F37),0,IF('Fee Estimator'!$F37=\"\",0,IF($F$12=\"No\",0,IF(S$14=YEAR('Fee Estimator'!$F37),'Fee Estimator'!$M38,0))))","v":0},{"$f":"IF(ISTEXT('Fee Estimator'!$F37),0,IF('Fee Estimator'!$F37=\"\",0,IF($F$12=\"No\",0,IF(T$14=YEAR('Fee Estimator'!$F37),'Fee Estimator'!$M38,0))))","v":0},{"$f":"IF(ISTEXT('Fee Estimator'!$F37),0,IF('Fee Estimator'!$F37=\"\",0,IF($F$12=\"No\",0,IF(U$14=YEAR('Fee Estimator'!$F37),'Fee Estimator'!$M38,0))))","v":0},{"$f":"IF(ISTEXT('Fee Estimator'!$F37),0,IF('Fee Estimator'!$F37=\"\",0,IF($F$12=\"No\",0,IF(V$14=YEAR('Fee Estimator'!$F37),'Fee Estimator'!$M38,0))))","v":0},{"$f":"IF(ISTEXT('Fee Estimator'!$F37),0,IF('Fee Estimator'!$F37=\"\",0,IF($F$12=\"No\",0,IF(W$14=YEAR('Fee Estimator'!$F37),'Fee Estimator'!$M38,0))))","v":0},{"$f":"IF(ISTEXT('Fee Estimator'!$F37),0,IF('Fee Estimator'!$F37=\"\",0,IF($F$12=\"No\",0,IF(X$14=YEAR('Fee Estimator'!$F37),'Fee Estimator'!$M38,0))))","v":0},{"$f":"IF(ISTEXT('Fee Estimator'!$F37),0,IF('Fee Estimator'!$F37=\"\",0,IF($F$12=\"No\",0,IF(Y$14=YEAR('Fee Estimator'!$F37),'Fee Estimator'!$M38,0))))","v":0},{"$f":"IF(ISTEXT('Fee Estimator'!$F37),0,IF('Fee Estimator'!$F37=\"\",0,IF($F$12=\"No\",0,IF(Z$14=YEAR('Fee Estimator'!$F37),'Fee Estimator'!$M38,0))))","v":0},{"$f":"IF(ISTEXT('Fee Estimator'!$F37),0,IF('Fee Estimator'!$F37=\"\",0,IF($F$12=\"No\",0,IF(AA$14=YEAR('Fee Estimator'!$F37),'Fee Estimator'!$M38,0))))","v":0},{"$f":"IF(ISTEXT('Fee Estimator'!$F37),0,IF('Fee Estimator'!$F37=\"\",0,IF($F$12=\"No\",0,IF(AB$14=YEAR('Fee Estimator'!$F37),'Fee Estimator'!$M38,0))))","v":0},{"$f":"IF(ISTEXT('Fee Estimator'!$F37),0,IF('Fee Estimator'!$F37=\"\",0,IF($F$12=\"No\",0,IF(AC$14=YEAR('Fee Estimator'!$F37),'Fee Estimator'!$M38,0))))","v":0},{"$f":"IF(ISTEXT('Fee Estimator'!$F37),0,IF('Fee Estimator'!$F37=\"\",0,IF($F$12=\"No\",0,IF(AD$14=YEAR('Fee Estimator'!$F37),'Fee Estimator'!$M38,0))))","v":0},{"$f":"IF(ISTEXT('Fee Estimator'!$F37),0,IF('Fee Estimator'!$F37=\"\",0,IF($F$12=\"No\",0,IF(AE$14=YEAR('Fee Estimator'!$F37),'Fee Estimator'!$M38,0))))","v":0},{"$f":"IF(ISTEXT('Fee Estimator'!$F37),0,IF('Fee Estimator'!$F37=\"\",0,IF($F$12=\"No\",0,IF(AF$14=YEAR('Fee Estimator'!$F37),'Fee Estimator'!$M38,0))))","v":0},{"$f":"IF(ISTEXT('Fee Estimator'!$F37),0,IF('Fee Estimator'!$F37=\"\",0,IF($F$12=\"No\",0,IF(AG$14=YEAR('Fee Estimator'!$F37),'Fee Estimator'!$M38,0))))","v":0},{"$f":"IF(ISTEXT('Fee Estimator'!$F37),0,IF('Fee Estimator'!$F37=\"\",0,IF($F$12=\"No\",0,IF(AH$14=YEAR('Fee Estimator'!$F37),'Fee Estimator'!$M38,0))))","v":0},{"$f":"IF(ISTEXT('Fee Estimator'!$F37),0,IF('Fee Estimator'!$F37=\"\",0,IF($F$12=\"No\",0,IF(AI$14=YEAR('Fee Estimator'!$F37),'Fee Estimator'!$M38,0))))","v":0}]
[{"$f":"IF(AND('Emissions Estimator'!$A24=\"\",'Emissions Estimator'!$A79=\"\"),\"\",IF(AND('Emissions Estimator'!$A24=\"\",'Emissions Estimator'!$A79<>\"\"),\"Operation\",IF(AND('Emissions Estimator'!$A79=\"\",'Emissions Estimator'!$A24<>\"\"),\"Construction\",MIN('Emissions Estimator'!$A24,'Emissions Estimator'!$A79))))","v":""},{"$f":"IF(A39=\"\",\"\",IF(AND(A39=\"Construction\",'Emissions Estimator'!$O$9=\"No\"),\"No\",IF(AND(A39=\"Construction\",'Emissions Estimator'!$O$9=\"Yes\"),\"Yes\",IF(A39=\"Operation\",\"\"))))","v":""},{"$f":"IF(AND('Emissions Estimator'!$A24=\"\",'Emissions Estimator'!$A79=\"\"),\"\",IF(AND('Emissions Estimator'!$A24=\"\",'Emissions Estimator'!$A79<>\"\"),'Emissions Estimator'!$A79,IF(AND('Emissions Estimator'!$A79=\"\",'Emissions Estimator'!$A24<>\"\"),'Emissions Estimator'!$A24,MIN('Emissions Estimator'!$A24,'Emissions Estimator'!$A79))))","v":""},13,{"$f":"IF(AND('Emissions Estimator'!C24=\"\",'Emissions Estimator'!C79=\"\"),\"\",IF(AND('Emissions Estimator'!C24=\"\",'Emissions Estimator'!C79<>\"\"),'Emissions Estimator'!C79,IF(AND('Emissions Estimator'!C79=\"\",'Emissions Estimator'!C24<>\"\"),'Emissions Estimator'!C24,MIN('Emissions Estimator'!C24,'Emissions Estimator'!C79))))","v":""},{"$f":"IF(AND(B39=\"\",E39=\"\"),\"\",IF(AND(B39=\"Yes\",$F$12=\"Yes\"),\"Clean Fleet\",IF(AND(B39=\"Yes\",$F$12=\"No\"),\"Clean Fleet\",IF(AND(A39=\"Operation\",$F$12=\"No\"),$E$15-1,IF(AND(A39=\"Operation\",$F$12=\"Yes\"),E39-1,IF(AND(B39=\"No\",$F$12=\"No\"),$E$15-1,IF(AND(B39=\"No\",$F$12=\"Yes\"),E39-1)))))))","v":""},null,"NOx",null,{"$f":"('Emissions Estimator'!R79)","v":0},0,null,0,null,{"$f":"IF(ISTEXT('Fee Estimator'!$F39),0,IF('Fee Estimator'!$F39=\"\",0,IF($F$12=\"No\",0,IF(O$14=YEAR('Fee Estimator'!$F39),'Fee Estimator'!$M39,0))))","v":0},{"$f":"IF(ISTEXT('Fee Estimator'!$F39),0,IF('Fee Estimator'!$F39=\"\",0,IF($F$12=\"No\",0,IF(P$14=YEAR('Fee Estimator'!$F39),'Fee Estimator'!$M39,0))))","v":0},{"$f":"IF(ISTEXT('Fee Estimator'!$F39),0,IF('Fee Estimator'!$F39=\"\",0,IF($F$12=\"No\",0,IF(Q$14=YEAR('Fee Estimator'!$F39),'Fee Estimator'!$M39,0))))","v":0},{"$f":"IF(ISTEXT('Fee Estimator'!$F39),0,IF('Fee Estimator'!$F39=\"\",0,IF($F$12=\"No\",0,IF(R$14=YEAR('Fee Estimator'!$F39),'Fee Estimator'!$M39,0))))","v":0},{"$f":"IF(ISTEXT('Fee Estimator'!$F39),0,IF('Fee Estimator'!$F39=\"\",0,IF($F$12=\"No\",0,IF(S$14=YEAR('Fee Estimator'!$F39),'Fee Estimator'!$M39,0))))","v":0},{"$f":"IF(ISTEXT('Fee Estimator'!$F39),0,IF('Fee Estimator'!$F39=\"\",0,IF($F$12=\"No\",0,IF(T$14=YEAR('Fee Estimator'!$F39),'Fee Estimator'!$M39,0))))","v":0},{"$f":"IF(ISTEXT('Fee Estimator'!$F39),0,IF('Fee Estimator'!$F39=\"\",0,IF($F$12=\"No\",0,IF(U$14=YEAR('Fee Estimator'!$F39),'Fee Estimator'!$M39,0))))","v":0},{"$f":"IF(ISTEXT('Fee Estimator'!$F39),0,IF('Fee Estimator'!$F39=\"\",0,IF($F$12=\"No\",0,IF(V$14=YEAR('Fee Estimator'!$F39),'Fee Estimator'!$M39,0))))","v":0},{"$f":"IF(ISTEXT('Fee Estimator'!$F39),0,IF('Fee Estimator'!$F39=\"\",0,IF($F$12=\"No\",0,IF(W$14=YEAR('Fee Estimator'!$F39),'Fee Estimator'!$M39,0))))","v":0},{"$f":"IF(ISTEXT('Fee Estimator'!$F39),0,IF('Fee Estimator'!$F39=\"\",0,IF($F$12=\"No\",0,IF(X$14=YEAR('Fee Estimator'!$F39),'Fee Estimator'!$M39,0))))","v":0},{"$f":"IF(ISTEXT('Fee Estimator'!$F39),0,IF('Fee Estimator'!$F39=\"\",0,IF($F$12=\"No\",0,IF(Y$14=YEAR('Fee Estimator'!$F39),'Fee Estimator'!$M39,0))))","v":0},{"$f":"IF(ISTEXT('Fee Estimator'!$F39),0,IF('Fee Estimator'!$F39=\"\",0,IF($F$12=\"No\",0,IF(Z$14=YEAR('Fee Estimator'!$F39),'Fee Estimator'!$M39,0))))","v":0},{"$f":"IF(ISTEXT('Fee Estimator'!$F39),0,IF('Fee Estimator'!$F39=\"\",0,IF($F$12=\"No\",0,IF(AA$14=YEAR('Fee Estimator'!$F39),'Fee Estimator'!$M39,0))))","v":0},{"$f":"IF(ISTEXT('Fee Estimator'!$F39),0,IF('Fee Estimator'!$F39=\"\",0,IF($F$12=\"No\",0,IF(AB$14=YEAR('Fee Estimator'!$F39),'Fee Estimator'!$M39,0))))","v":0},{"$f":"IF(ISTEXT('Fee Estimator'!$F39),0,IF('Fee Estimator'!$F39=\"\",0,IF($F$12=\"No\",0,IF(AC$14=YEAR('Fee Estimator'!$F39),'Fee Estimator'!$M39,0))))","v":0},{"$f":"IF(ISTEXT('Fee Estimator'!$F39),0,IF('Fee Estimator'!$F39=\"\",0,IF($F$12=\"No\",0,IF(AD$14=YEAR('Fee Estimator'!$F39),'Fee Estimator'!$M39,0))))","v":0},{"$f":"IF(ISTEXT('Fee Estimator'!$F39),0,IF('Fee Estimator'!$F39=\"\",0,IF($F$12=\"No\",0,IF(AE$14=YEAR('Fee Estimator'!$F39),'Fee Estimator'!$M39,0))))","v":0},{"$f":"IF(ISTEXT('Fee Estimator'!$F39),0,IF('Fee Estimator'!$F39=\"\",0,IF($F$12=\"No\",0,IF(AF$14=YEAR('Fee Estimator'!$F39),'Fee Estimator'!$M39,0))))","v":0},{"$f":"IF(ISTEXT('Fee Estimator'!$F39),0,IF('Fee Estimator'!$F39=\"\",0,IF($F$12=\"No\",0,IF(AG$14=YEAR('Fee Estimator'!$F39),'Fee Estimator'!$M39,0))))","v":0},{"$f":"IF(ISTEXT('Fee Estimator'!$F39),0,IF('Fee Estimator'!$F39=\"\",0,IF($F$12=\"No\",0,IF(AH$14=YEAR('Fee Estimator'!$F39),'Fee Estimator'!$M39,0))))","v":0},{"$f":"IF(ISTEXT('Fee Estimator'!$F39),0,IF('Fee Estimator'!$F39=\"\",0,IF($F$12=\"No\",0,IF(AI$14=YEAR('Fee Estimator'!$F39),'Fee Estimator'!$M39,0))))","v":0}]
[null,null,null,null,null,null,null,"PM10",null,{"$f":"('Emissions Estimator'!S79)","v":0},0,null,{"$f":"J40","v":0},null,{"$f":"IF(ISTEXT('Fee Estimator'!$F39),0,IF('Fee Estimator'!$F39=\"\",0,IF($F$12=\"No\",0,IF(O$14=YEAR('Fee Estimator'!$F39),'Fee Estimator'!$M40,0))))","v":0},{"$f":"IF(ISTEXT('Fee Estimator'!$F39),0,IF('Fee Estimator'!$F39=\"\",0,IF($F$12=\"No\",0,IF(P$14=YEAR('Fee Estimator'!$F39),'Fee Estimator'!$M40,0))))","v":0},{"$f":"IF(ISTEXT('Fee Estimator'!$F39),0,IF('Fee Estimator'!$F39=\"\",0,IF($F$12=\"No\",0,IF(Q$14=YEAR('Fee Estimator'!$F39),'Fee Estimator'!$M40,0))))","v":0},{"$f":"IF(ISTEXT('Fee Estimator'!$F39),0,IF('Fee Estimator'!$F39=\"\",0,IF($F$12=\"No\",0,IF(R$14=YEAR('Fee Estimator'!$F39),'Fee Estimator'!$M40,0))))","v":0},{"$f":"IF(ISTEXT('Fee Estimator'!$F39),0,IF('Fee Estimator'!$F39=\"\",0,IF($F$12=\"No\",0,IF(S$14=YEAR('Fee Estimator'!$F39),'Fee Estimator'!$M40,0))))","v":0},{"$f":"IF(ISTEXT('Fee Estimator'!$F39),0,IF('Fee Estimator'!$F39=\"\",0,IF($F$12=\"No\",0,IF(T$14=YEAR('Fee Estimator'!$F39),'Fee Estimator'!$M40,0))))","v":0},{"$f":"IF(ISTEXT('Fee Estimator'!$F39),0,IF('Fee Estimator'!$F39=\"\",0,IF($F$12=\"No\",0,IF(U$14=YEAR('Fee Estimator'!$F39),'Fee Estimator'!$M40,0))))","v":0},{"$f":"IF(ISTEXT('Fee Estimator'!$F39),0,IF('Fee Estimator'!$F39=\"\",0,IF($F$12=\"No\",0,IF(V$14=YEAR('Fee Estimator'!$F39),'Fee Estimator'!$M40,0))))","v":0},{"$f":"IF(ISTEXT('Fee Estimator'!$F39),0,IF('Fee Estimator'!$F39=\"\",0,IF($F$12=\"No\",0,IF(W$14=YEAR('Fee Estimator'!$F39),'Fee Estimator'!$M40,0))))","v":0},{"$f":"IF(ISTEXT('Fee Estimator'!$F39),0,IF('Fee Estimator'!$F39=\"\",0,IF($F$12=\"No\",0,IF(X$14=YEAR('Fee Estimator'!$F39),'Fee Estimator'!$M40,0))))","v":0},{"$f":"IF(ISTEXT('Fee Estimator'!$F39),0,IF('Fee Estimator'!$F39=\"\",0,IF($F$12=\"No\",0,IF(Y$14=YEAR('Fee Estimator'!$F39),'Fee Estimator'!$M40,0))))","v":0},{"$f":"IF(ISTEXT('Fee Estimator'!$F39),0,IF('Fee Estimator'!$F39=\"\",0,IF($F$12=\"No\",0,IF(Z$14=YEAR('Fee Estimator'!$F39),'Fee Estimator'!$M40,0))))","v":0},{"$f":"IF(ISTEXT('Fee Estimator'!$F39),0,IF('Fee Estimator'!$F39=\"\",0,IF($F$12=\"No\",0,IF(AA$14=YEAR('Fee Estimator'!$F39),'Fee Estimator'!$M40,0))))","v":0},{"$f":"IF(ISTEXT('Fee Estimator'!$F39),0,IF('Fee Estimator'!$F39=\"\",0,IF($F$12=\"No\",0,IF(AB$14=YEAR('Fee Estimator'!$F39),'Fee Estimator'!$M40,0))))","v":0},{"$f":"IF(ISTEXT('Fee Estimator'!$F39),0,IF('Fee Estimator'!$F39=\"\",0,IF($F$12=\"No\",0,IF(AC$14=YEAR('Fee Estimator'!$F39),'Fee Estimator'!$M40,0))))","v":0},{"$f":"IF(ISTEXT('Fee Estimator'!$F39),0,IF('Fee Estimator'!$F39=\"\",0,IF($F$12=\"No\",0,IF(AD$14=YEAR('Fee Estimator'!$F39),'Fee Estimator'!$M40,0))))","v":0},{"$f":"IF(ISTEXT('Fee Estimator'!$F39),0,IF('Fee Estimator'!$F39=\"\",0,IF($F$12=\"No\",0,IF(AE$14=YEAR('Fee Estimator'!$F39),'Fee Estimator'!$M40,0))))","v":0},{"$f":"IF(ISTEXT('Fee Estimator'!$F39),0,IF('Fee Estimator'!$F39=\"\",0,IF($F$12=\"No\",0,IF(AF$14=YEAR('Fee Estimator'!$F39),'Fee Estimator'!$M40,0))))","v":0},{"$f":"IF(ISTEXT('Fee Estimator'!$F39),0,IF('Fee Estimator'!$F39=\"\",0,IF($F$12=\"No\",0,IF(AG$14=YEAR('Fee Estimator'!$F39),'Fee Estimator'!$M40,0))))","v":0},{"$f":"IF(ISTEXT('Fee Estimator'!$F39),0,IF('Fee Estimator'!$F39=\"\",0,IF($F$12=\"No\",0,IF(AH$14=YEAR('Fee Estimator'!$F39),'Fee Estimator'!$M40,0))))","v":0},{"$f":"IF(ISTEXT('Fee Estimator'!$F39),0,IF('Fee Estimator'!$F39=\"\",0,IF($F$12=\"No\",0,IF(AI$14=YEAR('Fee Estimator'!$F39),'Fee Estimator'!$M40,0))))","v":0}]
[{"$f":"IF(AND('Emissions Estimator'!$A25=\"\",'Emissions Estimator'!$A80=\"\"),\"\",IF(AND('Emissions Estimator'!$A25=\"\",'Emissions Estimator'!$A80<>\"\"),\"Operation\",IF(AND('Emissions Estimator'!$A80=\"\",'Emissions Estimator'!$A25<>\"\"),\"Construction\",MIN('Emissions Estimator'!$A25,'Emissions Estimator'!$A80))))","v":""},{"$f":"IF(A41=\"\",\"\",IF(AND(A41=\"Construction\",'Emissions Estimator'!$O$9=\"No\"),\"No\",IF(AND(A41=\"Construction\",'Emissions Estimator'!$O$9=\"Yes\"),\"Yes\",IF(A41=\"Operation\",\"\"))))","v":""},{"$f":"IF(AND('Emissions Estimator'!$A25=\"\",'Emissions Estimator'!$A80=\"\"),\"\",IF(AND('Emissions Estimator'!$A25=\"\",'Emissions Estimator'!$A80<>\"\"),'Emissions Estimator'!$A80,IF(AND('Emissions Estimator'!$A80=\"\",'Emissions Estimator'!$A25<>\"\"),'Emissions Estimator'!$A25,MIN('Emissions Estimator'!$A25,'Emissions Estimator'!$A80))))","v":""},14,{"$f":"IF(AND('Emissions Estimator'!C25=\"\",'Emissions Estimator'!C80=\"\"),\"\",IF(AND('Emissions Estimator'!C25=\"\",'Emissions Estimator'!C80<>\"\"),'Emissions Estimator'!C80,IF(AND('Emissions Estimator'!C80=\"\",'Emissions Estimator'!C25<>\"\"),'Emissions Estimator'!C25,MIN('Emissions Estimator'!C25,'Emissions Estimator'!C80))))","v":""},{"$f":"IF(AND(B41=\"\",E41=\"\"),\"\",IF(AND(B41=\"Yes\",$F$12=\"Yes\"),\"Clean Fleet\",IF(AND(B41=\"Yes\",$F$12=\"No\"),\"Clean Fleet\",IF(AND(A41=\"Operation\",$F$12=\"No\"),$E$15-1,IF(AND(A41=\"Operation\",$F$12=\"Yes\"),E41-1,IF(AND(B41=\"No\",$F$12=\"No\"),$E$15-1,IF(AND(B41=\"No\",$F$12=\"Yes\"),E41-1)))))))","v":""},null,"NOx",null,{"$f":"('Emissions Estimator'!R80)","v":0},0,null,0,null,{"$f":"IF(ISTEXT('Fee Estimator'!$F41),0,IF('Fee Estimator'!$F41=\"\",0,IF($F$12=\"No\",0,IF(O$14=YEAR('Fee Estimator'!$F41),'Fee Estimator'!$M41,0))))","v":0},{"$f":"IF(ISTEXT('Fee Estimator'!$F41),0,IF('Fee Estimator'!$F41=\"\",0,IF($F$12=\"No\",0,IF(P$14=YEAR('Fee Estimator'!$F41),'Fee Estimator'!$M41,0))))","v":0},{"$f":"IF(ISTEXT('Fee Estimator'!$F41),0,IF('Fee Estimator'!$F41=\"\",0,IF($F$12=\"No\",0,IF(Q$14=YEAR('Fee Estimator'!$F41),'Fee Estimator'!$M41,0))))","v":0},{"$f":"IF(ISTEXT('Fee Estimator'!$F41),0,IF('Fee Estimator'!$F41=\"\",0,IF($F$12=\"No\",0,IF(R$14=YEAR('Fee Estimator'!$F41),'Fee Estimator'!$M41,0))))","v":0},{"$f":"IF(ISTEXT('Fee Estimator'!$F41),0,IF('Fee Estimator'!$F41=\"\",0,IF($F$12=\"No\",0,IF(S$14=YEAR('Fee Estimator'!$F41),'Fee Estimator'!$M41,0))))","v":0},{"$f":"IF(ISTEXT('Fee Estimator'!$F41),0,IF('Fee Estimator'!$F41=\"\",0,IF($F$12=\"No\",0,IF(T$14=YEAR('Fee Estimator'!$F41),'Fee Estimator'!$M41,0))))","v":0},{"$f":"IF(ISTEXT('Fee Estimator'!$F41),0,IF('Fee Estimator'!$F41=\"\",0,IF($F$12=\"No\",0,IF(U$14=YEAR('Fee Estimator'!$F41),'Fee Estimator'!$M41,0))))","v":0},{"$f":"IF(ISTEXT('Fee Estimator'!$F41),0,IF('Fee Estimator'!$F41=\"\",0,IF($F$12=\"No\",0,IF(V$14=YEAR('Fee Estimator'!$F41),'Fee Estimator'!$M41,0))))","v":0},{"$f":"IF(ISTEXT('Fee Estimator'!$F41),0,IF('Fee Estimator'!$F41=\"\",0,IF($F$12=\"No\",0,IF(W$14=YEAR('Fee Estimator'!$F41),'Fee Estimator'!$M41,0))))","v":0},{"$f":"IF(ISTEXT('Fee Estimator'!$F41),0,IF('Fee Estimator'!$F41=\"\",0,IF($F$12=\"No\",0,IF(X$14=YEAR('Fee Estimator'!$F41),'Fee Estimator'!$M41,0))))","v":0},{"$f":"IF(ISTEXT('Fee Estimator'!$F41),0,IF('Fee Estimator'!$F41=\"\",0,IF($F$12=\"No\",0,IF(Y$14=YEAR('Fee Estimator'!$F41),'Fee Estimator'!$M41,0))))","v":0},{"$f":"IF(ISTEXT('Fee Estimator'!$F41),0,IF('Fee Estimator'!$F41=\"\",0,IF($F$12=\"No\",0,IF(Z$14=YEAR('Fee Estimator'!$F41),'Fee Estimator'!$M41,0))))","v":0},{"$f":"IF(ISTEXT('Fee Estimator'!$F41),0,IF('Fee Estimator'!$F41=\"\",0,IF($F$12=\"No\",0,IF(AA$14=YEAR('Fee Estimator'!$F41),'Fee Estimator'!$M41,0))))","v":0},{"$f":"IF(ISTEXT('Fee Estimator'!$F41),0,IF('Fee Estimator'!$F41=\"\",0,IF($F$12=\"No\",0,IF(AB$14=YEAR('Fee Estimator'!$F41),'Fee Estimator'!$M41,0))))","v":0},{"$f":"IF(ISTEXT('Fee Estimator'!$F41),0,IF('Fee Estimator'!$F41=\"\",0,IF($F$12=\"No\",0,IF(AC$14=YEAR('Fee Estimator'!$F41),'Fee Estimator'!$M41,0))))","v":0},{"$f":"IF(ISTEXT('Fee Estimator'!$F41),0,IF('Fee Estimator'!$F41=\"\",0,IF($F$12=\"No\",0,IF(AD$14=YEAR('Fee Estimator'!$F41),'Fee Estimator'!$M41,0))))","v":0},{"$f":"IF(ISTEXT('Fee Estimator'!$F41),0,IF('Fee Estimator'!$F41=\"\",0,IF($F$12=\"No\",0,IF(AE$14=YEAR('Fee Estimator'!$F41),'Fee Estimator'!$M41,0))))","v":0},{"$f":"IF(ISTEXT('Fee Estimator'!$F41),0,IF('Fee Estimator'!$F41=\"\",0,IF($F$12=\"No\",0,IF(AF$14=YEAR('Fee Estimator'!$F41),'Fee Estimator'!$M41,0))))","v":0},{"$f":"IF(ISTEXT('Fee Estimator'!$F41),0,IF('Fee Estimator'!$F41=\"\",0,IF($F$12=\"No\",0,IF(AG$14=YEAR('Fee Estimator'!$F41),'Fee Estimator'!$M41,0))))","v":0},{"$f":"IF(ISTEXT('Fee Estimator'!$F41),0,IF('Fee Estimator'!$F41=\"\",0,IF($F$12=\"No\",0,IF(AH$14=YEAR('Fee Estimator'!$F41),'Fee Estimator'!$M41,0))))","v":0},{"$f":"IF(ISTEXT('Fee Estimator'!$F41),0,IF('Fee Estimator'!$F41=\"\",0,IF($F$12=\"No\",0,IF(AI$14=YEAR('Fee Estimator'!$F41),'Fee Estimator'!$M41,0))))","v":0}]
[null,null,null,null,null,null,null,"PM10",null,{"$f":"('Emissions Estimator'!S80)","v":0},0,null,0,null,{"$f":"IF(ISTEXT('Fee Estimator'!$F41),0,IF('Fee Estimator'!$F41=\"\",0,IF($F$12=\"No\",0,IF(O$14=YEAR('Fee Estimator'!$F41),'Fee Estimator'!$M42,0))))","v":0},{"$f":"IF(ISTEXT('Fee Estimator'!$F41),0,IF('Fee Estimator'!$F41=\"\",0,IF($F$12=\"No\",0,IF(P$14=YEAR('Fee Estimator'!$F41),'Fee Estimator'!$M42,0))))","v":0},{"$f":"IF(ISTEXT('Fee Estimator'!$F41),0,IF('Fee Estimator'!$F41=\"\",0,IF($F$12=\"No\",0,IF(Q$14=YEAR('Fee Estimator'!$F41),'Fee Estimator'!$M42,0))))","v":0},{"$f":"IF(ISTEXT('Fee Estimator'!$F41),0,IF('Fee Estimator'!$F41=\"\",0,IF($F$12=\"No\",0,IF(R$14=YEAR('Fee Estimator'!$F41),'Fee Estimator'!$M42,0))))","v":0},{"$f":"IF(ISTEXT('Fee Estimator'!$F41),0,IF('Fee Estimator'!$F41=\"\",0,IF($F$12=\"No\",0,IF(S$14=YEAR('Fee Estimator'!$F41),'Fee Estimator'!$M42,0))))","v":0},{"$f":"IF(ISTEXT('Fee Estimator'!$F41),0,IF('Fee Estimator'!$F41=\"\",0,IF($F$12=\"No\",0,IF(T$14=YEAR('Fee Estimator'!$F41),'Fee Estimator'!$M42,0))))","v":0},{"$f":"IF(ISTEXT('Fee Estimator'!$F41),0,IF('Fee Estimator'!$F41=\"\",0,IF($F$12=\"No\",0,IF(U$14=YEAR('Fee Estimator'!$F41),'Fee Estimator'!$M42,0))))","v":0},{"$f":"IF(ISTEXT('Fee Estimator'!$F41),0,IF('Fee Estimator'!$F41=\"\",0,IF($F$12=\"No\",0,IF(V$14=YEAR('Fee Estimator'!$F41),'Fee Estimator'!$M42,0))))","v":0},{"$f":"IF(ISTEXT('Fee Estimator'!$F41),0,IF('Fee Estimator'!$F41=\"\",0,IF($F$12=\"No\",0,IF(W$14=YEAR('Fee Estimator'!$F41),'Fee Estimator'!$M42,0))))","v":0},{"$f":"IF(ISTEXT('Fee Estimator'!$F41),0,IF('Fee Estimator'!$F41=\"\",0,IF($F$12=\"No\",0,IF(X$14=YEAR('Fee Estimator'!$F41),'Fee Estimator'!$M42,0))))","v":0},{"$f":"IF(ISTEXT('Fee Estimator'!$F41),0,IF('Fee Estimator'!$F41=\"\",0,IF($F$12=\"No\",0,IF(Y$14=YEAR('Fee Estimator'!$F41),'Fee Estimator'!$M42,0))))","v":0},{"$f":"IF(ISTEXT('Fee Estimator'!$F41),0,IF('Fee Estimator'!$F41=\"\",0,IF($F$12=\"No\",0,IF(Z$14=YEAR('Fee Estimator'!$F41),'Fee Estimator'!$M42,0))))","v":0},{"$f":"IF(ISTEXT('Fee Estimator'!$F41),0,IF('Fee Estimator'!$F41=\"\",0,IF($F$12=\"No\",0,IF(AA$14=YEAR('Fee Estimator'!$F41),'Fee Estimator'!$M42,0))))","v":0},{"$f":"IF(ISTEXT('Fee Estimator'!$F41),0,IF('Fee Estimator'!$F41=\"\",0,IF($F$12=\"No\",0,IF(AB$14=YEAR('Fee Estimator'!$F41),'Fee Estimator'!$M42,0))))","v":0},{"$f":"IF(ISTEXT('Fee Estimator'!$F41),0,IF('Fee Estimator'!$F41=\"\",0,IF($F$12=\"No\",0,IF(AC$14=YEAR('Fee Estimator'!$F41),'Fee Estimator'!$M42,0))))","v":0},{"$f":"IF(ISTEXT('Fee Estimator'!$F41),0,IF('Fee Estimator'!$F41=\"\",0,IF($F$12=\"No\",0,IF(AD$14=YEAR('Fee Estimator'!$F41),'Fee Estimator'!$M42,0))))","v":0},{"$f":"IF(ISTEXT('Fee Estimator'!$F41),0,IF('Fee Estimator'!$F41=\"\",0,IF($F$12=\"No\",0,IF(AE$14=YEAR('Fee Estimator'!$F41),'Fee Estimator'!$M42,0))))","v":0},{"$f":"IF(ISTEXT('Fee Estimator'!$F41),0,IF('Fee Estimator'!$F41=\"\",0,IF($F$12=\"No\",0,IF(AF$14=YEAR('Fee Estimator'!$F41),'Fee Estimator'!$M42,0))))","v":0},{"$f":"IF(ISTEXT('Fee Estimator'!$F41),0,IF('Fee Estimator'!$F41=\"\",0,IF($F$12=\"No\",0,IF(AG$14=YEAR('Fee Estimator'!$F41),'Fee Estimator'!$M42,0))))","v":0},{"$f":"IF(ISTEXT('Fee Estimator'!$F41),0,IF('Fee Estimator'!$F41=\"\",0,IF($F$12=\"No\",0,IF(AH$14=YEAR('Fee Estimator'!$F41),'Fee Estimator'!$M42,0))))","v":0},{"$f":"IF(ISTEXT('Fee Estimator'!$F41),0,IF('Fee Estimator'!$F41=\"\",0,IF($F$12=\"No\",0,IF(AI$14=YEAR('Fee Estimator'!$F41),'Fee Estimator'!$M42,0))))","v":0}]
[{"$f":"IF(AND('Emissions Estimator'!$A26=\"\",'Emissions Estimator'!$A81=\"\"),\"\",IF(AND('Emissions Estimator'!$A26=\"\",'Emissions Estimator'!$A81<>\"\"),\"Operation\",IF(AND('Emissions Estimator'!$A81=\"\",'Emissions Estimator'!$A26<>\"\"),\"Construction\",MIN('Emissions Estimator'!$A26,'Emissions Estimator'!$A81))))","v":""},{"$f":"IF(A43=\"\",\"\",IF(AND(A43=\"Construction\",'Emissions Estimator'!$O$9=\"No\"),\"No\",IF(AND(A43=\"Construction\",'Emissions Estimator'!$O$9=\"Yes\"),\"Yes\",IF(A43=\"Operation\",\"\"))))","v":""},{"$f":"IF(AND('Emissions Estimator'!$A26=\"\",'Emissions Estimator'!$A81=\"\"),\"\",IF(AND('Emissions Estimator'!$A26=\"\",'Emissions Estimator'!$A81<>\"\"),'Emissions Estimator'!$A81,IF(AND('Emissions Estimator'!$A81=\"\",'Emissions Estimator'!$A26<>\"\"),'Emissions Estimator'!$A26,MIN('Emissions Estimator'!$A26,'Emissions Estimator'!$A81))))","v":""},15,{"$f":"IF(AND('Emissions Estimator'!C26=\"\",'Emissions Estimator'!C81=\"\"),\"\",IF(AND('Emissions Estimator'!C26=\"\",'Emissions Estimator'!C81<>\"\"),'Emissions Estimator'!C81,IF(AND('Emissions Estimator'!C81=\"\",'Emissions Estimator'!C26<>\"\"),'Emissions Estimator'!C26,MIN('Emissions Estimator'!C26,'Emissions Estimator'!C81))))","v":""},{"$f":"IF(AND(B43=\"\",E43=\"\"),\"\",IF(AND(B43=\"Yes\",$F$12=\"Yes\"),\"Clean Fleet\",IF(AND(B43=\"Yes\",$F$12=\"No\"),\"Clean Fleet\",IF(AND(A43=\"Operation\",$F$12=\"No\"),$E$15-1,IF(AND(A43=\"Operation\",$F$12=\"Yes\"),E43-1,IF(AND(B43=\"No\",$F$12=\"No\"),$E$15-1,IF(AND(B43=\"No\",$F$12=\"Yes\"),E43-1)))))))","v":""},null,"NOx",null,{"$f":"('Emissions Estimator'!R81)","v":0},0,null,0,null,{"$f":"IF(ISTEXT('Fee Estimator'!$F43),0,IF('Fee Estimator'!$F43=\"\",0,IF($F$12=\"No\",0,IF(O$14=YEAR('Fee Estimator'!$F43),'Fee Estimator'!$M43,0))))","v":0},{"$f":"IF(ISTEXT('Fee Estimator'!$F43),0,IF('Fee Estimator'!$F43=\"\",0,IF($F$12=\"No\",0,IF(P$14=YEAR('Fee Estimator'!$F43),'Fee Estimator'!$M43,0))))","v":0},{"$f":"IF(ISTEXT('Fee Estimator'!$F43),0,IF('Fee Estimator'!$F43=\"\",0,IF($F$12=\"No\",0,IF(Q$14=YEAR('Fee Estimator'!$F43),'Fee Estimator'!$M43,0))))","v":0},{"$f":"IF(ISTEXT('Fee Estimator'!$F43),0,IF('Fee Estimator'!$F43=\"\",0,IF($F$12=\"No\",0,IF(R$14=YEAR('Fee Estimator'!$F43),'Fee Estimator'!$M43,0))))","v":0},{"$f":"IF(ISTEXT('Fee Estimator'!$F43),0,IF('Fee Estimator'!$F43=\"\",0,IF($F$12=\"No\",0,IF(S$14=YEAR('Fee Estimator'!$F43),'Fee Estimator'!$M43,0))))","v":0},{"$f":"IF(ISTEXT('Fee Estimator'!$F43),0,IF('Fee Estimator'!$F43=\"\",0,IF($F$12=\"No\",0,IF(T$14=YEAR('Fee Estimator'!$F43),'Fee Estimator'!$M43,0))))","v":0},{"$f":"IF(ISTEXT('Fee Estimator'!$F43),0,IF('Fee Estimator'!$F43=\"\",0,IF($F$12=\"No\",0,IF(U$14=YEAR('Fee Estimator'!$F43),'Fee Estimator'!$M43,0))))","v":0},{"$f":"IF(ISTEXT('Fee Estimator'!$F43),0,IF('Fee Estimator'!$F43=\"\",0,IF($F$12=\"No\",0,IF(V$14=YEAR('Fee Estimator'!$F43),'Fee Estimator'!$M43,0))))","v":0},{"$f":"IF(ISTEXT('Fee Estimator'!$F43),0,IF('Fee Estimator'!$F43=\"\",0,IF($F$12=\"No\",0,IF(W$14=YEAR('Fee Estimator'!$F43),'Fee Estimator'!$M43,0))))","v":0},{"$f":"IF(ISTEXT('Fee Estimator'!$F43),0,IF('Fee Estimator'!$F43=\"\",0,IF($F$12=\"No\",0,IF(X$14=YEAR('Fee Estimator'!$F43),'Fee Estimator'!$M43,0))))","v":0},{"$f":"IF(ISTEXT('Fee Estimator'!$F43),0,IF('Fee Estimator'!$F43=\"\",0,IF($F$12=\"No\",0,IF(Y$14=YEAR('Fee Estimator'!$F43),'Fee Estimator'!$M43,0))))","v":0},{"$f":"IF(ISTEXT('Fee Estimator'!$F43),0,IF('Fee Estimator'!$F43=\"\",0,IF($F$12=\"No\",0,IF(Z$14=YEAR('Fee Estimator'!$F43),'Fee Estimator'!$M43,0))))","v":0},{"$f":"IF(ISTEXT('Fee Estimator'!$F43),0,IF('Fee Estimator'!$F43=\"\",0,IF($F$12=\"No\",0,IF(AA$14=YEAR('Fee Estimator'!$F43),'Fee Estimator'!$M43,0))))","v":0},{"$f":"IF(ISTEXT('Fee Estimator'!$F43),0,IF('Fee Estimator'!$F43=\"\",0,IF($F$12=\"No\",0,IF(AB$14=YEAR('Fee Estimator'!$F43),'Fee Estimator'!$M43,0))))","v":0},{"$f":"IF(ISTEXT('Fee Estimator'!$F43),0,IF('Fee Estimator'!$F43=\"\",0,IF($F$12=\"No\",0,IF(AC$14=YEAR('Fee Estimator'!$F43),'Fee Estimator'!$M43,0))))","v":0},{"$f":"IF(ISTEXT('Fee Estimator'!$F43),0,IF('Fee Estimator'!$F43=\"\",0,IF($F$12=\"No\",0,IF(AD$14=YEAR('Fee Estimator'!$F43),'Fee Estimator'!$M43,0))))","v":0},{"$f":"IF(ISTEXT('Fee Estimator'!$F43),0,IF('Fee Estimator'!$F43=\"\",0,IF($F$12=\"No\",0,IF(AE$14=YEAR('Fee Estimator'!$F43),'Fee Estimator'!$M43,0))))","v":0},{"$f":"IF(ISTEXT('Fee Estimator'!$F43),0,IF('Fee Estimator'!$F43=\"\",0,IF($F$12=\"No\",0,IF(AF$14=YEAR('Fee Estimator'!$F43),'Fee Estimator'!$M43,0))))","v":0},{"$f":"IF(ISTEXT('Fee Estimator'!$F43),0,IF('Fee Estimator'!$F43=\"\",0,IF($F$12=\"No\",0,IF(AG$14=YEAR('Fee Estimator'!$F43),'Fee Estimator'!$M43,0))))","v":0},{"$f":"IF(ISTEXT('Fee Estimator'!$F43),0,IF('Fee Estimator'!$F43=\"\",0,IF($F$12=\"No\",0,IF(AH$14=YEAR('Fee Estimator'!$F43),'Fee Estimator'!$M43,0))))","v":0},{"$f":"IF(ISTEXT('Fee Estimator'!$F43),0,IF('Fee Estimator'!$F43=\"\",0,IF($F$12=\"No\",0,IF(AI$14=YEAR('Fee Estimator'!$F43),'Fee Estimator'!$M43,0))))","v":0}]
[null,null,null,null,null,null,null,"PM10",null,{"$f":"('Emissions Estimator'!S81)","v":0},0,null,0,null,{"$f":"IF(ISTEXT('Fee Estimator'!$F43),0,IF('Fee Estimator'!$F43=\"\",0,IF($F$12=\"No\",0,IF(O$14=YEAR('Fee Estimator'!$F43),'Fee Estimator'!$M44,0))))","v":0},{"$f":"IF(ISTEXT('Fee Estimator'!$F43),0,IF('Fee Estimator'!$F43=\"\",0,IF($F$12=\"No\",0,IF(P$14=YEAR('Fee Estimator'!$F43),'Fee Estimator'!$M44,0))))","v":0},{"$f":"IF(ISTEXT('Fee Estimator'!$F43),0,IF('Fee Estimator'!$F43=\"\",0,IF($F$12=\"No\",0,IF(Q$14=YEAR('Fee Estimator'!$F43),'Fee Estimator'!$M44,0))))","v":0},{"$f":"IF(ISTEXT('Fee Estimator'!$F43),0,IF('Fee Estimator'!$F43=\"\",0,IF($F$12=\"No\",0,IF(R$14=YEAR('Fee Estimator'!$F43),'Fee Estimator'!$M44,0))))","v":0},{"$f":"IF(ISTEXT('Fee Estimator'!$F43),0,IF('Fee Estimator'!$F43=\"\",0,IF($F$12=\"No\",0,IF(S$14=YEAR('Fee Estimator'!$F43),'Fee Estimator'!$M44,0))))","v":0},{"$f":"IF(ISTEXT('Fee Estimator'!$F43),0,IF('Fee Estimator'!$F43=\"\",0,IF($F$12=\"No\",0,IF(T$14=YEAR('Fee Estimator'!$F43),'Fee Estimator'!$M44,0))))","v":0},{"$f":"IF(ISTEXT('Fee Estimator'!$F43),0,IF('Fee Estimator'!$F43=\"\",0,IF($F$12=\"No\",0,IF(U$14=YEAR('Fee Estimator'!$F43),'Fee Estimator'!$M44,0))))","v":0},{"$f":"IF(ISTEXT('Fee Estimator'!$F43),0,IF('Fee Estimator'!$F43=\"\",0,IF($F$12=\"No\",0,IF(V$14=YEAR('Fee Estimator'!$F43),'Fee Estimator'!$M44,0))))","v":0},{"$f":"IF(ISTEXT('Fee Estimator'!$F43),0,IF('Fee Estimator'!$F43=\"\",0,IF($F$12=\"No\",0,IF(W$14=YEAR('Fee Estimator'!$F43),'Fee Estimator'!$M44,0))))","v":0},{"$f":"IF(ISTEXT('Fee Estimator'!$F43),0,IF('Fee Estimator'!$F43=\"\",0,IF($F$12=\"No\",0,IF(X$14=YEAR('Fee Estimator'!$F43),'Fee Estimator'!$M44,0))))","v":0},{"$f":"IF(ISTEXT('Fee Estimator'!$F43),0,IF('Fee Estimator'!$F43=\"\",0,IF($F$12=\"No\",0,IF(Y$14=YEAR('Fee Estimator'!$F43),'Fee Estimator'!$M44,0))))","v":0},{"$f":"IF(ISTEXT('Fee Estimator'!$F43),0,IF('Fee Estimator'!$F43=\"\",0,IF($F$12=\"No\",0,IF(Z$14=YEAR('Fee Estimator'!$F43),'Fee Estimator'!$M44,0))))","v":0},{"$f":"IF(ISTEXT('Fee Estimator'!$F43),0,IF('Fee Estimator'!$F43=\"\",0,IF($F$12=\"No\",0,IF(AA$14=YEAR('Fee Estimator'!$F43),'Fee Estimator'!$M44,0))))","v":0},{"$f":"IF(ISTEXT('Fee Estimator'!$F43),0,IF('Fee Estimator'!$F43=\"\",0,IF($F$12=\"No\",0,IF(AB$14=YEAR('Fee Estimator'!$F43),'Fee Estimator'!$M44,0))))","v":0},{"$f":"IF(ISTEXT('Fee Estimator'!$F43),0,IF('Fee Estimator'!$F43=\"\",0,IF($F$12=\"No\",0,IF(AC$14=YEAR('Fee Estimator'!$F43),'Fee Estimator'!$M44,0))))","v":0},{"$f":"IF(ISTEXT('Fee Estimator'!$F43),0,IF('Fee Estimator'!$F43=\"\",0,IF($F$12=\"No\",0,IF(AD$14=YEAR('Fee Estimator'!$F43),'Fee Estimator'!$M44,0))))","v":0},{"$f":"IF(ISTEXT('Fee Estimator'!$F43),0,IF('Fee Estimator'!$F43=\"\",0,IF($F$12=\"No\",0,IF(AE$14=YEAR('Fee Estimator'!$F43),'Fee Estimator'!$M44,0))))","v":0},{"$f":"IF(ISTEXT('Fee Estimator'!$F43),0,IF('Fee Estimator'!$F43=\"\",0,IF($F$12=\"No\",0,IF(AF$14=YEAR('Fee Estimator'!$F43),'Fee Estimator'!$M44,0))))","v":0},{"$f":"IF(ISTEXT('Fee Estimator'!$F43),0,IF('Fee Estimator'!$F43=\"\",0,IF($F$12=\"No\",0,IF(AG$14=YEAR('Fee Estimator'!$F43),'Fee Estimator'!$M44,0))))","v":0},{"$f":"IF(ISTEXT('Fee Estimator'!$F43),0,IF('Fee Estimator'!$F43=\"\",0,IF($F$12=\"No\",0,IF(AH$14=YEAR('Fee Estimator'!$F43),'Fee Estimator'!$M44,0))))","v":0},{"$f":"IF(ISTEXT('Fee Estimator'!$F43),0,IF('Fee Estimator'!$F43=\"\",0,IF($F$12=\"No\",0,IF(AI$14=YEAR('Fee Estimator'!$F43),'Fee Estimator'!$M44,0))))","v":0}]
[{"$f":"IF(AND('Emissions Estimator'!$A27=\"\",'Emissions Estimator'!$A82=\"\"),\"\",IF(AND('Emissions Estimator'!$A27=\"\",'Emissions Estimator'!$A82<>\"\"),\"Operation\",IF(AND('Emissions Estimator'!$A82=\"\",'Emissions Estimator'!$A27<>\"\"),\"Construction\",MIN('Emissions Estimator'!$A27,'Emissions Estimator'!$A82))))","v":""},{"$f":"IF(A45=\"\",\"\",IF(AND(A45=\"Construction\",'Emissions Estimator'!$O$9=\"No\"),\"No\",IF(AND(A45=\"Construction\",'Emissions Estimator'!$O$9=\"Yes\"),\"Yes\",IF(A45=\"Operation\",\"\"))))","v":""},{"$f":"IF(AND('Emissions Estimator'!$A27=\"\",'Emissions Estimator'!$A82=\"\"),\"\",IF(AND('Emissions Estimator'!$A27=\"\",'Emissions Estimator'!$A82<>\"\"),'Emissions Estimator'!$A82,IF(AND('Emissions Estimator'!$A82=\"\",'Emissions Estimator'!$A27<>\"\"),'Emissions Estimator'!$A27,MIN('Emissions Estimator'!$A27,'Emissions Estimator'!$A82))))","v":""},16,{"$f":"IF(AND('Emissions Estimator'!C27=\"\",'Emissions Estimator'!C82=\"\"),\"\",IF(AND('Emissions Estimator'!C27=\"\",'Emissions Estimator'!C82<>\"\"),'Emissions Estimator'!C82,IF(AND('Emissions Estimator'!C82=\"\",'Emissions Estimator'!C27<>\"\"),'Emissions Estimator'!C27,MIN('Emissions Estimator'!C27,'Emissions Estimator'!C82))))","v":""},{"$f":"IF(AND(B45=\"\",E45=\"\"),\"\",IF(AND(B45=\"Yes\",$F$12=\"Yes\"),\"Clean Fleet\",IF(AND(B45=\"Yes\",$F$12=\"No\"),\"Clean Fleet\",IF(AND(A45=\"Operation\",$F$12=\"No\"),$E$15-1,IF(AND(A45=\"Operation\",$F$12=\"Yes\"),E45-1,IF(AND(B45=\"No\",$F$12=\"No\"),$E$15-1,IF(AND(B45=\"No\",$F$12=\"Yes\"),E45-1)))))))","v":""},null,"NOx",null,{"$f":"('Emissions Estimator'!R82)","v":0},0,null,0,null,{"$f":"IF(ISTEXT('Fee Estimator'!$F45),0,IF('Fee Estimator'!$F45=\"\",0,IF($F$12=\"No\",0,IF(O$14=YEAR('Fee Estimator'!$F45),'Fee Estimator'!$M45,0))))","v":0},{"$f":"IF(ISTEXT('Fee Estimator'!$F45),0,IF('Fee Estimator'!$F45=\"\",0,IF($F$12=\"No\",0,IF(P$14=YEAR('Fee Estimator'!$F45),'Fee Estimator'!$M45,0))))","v":0},{"$f":"IF(ISTEXT('Fee Estimator'!$F45),0,IF('Fee Estimator'!$F45=\"\",0,IF($F$12=\"No\",0,IF(Q$14=YEAR('Fee Estimator'!$F45),'Fee Estimator'!$M45,0))))","v":0},{"$f":"IF(ISTEXT('Fee Estimator'!$F45),0,IF('Fee Estimator'!$F45=\"\",0,IF($F$12=\"No\",0,IF(R$14=YEAR('Fee Estimator'!$F45),'Fee Estimator'!$M45,0))))","v":0},{"$f":"IF(ISTEXT('Fee Estimator'!$F45),0,IF('Fee Estimator'!$F45=\"\",0,IF($F$12=\"No\",0,IF(S$14=YEAR('Fee Estimator'!$F45),'Fee Estimator'!$M45,0))))","v":0},{"$f":"IF(ISTEXT('Fee Estimator'!$F45),0,IF('Fee Estimator'!$F45=\"\",0,IF($F$12=\"No\",0,IF(T$14=YEAR('Fee Estimator'!$F45),'Fee Estimator'!$M45,0))))","v":0},{"$f":"IF(ISTEXT('Fee Estimator'!$F45),0,IF('Fee Estimator'!$F45=\"\",0,IF($F$12=\"No\",0,IF(U$14=YEAR('Fee Estimator'!$F45),'Fee Estimator'!$M45,0))))","v":0},{"$f":"IF(ISTEXT('Fee Estimator'!$F45),0,IF('Fee Estimator'!$F45=\"\",0,IF($F$12=\"No\",0,IF(V$14=YEAR('Fee Estimator'!$F45),'Fee Estimator'!$M45,0))))","v":0},{"$f":"IF(ISTEXT('Fee Estimator'!$F45),0,IF('Fee Estimator'!$F45=\"\",0,IF($F$12=\"No\",0,IF(W$14=YEAR('Fee Estimator'!$F45),'Fee Estimator'!$M45,0))))","v":0},{"$f":"IF(ISTEXT('Fee Estimator'!$F45),0,IF('Fee Estimator'!$F45=\"\",0,IF($F$12=\"No\",0,IF(X$14=YEAR('Fee Estimator'!$F45),'Fee Estimator'!$M45,0))))","v":0},{"$f":"IF(ISTEXT('Fee Estimator'!$F45),0,IF('Fee Estimator'!$F45=\"\",0,IF($F$12=\"No\",0,IF(Y$14=YEAR('Fee Estimator'!$F45),'Fee Estimator'!$M45,0))))","v":0},{"$f":"IF(ISTEXT('Fee Estimator'!$F45),0,IF('Fee Estimator'!$F45=\"\",0,IF($F$12=\"No\",0,IF(Z$14=YEAR('Fee Estimator'!$F45),'Fee Estimator'!$M45,0))))","v":0},{"$f":"IF(ISTEXT('Fee Estimator'!$F45),0,IF('Fee Estimator'!$F45=\"\",0,IF($F$12=\"No\",0,IF(AA$14=YEAR('Fee Estimator'!$F45),'Fee Estimator'!$M45,0))))","v":0},{"$f":"IF(ISTEXT('Fee Estimator'!$F45),0,IF('Fee Estimator'!$F45=\"\",0,IF($F$12=\"No\",0,IF(AB$14=YEAR('Fee Estimator'!$F45),'Fee Estimator'!$M45,0))))","v":0},{"$f":"IF(ISTEXT('Fee Estimator'!$F45),0,IF('Fee Estimator'!$F45=\"\",0,IF($F$12=\"No\",0,IF(AC$14=YEAR('Fee Estimator'!$F45),'Fee Estimator'!$M45,0))))","v":0},{"$f":"IF(ISTEXT('Fee Estimator'!$F45),0,IF('Fee Estimator'!$F45=\"\",0,IF($F$12=\"No\",0,IF(AD$14=YEAR('Fee Estimator'!$F45),'Fee Estimator'!$M45,0))))","v":0},{"$f":"IF(ISTEXT('Fee Estimator'!$F45),0,IF('Fee Estimator'!$F45=\"\",0,IF($F$12=\"No\",0,IF(AE$14=YEAR('Fee Estimator'!$F45),'Fee Estimator'!$M45,0))))","v":0},{"$f":"IF(ISTEXT('Fee Estimator'!$F45),0,IF('Fee Estimator'!$F45=\"\",0,IF($F$12=\"No\",0,IF(AF$14=YEAR('Fee Estimator'!$F45),'Fee Estimator'!$M45,0))))","v":0},{"$f":"IF(ISTEXT('Fee Estimator'!$F45),0,IF('Fee Estimator'!$F45=\"\",0,IF($F$12=\"No\",0,IF(AG$14=YEAR('Fee Estimator'!$F45),'Fee Estimator'!$M45,0))))","v":0},{"$f":"IF(ISTEXT('Fee Estimator'!$F45),0,IF('Fee Estimator'!$F45=\"\",0,IF($F$12=\"No\",0,IF(AH$14=YEAR('Fee Estimator'!$F45),'Fee Estimator'!$M45,0))))","v":0},{"$f":"IF(ISTEXT('Fee Estimator'!$F45),0,IF('Fee Estimator'!$F45=\"\",0,IF($F$12=\"No\",0,IF(AI$14=YEAR('Fee Estimator'!$F45),'Fee Estimator'!$M45,0))))","v":0}]
[null,null,null,null,null,null,null,"PM10",null,{"$f":"('Emissions Estimator'!S82)","v":0},0,null,0,null,{"$f":"IF(ISTEXT('Fee Estimator'!$F45),0,IF('Fee Estimator'!$F45=\"\",0,IF($F$12=\"No\",0,IF(O$14=YEAR('Fee Estimator'!$F45),'Fee Estimator'!$M46,0))))","v":0},{"$f":"IF(ISTEXT('Fee Estimator'!$F45),0,IF('Fee Estimator'!$F45=\"\",0,IF($F$12=\"No\",0,IF(P$14=YEAR('Fee Estimator'!$F45),'Fee Estimator'!$M46,0))))","v":0},{"$f":"IF(ISTEXT('Fee Estimator'!$F45),0,IF('Fee Estimator'!$F45=\"\",0,IF($F$12=\"No\",0,IF(Q$14=YEAR('Fee Estimator'!$F45),'Fee Estimator'!$M46,0))))","v":0},{"$f":"IF(ISTEXT('Fee Estimator'!$F45),0,IF('Fee Estimator'!$F45=\"\",0,IF($F$12=\"No\",0,IF(R$14=YEAR('Fee Estimator'!$F45),'Fee Estimator'!$M46,0))))","v":0},{"$f":"IF(ISTEXT('Fee Estimator'!$F45),0,IF('Fee Estimator'!$F45=\"\",0,IF($F$12=\"No\",0,IF(S$14=YEAR('Fee Estimator'!$F45),'Fee Estimator'!$M46,0))))","v":0},{"$f":"IF(ISTEXT('Fee Estimator'!$F45),0,IF('Fee Estimator'!$F45=\"\",0,IF($F$12=\"No\",0,IF(T$14=YEAR('Fee Estimator'!$F45),'Fee Estimator'!$M46,0))))","v":0},{"$f":"IF(ISTEXT('Fee Estimator'!$F45),0,IF('Fee Estimator'!$F45=\"\",0,IF($F$12=\"No\",0,IF(U$14=YEAR('Fee Estimator'!$F45),'Fee Estimator'!$M46,0))))","v":0},{"$f":"IF(ISTEXT('Fee Estimator'!$F45),0,IF('Fee Estimator'!$F45=\"\",0,IF($F$12=\"No\",0,IF(V$14=YEAR('Fee Estimator'!$F45),'Fee Estimator'!$M46,0))))","v":0},{"$f":"IF(ISTEXT('Fee Estimator'!$F45),0,IF('Fee Estimator'!$F45=\"\",0,IF($F$12=\"No\",0,IF(W$14=YEAR('Fee Estimator'!$F45),'Fee Estimator'!$M46,0))))","v":0},{"$f":"IF(ISTEXT('Fee Estimator'!$F45),0,IF('Fee Estimator'!$F45=\"\",0,IF($F$12=\"No\",0,IF(X$14=YEAR('Fee Estimator'!$F45),'Fee Estimator'!$M46,0))))","v":0},{"$f":"IF(ISTEXT('Fee Estimator'!$F45),0,IF('Fee Estimator'!$F45=\"\",0,IF($F$12=\"No\",0,IF(Y$14=YEAR('Fee Estimator'!$F45),'Fee Estimator'!$M46,0))))","v":0},{"$f":"IF(ISTEXT('Fee Estimator'!$F45),0,IF('Fee Estimator'!$F45=\"\",0,IF($F$12=\"No\",0,IF(Z$14=YEAR('Fee Estimator'!$F45),'Fee Estimator'!$M46,0))))","v":0},{"$f":"IF(ISTEXT('Fee Estimator'!$F45),0,IF('Fee Estimator'!$F45=\"\",0,IF($F$12=\"No\",0,IF(AA$14=YEAR('Fee Estimator'!$F45),'Fee Estimator'!$M46,0))))","v":0},{"$f":"IF(ISTEXT('Fee Estimator'!$F45),0,IF('Fee Estimator'!$F45=\"\",0,IF($F$12=\"No\",0,IF(AB$14=YEAR('Fee Estimator'!$F45),'Fee Estimator'!$M46,0))))","v":0},{"$f":"IF(ISTEXT('Fee Estimator'!$F45),0,IF('Fee Estimator'!$F45=\"\",0,IF($F$12=\"No\",0,IF(AC$14=YEAR('Fee Estimator'!$F45),'Fee Estimator'!$M46,0))))","v":0},{"$f":"IF(ISTEXT('Fee Estimator'!$F45),0,IF('Fee Estimator'!$F45=\"\",0,IF($F$12=\"No\",0,IF(AD$14=YEAR('Fee Estimator'!$F45),'Fee Estimator'!$M46,0))))","v":0},{"$f":"IF(ISTEXT('Fee Estimator'!$F45),0,IF('Fee Estimator'!$F45=\"\",0,IF($F$12=\"No\",0,IF(AE$14=YEAR('Fee Estimator'!$F45),'Fee Estimator'!$M46,0))))","v":0},{"$f":"IF(ISTEXT('Fee Estimator'!$F45),0,IF('Fee Estimator'!$F45=\"\",0,IF($F$12=\"No\",0,IF(AF$14=YEAR('Fee Estimator'!$F45),'Fee Estimator'!$M46,0))))","v":0},{"$f":"IF(ISTEXT('Fee Estimator'!$F45),0,IF('Fee Estimator'!$F45=\"\",0,IF($F$12=\"No\",0,IF(AG$14=YEAR('Fee Estimator'!$F45),'Fee Estimator'!$M46,0))))","v":0},{"$f":"IF(ISTEXT('Fee Estimator'!$F45),0,IF('Fee Estimator'!$F45=\"\",0,IF($F$12=\"No\",0,IF(AH$14=YEAR('Fee Estimator'!$F45),'Fee Estimator'!$M46,0))))","v":0},{"$f":"IF(ISTEXT('Fee Estimator'!$F45),0,IF('Fee Estimator'!$F45=\"\",0,IF($F$12=\"No\",0,IF(AI$14=YEAR('Fee Estimator'!$F45),'Fee Estimator'!$M46,0))))","v":0}]
[{"$f":"IF(AND('Emissions Estimator'!$A28=\"\",'Emissions Estimator'!$A83=\"\"),\"\",IF(AND('Emissions Estimator'!$A28=\"\",'Emissions Estimator'!$A83<>\"\"),\"Operation\",IF(AND('Emissions Estimator'!$A83=\"\",'Emissions Estimator'!$A28<>\"\"),\"Construction\",MIN('Emissions Estimator'!$A28,'Emissions Estimator'!$A83))))","v":""},{"$f":"IF(A47=\"\",\"\",IF(AND(A47=\"Construction\",'Emissions Estimator'!$O$9=\"No\"),\"No\",IF(AND(A47=\"Construction\",'Emissions Estimator'!$O$9=\"Yes\"),\"Yes\",IF(A47=\"Operation\",\"\"))))","v":""},{"$f":"IF(AND('Emissions Estimator'!$A28=\"\",'Emissions Estimator'!$A83=\"\"),\"\",IF(AND('Emissions Estimator'!$A28=\"\",'Emissions Estimator'!$A83<>\"\"),'Emissions Estimator'!$A83,IF(AND('Emissions Estimator'!$A83=\"\",'Emissions Estimator'!$A28<>\"\"),'Emissions Estimator'!$A28,MIN('Emissions Estimator'!$A28,'Emissions Estimator'!$A83))))","v":""},17,{"$f":"IF(AND('Emissions Estimator'!C28=\"\",'Emissions Estimator'!C83=\"\"),\"\",IF(AND('Emissions Estimator'!C28=\"\",'Emissions Estimator'!C83<>\"\"),'Emissions Estimator'!C83,IF(AND('Emissions Estimator'!C83=\"\",'Emissions Estimator'!C28<>\"\"),'Emissions Estimator'!C28,MIN('Emissions Estimator'!C28,'Emissions Estimator'!C83))))","v":""},{"$f":"IF(AND(B47=\"\",E47=\"\"),\"\",IF(AND(B47=\"Yes\",$F$12=\"Yes\"),\"Clean Fleet\",IF(AND(B47=\"Yes\",$F$12=\"No\"),\"Clean Fleet\",IF(AND(A47=\"Operation\",$F$12=\"No\"),$E$15-1,IF(AND(A47=\"Operation\",$F$12=\"Yes\"),E47-1,IF(AND(B47=\"No\",$F$12=\"No\"),$E$15-1,IF(AND(B47=\"No\",$F$12=\"Yes\"),E47-1)))))))","v":""},null,"NOx",null,{"$f":"('Emissions Estimator'!R83)","v":0},0,null,0,null,{"$f":"IF(ISTEXT('Fee Estimator'!$F47),0,IF('Fee Estimator'!$F47=\"\",0,IF($F$12=\"No\",0,IF(O$14=YEAR('Fee Estimator'!$F47),'Fee Estimator'!$M47,0))))","v":0},{"$f":"IF(ISTEXT('Fee Estimator'!$F47),0,IF('Fee Estimator'!$F47=\"\",0,IF($F$12=\"No\",0,IF(P$14=YEAR('Fee Estimator'!$F47),'Fee Estimator'!$M47,0))))","v":0},{"$f":"IF(ISTEXT('Fee Estimator'!$F47),0,IF('Fee Estimator'!$F47=\"\",0,IF($F$12=\"No\",0,IF(Q$14=YEAR('Fee Estimator'!$F47),'Fee Estimator'!$M47,0))))","v":0},{"$f":"IF(ISTEXT('Fee Estimator'!$F47),0,IF('Fee Estimator'!$F47=\"\",0,IF($F$12=\"No\",0,IF(R$14=YEAR('Fee Estimator'!$F47),'Fee Estimator'!$M47,0))))","v":0},{"$f":"IF(ISTEXT('Fee Estimator'!$F47),0,IF('Fee Estimator'!$F47=\"\",0,IF($F$12=\"No\",0,IF(S$14=YEAR('Fee Estimator'!$F47),'Fee Estimator'!$M47,0))))","v":0},{"$f":"IF(ISTEXT('Fee Estimator'!$F47),0,IF('Fee Estimator'!$F47=\"\",0,IF($F$12=\"No\",0,IF(T$14=YEAR('Fee Estimator'!$F47),'Fee Estimator'!$M47,0))))","v":0},{"$f":"IF(ISTEXT('Fee Estimator'!$F47),0,IF('Fee Estimator'!$F47=\"\",0,IF($F$12=\"No\",0,IF(U$14=YEAR('Fee Estimator'!$F47),'Fee Estimator'!$M47,0))))","v":0},{"$f":"IF(ISTEXT('Fee Estimator'!$F47),0,IF('Fee Estimator'!$F47=\"\",0,IF($F$12=\"No\",0,IF(V$14=YEAR('Fee Estimator'!$F47),'Fee Estimator'!$M47,0))))","v":0},{"$f":"IF(ISTEXT('Fee Estimator'!$F47),0,IF('Fee Estimator'!$F47=\"\",0,IF($F$12=\"No\",0,IF(W$14=YEAR('Fee Estimator'!$F47),'Fee Estimator'!$M47,0))))","v":0},{"$f":"IF(ISTEXT('Fee Estimator'!$F47),0,IF('Fee Estimator'!$F47=\"\",0,IF($F$12=\"No\",0,IF(X$14=YEAR('Fee Estimator'!$F47),'Fee Estimator'!$M47,0))))","v":0},{"$f":"IF(ISTEXT('Fee Estimator'!$F47),0,IF('Fee Estimator'!$F47=\"\",0,IF($F$12=\"No\",0,IF(Y$14=YEAR('Fee Estimator'!$F47),'Fee Estimator'!$M47,0))))","v":0},{"$f":"IF(ISTEXT('Fee Estimator'!$F47),0,IF('Fee Estimator'!$F47=\"\",0,IF($F$12=\"No\",0,IF(Z$14=YEAR('Fee Estimator'!$F47),'Fee Estimator'!$M47,0))))","v":0},{"$f":"IF(ISTEXT('Fee Estimator'!$F47),0,IF('Fee Estimator'!$F47=\"\",0,IF($F$12=\"No\",0,IF(AA$14=YEAR('Fee Estimator'!$F47),'Fee Estimator'!$M47,0))))","v":0},{"$f":"IF(ISTEXT('Fee Estimator'!$F47),0,IF('Fee Estimator'!$F47=\"\",0,IF($F$12=\"No\",0,IF(AB$14=YEAR('Fee Estimator'!$F47),'Fee Estimator'!$M47,0))))","v":0},{"$f":"IF(ISTEXT('Fee Estimator'!$F47),0,IF('Fee Estimator'!$F47=\"\",0,IF($F$12=\"No\",0,IF(AC$14=YEAR('Fee Estimator'!$F47),'Fee Estimator'!$M47,0))))","v":0},{"$f":"IF(ISTEXT('Fee Estimator'!$F47),0,IF('Fee Estimator'!$F47=\"\",0,IF($F$12=\"No\",0,IF(AD$14=YEAR('Fee Estimator'!$F47),'Fee Estimator'!$M47,0))))","v":0},{"$f":"IF(ISTEXT('Fee Estimator'!$F47),0,IF('Fee Estimator'!$F47=\"\",0,IF($F$12=\"No\",0,IF(AE$14=YEAR('Fee Estimator'!$F47),'Fee Estimator'!$M47,0))))","v":0},{"$f":"IF(ISTEXT('Fee Estimator'!$F47),0,IF('Fee Estimator'!$F47=\"\",0,IF($F$12=\"No\",0,IF(AF$14=YEAR('Fee Estimator'!$F47),'Fee Estimator'!$M47,0))))","v":0},{"$f":"IF(ISTEXT('Fee Estimator'!$F47),0,IF('Fee Estimator'!$F47=\"\",0,IF($F$12=\"No\",0,IF(AG$14=YEAR('Fee Estimator'!$F47),'Fee Estimator'!$M47,0))))","v":0},{"$f":"IF(ISTEXT('Fee Estimator'!$F47),0,IF('Fee Estimator'!$F47=\"\",0,IF($F$12=\"No\",0,IF(AH$14=YEAR('Fee Estimator'!$F47),'Fee Estimator'!$M47,0))))","v":0},{"$f":"IF(ISTEXT('Fee Estimator'!$F47),0,IF('Fee Estimator'!$F47=\"\",0,IF($F$12=\"No\",0,IF(AI$14=YEAR('Fee Estimator'!$F47),'Fee Estimator'!$M47,0))))","v":0}]
[null,null,null,null,null,null,null,"PM10",null,{"$f":"('Emissions Estimator'!S83)","v":0},0,null,0,null,{"$f":"IF(ISTEXT('Fee Estimator'!$F47),0,IF('Fee Estimator'!$F47=\"\",0,IF($F$12=\"No\",0,IF(O$14=YEAR('Fee Estimator'!$F47),'Fee Estimator'!$M48,0))))","v":0},{"$f":"IF(ISTEXT('Fee Estimator'!$F47),0,IF('Fee Estimator'!$F47=\"\",0,IF($F$12=\"No\",0,IF(P$14=YEAR('Fee Estimator'!$F47),'Fee Estimator'!$M48,0))))","v":0},{"$f":"IF(ISTEXT('Fee Estimator'!$F47),0,IF('Fee Estimator'!$F47=\"\",0,IF($F$12=\"No\",0,IF(Q$14=YEAR('Fee Estimator'!$F47),'Fee Estimator'!$M48,0))))","v":0},{"$f":"IF(ISTEXT('Fee Estimator'!$F47),0,IF('Fee Estimator'!$F47=\"\",0,IF($F$12=\"No\",0,IF(R$14=YEAR('Fee Estimator'!$F47),'Fee Estimator'!$M48,0))))","v":0},{"$f":"IF(ISTEXT('Fee Estimator'!$F47),0,IF('Fee Estimator'!$F47=\"\",0,IF($F$12=\"No\",0,IF(S$14=YEAR('Fee Estimator'!$F47),'Fee Estimator'!$M48,0))))","v":0},{"$f":"IF(ISTEXT('Fee Estimator'!$F47),0,IF('Fee Estimator'!$F47=\"\",0,IF($F$12=\"No\",0,IF(T$14=YEAR('Fee Estimator'!$F47),'Fee Estimator'!$M48,0))))","v":0},{"$f":"IF(ISTEXT('Fee Estimator'!$F47),0,IF('Fee Estimator'!$F47=\"\",0,IF($F$12=\"No\",0,IF(U$14=YEAR('Fee Estimator'!$F47),'Fee Estimator'!$M48,0))))","v":0},{"$f":"IF(ISTEXT('Fee Estimator'!$F47),0,IF('Fee Estimator'!$F47=\"\",0,IF($F$12=\"No\",0,IF(V$14=YEAR('Fee Estimator'!$F47),'Fee Estimator'!$M48,0))))","v":0},{"$f":"IF(ISTEXT('Fee Estimator'!$F47),0,IF('Fee Estimator'!$F47=\"\",0,IF($F$12=\"No\",0,IF(W$14=YEAR('Fee Estimator'!$F47),'Fee Estimator'!$M48,0))))","v":0},{"$f":"IF(ISTEXT('Fee Estimator'!$F47),0,IF('Fee Estimator'!$F47=\"\",0,IF($F$12=\"No\",0,IF(X$14=YEAR('Fee Estimator'!$F47),'Fee Estimator'!$M48,0))))","v":0},{"$f":"IF(ISTEXT('Fee Estimator'!$F47),0,IF('Fee Estimator'!$F47=\"\",0,IF($F$12=\"No\",0,IF(Y$14=YEAR('Fee Estimator'!$F47),'Fee Estimator'!$M48,0))))","v":0},{"$f":"IF(ISTEXT('Fee Estimator'!$F47),0,IF('Fee Estimator'!$F47=\"\",0,IF($F$12=\"No\",0,IF(Z$14=YEAR('Fee Estimator'!$F47),'Fee Estimator'!$M48,0))))","v":0},{"$f":"IF(ISTEXT('Fee Estimator'!$F47),0,IF('Fee Estimator'!$F47=\"\",0,IF($F$12=\"No\",0,IF(AA$14=YEAR('Fee Estimator'!$F47),'Fee Estimator'!$M48,0))))","v":0},{"$f":"IF(ISTEXT('Fee Estimator'!$F47),0,IF('Fee Estimator'!$F47=\"\",0,IF($F$12=\"No\",0,IF(AB$14=YEAR('Fee Estimator'!$F47),'Fee Estimator'!$M48,0))))","v":0},{"$f":"IF(ISTEXT('Fee Estimator'!$F47),0,IF('Fee Estimator'!$F47=\"\",0,IF($F$12=\"No\",0,IF(AC$14=YEAR('Fee Estimator'!$F47),'Fee Estimator'!$M48,0))))","v":0},{"$f":"IF(ISTEXT('Fee Estimator'!$F47),0,IF('Fee Estimator'!$F47=\"\",0,IF($F$12=\"No\",0,IF(AD$14=YEAR('Fee Estimator'!$F47),'Fee Estimator'!$M48,0))))","v":0},{"$f":"IF(ISTEXT('Fee Estimator'!$F47),0,IF('Fee Estimator'!$F47=\"\",0,IF($F$12=\"No\",0,IF(AE$14=YEAR('Fee Estimator'!$F47),'Fee Estimator'!$M48,0))))","v":0},{"$f":"IF(ISTEXT('Fee Estimator'!$F47),0,IF('Fee Estimator'!$F47=\"\",0,IF($F$12=\"No\",0,IF(AF$14=YEAR('Fee Estimator'!$F47),'Fee Estimator'!$M48,0))))","v":0},{"$f":"IF(ISTEXT('Fee Estimator'!$F47),0,IF('Fee Estimator'!$F47=\"\",0,IF($F$12=\"No\",0,IF(AG$14=YEAR('Fee Estimator'!$F47),'Fee Estimator'!$M48,0))))","v":0},{"$f":"IF(ISTEXT('Fee Estimator'!$F47),0,IF('Fee Estimator'!$F47=\"\",0,IF($F$12=\"No\",0,IF(AH$14=YEAR('Fee Estimator'!$F47),'Fee Estimator'!$M48,0))))","v":0},{"$f":"IF(ISTEXT('Fee Estimator'!$F47),0,IF('Fee Estimator'!$F47=\"\",0,IF($F$12=\"No\",0,IF(AI$14=YEAR('Fee Estimator'!$F47),'Fee Estimator'!$M48,0))))","v":0}]
[{"$f":"IF(AND('Emissions Estimator'!$A29=\"\",'Emissions Estimator'!$A84=\"\"),\"\",IF(AND('Emissions Estimator'!$A29=\"\",'Emissions Estimator'!$A84<>\"\"),\"Operation\",IF(AND('Emissions Estimator'!$A84=\"\",'Emissions Estimator'!$A29<>\"\"),\"Construction\",MIN('Emissions Estimator'!$A29,'Emissions Estimator'!$A84))))","v":""},{"$f":"IF(A49=\"\",\"\",IF(AND(A49=\"Construction\",'Emissions Estimator'!$O$9=\"No\"),\"No\",IF(AND(A49=\"Construction\",'Emissions Estimator'!$O$9=\"Yes\"),\"Yes\",IF(A49=\"Operation\",\"\"))))","v":""},{"$f":"IF(AND('Emissions Estimator'!$A29=\"\",'Emissions Estimator'!$A84=\"\"),\"\",IF(AND('Emissions Estimator'!$A29=\"\",'Emissions Estimator'!$A84<>\"\"),'Emissions Estimator'!$A84,IF(AND('Emissions Estimator'!$A84=\"\",'Emissions Estimator'!$A29<>\"\"),'Emissions Estimator'!$A29,MIN('Emissions Estimator'!$A29,'Emissions Estimator'!$A84))))","v":""},18,{"$f":"IF(AND('Emissions Estimator'!C29=\"\",'Emissions Estimator'!C84=\"\"),\"\",IF(AND('Emissions Estimator'!C29=\"\",'Emissions Estimator'!C84<>\"\"),'Emissions Estimator'!C84,IF(AND('Emissions Estimator'!C84=\"\",'Emissions Estimator'!C29<>\"\"),'Emissions Estimator'!C29,MIN('Emissions Estimator'!C29,'Emissions Estimator'!C84))))","v":""},{"$f":"IF(AND(B49=\"\",E49=\"\"),\"\",IF(AND(B49=\"Yes\",$F$12=\"Yes\"),\"Clean Fleet\",IF(AND(B49=\"Yes\",$F$12=\"No\"),\"Clean Fleet\",IF(AND(A49=\"Operation\",$F$12=\"No\"),$E$15-1,IF(AND(A49=\"Operation\",$F$12=\"Yes\"),E49-1,IF(AND(B49=\"No\",$F$12=\"No\"),$E$15-1,IF(AND(B49=\"No\",$F$12=\"Yes\"),E49-1)))))))","v":""},null,"NOx",null,{"$f":"('Emissions Estimator'!R84)","v":0},0,null,0,null,{"$f":"IF(ISTEXT('Fee Estimator'!$F49),0,IF('Fee Estimator'!$F49=\"\",0,IF($F$12=\"No\",0,IF(O$14=YEAR('Fee Estimator'!$F49),'Fee Estimator'!$M49,0))))","v":0},{"$f":"IF(ISTEXT('Fee Estimator'!$F49),0,IF('Fee Estimator'!$F49=\"\",0,IF($F$12=\"No\",0,IF(P$14=YEAR('Fee Estimator'!$F49),'Fee Estimator'!$M49,0))))","v":0},{"$f":"IF(ISTEXT('Fee Estimator'!$F49),0,IF('Fee Estimator'!$F49=\"\",0,IF($F$12=\"No\",0,IF(Q$14=YEAR('Fee Estimator'!$F49),'Fee Estimator'!$M49,0))))","v":0},{"$f":"IF(ISTEXT('Fee Estimator'!$F49),0,IF('Fee Estimator'!$F49=\"\",0,IF($F$12=\"No\",0,IF(R$14=YEAR('Fee Estimator'!$F49),'Fee Estimator'!$M49,0))))","v":0},{"$f":"IF(ISTEXT('Fee Estimator'!$F49),0,IF('Fee Estimator'!$F49=\"\",0,IF($F$12=\"No\",0,IF(S$14=YEAR('Fee Estimator'!$F49),'Fee Estimator'!$M49,0))))","v":0},{"$f":"IF(ISTEXT('Fee Estimator'!$F49),0,IF('Fee Estimator'!$F49=\"\",0,IF($F$12=\"No\",0,IF(T$14=YEAR('Fee Estimator'!$F49),'Fee Estimator'!$M49,0))))","v":0},{"$f":"IF(ISTEXT('Fee Estimator'!$F49),0,IF('Fee Estimator'!$F49=\"\",0,IF($F$12=\"No\",0,IF(U$14=YEAR('Fee Estimator'!$F49),'Fee Estimator'!$M49,0))))","v":0},{"$f":"IF(ISTEXT('Fee Estimator'!$F49),0,IF('Fee Estimator'!$F49=\"\",0,IF($F$12=\"No\",0,IF(V$14=YEAR('Fee Estimator'!$F49),'Fee Estimator'!$M49,0))))","v":0},{"$f":"IF(ISTEXT('Fee Estimator'!$F49),0,IF('Fee Estimator'!$F49=\"\",0,IF($F$12=\"No\",0,IF(W$14=YEAR('Fee Estimator'!$F49),'Fee Estimator'!$M49,0))))","v":0},{"$f":"IF(ISTEXT('Fee Estimator'!$F49),0,IF('Fee Estimator'!$F49=\"\",0,IF($F$12=\"No\",0,IF(X$14=YEAR('Fee Estimator'!$F49),'Fee Estimator'!$M49,0))))","v":0},{"$f":"IF(ISTEXT('Fee Estimator'!$F49),0,IF('Fee Estimator'!$F49=\"\",0,IF($F$12=\"No\",0,IF(Y$14=YEAR('Fee Estimator'!$F49),'Fee Estimator'!$M49,0))))","v":0},{"$f":"IF(ISTEXT('Fee Estimator'!$F49),0,IF('Fee Estimator'!$F49=\"\",0,IF($F$12=\"No\",0,IF(Z$14=YEAR('Fee Estimator'!$F49),'Fee Estimator'!$M49,0))))","v":0},{"$f":"IF(ISTEXT('Fee Estimator'!$F49),0,IF('Fee Estimator'!$F49=\"\",0,IF($F$12=\"No\",0,IF(AA$14=YEAR('Fee Estimator'!$F49),'Fee Estimator'!$M49,0))))","v":0},{"$f":"IF(ISTEXT('Fee Estimator'!$F49),0,IF('Fee Estimator'!$F49=\"\",0,IF($F$12=\"No\",0,IF(AB$14=YEAR('Fee Estimator'!$F49),'Fee Estimator'!$M49,0))))","v":0},{"$f":"IF(ISTEXT('Fee Estimator'!$F49),0,IF('Fee Estimator'!$F49=\"\",0,IF($F$12=\"No\",0,IF(AC$14=YEAR('Fee Estimator'!$F49),'Fee Estimator'!$M49,0))))","v":0},{"$f":"IF(ISTEXT('Fee Estimator'!$F49),0,IF('Fee Estimator'!$F49=\"\",0,IF($F$12=\"No\",0,IF(AD$14=YEAR('Fee Estimator'!$F49),'Fee Estimator'!$M49,0))))","v":0},{"$f":"IF(ISTEXT('Fee Estimator'!$F49),0,IF('Fee Estimator'!$F49=\"\",0,IF($F$12=\"No\",0,IF(AE$14=YEAR('Fee Estimator'!$F49),'Fee Estimator'!$M49,0))))","v":0},{"$f":"IF(ISTEXT('Fee Estimator'!$F49),0,IF('Fee Estimator'!$F49=\"\",0,IF($F$12=\"No\",0,IF(AF$14=YEAR('Fee Estimator'!$F49),'Fee Estimator'!$M49,0))))","v":0},{"$f":"IF(ISTEXT('Fee Estimator'!$F49),0,IF('Fee Estimator'!$F49=\"\",0,IF($F$12=\"No\",0,IF(AG$14=YEAR('Fee Estimator'!$F49),'Fee Estimator'!$M49,0))))","v":0},{"$f":"IF(ISTEXT('Fee Estimator'!$F49),0,IF('Fee Estimator'!$F49=\"\",0,IF($F$12=\"No\",0,IF(AH$14=YEAR('Fee Estimator'!$F49),'Fee Estimator'!$M49,0))))","v":0},{"$f":"IF(ISTEXT('Fee Estimator'!$F49),0,IF('Fee Estimator'!$F49=\"\",0,IF($F$12=\"No\",0,IF(AI$14=YEAR('Fee Estimator'!$F49),'Fee Estimator'!$M49,0))))","v":0}]
[null,null,null,null,null,null,null,"PM10",null,{"$f":"('Emissions Estimator'!S84)","v":0},0,null,0,null,{"$f":"IF(ISTEXT('Fee Estimator'!$F49),0,IF('Fee Estimator'!$F49=\"\",0,IF($F$12=\"No\",0,IF(O$14=YEAR('Fee Estimator'!$F49),'Fee Estimator'!$M50,0))))","v":0},{"$f":"IF(ISTEXT('Fee Estimator'!$F49),0,IF('Fee Estimator'!$F49=\"\",0,IF($F$12=\"No\",0,IF(P$14=YEAR('Fee Estimator'!$F49),'Fee Estimator'!$M50,0))))","v":0},{"$f":"IF(ISTEXT('Fee Estimator'!$F49),0,IF('Fee Estimator'!$F49=\"\",0,IF($F$12=\"No\",0,IF(Q$14=YEAR('Fee Estimator'!$F49),'Fee Estimator'!$M50,0))))","v":0},{"$f":"IF(ISTEXT('Fee Estimator'!$F49),0,IF('Fee Estimator'!$F49=\"\",0,IF($F$12=\"No\",0,IF(R$14=YEAR('Fee Estimator'!$F49),'Fee Estimator'!$M50,0))))","v":0},{"$f":"IF(ISTEXT('Fee Estimator'!$F49),0,IF('Fee Estimator'!$F49=\"\",0,IF($F$12=\"No\",0,IF(S$14=YEAR('Fee Estimator'!$F49),'Fee Estimator'!$M50,0))))","v":0},{"$f":"IF(ISTEXT('Fee Estimator'!$F49),0,IF('Fee Estimator'!$F49=\"\",0,IF($F$12=\"No\",0,IF(T$14=YEAR('Fee Estimator'!$F49),'Fee Estimator'!$M50,0))))","v":0},{"$f":"IF(ISTEXT('Fee Estimator'!$F49),0,IF('Fee Estimator'!$F49=\"\",0,IF($F$12=\"No\",0,IF(U$14=YEAR('Fee Estimator'!$F49),'Fee Estimator'!$M50,0))))","v":0},{"$f":"IF(ISTEXT('Fee Estimator'!$F49),0,IF('Fee Estimator'!$F49=\"\",0,IF($F$12=\"No\",0,IF(V$14=YEAR('Fee Estimator'!$F49),'Fee Estimator'!$M50,0))))","v":0},{"$f":"IF(ISTEXT('Fee Estimator'!$F49),0,IF('Fee Estimator'!$F49=\"\",0,IF($F$12=\"No\",0,IF(W$14=YEAR('Fee Estimator'!$F49),'Fee Estimator'!$M50,0))))","v":0},{"$f":"IF(ISTEXT('Fee Estimator'!$F49),0,IF('Fee Estimator'!$F49=\"\",0,IF($F$12=\"No\",0,IF(X$14=YEAR('Fee Estimator'!$F49),'Fee Estimator'!$M50,0))))","v":0},{"$f":"IF(ISTEXT('Fee Estimator'!$F49),0,IF('Fee Estimator'!$F49=\"\",0,IF($F$12=\"No\",0,IF(Y$14=YEAR('Fee Estimator'!$F49),'Fee Estimator'!$M50,0))))","v":0},{"$f":"IF(ISTEXT('Fee Estimator'!$F49),0,IF('Fee Estimator'!$F49=\"\",0,IF($F$12=\"No\",0,IF(Z$14=YEAR('Fee Estimator'!$F49),'Fee Estimator'!$M50,0))))","v":0},{"$f":"IF(ISTEXT('Fee Estimator'!$F49),0,IF('Fee Estimator'!$F49=\"\",0,IF($F$12=\"No\",0,IF(AA$14=YEAR('Fee Estimator'!$F49),'Fee Estimator'!$M50,0))))","v":0},{"$f":"IF(ISTEXT('Fee Estimator'!$F49),0,IF('Fee Estimator'!$F49=\"\",0,IF($F$12=\"No\",0,IF(AB$14=YEAR('Fee Estimator'!$F49),'Fee Estimator'!$M50,0))))","v":0},{"$f":"IF(ISTEXT('Fee Estimator'!$F49),0,IF('Fee Estimator'!$F49=\"\",0,IF($F$12=\"No\",0,IF(AC$14=YEAR('Fee Estimator'!$F49),'Fee Estimator'!$M50,0))))","v":0},{"$f":"IF(ISTEXT('Fee Estimator'!$F49),0,IF('Fee Estimator'!$F49=\"\",0,IF($F$12=\"No\",0,IF(AD$14=YEAR('Fee Estimator'!$F49),'Fee Estimator'!$M50,0))))","v":0},{"$f":"IF(ISTEXT('Fee Estimator'!$F49),0,IF('Fee Estimator'!$F49=\"\",0,IF($F$12=\"No\",0,IF(AE$14=YEAR('Fee Estimator'!$F49),'Fee Estimator'!$M50,0))))","v":0},{"$f":"IF(ISTEXT('Fee Estimator'!$F49),0,IF('Fee Estimator'!$F49=\"\",0,IF($F$12=\"No\",0,IF(AF$14=YEAR('Fee Estimator'!$F49),'Fee Estimator'!$M50,0))))","v":0},{"$f":"IF(ISTEXT('Fee Estimator'!$F49),0,IF('Fee Estimator'!$F49=\"\",0,IF($F$12=\"No\",0,IF(AG$14=YEAR('Fee Estimator'!$F49),'Fee Estimator'!$M50,0))))","v":0},{"$f":"IF(ISTEXT('Fee Estimator'!$F49),0,IF('Fee Estimator'!$F49=\"\",0,IF($F$12=\"No\",0,IF(AH$14=YEAR('Fee Estimator'!$F49),'Fee Estimator'!$M50,0))))","v":0},{"$f":"IF(ISTEXT('Fee Estimator'!$F49),0,IF('Fee Estimator'!$F49=\"\",0,IF($F$12=\"No\",0,IF(AI$14=YEAR('Fee Estimator'!$F49),'Fee Estimator'!$M50,0))))","v":0}]
[{"$f":"IF(AND('Emissions Estimator'!$A30=\"\",'Emissions Estimator'!$A85=\"\"),\"\",IF(AND('Emissions Estimator'!$A30=\"\",'Emissions Estimator'!$A85<>\"\"),\"Operation\",IF(AND('Emissions Estimator'!$A85=\"\",'Emissions Estimator'!$A30<>\"\"),\"Construction\",MIN('Emissions Estimator'!$A30,'Emissions Estimator'!$A85))))","v":""},{"$f":"IF(A51=\"\",\"\",IF(AND(A51=\"Construction\",'Emissions Estimator'!$O$9=\"No\"),\"No\",IF(AND(A51=\"Construction\",'Emissions Estimator'!$O$9=\"Yes\"),\"Yes\",IF(A51=\"Operation\",\"\"))))","v":""},{"$f":"IF(AND('Emissions Estimator'!$A30=\"\",'Emissions Estimator'!$A85=\"\"),\"\",IF(AND('Emissions Estimator'!$A30=\"\",'Emissions Estimator'!$A85<>\"\"),'Emissions Estimator'!$A85,IF(AND('Emissions Estimator'!$A85=\"\",'Emissions Estimator'!$A30<>\"\"),'Emissions Estimator'!$A30,MIN('Emissions Estimator'!$A31,'Emissions Estimator'!$A85))))","v":""},{"$f":"D49+1","v":19},{"$f":"IF(AND('Emissions Estimator'!C30=\"\",'Emissions Estimator'!C85=\"\"),\"\",IF(AND('Emissions Estimator'!C30=\"\",'Emissions Estimator'!C85<>\"\"),'Emissions Estimator'!C85,IF(AND('Emissions Estimator'!C85=\"\",'Emissions Estimator'!C30<>\"\"),'Emissions Estimator'!C30,MIN('Emissions Estimator'!C30,'Emissions Estimator'!C85))))","v":""},{"$f":"IF(AND(B51=\"\",E51=\"\"),\"\",IF(AND(B51=\"Yes\",$F$12=\"Yes\"),\"Clean Fleet\",IF(AND(B51=\"Yes\",$F$12=\"No\"),\"Clean Fleet\",IF(AND(A51=\"Operation\",$F$12=\"No\"),$E$15-1,IF(AND(A51=\"Operation\",$F$12=\"Yes\"),E51-1,IF(AND(B51=\"No\",$F$12=\"No\"),$E$15-1,IF(AND(B51=\"No\",$F$12=\"Yes\"),E51-1)))))))","v":""},null,"NOx",null,{"$f":"('Emissions Estimator'!R85)","v":0},0,null,0,null,{"$f":"IF(ISTEXT('Fee Estimator'!$F51),0,IF('Fee Estimator'!$F51=\"\",0,IF($F$12=\"No\",0,IF(O$14=YEAR('Fee Estimator'!$F51),'Fee Estimator'!$M51,0))))","v":0},{"$f":"IF(ISTEXT('Fee Estimator'!$F51),0,IF('Fee Estimator'!$F51=\"\",0,IF($F$12=\"No\",0,IF(P$14=YEAR('Fee Estimator'!$F51),'Fee Estimator'!$M51,0))))","v":0},{"$f":"IF(ISTEXT('Fee Estimator'!$F51),0,IF('Fee Estimator'!$F51=\"\",0,IF($F$12=\"No\",0,IF(Q$14=YEAR('Fee Estimator'!$F51),'Fee Estimator'!$M51,0))))","v":0},{"$f":"IF(ISTEXT('Fee Estimator'!$F51),0,IF('Fee Estimator'!$F51=\"\",0,IF($F$12=\"No\",0,IF(R$14=YEAR('Fee Estimator'!$F51),'Fee Estimator'!$M51,0))))","v":0},{"$f":"IF(ISTEXT('Fee Estimator'!$F51),0,IF('Fee Estimator'!$F51=\"\",0,IF($F$12=\"No\",0,IF(S$14=YEAR('Fee Estimator'!$F51),'Fee Estimator'!$M51,0))))","v":0},{"$f":"IF(ISTEXT('Fee Estimator'!$F51),0,IF('Fee Estimator'!$F51=\"\",0,IF($F$12=\"No\",0,IF(T$14=YEAR('Fee Estimator'!$F51),'Fee Estimator'!$M51,0))))","v":0},{"$f":"IF(ISTEXT('Fee Estimator'!$F51),0,IF('Fee Estimator'!$F51=\"\",0,IF($F$12=\"No\",0,IF(U$14=YEAR('Fee Estimator'!$F51),'Fee Estimator'!$M51,0))))","v":0},{"$f":"IF(ISTEXT('Fee Estimator'!$F51),0,IF('Fee Estimator'!$F51=\"\",0,IF($F$12=\"No\",0,IF(V$14=YEAR('Fee Estimator'!$F51),'Fee Estimator'!$M51,0))))","v":0},{"$f":"IF(ISTEXT('Fee Estimator'!$F51),0,IF('Fee Estimator'!$F51=\"\",0,IF($F$12=\"No\",0,IF(W$14=YEAR('Fee Estimator'!$F51),'Fee Estimator'!$M51,0))))","v":0},{"$f":"IF(ISTEXT('Fee Estimator'!$F51),0,IF('Fee Estimator'!$F51=\"\",0,IF($F$12=\"No\",0,IF(X$14=YEAR('Fee Estimator'!$F51),'Fee Estimator'!$M51,0))))","v":0},{"$f":"IF(ISTEXT('Fee Estimator'!$F51),0,IF('Fee Estimator'!$F51=\"\",0,IF($F$12=\"No\",0,IF(Y$14=YEAR('Fee Estimator'!$F51),'Fee Estimator'!$M51,0))))","v":0},{"$f":"IF(ISTEXT('Fee Estimator'!$F51),0,IF('Fee Estimator'!$F51=\"\",0,IF($F$12=\"No\",0,IF(Z$14=YEAR('Fee Estimator'!$F51),'Fee Estimator'!$M51,0))))","v":0},{"$f":"IF(ISTEXT('Fee Estimator'!$F51),0,IF('Fee Estimator'!$F51=\"\",0,IF($F$12=\"No\",0,IF(AA$14=YEAR('Fee Estimator'!$F51),'Fee Estimator'!$M51,0))))","v":0},{"$f":"IF(ISTEXT('Fee Estimator'!$F51),0,IF('Fee Estimator'!$F51=\"\",0,IF($F$12=\"No\",0,IF(AB$14=YEAR('Fee Estimator'!$F51),'Fee Estimator'!$M51,0))))","v":0},{"$f":"IF(ISTEXT('Fee Estimator'!$F51),0,IF('Fee Estimator'!$F51=\"\",0,IF($F$12=\"No\",0,IF(AC$14=YEAR('Fee Estimator'!$F51),'Fee Estimator'!$M51,0))))","v":0},{"$f":"IF(ISTEXT('Fee Estimator'!$F51),0,IF('Fee Estimator'!$F51=\"\",0,IF($F$12=\"No\",0,IF(AD$14=YEAR('Fee Estimator'!$F51),'Fee Estimator'!$M51,0))))","v":0},{"$f":"IF(ISTEXT('Fee Estimator'!$F51),0,IF('Fee Estimator'!$F51=\"\",0,IF($F$12=\"No\",0,IF(AE$14=YEAR('Fee Estimator'!$F51),'Fee Estimator'!$M51,0))))","v":0},{"$f":"IF(ISTEXT('Fee Estimator'!$F51),0,IF('Fee Estimator'!$F51=\"\",0,IF($F$12=\"No\",0,IF(AF$14=YEAR('Fee Estimator'!$F51),'Fee Estimator'!$M51,0))))","v":0},{"$f":"IF(ISTEXT('Fee Estimator'!$F51),0,IF('Fee Estimator'!$F51=\"\",0,IF($F$12=\"No\",0,IF(AG$14=YEAR('Fee Estimator'!$F51),'Fee Estimator'!$M51,0))))","v":0},{"$f":"IF(ISTEXT('Fee Estimator'!$F51),0,IF('Fee Estimator'!$F51=\"\",0,IF($F$12=\"No\",0,IF(AH$14=YEAR('Fee Estimator'!$F51),'Fee Estimator'!$M51,0))))","v":0},{"$f":"IF(ISTEXT('Fee Estimator'!$F51),0,IF('Fee Estimator'!$F51=\"\",0,IF($F$12=\"No\",0,IF(AI$14=YEAR('Fee Estimator'!$F51),'Fee Estimator'!$M51,0))))","v":0}]
[null,null,null,null,null,null,null,"PM10",null,{"$f":"('Emissions Estimator'!S85)","v":0},0,null,0,null,{"$f":"IF(ISTEXT('Fee Estimator'!$F51),0,IF('Fee Estimator'!$F51=\"\",0,IF($F$12=\"No\",0,IF(O$14=YEAR('Fee Estimator'!$F51),'Fee Estimator'!$M52,0))))","v":0},{"$f":"IF(ISTEXT('Fee Estimator'!$F51),0,IF('Fee Estimator'!$F51=\"\",0,IF($F$12=\"No\",0,IF(P$14=YEAR('Fee Estimator'!$F51),'Fee Estimator'!$M52,0))))","v":0},{"$f":"IF(ISTEXT('Fee Estimator'!$F51),0,IF('Fee Estimator'!$F51=\"\",0,IF($F$12=\"No\",0,IF(Q$14=YEAR('Fee Estimator'!$F51),'Fee Estimator'!$M52,0))))","v":0},{"$f":"IF(ISTEXT('Fee Estimator'!$F51),0,IF('Fee Estimator'!$F51=\"\",0,IF($F$12=\"No\",0,IF(R$14=YEAR('Fee Estimator'!$F51),'Fee Estimator'!$M52,0))))","v":0},{"$f":"IF(ISTEXT('Fee Estimator'!$F51),0,IF('Fee Estimator'!$F51=\"\",0,IF($F$12=\"No\",0,IF(S$14=YEAR('Fee Estimator'!$F51),'Fee Estimator'!$M52,0))))","v":0},{"$f":"IF(ISTEXT('Fee Estimator'!$F51),0,IF('Fee Estimator'!$F51=\"\",0,IF($F$12=\"No\",0,IF(T$14=YEAR('Fee Estimator'!$F51),'Fee Estimator'!$M52,0))))","v":0},{"$f":"IF(ISTEXT('Fee Estimator'!$F51),0,IF('Fee Estimator'!$F51=\"\",0,IF($F$12=\"No\",0,IF(U$14=YEAR('Fee Estimator'!$F51),'Fee Estimator'!$M52,0))))","v":0},{"$f":"IF(ISTEXT('Fee Estimator'!$F51),0,IF('Fee Estimator'!$F51=\"\",0,IF($F$12=\"No\",0,IF(V$14=YEAR('Fee Estimator'!$F51),'Fee Estimator'!$M52,0))))","v":0},{"$f":"IF(ISTEXT('Fee Estimator'!$F51),0,IF('Fee Estimator'!$F51=\"\",0,IF($F$12=\"No\",0,IF(W$14=YEAR('Fee Estimator'!$F51),'Fee Estimator'!$M52,0))))","v":0},{"$f":"IF(ISTEXT('Fee Estimator'!$F51),0,IF('Fee Estimator'!$F51=\"\",0,IF($F$12=\"No\",0,IF(X$14=YEAR('Fee Estimator'!$F51),'Fee Estimator'!$M52,0))))","v":0},{"$f":"IF(ISTEXT('Fee Estimator'!$F51),0,IF('Fee Estimator'!$F51=\"\",0,IF($F$12=\"No\",0,IF(Y$14=YEAR('Fee Estimator'!$F51),'Fee Estimator'!$M52,0))))","v":0},{"$f":"IF(ISTEXT('Fee Estimator'!$F51),0,IF('Fee Estimator'!$F51=\"\",0,IF($F$12=\"No\",0,IF(Z$14=YEAR('Fee Estimator'!$F51),'Fee Estimator'!$M52,0))))","v":0},{"$f":"IF(ISTEXT('Fee Estimator'!$F51),0,IF('Fee Estimator'!$F51=\"\",0,IF($F$12=\"No\",0,IF(AA$14=YEAR('Fee Estimator'!$F51),'Fee Estimator'!$M52,0))))","v":0},{"$f":"IF(ISTEXT('Fee Estimator'!$F51),0,IF('Fee Estimator'!$F51=\"\",0,IF($F$12=\"No\",0,IF(AB$14=YEAR('Fee Estimator'!$F51),'Fee Estimator'!$M52,0))))","v":0},{"$f":"IF(ISTEXT('Fee Estimator'!$F51),0,IF('Fee Estimator'!$F51=\"\",0,IF($F$12=\"No\",0,IF(AC$14=YEAR('Fee Estimator'!$F51),'Fee Estimator'!$M52,0))))","v":0},{"$f":"IF(ISTEXT('Fee Estimator'!$F51),0,IF('Fee Estimator'!$F51=\"\",0,IF($F$12=\"No\",0,IF(AD$14=YEAR('Fee Estimator'!$F51),'Fee Estimator'!$M52,0))))","v":0},{"$f":"IF(ISTEXT('Fee Estimator'!$F51),0,IF('Fee Estimator'!$F51=\"\",0,IF($F$12=\"No\",0,IF(AE$14=YEAR('Fee Estimator'!$F51),'Fee Estimator'!$M52,0))))","v":0},{"$f":"IF(ISTEXT('Fee Estimator'!$F51),0,IF('Fee Estimator'!$F51=\"\",0,IF($F$12=\"No\",0,IF(AF$14=YEAR('Fee Estimator'!$F51),'Fee Estimator'!$M52,0))))","v":0},{"$f":"IF(ISTEXT('Fee Estimator'!$F51),0,IF('Fee Estimator'!$F51=\"\",0,IF($F$12=\"No\",0,IF(AG$14=YEAR('Fee Estimator'!$F51),'Fee Estimator'!$M52,0))))","v":0},{"$f":"IF(ISTEXT('Fee Estimator'!$F51),0,IF('Fee Estimator'!$F51=\"\",0,IF($F$12=\"No\",0,IF(AH$14=YEAR('Fee Estimator'!$F51),'Fee Estimator'!$M52,0))))","v":0},{"$f":"IF(ISTEXT('Fee Estimator'!$F51),0,IF('Fee Estimator'!$F51=\"\",0,IF($F$12=\"No\",0,IF(AI$14=YEAR('Fee Estimator'!$F51),'Fee Estimator'!$M52,0))))","v":0}]
[{"$f":"IF(AND('Emissions Estimator'!$A31=\"\",'Emissions Estimator'!$A86=\"\"),\"\",IF(AND('Emissions Estimator'!$A31=\"\",'Emissions Estimator'!$A86<>\"\"),\"Operation\",IF(AND('Emissions Estimator'!$A86=\"\",'Emissions Estimator'!$A31<>\"\"),\"Construction\",MIN('Emissions Estimator'!$A31,'Emissions Estimator'!$A86))))","v":""},{"$f":"IF(A53=\"\",\"\",IF(AND(A53=\"Construction\",'Emissions Estimator'!$O$9=\"No\"),\"No\",IF(AND(A53=\"Construction\",'Emissions Estimator'!$O$9=\"Yes\"),\"Yes\",IF(A53=\"Operation\",\"\"))))","v":""},{"$f":"IF(AND('Emissions Estimator'!$A31=\"\",'Emissions Estimator'!$A86=\"\"),\"\",IF(AND('Emissions Estimator'!$A31=\"\",'Emissions Estimator'!$A86<>\"\"),'Emissions Estimator'!$A86,IF(AND('Emissions Estimator'!$A86=\"\",'Emissions Estimator'!$A31<>\"\"),'Emissions Estimator'!$A31,MIN('Emissions Estimator'!$A31,'Emissions Estimator'!$A86))))","v":""},{"$f":"D51+1","v":20},{"$f":"IF(AND('Emissions Estimator'!C31=\"\",'Emissions Estimator'!C86=\"\"),\"\",IF(AND('Emissions Estimator'!C31=\"\",'Emissions Estimator'!C86<>\"\"),'Emissions Estimator'!C86,IF(AND('Emissions Estimator'!C86=\"\",'Emissions Estimator'!C31<>\"\"),'Emissions Estimator'!C31,MIN('Emissions Estimator'!C31,'Emissions Estimator'!C86))))","v":""},{"$f":"IF(AND(B53=\"\",E53=\"\"),\"\",IF(AND(B53=\"Yes\",$F$12=\"Yes\"),\"Clean Fleet\",IF(AND(B53=\"Yes\",$F$12=\"No\"),\"Clean Fleet\",IF(AND(A53=\"Operation\",$F$12=\"No\"),$E$15-1,IF(AND(A53=\"Operation\",$F$12=\"Yes\"),E53-1,IF(AND(B53=\"No\",$F$12=\"No\"),$E$15-1,IF(AND(B53=\"No\",$F$12=\"Yes\"),E53-1)))))))","v":""},null,"NOx",null,{"$f":"('Emissions Estimator'!R86)","v":0},0,null,0,null,{"$f":"IF(ISTEXT('Fee Estimator'!$F53),0,IF('Fee Estimator'!$F53=\"\",0,IF($F$12=\"No\",0,IF(O$14=YEAR('Fee Estimator'!$F53),'Fee Estimator'!$M53,0))))","v":0},{"$f":"IF(ISTEXT('Fee Estimator'!$F53),0,IF('Fee Estimator'!$F53=\"\",0,IF($F$12=\"No\",0,IF(P$14=YEAR('Fee Estimator'!$F53),'Fee Estimator'!$M53,0))))","v":0},{"$f":"IF(ISTEXT('Fee Estimator'!$F53),0,IF('Fee Estimator'!$F53=\"\",0,IF($F$12=\"No\",0,IF(Q$14=YEAR('Fee Estimator'!$F53),'Fee Estimator'!$M53,0))))","v":0},{"$f":"IF(ISTEXT('Fee Estimator'!$F53),0,IF('Fee Estimator'!$F53=\"\",0,IF($F$12=\"No\",0,IF(R$14=YEAR('Fee Estimator'!$F53),'Fee Estimator'!$M53,0))))","v":0},{"$f":"IF(ISTEXT('Fee Estimator'!$F53),0,IF('Fee Estimator'!$F53=\"\",0,IF($F$12=\"No\",0,IF(S$14=YEAR('Fee Estimator'!$F53),'Fee Estimator'!$M53,0))))","v":0},{"$f":"IF(ISTEXT('Fee Estimator'!$F53),0,IF('Fee Estimator'!$F53=\"\",0,IF($F$12=\"No\",0,IF(T$14=YEAR('Fee Estimator'!$F53),'Fee Estimator'!$M53,0))))","v":0},{"$f":"IF(ISTEXT('Fee Estimator'!$F53),0,IF('Fee Estimator'!$F53=\"\",0,IF($F$12=\"No\",0,IF(U$14=YEAR('Fee Estimator'!$F53),'Fee Estimator'!$M53,0))))","v":0},{"$f":"IF(ISTEXT('Fee Estimator'!$F53),0,IF('Fee Estimator'!$F53=\"\",0,IF($F$12=\"No\",0,IF(V$14=YEAR('Fee Estimator'!$F53),'Fee Estimator'!$M53,0))))","v":0},{"$f":"IF(ISTEXT('Fee Estimator'!$F53),0,IF('Fee Estimator'!$F53=\"\",0,IF($F$12=\"No\",0,IF(W$14=YEAR('Fee Estimator'!$F53),'Fee Estimator'!$M53,0))))","v":0},{"$f":"IF(ISTEXT('Fee Estimator'!$F53),0,IF('Fee Estimator'!$F53=\"\",0,IF($F$12=\"No\",0,IF(X$14=YEAR('Fee Estimator'!$F53),'Fee Estimator'!$M53,0))))","v":0},{"$f":"IF(ISTEXT('Fee Estimator'!$F53),0,IF('Fee Estimator'!$F53=\"\",0,IF($F$12=\"No\",0,IF(Y$14=YEAR('Fee Estimator'!$F53),'Fee Estimator'!$M53,0))))","v":0},{"$f":"IF(ISTEXT('Fee Estimator'!$F53),0,IF('Fee Estimator'!$F53=\"\",0,IF($F$12=\"No\",0,IF(Z$14=YEAR('Fee Estimator'!$F53),'Fee Estimator'!$M53,0))))","v":0},{"$f":"IF(ISTEXT('Fee Estimator'!$F53),0,IF('Fee Estimator'!$F53=\"\",0,IF($F$12=\"No\",0,IF(AA$14=YEAR('Fee Estimator'!$F53),'Fee Estimator'!$M53,0))))","v":0},{"$f":"IF(ISTEXT('Fee Estimator'!$F53),0,IF('Fee Estimator'!$F53=\"\",0,IF($F$12=\"No\",0,IF(AB$14=YEAR('Fee Estimator'!$F53),'Fee Estimator'!$M53,0))))","v":0},{"$f":"IF(ISTEXT('Fee Estimator'!$F53),0,IF('Fee Estimator'!$F53=\"\",0,IF($F$12=\"No\",0,IF(AC$14=YEAR('Fee Estimator'!$F53),'Fee Estimator'!$M53,0))))","v":0},{"$f":"IF(ISTEXT('Fee Estimator'!$F53),0,IF('Fee Estimator'!$F53=\"\",0,IF($F$12=\"No\",0,IF(AD$14=YEAR('Fee Estimator'!$F53),'Fee Estimator'!$M53,0))))","v":0},{"$f":"IF(ISTEXT('Fee Estimator'!$F53),0,IF('Fee Estimator'!$F53=\"\",0,IF($F$12=\"No\",0,IF(AE$14=YEAR('Fee Estimator'!$F53),'Fee Estimator'!$M53,0))))","v":0},{"$f":"IF(ISTEXT('Fee Estimator'!$F53),0,IF('Fee Estimator'!$F53=\"\",0,IF($F$12=\"No\",0,IF(AF$14=YEAR('Fee Estimator'!$F53),'Fee Estimator'!$M53,0))))","v":0},{"$f":"IF(ISTEXT('Fee Estimator'!$F53),0,IF('Fee Estimator'!$F53=\"\",0,IF($F$12=\"No\",0,IF(AG$14=YEAR('Fee Estimator'!$F53),'Fee Estimator'!$M53,0))))","v":0},{"$f":"IF(ISTEXT('Fee Estimator'!$F53),0,IF('Fee Estimator'!$F53=\"\",0,IF($F$12=\"No\",0,IF(AH$14=YEAR('Fee Estimator'!$F53),'Fee Estimator'!$M53,0))))","v":0},{"$f":"IF(ISTEXT('Fee Estimator'!$F53),0,IF('Fee Estimator'!$F53=\"\",0,IF($F$12=\"No\",0,IF(AI$14=YEAR('Fee Estimator'!$F53),'Fee Estimator'!$M53,0))))","v":0}]
[null,null,null,null,null,null,null,"PM10",null,{"$f":"('Emissions Estimator'!S86)","v":0},0,null,0,null,{"$f":"IF(ISTEXT('Fee Estimator'!$F53),0,IF('Fee Estimator'!$F53=\"\",0,IF($F$12=\"No\",0,IF(O$14=YEAR('Fee Estimator'!$F53),'Fee Estimator'!$M54,0))))","v":0},{"$f":"IF(ISTEXT('Fee Estimator'!$F53),0,IF('Fee Estimator'!$F53=\"\",0,IF($F$12=\"No\",0,IF(P$14=YEAR('Fee Estimator'!$F53),'Fee Estimator'!$M54,0))))","v":0},{"$f":"IF(ISTEXT('Fee Estimator'!$F53),0,IF('Fee Estimator'!$F53=\"\",0,IF($F$12=\"No\",0,IF(Q$14=YEAR('Fee Estimator'!$F53),'Fee Estimator'!$M54,0))))","v":0},{"$f":"IF(ISTEXT('Fee Estimator'!$F53),0,IF('Fee Estimator'!$F53=\"\",0,IF($F$12=\"No\",0,IF(R$14=YEAR('Fee Estimator'!$F53),'Fee Estimator'!$M54,0))))","v":0},{"$f":"IF(ISTEXT('Fee Estimator'!$F53),0,IF('Fee Estimator'!$F53=\"\",0,IF($F$12=\"No\",0,IF(S$14=YEAR('Fee Estimator'!$F53),'Fee Estimator'!$M54,0))))","v":0},{"$f":"IF(ISTEXT('Fee Estimator'!$F53),0,IF('Fee Estimator'!$F53=\"\",0,IF($F$12=\"No\",0,IF(T$14=YEAR('Fee Estimator'!$F53),'Fee Estimator'!$M54,0))))","v":0},{"$f":"IF(ISTEXT('Fee Estimator'!$F53),0,IF('Fee Estimator'!$F53=\"\",0,IF($F$12=\"No\",0,IF(U$14=YEAR('Fee Estimator'!$F53),'Fee Estimator'!$M54,0))))","v":0},{"$f":"IF(ISTEXT('Fee Estimator'!$F53),0,IF('Fee Estimator'!$F53=\"\",0,IF($F$12=\"No\",0,IF(V$14=YEAR('Fee Estimator'!$F53),'Fee Estimator'!$M54,0))))","v":0},{"$f":"IF(ISTEXT('Fee Estimator'!$F53),0,IF('Fee Estimator'!$F53=\"\",0,IF($F$12=\"No\",0,IF(W$14=YEAR('Fee Estimator'!$F53),'Fee Estimator'!$M54,0))))","v":0},{"$f":"IF(ISTEXT('Fee Estimator'!$F53),0,IF('Fee Estimator'!$F53=\"\",0,IF($F$12=\"No\",0,IF(X$14=YEAR('Fee Estimator'!$F53),'Fee Estimator'!$M54,0))))","v":0},{"$f":"IF(ISTEXT('Fee Estimator'!$F53),0,IF('Fee Estimator'!$F53=\"\",0,IF($F$12=\"No\",0,IF(Y$14=YEAR('Fee Estimator'!$F53),'Fee Estimator'!$M54,0))))","v":0},{"$f":"IF(ISTEXT('Fee Estimator'!$F53),0,IF('Fee Estimator'!$F53=\"\",0,IF($F$12=\"No\",0,IF(Z$14=YEAR('Fee Estimator'!$F53),'Fee Estimator'!$M54,0))))","v":0},{"$f":"IF(ISTEXT('Fee Estimator'!$F53),0,IF('Fee Estimator'!$F53=\"\",0,IF($F$12=\"No\",0,IF(AA$14=YEAR('Fee Estimator'!$F53),'Fee Estimator'!$M54,0))))","v":0},{"$f":"IF(ISTEXT('Fee Estimator'!$F53),0,IF('Fee Estimator'!$F53=\"\",0,IF($F$12=\"No\",0,IF(AB$14=YEAR('Fee Estimator'!$F53),'Fee Estimator'!$M54,0))))","v":0},{"$f":"IF(ISTEXT('Fee Estimator'!$F53),0,IF('Fee Estimator'!$F53=\"\",0,IF($F$12=\"No\",0,IF(AC$14=YEAR('Fee Estimator'!$F53),'Fee Estimator'!$M54,0))))","v":0},{"$f":"IF(ISTEXT('Fee Estimator'!$F53),0,IF('Fee Estimator'!$F53=\"\",0,IF($F$12=\"No\",0,IF(AD$14=YEAR('Fee Estimator'!$F53),'Fee Estimator'!$M54,0))))","v":0},{"$f":"IF(ISTEXT('Fee Estimator'!$F53),0,IF('Fee Estimator'!$F53=\"\",0,IF($F$12=\"No\",0,IF(AE$14=YEAR('Fee Estimator'!$F53),'Fee Estimator'!$M54,0))))","v":0},{"$f":"IF(ISTEXT('Fee Estimator'!$F53),0,IF('Fee Estimator'!$F53=\"\",0,IF($F$12=\"No\",0,IF(AF$14=YEAR('Fee Estimator'!$F53),'Fee Estimator'!$M54,0))))","v":0},{"$f":"IF(ISTEXT('Fee Estimator'!$F53),0,IF('Fee Estimator'!$F53=\"\",0,IF($F$12=\"No\",0,IF(AG$14=YEAR('Fee Estimator'!$F53),'Fee Estimator'!$M54,0))))","v":0},{"$f":"IF(ISTEXT('Fee Estimator'!$F53),0,IF('Fee Estimator'!$F53=\"\",0,IF($F$12=\"No\",0,IF(AH$14=YEAR('Fee Estimator'!$F53),'Fee Estimator'!$M54,0))))","v":0},{"$f":"IF(ISTEXT('Fee Estimator'!$F53),0,IF('Fee Estimator'!$F53=\"\",0,IF($F$12=\"No\",0,IF(AI$14=YEAR('Fee Estimator'!$F53),'Fee Estimator'!$M54,0))))","v":0}]
[{"$f":"IF(AND('Emissions Estimator'!$A32=\"\",'Emissions Estimator'!$A87=\"\"),\"\",IF(AND('Emissions Estimator'!$A32=\"\",'Emissions Estimator'!$A87<>\"\"),\"Operation\",IF(AND('Emissions Estimator'!$A87=\"\",'Emissions Estimator'!$A32<>\"\"),\"Construction\",MIN('Emissions Estimator'!$A32,'Emissions Estimator'!$A87))))","v":""},{"$f":"IF(A55=\"\",\"\",IF(AND(A55=\"Construction\",'Emissions Estimator'!$O$9=\"No\"),\"No\",IF(AND(A55=\"Construction\",'Emissions Estimator'!$O$9=\"Yes\"),\"Yes\",IF(A55=\"Operation\",\"\"))))","v":""},{"$f":"IF(AND('Emissions Estimator'!$A32=\"\",'Emissions Estimator'!$A87=\"\"),\"\",IF(AND('Emissions Estimator'!$A32=\"\",'Emissions Estimator'!$A87<>\"\"),'Emissions Estimator'!$A87,IF(AND('Emissions Estimator'!$A87=\"\",'Emissions Estimator'!$A32<>\"\"),'Emissions Estimator'!$A32,MIN('Emissions Estimator'!$A32,'Emissions Estimator'!$A87))))","v":""},{"$f":"D53+1","v":21},{"$f":"IF(AND('Emissions Estimator'!C32=\"\",'Emissions Estimator'!C87=\"\"),\"\",IF(AND('Emissions Estimator'!C32=\"\",'Emissions Estimator'!C87<>\"\"),'Emissions Estimator'!C87,IF(AND('Emissions Estimator'!C87=\"\",'Emissions Estimator'!C32<>\"\"),'Emissions Estimator'!C32,MIN('Emissions Estimator'!C32,'Emissions Estimator'!C87))))","v":""},{"$f":"IF(AND(B55=\"\",E55=\"\"),\"\",IF(AND(B55=\"Yes\",$F$12=\"Yes\"),\"Clean Fleet\",IF(AND(B55=\"Yes\",$F$12=\"No\"),\"Clean Fleet\",IF(AND(A55=\"Operation\",$F$12=\"No\"),$E$15-1,IF(AND(A55=\"Operation\",$F$12=\"Yes\"),E55-1,IF(AND(B55=\"No\",$F$12=\"No\"),$E$15-1,IF(AND(B55=\"No\",$F$12=\"Yes\"),E55-1)))))))","v":""},null,"NOx",null,{"$f":"('Emissions Estimator'!R87)","v":0},0,null,0,null,{"$f":"IF(ISTEXT('Fee Estimator'!$F55),0,IF('Fee Estimator'!$F55=\"\",0,IF($F$12=\"No\",0,IF(O$14=YEAR('Fee Estimator'!$F55),'Fee Estimator'!$M55,0))))","v":0},{"$f":"IF(ISTEXT('Fee Estimator'!$F55),0,IF('Fee Estimator'!$F55=\"\",0,IF($F$12=\"No\",0,IF(P$14=YEAR('Fee Estimator'!$F55),'Fee Estimator'!$M55,0))))","v":0},{"$f":"IF(ISTEXT('Fee Estimator'!$F55),0,IF('Fee Estimator'!$F55=\"\",0,IF($F$12=\"No\",0,IF(Q$14=YEAR('Fee Estimator'!$F55),'Fee Estimator'!$M55,0))))","v":0},{"$f":"IF(ISTEXT('Fee Estimator'!$F55),0,IF('Fee Estimator'!$F55=\"\",0,IF($F$12=\"No\",0,IF(R$14=YEAR('Fee Estimator'!$F55),'Fee Estimator'!$M55,0))))","v":0},{"$f":"IF(ISTEXT('Fee Estimator'!$F55),0,IF('Fee Estimator'!$F55=\"\",0,IF($F$12=\"No\",0,IF(S$14=YEAR('Fee Estimator'!$F55),'Fee Estimator'!$M55,0))))","v":0},{"$f":"IF(ISTEXT('Fee Estimator'!$F55),0,IF('Fee Estimator'!$F55=\"\",0,IF($F$12=\"No\",0,IF(T$14=YEAR('Fee Estimator'!$F55),'Fee Estimator'!$M55,0))))","v":0},{"$f":"IF(ISTEXT('Fee Estimator'!$F55),0,IF('Fee Estimator'!$F55=\"\",0,IF($F$12=\"No\",0,IF(U$14=YEAR('Fee Estimator'!$F55),'Fee Estimator'!$M55,0))))","v":0},{"$f":"IF(ISTEXT('Fee Estimator'!$F55),0,IF('Fee Estimator'!$F55=\"\",0,IF($F$12=\"No\",0,IF(V$14=YEAR('Fee Estimator'!$F55),'Fee Estimator'!$M55,0))))","v":0},{"$f":"IF(ISTEXT('Fee Estimator'!$F55),0,IF('Fee Estimator'!$F55=\"\",0,IF($F$12=\"No\",0,IF(W$14=YEAR('Fee Estimator'!$F55),'Fee Estimator'!$M55,0))))","v":0},{"$f":"IF(ISTEXT('Fee Estimator'!$F55),0,IF('Fee Estimator'!$F55=\"\",0,IF($F$12=\"No\",0,IF(X$14=YEAR('Fee Estimator'!$F55),'Fee Estimator'!$M55,0))))","v":0},{"$f":"IF(ISTEXT('Fee Estimator'!$F55),0,IF('Fee Estimator'!$F55=\"\",0,IF($F$12=\"No\",0,IF(Y$14=YEAR('Fee Estimator'!$F55),'Fee Estimator'!$M55,0))))","v":0},{"$f":"IF(ISTEXT('Fee Estimator'!$F55),0,IF('Fee Estimator'!$F55=\"\",0,IF($F$12=\"No\",0,IF(Z$14=YEAR('Fee Estimator'!$F55),'Fee Estimator'!$M55,0))))","v":0},{"$f":"IF(ISTEXT('Fee Estimator'!$F55),0,IF('Fee Estimator'!$F55=\"\",0,IF($F$12=\"No\",0,IF(AA$14=YEAR('Fee Estimator'!$F55),'Fee Estimator'!$M55,0))))","v":0},{"$f":"IF(ISTEXT('Fee Estimator'!$F55),0,IF('Fee Estimator'!$F55=\"\",0,IF($F$12=\"No\",0,IF(AB$14=YEAR('Fee Estimator'!$F55),'Fee Estimator'!$M55,0))))","v":0},{"$f":"IF(ISTEXT('Fee Estimator'!$F55),0,IF('Fee Estimator'!$F55=\"\",0,IF($F$12=\"No\",0,IF(AC$14=YEAR('Fee Estimator'!$F55),'Fee Estimator'!$M55,0))))","v":0},{"$f":"IF(ISTEXT('Fee Estimator'!$F55),0,IF('Fee Estimator'!$F55=\"\",0,IF($F$12=\"No\",0,IF(AD$14=YEAR('Fee Estimator'!$F55),'Fee Estimator'!$M55,0))))","v":0},{"$f":"IF(ISTEXT('Fee Estimator'!$F55),0,IF('Fee Estimator'!$F55=\"\",0,IF($F$12=\"No\",0,IF(AE$14=YEAR('Fee Estimator'!$F55),'Fee Estimator'!$M55,0))))","v":0},{"$f":"IF(ISTEXT('Fee Estimator'!$F55),0,IF('Fee Estimator'!$F55=\"\",0,IF($F$12=\"No\",0,IF(AF$14=YEAR('Fee Estimator'!$F55),'Fee Estimator'!$M55,0))))","v":0},{"$f":"IF(ISTEXT('Fee Estimator'!$F55),0,IF('Fee Estimator'!$F55=\"\",0,IF($F$12=\"No\",0,IF(AG$14=YEAR('Fee Estimator'!$F55),'Fee Estimator'!$M55,0))))","v":0},{"$f":"IF(ISTEXT('Fee Estimator'!$F55),0,IF('Fee Estimator'!$F55=\"\",0,IF($F$12=\"No\",0,IF(AH$14=YEAR('Fee Estimator'!$F55),'Fee Estimator'!$M55,0))))","v":0},{"$f":"IF(ISTEXT('Fee Estimator'!$F55),0,IF('Fee Estimator'!$F55=\"\",0,IF($F$12=\"No\",0,IF(AI$14=YEAR('Fee Estimator'!$F55),'Fee Estimator'!$M55,0))))","v":0}]
[null,null,null,null,null,null,null,"PM10",null,{"$f":"('Emissions Estimator'!S87)","v":0},0,null,0,null,{"$f":"IF(ISTEXT('Fee Estimator'!$F55),0,IF('Fee Estimator'!$F55=\"\",0,IF($F$12=\"No\",0,IF(O$14=YEAR('Fee Estimator'!$F55),'Fee Estimator'!$M56,0))))","v":0},{"$f":"IF(ISTEXT('Fee Estimator'!$F55),0,IF('Fee Estimator'!$F55=\"\",0,IF($F$12=\"No\",0,IF(P$14=YEAR('Fee Estimator'!$F55),'Fee Estimator'!$M56,0))))","v":0},{"$f":"IF(ISTEXT('Fee Estimator'!$F55),0,IF('Fee Estimator'!$F55=\"\",0,IF($F$12=\"No\",0,IF(Q$14=YEAR('Fee Estimator'!$F55),'Fee Estimator'!$M56,0))))","v":0},{"$f":"IF(ISTEXT('Fee Estimator'!$F55),0,IF('Fee Estimator'!$F55=\"\",0,IF($F$12=\"No\",0,IF(R$14=YEAR('Fee Estimator'!$F55),'Fee Estimator'!$M56,0))))","v":0},{"$f":"IF(ISTEXT('Fee Estimator'!$F55),0,IF('Fee Estimator'!$F55=\"\",0,IF($F$12=\"No\",0,IF(S$14=YEAR('Fee Estimator'!$F55),'Fee Estimator'!$M56,0))))","v":0},{"$f":"IF(ISTEXT('Fee Estimator'!$F55),0,IF('Fee Estimator'!$F55=\"\",0,IF($F$12=\"No\",0,IF(T$14=YEAR('Fee Estimator'!$F55),'Fee Estimator'!$M56,0))))","v":0},{"$f":"IF(ISTEXT('Fee Estimator'!$F55),0,IF('Fee Estimator'!$F55=\"\",0,IF($F$12=\"No\",0,IF(U$14=YEAR('Fee Estimator'!$F55),'Fee Estimator'!$M56,0))))","v":0},{"$f":"IF(ISTEXT('Fee Estimator'!$F55),0,IF('Fee Estimator'!$F55=\"\",0,IF($F$12=\"No\",0,IF(V$14=YEAR('Fee Estimator'!$F55),'Fee Estimator'!$M56,0))))","v":0},{"$f":"IF(ISTEXT('Fee Estimator'!$F55),0,IF('Fee Estimator'!$F55=\"\",0,IF($F$12=\"No\",0,IF(W$14=YEAR('Fee Estimator'!$F55),'Fee Estimator'!$M56,0))))","v":0},{"$f":"IF(ISTEXT('Fee Estimator'!$F55),0,IF('Fee Estimator'!$F55=\"\",0,IF($F$12=\"No\",0,IF(X$14=YEAR('Fee Estimator'!$F55),'Fee Estimator'!$M56,0))))","v":0},{"$f":"IF(ISTEXT('Fee Estimator'!$F55),0,IF('Fee Estimator'!$F55=\"\",0,IF($F$12=\"No\",0,IF(Y$14=YEAR('Fee Estimator'!$F55),'Fee Estimator'!$M56,0))))","v":0},{"$f":"IF(ISTEXT('Fee Estimator'!$F55),0,IF('Fee Estimator'!$F55=\"\",0,IF($F$12=\"No\",0,IF(Z$14=YEAR('Fee Estimator'!$F55),'Fee Estimator'!$M56,0))))","v":0},{"$f":"IF(ISTEXT('Fee Estimator'!$F55),0,IF('Fee Estimator'!$F55=\"\",0,IF($F$12=\"No\",0,IF(AA$14=YEAR('Fee Estimator'!$F55),'Fee Estimator'!$M56,0))))","v":0},{"$f":"IF(ISTEXT('Fee Estimator'!$F55),0,IF('Fee Estimator'!$F55=\"\",0,IF($F$12=\"No\",0,IF(AB$14=YEAR('Fee Estimator'!$F55),'Fee Estimator'!$M56,0))))","v":0},{"$f":"IF(ISTEXT('Fee Estimator'!$F55),0,IF('Fee Estimator'!$F55=\"\",0,IF($F$12=\"No\",0,IF(AC$14=YEAR('Fee Estimator'!$F55),'Fee Estimator'!$M56,0))))","v":0},{"$f":"IF(ISTEXT('Fee Estimator'!$F55),0,IF('Fee Estimator'!$F55=\"\",0,IF($F$12=\"No\",0,IF(AD$14=YEAR('Fee Estimator'!$F55),'Fee Estimator'!$M56,0))))","v":0},{"$f":"IF(ISTEXT('Fee Estimator'!$F55),0,IF('Fee Estimator'!$F55=\"\",0,IF($F$12=\"No\",0,IF(AE$14=YEAR('Fee Estimator'!$F55),'Fee Estimator'!$M56,0))))","v":0},{"$f":"IF(ISTEXT('Fee Estimator'!$F55),0,IF('Fee Estimator'!$F55=\"\",0,IF($F$12=\"No\",0,IF(AF$14=YEAR('Fee Estimator'!$F55),'Fee Estimator'!$M56,0))))","v":0},{"$f":"IF(ISTEXT('Fee Estimator'!$F55),0,IF('Fee Estimator'!$F55=\"\",0,IF($F$12=\"No\",0,IF(AG$14=YEAR('Fee Estimator'!$F55),'Fee Estimator'!$M56,0))))","v":0},{"$f":"IF(ISTEXT('Fee Estimator'!$F55),0,IF('Fee Estimator'!$F55=\"\",0,IF($F$12=\"No\",0,IF(AH$14=YEAR('Fee Estimator'!$F55),'Fee Estimator'!$M56,0))))","v":0},{"$f":"IF(ISTEXT('Fee Estimator'!$F55),0,IF('Fee Estimator'!$F55=\"\",0,IF($F$12=\"No\",0,IF(AI$14=YEAR('Fee Estimator'!$F55),'Fee Estimator'!$M56,0))))","v":0}]
[{"$f":"IF(AND('Emissions Estimator'!$A33=\"\",'Emissions Estimator'!$A88=\"\"),\"\",IF(AND('Emissions Estimator'!$A33=\"\",'Emissions Estimator'!$A88<>\"\"),\"Operation\",IF(AND('Emissions Estimator'!$A88=\"\",'Emissions Estimator'!$A33<>\"\"),\"Construction\",MIN('Emissions Estimator'!$A33,'Emissions Estimator'!$A88))))","v":""},{"$f":"IF(A57=\"\",\"\",IF(AND(A57=\"Construction\",'Emissions Estimator'!$O$9=\"No\"),\"No\",IF(AND(A57=\"Construction\",'Emissions Estimator'!$O$9=\"Yes\"),\"Yes\",IF(A57=\"Operation\",\"\"))))","v":""},{"$f":"IF(AND('Emissions Estimator'!$A33=\"\",'Emissions Estimator'!$A88=\"\"),\"\",IF(AND('Emissions Estimator'!$A33=\"\",'Emissions Estimator'!$A88<>\"\"),'Emissions Estimator'!$A88,IF(AND('Emissions Estimator'!$A88=\"\",'Emissions Estimator'!$A33<>\"\"),'Emissions Estimator'!$A33,MIN('Emissions Estimator'!$A33,'Emissions Estimator'!$A88))))","v":""},22,{"$f":"IF(AND('Emissions Estimator'!C33=\"\",'Emissions Estimator'!C88=\"\"),\"\",IF(AND('Emissions Estimator'!C33=\"\",'Emissions Estimator'!C88<>\"\"),'Emissions Estimator'!C88,IF(AND('Emissions Estimator'!C88=\"\",'Emissions Estimator'!C33<>\"\"),'Emissions Estimator'!C33,MIN('Emissions Estimator'!C33,'Emissions Estimator'!C88))))","v":""},{"$f":"IF(AND(B57=\"\",E57=\"\"),\"\",IF(AND(B57=\"Yes\",$F$12=\"Yes\"),\"Clean Fleet\",IF(AND(B57=\"Yes\",$F$12=\"No\"),\"Clean Fleet\",IF(AND(A57=\"Operation\",$F$12=\"No\"),$E$15-1,IF(AND(A57=\"Operation\",$F$12=\"Yes\"),E57-1,IF(AND(B57=\"No\",$F$12=\"No\"),$E$15-1,IF(AND(B57=\"No\",$F$12=\"Yes\"),E57-1)))))))","v":""},null,"NOx",null,{"$f":"('Emissions Estimator'!R88)","v":0},0,null,{"$f":"J57","v":0},null,{"$f":"IF(ISTEXT('Fee Estimator'!$F57),0,IF('Fee Estimator'!$F57=\"\",0,IF($F$12=\"No\",0,IF(O$14=YEAR('Fee Estimator'!$F57),'Fee Estimator'!$M57,0))))","v":0},{"$f":"IF(ISTEXT('Fee Estimator'!$F57),0,IF('Fee Estimator'!$F57=\"\",0,IF($F$12=\"No\",0,IF(P$14=YEAR('Fee Estimator'!$F57),'Fee Estimator'!$M57,0))))","v":0},{"$f":"IF(ISTEXT('Fee Estimator'!$F57),0,IF('Fee Estimator'!$F57=\"\",0,IF($F$12=\"No\",0,IF(Q$14=YEAR('Fee Estimator'!$F57),'Fee Estimator'!$M57,0))))","v":0},{"$f":"IF(ISTEXT('Fee Estimator'!$F57),0,IF('Fee Estimator'!$F57=\"\",0,IF($F$12=\"No\",0,IF(R$14=YEAR('Fee Estimator'!$F57),'Fee Estimator'!$M57,0))))","v":0},{"$f":"IF(ISTEXT('Fee Estimator'!$F57),0,IF('Fee Estimator'!$F57=\"\",0,IF($F$12=\"No\",0,IF(S$14=YEAR('Fee Estimator'!$F57),'Fee Estimator'!$M57,0))))","v":0},{"$f":"IF(ISTEXT('Fee Estimator'!$F57),0,IF('Fee Estimator'!$F57=\"\",0,IF($F$12=\"No\",0,IF(T$14=YEAR('Fee Estimator'!$F57),'Fee Estimator'!$M57,0))))","v":0},{"$f":"IF(ISTEXT('Fee Estimator'!$F57),0,IF('Fee Estimator'!$F57=\"\",0,IF($F$12=\"No\",0,IF(U$14=YEAR('Fee Estimator'!$F57),'Fee Estimator'!$M57,0))))","v":0},{"$f":"IF(ISTEXT('Fee Estimator'!$F57),0,IF('Fee Estimator'!$F57=\"\",0,IF($F$12=\"No\",0,IF(V$14=YEAR('Fee Estimator'!$F57),'Fee Estimator'!$M57,0))))","v":0},{"$f":"IF(ISTEXT('Fee Estimator'!$F57),0,IF('Fee Estimator'!$F57=\"\",0,IF($F$12=\"No\",0,IF(W$14=YEAR('Fee Estimator'!$F57),'Fee Estimator'!$M57,0))))","v":0},{"$f":"IF(ISTEXT('Fee Estimator'!$F57),0,IF('Fee Estimator'!$F57=\"\",0,IF($F$12=\"No\",0,IF(X$14=YEAR('Fee Estimator'!$F57),'Fee Estimator'!$M57,0))))","v":0},{"$f":"IF(ISTEXT('Fee Estimator'!$F57),0,IF('Fee Estimator'!$F57=\"\",0,IF($F$12=\"No\",0,IF(Y$14=YEAR('Fee Estimator'!$F57),'Fee Estimator'!$M57,0))))","v":0},{"$f":"IF(ISTEXT('Fee Estimator'!$F57),0,IF('Fee Estimator'!$F57=\"\",0,IF($F$12=\"No\",0,IF(Z$14=YEAR('Fee Estimator'!$F57),'Fee Estimator'!$M57,0))))","v":0},{"$f":"IF(ISTEXT('Fee Estimator'!$F57),0,IF('Fee Estimator'!$F57=\"\",0,IF($F$12=\"No\",0,IF(AA$14=YEAR('Fee Estimator'!$F57),'Fee Estimator'!$M57,0))))","v":0},{"$f":"IF(ISTEXT('Fee Estimator'!$F57),0,IF('Fee Estimator'!$F57=\"\",0,IF($F$12=\"No\",0,IF(AB$14=YEAR('Fee Estimator'!$F57),'Fee Estimator'!$M57,0))))","v":0},{"$f":"IF(ISTEXT('Fee Estimator'!$F57),0,IF('Fee Estimator'!$F57=\"\",0,IF($F$12=\"No\",0,IF(AC$14=YEAR('Fee Estimator'!$F57),'Fee Estimator'!$M57,0))))","v":0},{"$f":"IF(ISTEXT('Fee Estimator'!$F57),0,IF('Fee Estimator'!$F57=\"\",0,IF($F$12=\"No\",0,IF(AD$14=YEAR('Fee Estimator'!$F57),'Fee Estimator'!$M57,0))))","v":0},{"$f":"IF(ISTEXT('Fee Estimator'!$F57),0,IF('Fee Estimator'!$F57=\"\",0,IF($F$12=\"No\",0,IF(AE$14=YEAR('Fee Estimator'!$F57),'Fee Estimator'!$M57,0))))","v":0},{"$f":"IF(ISTEXT('Fee Estimator'!$F57),0,IF('Fee Estimator'!$F57=\"\",0,IF($F$12=\"No\",0,IF(AF$14=YEAR('Fee Estimator'!$F57),'Fee Estimator'!$M57,0))))","v":0},{"$f":"IF(ISTEXT('Fee Estimator'!$F57),0,IF('Fee Estimator'!$F57=\"\",0,IF($F$12=\"No\",0,IF(AG$14=YEAR('Fee Estimator'!$F57),'Fee Estimator'!$M57,0))))","v":0},{"$f":"IF(ISTEXT('Fee Estimator'!$F57),0,IF('Fee Estimator'!$F57=\"\",0,IF($F$12=\"No\",0,IF(AH$14=YEAR('Fee Estimator'!$F57),'Fee Estimator'!$M57,0))))","v":0},{"$f":"IF(ISTEXT('Fee Estimator'!$F57),0,IF('Fee Estimator'!$F57=\"\",0,IF($F$12=\"No\",0,IF(AI$14=YEAR('Fee Estimator'!$F57),'Fee Estimator'!$M57,0))))","v":0}]
[null,null,null,null,null,null,null,"PM10",null,{"$f":"('Emissions Estimator'!S88)","v":0},0,null,0,null,{"$f":"IF(ISTEXT('Fee Estimator'!$F57),0,IF('Fee Estimator'!$F57=\"\",0,IF($F$12=\"No\",0,IF(O$14=YEAR('Fee Estimator'!$F57),'Fee Estimator'!$M58,0))))","v":0},{"$f":"IF(ISTEXT('Fee Estimator'!$F57),0,IF('Fee Estimator'!$F57=\"\",0,IF($F$12=\"No\",0,IF(P$14=YEAR('Fee Estimator'!$F57),'Fee Estimator'!$M58,0))))","v":0},{"$f":"IF(ISTEXT('Fee Estimator'!$F57),0,IF('Fee Estimator'!$F57=\"\",0,IF($F$12=\"No\",0,IF(Q$14=YEAR('Fee Estimator'!$F57),'Fee Estimator'!$M58,0))))","v":0},{"$f":"IF(ISTEXT('Fee Estimator'!$F57),0,IF('Fee Estimator'!$F57=\"\",0,IF($F$12=\"No\",0,IF(R$14=YEAR('Fee Estimator'!$F57),'Fee Estimator'!$M58,0))))","v":0},{"$f":"IF(ISTEXT('Fee Estimator'!$F57),0,IF('Fee Estimator'!$F57=\"\",0,IF($F$12=\"No\",0,IF(S$14=YEAR('Fee Estimator'!$F57),'Fee Estimator'!$M58,0))))","v":0},{"$f":"IF(ISTEXT('Fee Estimator'!$F57),0,IF('Fee Estimator'!$F57=\"\",0,IF($F$12=\"No\",0,IF(T$14=YEAR('Fee Estimator'!$F57),'Fee Estimator'!$M58,0))))","v":0},{"$f":"IF(ISTEXT('Fee Estimator'!$F57),0,IF('Fee Estimator'!$F57=\"\",0,IF($F$12=\"No\",0,IF(U$14=YEAR('Fee Estimator'!$F57),'Fee Estimator'!$M58,0))))","v":0},{"$f":"IF(ISTEXT('Fee Estimator'!$F57),0,IF('Fee Estimator'!$F57=\"\",0,IF($F$12=\"No\",0,IF(V$14=YEAR('Fee Estimator'!$F57),'Fee Estimator'!$M58,0))))","v":0},{"$f":"IF(ISTEXT('Fee Estimator'!$F57),0,IF('Fee Estimator'!$F57=\"\",0,IF($F$12=\"No\",0,IF(W$14=YEAR('Fee Estimator'!$F57),'Fee Estimator'!$M58,0))))","v":0},{"$f":"IF(ISTEXT('Fee Estimator'!$F57),0,IF('Fee Estimator'!$F57=\"\",0,IF($F$12=\"No\",0,IF(X$14=YEAR('Fee Estimator'!$F57),'Fee Estimator'!$M58,0))))","v":0},{"$f":"IF(ISTEXT('Fee Estimator'!$F57),0,IF('Fee Estimator'!$F57=\"\",0,IF($F$12=\"No\",0,IF(Y$14=YEAR('Fee Estimator'!$F57),'Fee Estimator'!$M58,0))))","v":0},{"$f":"IF(ISTEXT('Fee Estimator'!$F57),0,IF('Fee Estimator'!$F57=\"\",0,IF($F$12=\"No\",0,IF(Z$14=YEAR('Fee Estimator'!$F57),'Fee Estimator'!$M58,0))))","v":0},{"$f":"IF(ISTEXT('Fee Estimator'!$F57),0,IF('Fee Estimator'!$F57=\"\",0,IF($F$12=\"No\",0,IF(AA$14=YEAR('Fee Estimator'!$F57),'Fee Estimator'!$M58,0))))","v":0},{"$f":"IF(ISTEXT('Fee Estimator'!$F57),0,IF('Fee Estimator'!$F57=\"\",0,IF($F$12=\"No\",0,IF(AB$14=YEAR('Fee Estimator'!$F57),'Fee Estimator'!$M58,0))))","v":0},{"$f":"IF(ISTEXT('Fee Estimator'!$F57),0,IF('Fee Estimator'!$F57=\"\",0,IF($F$12=\"No\",0,IF(AC$14=YEAR('Fee Estimator'!$F57),'Fee Estimator'!$M58,0))))","v":0},{"$f":"IF(ISTEXT('Fee Estimator'!$F57),0,IF('Fee Estimator'!$F57=\"\",0,IF($F$12=\"No\",0,IF(AD$14=YEAR('Fee Estimator'!$F57),'Fee Estimator'!$M58,0))))","v":0},{"$f":"IF(ISTEXT('Fee Estimator'!$F57),0,IF('Fee Estimator'!$F57=\"\",0,IF($F$12=\"No\",0,IF(AE$14=YEAR('Fee Estimator'!$F57),'Fee Estimator'!$M58,0))))","v":0},{"$f":"IF(ISTEXT('Fee Estimator'!$F57),0,IF('Fee Estimator'!$F57=\"\",0,IF($F$12=\"No\",0,IF(AF$14=YEAR('Fee Estimator'!$F57),'Fee Estimator'!$M58,0))))","v":0},{"$f":"IF(ISTEXT('Fee Estimator'!$F57),0,IF('Fee Estimator'!$F57=\"\",0,IF($F$12=\"No\",0,IF(AG$14=YEAR('Fee Estimator'!$F57),'Fee Estimator'!$M58,0))))","v":0},{"$f":"IF(ISTEXT('Fee Estimator'!$F57),0,IF('Fee Estimator'!$F57=\"\",0,IF($F$12=\"No\",0,IF(AH$14=YEAR('Fee Estimator'!$F57),'Fee Estimator'!$M58,0))))","v":0},{"$f":"IF(ISTEXT('Fee Estimator'!$F57),0,IF('Fee Estimator'!$F57=\"\",0,IF($F$12=\"No\",0,IF(AI$14=YEAR('Fee Estimator'!$F57),'Fee Estimator'!$M58,0))))","v":0}]
[{"$f":"IF(AND('Emissions Estimator'!$A34=\"\",'Emissions Estimator'!$A89=\"\"),\"\",IF(AND('Emissions Estimator'!$A34=\"\",'Emissions Estimator'!$A89<>\"\"),\"Operation\",IF(AND('Emissions Estimator'!$A89=\"\",'Emissions Estimator'!$A34<>\"\"),\"Construction\",MIN('Emissions Estimator'!$A34,'Emissions Estimator'!$A89))))","v":""},{"$f":"IF(A59=\"\",\"\",IF(AND(A59=\"Construction\",'Emissions Estimator'!$O$9=\"No\"),\"No\",IF(AND(A59=\"Construction\",'Emissions Estimator'!$O$9=\"Yes\"),\"Yes\",IF(A59=\"Operation\",\"\"))))","v":""},{"$f":"IF(AND('Emissions Estimator'!$A34=\"\",'Emissions Estimator'!$A89=\"\"),\"\",IF(AND('Emissions Estimator'!$A34=\"\",'Emissions Estimator'!$A89<>\"\"),'Emissions Estimator'!$A89,IF(AND('Emissions Estimator'!$A89=\"\",'Emissions Estimator'!$A34<>\"\"),'Emissions Estimator'!$A34,MIN('Emissions Estimator'!$A34,'Emissions Estimator'!$A89))))","v":""},23,{"$f":"IF(AND('Emissions Estimator'!C34=\"\",'Emissions Estimator'!C89=\"\"),\"\",IF(AND('Emissions Estimator'!C34=\"\",'Emissions Estimator'!C89<>\"\"),'Emissions Estimator'!C89,IF(AND('Emissions Estimator'!C89=\"\",'Emissions Estimator'!C34<>\"\"),'Emissions Estimator'!C34,MIN('Emissions Estimator'!C34,'Emissions Estimator'!C89))))","v":""},{"$f":"IF(AND(B59=\"\",E59=\"\"),\"\",IF(AND(B59=\"Yes\",$F$12=\"Yes\"),\"Clean Fleet\",IF(AND(B59=\"Yes\",$F$12=\"No\"),\"Clean Fleet\",IF(AND(A59=\"Operation\",$F$12=\"No\"),$E$15-1,IF(AND(A59=\"Operation\",$F$12=\"Yes\"),E59-1,IF(AND(B59=\"No\",$F$12=\"No\"),$E$15-1,IF(AND(B59=\"No\",$F$12=\"Yes\"),E59-1)))))))","v":""},null,"NOx",null,{"$f":"('Emissions Estimator'!R89)","v":0},0,null,0,null,{"$f":"IF(ISTEXT('Fee Estimator'!$F59),0,IF('Fee Estimator'!$F59=\"\",0,IF($F$12=\"No\",0,IF(O$14=YEAR('Fee Estimator'!$F59),'Fee Estimator'!$M59,0))))","v":0},{"$f":"IF(ISTEXT('Fee Estimator'!$F59),0,IF('Fee Estimator'!$F59=\"\",0,IF($F$12=\"No\",0,IF(P$14=YEAR('Fee Estimator'!$F59),'Fee Estimator'!$M59,0))))","v":0},{"$f":"IF(ISTEXT('Fee Estimator'!$F59),0,IF('Fee Estimator'!$F59=\"\",0,IF($F$12=\"No\",0,IF(Q$14=YEAR('Fee Estimator'!$F59),'Fee Estimator'!$M59,0))))","v":0},{"$f":"IF(ISTEXT('Fee Estimator'!$F59),0,IF('Fee Estimator'!$F59=\"\",0,IF($F$12=\"No\",0,IF(R$14=YEAR('Fee Estimator'!$F59),'Fee Estimator'!$M59,0))))","v":0},{"$f":"IF(ISTEXT('Fee Estimator'!$F59),0,IF('Fee Estimator'!$F59=\"\",0,IF($F$12=\"No\",0,IF(S$14=YEAR('Fee Estimator'!$F59),'Fee Estimator'!$M59,0))))","v":0},{"$f":"IF(ISTEXT('Fee Estimator'!$F59),0,IF('Fee Estimator'!$F59=\"\",0,IF($F$12=\"No\",0,IF(T$14=YEAR('Fee Estimator'!$F59),'Fee Estimator'!$M59,0))))","v":0},{"$f":"IF(ISTEXT('Fee Estimator'!$F59),0,IF('Fee Estimator'!$F59=\"\",0,IF($F$12=\"No\",0,IF(U$14=YEAR('Fee Estimator'!$F59),'Fee Estimator'!$M59,0))))","v":0},{"$f":"IF(ISTEXT('Fee Estimator'!$F59),0,IF('Fee Estimator'!$F59=\"\",0,IF($F$12=\"No\",0,IF(V$14=YEAR('Fee Estimator'!$F59),'Fee Estimator'!$M59,0))))","v":0},{"$f":"IF(ISTEXT('Fee Estimator'!$F59),0,IF('Fee Estimator'!$F59=\"\",0,IF($F$12=\"No\",0,IF(W$14=YEAR('Fee Estimator'!$F59),'Fee Estimator'!$M59,0))))","v":0},{"$f":"IF(ISTEXT('Fee Estimator'!$F59),0,IF('Fee Estimator'!$F59=\"\",0,IF($F$12=\"No\",0,IF(X$14=YEAR('Fee Estimator'!$F59),'Fee Estimator'!$M59,0))))","v":0},{"$f":"IF(ISTEXT('Fee Estimator'!$F59),0,IF('Fee Estimator'!$F59=\"\",0,IF($F$12=\"No\",0,IF(Y$14=YEAR('Fee Estimator'!$F59),'Fee Estimator'!$M59,0))))","v":0},{"$f":"IF(ISTEXT('Fee Estimator'!$F59),0,IF('Fee Estimator'!$F59=\"\",0,IF($F$12=\"No\",0,IF(Z$14=YEAR('Fee Estimator'!$F59),'Fee Estimator'!$M59,0))))","v":0},{"$f":"IF(ISTEXT('Fee Estimator'!$F59),0,IF('Fee Estimator'!$F59=\"\",0,IF($F$12=\"No\",0,IF(AA$14=YEAR('Fee Estimator'!$F59),'Fee Estimator'!$M59,0))))","v":0},{"$f":"IF(ISTEXT('Fee Estimator'!$F59),0,IF('Fee Estimator'!$F59=\"\",0,IF($F$12=\"No\",0,IF(AB$14=YEAR('Fee Estimator'!$F59),'Fee Estimator'!$M59,0))))","v":0},{"$f":"IF(ISTEXT('Fee Estimator'!$F59),0,IF('Fee Estimator'!$F59=\"\",0,IF($F$12=\"No\",0,IF(AC$14=YEAR('Fee Estimator'!$F59),'Fee Estimator'!$M59,0))))","v":0},{"$f":"IF(ISTEXT('Fee Estimator'!$F59),0,IF('Fee Estimator'!$F59=\"\",0,IF($F$12=\"No\",0,IF(AD$14=YEAR('Fee Estimator'!$F59),'Fee Estimator'!$M59,0))))","v":0},{"$f":"IF(ISTEXT('Fee Estimator'!$F59),0,IF('Fee Estimator'!$F59=\"\",0,IF($F$12=\"No\",0,IF(AE$14=YEAR('Fee Estimator'!$F59),'Fee Estimator'!$M59,0))))","v":0},{"$f":"IF(ISTEXT('Fee Estimator'!$F59),0,IF('Fee Estimator'!$F59=\"\",0,IF($F$12=\"No\",0,IF(AF$14=YEAR('Fee Estimator'!$F59),'Fee Estimator'!$M59,0))))","v":0},{"$f":"IF(ISTEXT('Fee Estimator'!$F59),0,IF('Fee Estimator'!$F59=\"\",0,IF($F$12=\"No\",0,IF(AG$14=YEAR('Fee Estimator'!$F59),'Fee Estimator'!$M59,0))))","v":0},{"$f":"IF(ISTEXT('Fee Estimator'!$F59),0,IF('Fee Estimator'!$F59=\"\",0,IF($F$12=\"No\",0,IF(AH$14=YEAR('Fee Estimator'!$F59),'Fee Estimator'!$M59,0))))","v":0},{"$f":"IF(ISTEXT('Fee Estimator'!$F59),0,IF('Fee Estimator'!$F59=\"\",0,IF($F$12=\"No\",0,IF(AI$14=YEAR('Fee Estimator'!$F59),'Fee Estimator'!$M59,0))))","v":0}]
[null,null,null,null,null,null,null,"PM10",null,{"$f":"('Emissions Estimator'!S89)","v":0},0,null,0,null,{"$f":"IF(ISTEXT('Fee Estimator'!$F59),0,IF('Fee Estimator'!$F59=\"\",0,IF($F$12=\"No\",0,IF(O$14=YEAR('Fee Estimator'!$F59),'Fee Estimator'!$M60,0))))","v":0},{"$f":"IF(ISTEXT('Fee Estimator'!$F59),0,IF('Fee Estimator'!$F59=\"\",0,IF($F$12=\"No\",0,IF(P$14=YEAR('Fee Estimator'!$F59),'Fee Estimator'!$M60,0))))","v":0},{"$f":"IF(ISTEXT('Fee Estimator'!$F59),0,IF('Fee Estimator'!$F59=\"\",0,IF($F$12=\"No\",0,IF(Q$14=YEAR('Fee Estimator'!$F59),'Fee Estimator'!$M60,0))))","v":0},{"$f":"IF(ISTEXT('Fee Estimator'!$F59),0,IF('Fee Estimator'!$F59=\"\",0,IF($F$12=\"No\",0,IF(R$14=YEAR('Fee Estimator'!$F59),'Fee Estimator'!$M60,0))))","v":0},{"$f":"IF(ISTEXT('Fee Estimator'!$F59),0,IF('Fee Estimator'!$F59=\"\",0,IF($F$12=\"No\",0,IF(S$14=YEAR('Fee Estimator'!$F59),'Fee Estimator'!$M60,0))))","v":0},{"$f":"IF(ISTEXT('Fee Estimator'!$F59),0,IF('Fee Estimator'!$F59=\"\",0,IF($F$12=\"No\",0,IF(T$14=YEAR('Fee Estimator'!$F59),'Fee Estimator'!$M60,0))))","v":0},{"$f":"IF(ISTEXT('Fee Estimator'!$F59),0,IF('Fee Estimator'!$F59=\"\",0,IF($F$12=\"No\",0,IF(U$14=YEAR('Fee Estimator'!$F59),'Fee Estimator'!$M60,0))))","v":0},{"$f":"IF(ISTEXT('Fee Estimator'!$F59),0,IF('Fee Estimator'!$F59=\"\",0,IF($F$12=\"No\",0,IF(V$14=YEAR('Fee Estimator'!$F59),'Fee Estimator'!$M60,0))))","v":0},{"$f":"IF(ISTEXT('Fee Estimator'!$F59),0,IF('Fee Estimator'!$F59=\"\",0,IF($F$12=\"No\",0,IF(W$14=YEAR('Fee Estimator'!$F59),'Fee Estimator'!$M60,0))))","v":0},{"$f":"IF(ISTEXT('Fee Estimator'!$F59),0,IF('Fee Estimator'!$F59=\"\",0,IF($F$12=\"No\",0,IF(X$14=YEAR('Fee Estimator'!$F59),'Fee Estimator'!$M60,0))))","v":0},{"$f":"IF(ISTEXT('Fee Estimator'!$F59),0,IF('Fee Estimator'!$F59=\"\",0,IF($F$12=\"No\",0,IF(Y$14=YEAR('Fee Estimator'!$F59),'Fee Estimator'!$M60,0))))","v":0},{"$f":"IF(ISTEXT('Fee Estimator'!$F59),0,IF('Fee Estimator'!$F59=\"\",0,IF($F$12=\"No\",0,IF(Z$14=YEAR('Fee Estimator'!$F59),'Fee Estimator'!$M60,0))))","v":0},{"$f":"IF(ISTEXT('Fee Estimator'!$F59),0,IF('Fee Estimator'!$F59=\"\",0,IF($F$12=\"No\",0,IF(AA$14=YEAR('Fee Estimator'!$F59),'Fee Estimator'!$M60,0))))","v":0},{"$f":"IF(ISTEXT('Fee Estimator'!$F59),0,IF('Fee Estimator'!$F59=\"\",0,IF($F$12=\"No\",0,IF(AB$14=YEAR('Fee Estimator'!$F59),'Fee Estimator'!$M60,0))))","v":0},{"$f":"IF(ISTEXT('Fee Estimator'!$F59),0,IF('Fee Estimator'!$F59=\"\",0,IF($F$12=\"No\",0,IF(AC$14=YEAR('Fee Estimator'!$F59),'Fee Estimator'!$M60,0))))","v":0},{"$f":"IF(ISTEXT('Fee Estimator'!$F59),0,IF('Fee Estimator'!$F59=\"\",0,IF($F$12=\"No\",0,IF(AD$14=YEAR('Fee Estimator'!$F59),'Fee Estimator'!$M60,0))))","v":0},{"$f":"IF(ISTEXT('Fee Estimator'!$F59),0,IF('Fee Estimator'!$F59=\"\",0,IF($F$12=\"No\",0,IF(AE$14=YEAR('Fee Estimator'!$F59),'Fee Estimator'!$M60,0))))","v":0},{"$f":"IF(ISTEXT('Fee Estimator'!$F59),0,IF('Fee Estimator'!$F59=\"\",0,IF($F$12=\"No\",0,IF(AF$14=YEAR('Fee Estimator'!$F59),'Fee Estimator'!$M60,0))))","v":0},{"$f":"IF(ISTEXT('Fee Estimator'!$F59),0,IF('Fee Estimator'!$F59=\"\",0,IF($F$12=\"No\",0,IF(AG$14=YEAR('Fee Estimator'!$F59),'Fee Estimator'!$M60,0))))","v":0},{"$f":"IF(ISTEXT('Fee Estimator'!$F59),0,IF('Fee Estimator'!$F59=\"\",0,IF($F$12=\"No\",0,IF(AH$14=YEAR('Fee Estimator'!$F59),'Fee Estimator'!$M60,0))))","v":0},{"$f":"IF(ISTEXT('Fee Estimator'!$F59),0,IF('Fee Estimator'!$F59=\"\",0,IF($F$12=\"No\",0,IF(AI$14=YEAR('Fee Estimator'!$F59),'Fee Estimator'!$M60,0))))","v":0}]
[{"$f":"IF(AND('Emissions Estimator'!$A35=\"\",'Emissions Estimator'!$A90=\"\"),\"\",IF(AND('Emissions Estimator'!$A35=\"\",'Emissions Estimator'!$A90<>\"\"),\"Operation\",IF(AND('Emissions Estimator'!$A90=\"\",'Emissions Estimator'!$A35<>\"\"),\"Construction\",MIN('Emissions Estimator'!$A35,'Emissions Estimator'!$A90))))","v":""},{"$f":"IF(A61=\"\",\"\",IF(AND(A61=\"Construction\",'Emissions Estimator'!$O$9=\"No\"),\"No\",IF(AND(A61=\"Construction\",'Emissions Estimator'!$O$9=\"Yes\"),\"Yes\",IF(A61=\"Operation\",\"\"))))","v":""},{"$f":"IF(AND('Emissions Estimator'!$A35=\"\",'Emissions Estimator'!$A90=\"\"),\"\",IF(AND('Emissions Estimator'!$A35=\"\",'Emissions Estimator'!$A90<>\"\"),'Emissions Estimator'!$A90,IF(AND('Emissions Estimator'!$A90=\"\",'Emissions Estimator'!$A35<>\"\"),'Emissions Estimator'!$A35,MIN('Emissions Estimator'!$A35,'Emissions Estimator'!$A90))))","v":""},24,{"$f":"IF(AND('Emissions Estimator'!C35=\"\",'Emissions Estimator'!C90=\"\"),\"\",IF(AND('Emissions Estimator'!C35=\"\",'Emissions Estimator'!C90<>\"\"),'Emissions Estimator'!C90,IF(AND('Emissions Estimator'!C90=\"\",'Emissions Estimator'!C35<>\"\"),'Emissions Estimator'!C35,MIN('Emissions Estimator'!C35,'Emissions Estimator'!C90))))","v":""},{"$f":"IF(AND(B61=\"\",E61=\"\"),\"\",IF(AND(B61=\"Yes\",$F$12=\"Yes\"),\"Clean Fleet\",IF(AND(B61=\"Yes\",$F$12=\"No\"),\"Clean Fleet\",IF(AND(A61=\"Operation\",$F$12=\"No\"),$E$15-1,IF(AND(A61=\"Operation\",$F$12=\"Yes\"),E61-1,IF(AND(B61=\"No\",$F$12=\"No\"),$E$15-1,IF(AND(B61=\"No\",$F$12=\"Yes\"),E61-1)))))))","v":""},null,"NOx",null,{"$f":"('Emissions Estimator'!R90)","v":0},0,null,0,null,{"$f":"IF(ISTEXT('Fee Estimator'!$F61),0,IF('Fee Estimator'!$F61=\"\",0,IF($F$12=\"No\",0,IF(O$14=YEAR('Fee Estimator'!$F61),'Fee Estimator'!$M61,0))))","v":0},{"$f":"IF(ISTEXT('Fee Estimator'!$F61),0,IF('Fee Estimator'!$F61=\"\",0,IF($F$12=\"No\",0,IF(P$14=YEAR('Fee Estimator'!$F61),'Fee Estimator'!$M61,0))))","v":0},{"$f":"IF(ISTEXT('Fee Estimator'!$F61),0,IF('Fee Estimator'!$F61=\"\",0,IF($F$12=\"No\",0,IF(Q$14=YEAR('Fee Estimator'!$F61),'Fee Estimator'!$M61,0))))","v":0},{"$f":"IF(ISTEXT('Fee Estimator'!$F61),0,IF('Fee Estimator'!$F61=\"\",0,IF($F$12=\"No\",0,IF(R$14=YEAR('Fee Estimator'!$F61),'Fee Estimator'!$M61,0))))","v":0},{"$f":"IF(ISTEXT('Fee Estimator'!$F61),0,IF('Fee Estimator'!$F61=\"\",0,IF($F$12=\"No\",0,IF(S$14=YEAR('Fee Estimator'!$F61),'Fee Estimator'!$M61,0))))","v":0},{"$f":"IF(ISTEXT('Fee Estimator'!$F61),0,IF('Fee Estimator'!$F61=\"\",0,IF($F$12=\"No\",0,IF(T$14=YEAR('Fee Estimator'!$F61),'Fee Estimator'!$M61,0))))","v":0},{"$f":"IF(ISTEXT('Fee Estimator'!$F61),0,IF('Fee Estimator'!$F61=\"\",0,IF($F$12=\"No\",0,IF(U$14=YEAR('Fee Estimator'!$F61),'Fee Estimator'!$M61,0))))","v":0},{"$f":"IF(ISTEXT('Fee Estimator'!$F61),0,IF('Fee Estimator'!$F61=\"\",0,IF($F$12=\"No\",0,IF(V$14=YEAR('Fee Estimator'!$F61),'Fee Estimator'!$M61,0))))","v":0},{"$f":"IF(ISTEXT('Fee Estimator'!$F61),0,IF('Fee Estimator'!$F61=\"\",0,IF($F$12=\"No\",0,IF(W$14=YEAR('Fee Estimator'!$F61),'Fee Estimator'!$M61,0))))","v":0},{"$f":"IF(ISTEXT('Fee Estimator'!$F61),0,IF('Fee Estimator'!$F61=\"\",0,IF($F$12=\"No\",0,IF(X$14=YEAR('Fee Estimator'!$F61),'Fee Estimator'!$M61,0))))","v":0},{"$f":"IF(ISTEXT('Fee Estimator'!$F61),0,IF('Fee Estimator'!$F61=\"\",0,IF($F$12=\"No\",0,IF(Y$14=YEAR('Fee Estimator'!$F61),'Fee Estimator'!$M61,0))))","v":0},{"$f":"IF(ISTEXT('Fee Estimator'!$F61),0,IF('Fee Estimator'!$F61=\"\",0,IF($F$12=\"No\",0,IF(Z$14=YEAR('Fee Estimator'!$F61),'Fee Estimator'!$M61,0))))","v":0},{"$f":"IF(ISTEXT('Fee Estimator'!$F61),0,IF('Fee Estimator'!$F61=\"\",0,IF($F$12=\"No\",0,IF(AA$14=YEAR('Fee Estimator'!$F61),'Fee Estimator'!$M61,0))))","v":0},{"$f":"IF(ISTEXT('Fee Estimator'!$F61),0,IF('Fee Estimator'!$F61=\"\",0,IF($F$12=\"No\",0,IF(AB$14=YEAR('Fee Estimator'!$F61),'Fee Estimator'!$M61,0))))","v":0},{"$f":"IF(ISTEXT('Fee Estimator'!$F61),0,IF('Fee Estimator'!$F61=\"\",0,IF($F$12=\"No\",0,IF(AC$14=YEAR('Fee Estimator'!$F61),'Fee Estimator'!$M61,0))))","v":0},{"$f":"IF(ISTEXT('Fee Estimator'!$F61),0,IF('Fee Estimator'!$F61=\"\",0,IF($F$12=\"No\",0,IF(AD$14=YEAR('Fee Estimator'!$F61),'Fee Estimator'!$M61,0))))","v":0},{"$f":"IF(ISTEXT('Fee Estimator'!$F61),0,IF('Fee Estimator'!$F61=\"\",0,IF($F$12=\"No\",0,IF(AE$14=YEAR('Fee Estimator'!$F61),'Fee Estimator'!$M61,0))))","v":0},{"$f":"IF(ISTEXT('Fee Estimator'!$F61),0,IF('Fee Estimator'!$F61=\"\",0,IF($F$12=\"No\",0,IF(AF$14=YEAR('Fee Estimator'!$F61),'Fee Estimator'!$M61,0))))","v":0},{"$f":"IF(ISTEXT('Fee Estimator'!$F61),0,IF('Fee Estimator'!$F61=\"\",0,IF($F$12=\"No\",0,IF(AG$14=YEAR('Fee Estimator'!$F61),'Fee Estimator'!$M61,0))))","v":0},{"$f":"IF(ISTEXT('Fee Estimator'!$F61),0,IF('Fee Estimator'!$F61=\"\",0,IF($F$12=\"No\",0,IF(AH$14=YEAR('Fee Estimator'!$F61),'Fee Estimator'!$M61,0))))","v":0},{"$f":"IF(ISTEXT('Fee Estimator'!$F61),0,IF('Fee Estimator'!$F61=\"\",0,IF($F$12=\"No\",0,IF(AI$14=YEAR('Fee Estimator'!$F61),'Fee Estimator'!$M61,0))))","v":0}]
[null,null,null,null,null,null,null,"PM10",null,{"$f":"('Emissions Estimator'!S90)","v":0},0,null,0,null,{"$f":"IF(ISTEXT('Fee Estimator'!$F61),0,IF('Fee Estimator'!$F61=\"\",0,IF($F$12=\"No\",0,IF(O$14=YEAR('Fee Estimator'!$F61),'Fee Estimator'!$M62,0))))","v":0},{"$f":"IF(ISTEXT('Fee Estimator'!$F61),0,IF('Fee Estimator'!$F61=\"\",0,IF($F$12=\"No\",0,IF(P$14=YEAR('Fee Estimator'!$F61),'Fee Estimator'!$M62,0))))","v":0},{"$f":"IF(ISTEXT('Fee Estimator'!$F61),0,IF('Fee Estimator'!$F61=\"\",0,IF($F$12=\"No\",0,IF(Q$14=YEAR('Fee Estimator'!$F61),'Fee Estimator'!$M62,0))))","v":0},{"$f":"IF(ISTEXT('Fee Estimator'!$F61),0,IF('Fee Estimator'!$F61=\"\",0,IF($F$12=\"No\",0,IF(R$14=YEAR('Fee Estimator'!$F61),'Fee Estimator'!$M62,0))))","v":0},{"$f":"IF(ISTEXT('Fee Estimator'!$F61),0,IF('Fee Estimator'!$F61=\"\",0,IF($F$12=\"No\",0,IF(S$14=YEAR('Fee Estimator'!$F61),'Fee Estimator'!$M62,0))))","v":0},{"$f":"IF(ISTEXT('Fee Estimator'!$F61),0,IF('Fee Estimator'!$F61=\"\",0,IF($F$12=\"No\",0,IF(T$14=YEAR('Fee Estimator'!$F61),'Fee Estimator'!$M62,0))))","v":0},{"$f":"IF(ISTEXT('Fee Estimator'!$F61),0,IF('Fee Estimator'!$F61=\"\",0,IF($F$12=\"No\",0,IF(U$14=YEAR('Fee Estimator'!$F61),'Fee Estimator'!$M62,0))))","v":0},{"$f":"IF(ISTEXT('Fee Estimator'!$F61),0,IF('Fee Estimator'!$F61=\"\",0,IF($F$12=\"No\",0,IF(V$14=YEAR('Fee Estimator'!$F61),'Fee Estimator'!$M62,0))))","v":0},{"$f":"IF(ISTEXT('Fee Estimator'!$F61),0,IF('Fee Estimator'!$F61=\"\",0,IF($F$12=\"No\",0,IF(W$14=YEAR('Fee Estimator'!$F61),'Fee Estimator'!$M62,0))))","v":0},{"$f":"IF(ISTEXT('Fee Estimator'!$F61),0,IF('Fee Estimator'!$F61=\"\",0,IF($F$12=\"No\",0,IF(X$14=YEAR('Fee Estimator'!$F61),'Fee Estimator'!$M62,0))))","v":0},{"$f":"IF(ISTEXT('Fee Estimator'!$F61),0,IF('Fee Estimator'!$F61=\"\",0,IF($F$12=\"No\",0,IF(Y$14=YEAR('Fee Estimator'!$F61),'Fee Estimator'!$M62,0))))","v":0},{"$f":"IF(ISTEXT('Fee Estimator'!$F61),0,IF('Fee Estimator'!$F61=\"\",0,IF($F$12=\"No\",0,IF(Z$14=YEAR('Fee Estimator'!$F61),'Fee Estimator'!$M62,0))))","v":0},{"$f":"IF(ISTEXT('Fee Estimator'!$F61),0,IF('Fee Estimator'!$F61=\"\",0,IF($F$12=\"No\",0,IF(AA$14=YEAR('Fee Estimator'!$F61),'Fee Estimator'!$M62,0))))","v":0},{"$f":"IF(ISTEXT('Fee Estimator'!$F61),0,IF('Fee Estimator'!$F61=\"\",0,IF($F$12=\"No\",0,IF(AB$14=YEAR('Fee Estimator'!$F61),'Fee Estimator'!$M62,0))))","v":0},{"$f":"IF(ISTEXT('Fee Estimator'!$F61),0,IF('Fee Estimator'!$F61=\"\",0,IF($F$12=\"No\",0,IF(AC$14=YEAR('Fee Estimator'!$F61),'Fee Estimator'!$M62,0))))","v":0},{"$f":"IF(ISTEXT('Fee Estimator'!$F61),0,IF('Fee Estimator'!$F61=\"\",0,IF($F$12=\"No\",0,IF(AD$14=YEAR('Fee Estimator'!$F61),'Fee Estimator'!$M62,0))))","v":0},{"$f":"IF(ISTEXT('Fee Estimator'!$F61),0,IF('Fee Estimator'!$F61=\"\",0,IF($F$12=\"No\",0,IF(AE$14=YEAR('Fee Estimator'!$F61),'Fee Estimator'!$M62,0))))","v":0},{"$f":"IF(ISTEXT('Fee Estimator'!$F61),0,IF('Fee Estimator'!$F61=\"\",0,IF($F$12=\"No\",0,IF(AF$14=YEAR('Fee Estimator'!$F61),'Fee Estimator'!$M62,0))))","v":0},{"$f":"IF(ISTEXT('Fee Estimator'!$F61),0,IF('Fee Estimator'!$F61=\"\",0,IF($F$12=\"No\",0,IF(AG$14=YEAR('Fee Estimator'!$F61),'Fee Estimator'!$M62,0))))","v":0},{"$f":"IF(ISTEXT('Fee Estimator'!$F61),0,IF('Fee Estimator'!$F61=\"\",0,IF($F$12=\"No\",0,IF(AH$14=YEAR('Fee Estimator'!$F61),'Fee Estimator'!$M62,0))))","v":0},{"$f":"IF(ISTEXT('Fee Estimator'!$F61),0,IF('Fee Estimator'!$F61=\"\",0,IF($F$12=\"No\",0,IF(AI$14=YEAR('Fee Estimator'!$F61),'Fee Estimator'!$M62,0))))","v":0}]
[{"$f":"IF(AND('Emissions Estimator'!$A36=\"\",'Emissions Estimator'!$A91=\"\"),\"\",IF(AND('Emissions Estimator'!$A36=\"\",'Emissions Estimator'!$A91<>\"\"),\"Operation\",IF(AND('Emissions Estimator'!$A91=\"\",'Emissions Estimator'!$A36<>\"\"),\"Construction\",MIN('Emissions Estimator'!$A36,'Emissions Estimator'!$A91))))","v":""},{"$f":"IF(A63=\"\",\"\",IF(AND(A63=\"Construction\",'Emissions Estimator'!$O$9=\"No\"),\"No\",IF(AND(A63=\"Construction\",'Emissions Estimator'!$O$9=\"Yes\"),\"Yes\",IF(A63=\"Operation\",\"\"))))","v":""},{"$f":"IF(AND('Emissions Estimator'!$A36=\"\",'Emissions Estimator'!$A91=\"\"),\"\",IF(AND('Emissions Estimator'!$A36=\"\",'Emissions Estimator'!$A91<>\"\"),'Emissions Estimator'!$A91,IF(AND('Emissions Estimator'!$A91=\"\",'Emissions Estimator'!$A36<>\"\"),'Emissions Estimator'!$A36,MIN('Emissions Estimator'!$A36,'Emissions Estimator'!$A91))))","v":""},25,{"$f":"IF(AND('Emissions Estimator'!C36=\"\",'Emissions Estimator'!C91=\"\"),\"\",IF(AND('Emissions Estimator'!C36=\"\",'Emissions Estimator'!C91<>\"\"),'Emissions Estimator'!C91,IF(AND('Emissions Estimator'!C91=\"\",'Emissions Estimator'!C36<>\"\"),'Emissions Estimator'!C36,MIN('Emissions Estimator'!C36,'Emissions Estimator'!C91))))","v":""},{"$f":"IF(AND(B63=\"\",E63=\"\"),\"\",IF(AND(B63=\"Yes\",$F$12=\"Yes\"),\"Clean Fleet\",IF(AND(B63=\"Yes\",$F$12=\"No\"),\"Clean Fleet\",IF(AND(A63=\"Operation\",$F$12=\"No\"),$E$15-1,IF(AND(A63=\"Operation\",$F$12=\"Yes\"),E63-1,IF(AND(B63=\"No\",$F$12=\"No\"),$E$15-1,IF(AND(B63=\"No\",$F$12=\"Yes\"),E63-1)))))))","v":""},null,"NOx",null,{"$f":"('Emissions Estimator'!R91)","v":0},0,null,0,null,{"$f":"IF(ISTEXT('Fee Estimator'!$F63),0,IF('Fee Estimator'!$F63=\"\",0,IF($F$12=\"No\",0,IF(O$14=YEAR('Fee Estimator'!$F63),'Fee Estimator'!$M63,0))))","v":0},{"$f":"IF(ISTEXT('Fee Estimator'!$F63),0,IF('Fee Estimator'!$F63=\"\",0,IF($F$12=\"No\",0,IF(P$14=YEAR('Fee Estimator'!$F63),'Fee Estimator'!$M63,0))))","v":0},{"$f":"IF(ISTEXT('Fee Estimator'!$F63),0,IF('Fee Estimator'!$F63=\"\",0,IF($F$12=\"No\",0,IF(Q$14=YEAR('Fee Estimator'!$F63),'Fee Estimator'!$M63,0))))","v":0},{"$f":"IF(ISTEXT('Fee Estimator'!$F63),0,IF('Fee Estimator'!$F63=\"\",0,IF($F$12=\"No\",0,IF(R$14=YEAR('Fee Estimator'!$F63),'Fee Estimator'!$M63,0))))","v":0},{"$f":"IF(ISTEXT('Fee Estimator'!$F63),0,IF('Fee Estimator'!$F63=\"\",0,IF($F$12=\"No\",0,IF(S$14=YEAR('Fee Estimator'!$F63),'Fee Estimator'!$M63,0))))","v":0},{"$f":"IF(ISTEXT('Fee Estimator'!$F63),0,IF('Fee Estimator'!$F63=\"\",0,IF($F$12=\"No\",0,IF(T$14=YEAR('Fee Estimator'!$F63),'Fee Estimator'!$M63,0))))","v":0},{"$f":"IF(ISTEXT('Fee Estimator'!$F63),0,IF('Fee Estimator'!$F63=\"\",0,IF($F$12=\"No\",0,IF(U$14=YEAR('Fee Estimator'!$F63),'Fee Estimator'!$M63,0))))","v":0},{"$f":"IF(ISTEXT('Fee Estimator'!$F63),0,IF('Fee Estimator'!$F63=\"\",0,IF($F$12=\"No\",0,IF(V$14=YEAR('Fee Estimator'!$F63),'Fee Estimator'!$M63,0))))","v":0},{"$f":"IF(ISTEXT('Fee Estimator'!$F63),0,IF('Fee Estimator'!$F63=\"\",0,IF($F$12=\"No\",0,IF(W$14=YEAR('Fee Estimator'!$F63),'Fee Estimator'!$M63,0))))","v":0},{"$f":"IF(ISTEXT('Fee Estimator'!$F63),0,IF('Fee Estimator'!$F63=\"\",0,IF($F$12=\"No\",0,IF(X$14=YEAR('Fee Estimator'!$F63),'Fee Estimator'!$M63,0))))","v":0},{"$f":"IF(ISTEXT('Fee Estimator'!$F63),0,IF('Fee Estimator'!$F63=\"\",0,IF($F$12=\"No\",0,IF(Y$14=YEAR('Fee Estimator'!$F63),'Fee Estimator'!$M63,0))))","v":0},{"$f":"IF(ISTEXT('Fee Estimator'!$F63),0,IF('Fee Estimator'!$F63=\"\",0,IF($F$12=\"No\",0,IF(Z$14=YEAR('Fee Estimator'!$F63),'Fee Estimator'!$M63,0))))","v":0},{"$f":"IF(ISTEXT('Fee Estimator'!$F63),0,IF('Fee Estimator'!$F63=\"\",0,IF($F$12=\"No\",0,IF(AA$14=YEAR('Fee Estimator'!$F63),'Fee Estimator'!$M63,0))))","v":0},{"$f":"IF(ISTEXT('Fee Estimator'!$F63),0,IF('Fee Estimator'!$F63=\"\",0,IF($F$12=\"No\",0,IF(AB$14=YEAR('Fee Estimator'!$F63),'Fee Estimator'!$M63,0))))","v":0},{"$f":"IF(ISTEXT('Fee Estimator'!$F63),0,IF('Fee Estimator'!$F63=\"\",0,IF($F$12=\"No\",0,IF(AC$14=YEAR('Fee Estimator'!$F63),'Fee Estimator'!$M63,0))))","v":0},{"$f":"IF(ISTEXT('Fee Estimator'!$F63),0,IF('Fee Estimator'!$F63=\"\",0,IF($F$12=\"No\",0,IF(AD$14=YEAR('Fee Estimator'!$F63),'Fee Estimator'!$M63,0))))","v":0},{"$f":"IF(ISTEXT('Fee Estimator'!$F63),0,IF('Fee Estimator'!$F63=\"\",0,IF($F$12=\"No\",0,IF(AE$14=YEAR('Fee Estimator'!$F63),'Fee Estimator'!$M63,0))))","v":0},{"$f":"IF(ISTEXT('Fee Estimator'!$F63),0,IF('Fee Estimator'!$F63=\"\",0,IF($F$12=\"No\",0,IF(AF$14=YEAR('Fee Estimator'!$F63),'Fee Estimator'!$M63,0))))","v":0},{"$f":"IF(ISTEXT('Fee Estimator'!$F63),0,IF('Fee Estimator'!$F63=\"\",0,IF($F$12=\"No\",0,IF(AG$14=YEAR('Fee Estimator'!$F63),'Fee Estimator'!$M63,0))))","v":0},{"$f":"IF(ISTEXT('Fee Estimator'!$F63),0,IF('Fee Estimator'!$F63=\"\",0,IF($F$12=\"No\",0,IF(AH$14=YEAR('Fee Estimator'!$F63),'Fee Estimator'!$M63,0))))","v":0},{"$f":"IF(ISTEXT('Fee Estimator'!$F63),0,IF('Fee Estimator'!$F63=\"\",0,IF($F$12=\"No\",0,IF(AI$14=YEAR('Fee Estimator'!$F63),'Fee Estimator'!$M63,0))))","v":0}]
[null,null,null,null,null,null,null,"PM10",null,{"$f":"('Emissions Estimator'!S91)","v":0},0,null,0,null,{"$f":"IF(ISTEXT('Fee Estimator'!$F63),0,IF('Fee Estimator'!$F63=\"\",0,IF($F$12=\"No\",0,IF(O$14=YEAR('Fee Estimator'!$F63),'Fee Estimator'!$M64,0))))","v":0},{"$f":"IF(ISTEXT('Fee Estimator'!$F63),0,IF('Fee Estimator'!$F63=\"\",0,IF($F$12=\"No\",0,IF(P$14=YEAR('Fee Estimator'!$F63),'Fee Estimator'!$M64,0))))","v":0},{"$f":"IF(ISTEXT('Fee Estimator'!$F63),0,IF('Fee Estimator'!$F63=\"\",0,IF($F$12=\"No\",0,IF(Q$14=YEAR('Fee Estimator'!$F63),'Fee Estimator'!$M64,0))))","v":0},{"$f":"IF(ISTEXT('Fee Estimator'!$F63),0,IF('Fee Estimator'!$F63=\"\",0,IF($F$12=\"No\",0,IF(R$14=YEAR('Fee Estimator'!$F63),'Fee Estimator'!$M64,0))))","v":0},{"$f":"IF(ISTEXT('Fee Estimator'!$F63),0,IF('Fee Estimator'!$F63=\"\",0,IF($F$12=\"No\",0,IF(S$14=YEAR('Fee Estimator'!$F63),'Fee Estimator'!$M64,0))))","v":0},{"$f":"IF(ISTEXT('Fee Estimator'!$F63),0,IF('Fee Estimator'!$F63=\"\",0,IF($F$12=\"No\",0,IF(T$14=YEAR('Fee Estimator'!$F63),'Fee Estimator'!$M64,0))))","v":0},{"$f":"IF(ISTEXT('Fee Estimator'!$F63),0,IF('Fee Estimator'!$F63=\"\",0,IF($F$12=\"No\",0,IF(U$14=YEAR('Fee Estimator'!$F63),'Fee Estimator'!$M64,0))))","v":0},{"$f":"IF(ISTEXT('Fee Estimator'!$F63),0,IF('Fee Estimator'!$F63=\"\",0,IF($F$12=\"No\",0,IF(V$14=YEAR('Fee Estimator'!$F63),'Fee Estimator'!$M64,0))))","v":0},{"$f":"IF(ISTEXT('Fee Estimator'!$F63),0,IF('Fee Estimator'!$F63=\"\",0,IF($F$12=\"No\",0,IF(W$14=YEAR('Fee Estimator'!$F63),'Fee Estimator'!$M64,0))))","v":0},{"$f":"IF(ISTEXT('Fee Estimator'!$F63),0,IF('Fee Estimator'!$F63=\"\",0,IF($F$12=\"No\",0,IF(X$14=YEAR('Fee Estimator'!$F63),'Fee Estimator'!$M64,0))))","v":0},{"$f":"IF(ISTEXT('Fee Estimator'!$F63),0,IF('Fee Estimator'!$F63=\"\",0,IF($F$12=\"No\",0,IF(Y$14=YEAR('Fee Estimator'!$F63),'Fee Estimator'!$M64,0))))","v":0},{"$f":"IF(ISTEXT('Fee Estimator'!$F63),0,IF('Fee Estimator'!$F63=\"\",0,IF($F$12=\"No\",0,IF(Z$14=YEAR('Fee Estimator'!$F63),'Fee Estimator'!$M64,0))))","v":0},{"$f":"IF(ISTEXT('Fee Estimator'!$F63),0,IF('Fee Estimator'!$F63=\"\",0,IF($F$12=\"No\",0,IF(AA$14=YEAR('Fee Estimator'!$F63),'Fee Estimator'!$M64,0))))","v":0},{"$f":"IF(ISTEXT('Fee Estimator'!$F63),0,IF('Fee Estimator'!$F63=\"\",0,IF($F$12=\"No\",0,IF(AB$14=YEAR('Fee Estimator'!$F63),'Fee Estimator'!$M64,0))))","v":0},{"$f":"IF(ISTEXT('Fee Estimator'!$F63),0,IF('Fee Estimator'!$F63=\"\",0,IF($F$12=\"No\",0,IF(AC$14=YEAR('Fee Estimator'!$F63),'Fee Estimator'!$M64,0))))","v":0},{"$f":"IF(ISTEXT('Fee Estimator'!$F63),0,IF('Fee Estimator'!$F63=\"\",0,IF($F$12=\"No\",0,IF(AD$14=YEAR('Fee Estimator'!$F63),'Fee Estimator'!$M64,0))))","v":0},{"$f":"IF(ISTEXT('Fee Estimator'!$F63),0,IF('Fee Estimator'!$F63=\"\",0,IF($F$12=\"No\",0,IF(AE$14=YEAR('Fee Estimator'!$F63),'Fee Estimator'!$M64,0))))","v":0},{"$f":"IF(ISTEXT('Fee Estimator'!$F63),0,IF('Fee Estimator'!$F63=\"\",0,IF($F$12=\"No\",0,IF(AF$14=YEAR('Fee Estimator'!$F63),'Fee Estimator'!$M64,0))))","v":0},{"$f":"IF(ISTEXT('Fee Estimator'!$F63),0,IF('Fee Estimator'!$F63=\"\",0,IF($F$12=\"No\",0,IF(AG$14=YEAR('Fee Estimator'!$F63),'Fee Estimator'!$M64,0))))","v":0},{"$f":"IF(ISTEXT('Fee Estimator'!$F63),0,IF('Fee Estimator'!$F63=\"\",0,IF($F$12=\"No\",0,IF(AH$14=YEAR('Fee Estimator'!$F63),'Fee Estimator'!$M64,0))))","v":0},{"$f":"IF(ISTEXT('Fee Estimator'!$F63),0,IF('Fee Estimator'!$F63=\"\",0,IF($F$12=\"No\",0,IF(AI$14=YEAR('Fee Estimator'!$F63),'Fee Estimator'!$M64,0))))","v":0}]
[{"$f":"IF(AND('Emissions Estimator'!$A37=\"\",'Emissions Estimator'!$A92=\"\"),\"\",IF(AND('Emissions Estimator'!$A37=\"\",'Emissions Estimator'!$A92<>\"\"),\"Operation\",IF(AND('Emissions Estimator'!$A92=\"\",'Emissions Estimator'!$A37<>\"\"),\"Construction\",MIN('Emissions Estimator'!$A37,'Emissions Estimator'!$A92))))","v":""},{"$f":"IF(A65=\"\",\"\",IF(AND(A65=\"Construction\",'Emissions Estimator'!$O$9=\"No\"),\"No\",IF(AND(A65=\"Construction\",'Emissions Estimator'!$O$9=\"Yes\"),\"Yes\",IF(A65=\"Operation\",\"\"))))","v":""},{"$f":"IF(AND('Emissions Estimator'!$A37=\"\",'Emissions Estimator'!$A92=\"\"),\"\",IF(AND('Emissions Estimator'!$A37=\"\",'Emissions Estimator'!$A92<>\"\"),'Emissions Estimator'!$A92,IF(AND('Emissions Estimator'!$A92=\"\",'Emissions Estimator'!$A37<>\"\"),'Emissions Estimator'!$A37,MIN('Emissions Estimator'!$A37,'Emissions Estimator'!$A92))))","v":""},{"$f":"D63+1","v":26},{"$f":"IF(AND('Emissions Estimator'!C37=\"\",'Emissions Estimator'!C92=\"\"),\"\",IF(AND('Emissions Estimator'!C37=\"\",'Emissions Estimator'!C92<>\"\"),'Emissions Estimator'!C92,IF(AND('Emissions Estimator'!C92=\"\",'Emissions Estimator'!C37<>\"\"),'Emissions Estimator'!C37,MIN('Emissions Estimator'!C37,'Emissions Estimator'!C92))))","v":""},{"$f":"IF(AND(B65=\"\",E65=\"\"),\"\",IF(AND(B65=\"Yes\",$F$12=\"Yes\"),\"Clean Fleet\",IF(AND(B65=\"Yes\",$F$12=\"No\"),\"Clean Fleet\",IF(AND(A65=\"Operation\",$F$12=\"No\"),$E$15-1,IF(AND(A65=\"Operation\",$F$12=\"Yes\"),E65-1,IF(AND(B65=\"No\",$F$12=\"No\"),$E$15-1,IF(AND(B65=\"No\",$F$12=\"Yes\"),E65-1)))))))","v":""},null,"NOx",null,{"$f":"('Emissions Estimator'!R92)","v":0},0,null,0,null,{"$f":"IF(ISTEXT('Fee Estimator'!$F65),0,IF('Fee Estimator'!$F65=\"\",0,IF($F$12=\"No\",0,IF(O$14=YEAR('Fee Estimator'!$F65),'Fee Estimator'!$M65,0))))","v":0},{"$f":"IF(ISTEXT('Fee Estimator'!$F65),0,IF('Fee Estimator'!$F65=\"\",0,IF($F$12=\"No\",0,IF(P$14=YEAR('Fee Estimator'!$F65),'Fee Estimator'!$M65,0))))","v":0},{"$f":"IF(ISTEXT('Fee Estimator'!$F65),0,IF('Fee Estimator'!$F65=\"\",0,IF($F$12=\"No\",0,IF(Q$14=YEAR('Fee Estimator'!$F65),'Fee Estimator'!$M65,0))))","v":0},{"$f":"IF(ISTEXT('Fee Estimator'!$F65),0,IF('Fee Estimator'!$F65=\"\",0,IF($F$12=\"No\",0,IF(R$14=YEAR('Fee Estimator'!$F65),'Fee Estimator'!$M65,0))))","v":0},{"$f":"IF(ISTEXT('Fee Estimator'!$F65),0,IF('Fee Estimator'!$F65=\"\",0,IF($F$12=\"No\",0,IF(S$14=YEAR('Fee Estimator'!$F65),'Fee Estimator'!$M65,0))))","v":0},{"$f":"IF(ISTEXT('Fee Estimator'!$F65),0,IF('Fee Estimator'!$F65=\"\",0,IF($F$12=\"No\",0,IF(T$14=YEAR('Fee Estimator'!$F65),'Fee Estimator'!$M65,0))))","v":0},{"$f":"IF(ISTEXT('Fee Estimator'!$F65),0,IF('Fee Estimator'!$F65=\"\",0,IF($F$12=\"No\",0,IF(U$14=YEAR('Fee Estimator'!$F65),'Fee Estimator'!$M65,0))))","v":0},{"$f":"IF(ISTEXT('Fee Estimator'!$F65),0,IF('Fee Estimator'!$F65=\"\",0,IF($F$12=\"No\",0,IF(V$14=YEAR('Fee Estimator'!$F65),'Fee Estimator'!$M65,0))))","v":0},{"$f":"IF(ISTEXT('Fee Estimator'!$F65),0,IF('Fee Estimator'!$F65=\"\",0,IF($F$12=\"No\",0,IF(W$14=YEAR('Fee Estimator'!$F65),'Fee Estimator'!$M65,0))))","v":0},{"$f":"IF(ISTEXT('Fee Estimator'!$F65),0,IF('Fee Estimator'!$F65=\"\",0,IF($F$12=\"No\",0,IF(X$14=YEAR('Fee Estimator'!$F65),'Fee Estimator'!$M65,0))))","v":0},{"$f":"IF(ISTEXT('Fee Estimator'!$F65),0,IF('Fee Estimator'!$F65=\"\",0,IF($F$12=\"No\",0,IF(Y$14=YEAR('Fee Estimator'!$F65),'Fee Estimator'!$M65,0))))","v":0},{"$f":"IF(ISTEXT('Fee Estimator'!$F65),0,IF('Fee Estimator'!$F65=\"\",0,IF($F$12=\"No\",0,IF(Z$14=YEAR('Fee Estimator'!$F65),'Fee Estimator'!$M65,0))))","v":0},{"$f":"IF(ISTEXT('Fee Estimator'!$F65),0,IF('Fee Estimator'!$F65=\"\",0,IF($F$12=\"No\",0,IF(AA$14=YEAR('Fee Estimator'!$F65),'Fee Estimator'!$M65,0))))","v":0},{"$f":"IF(ISTEXT('Fee Estimator'!$F65),0,IF('Fee Estimator'!$F65=\"\",0,IF($F$12=\"No\",0,IF(AB$14=YEAR('Fee Estimator'!$F65),'Fee Estimator'!$M65,0))))","v":0},{"$f":"IF(ISTEXT('Fee Estimator'!$F65),0,IF('Fee Estimator'!$F65=\"\",0,IF($F$12=\"No\",0,IF(AC$14=YEAR('Fee Estimator'!$F65),'Fee Estimator'!$M65,0))))","v":0},{"$f":"IF(ISTEXT('Fee Estimator'!$F65),0,IF('Fee Estimator'!$F65=\"\",0,IF($F$12=\"No\",0,IF(AD$14=YEAR('Fee Estimator'!$F65),'Fee Estimator'!$M65,0))))","v":0},{"$f":"IF(ISTEXT('Fee Estimator'!$F65),0,IF('Fee Estimator'!$F65=\"\",0,IF($F$12=\"No\",0,IF(AE$14=YEAR('Fee Estimator'!$F65),'Fee Estimator'!$M65,0))))","v":0},{"$f":"IF(ISTEXT('Fee Estimator'!$F65),0,IF('Fee Estimator'!$F65=\"\",0,IF($F$12=\"No\",0,IF(AF$14=YEAR('Fee Estimator'!$F65),'Fee Estimator'!$M65,0))))","v":0},{"$f":"IF(ISTEXT('Fee Estimator'!$F65),0,IF('Fee Estimator'!$F65=\"\",0,IF($F$12=\"No\",0,IF(AG$14=YEAR('Fee Estimator'!$F65),'Fee Estimator'!$M65,0))))","v":0},{"$f":"IF(ISTEXT('Fee Estimator'!$F65),0,IF('Fee Estimator'!$F65=\"\",0,IF($F$12=\"No\",0,IF(AH$14=YEAR('Fee Estimator'!$F65),'Fee Estimator'!$M65,0))))","v":0},{"$f":"IF(ISTEXT('Fee Estimator'!$F65),0,IF('Fee Estimator'!$F65=\"\",0,IF($F$12=\"No\",0,IF(AI$14=YEAR('Fee Estimator'!$F65),'Fee Estimator'!$M65,0))))","v":0}]
[null,null,null,null,null,null,null,"PM10",null,{"$f":"('Emissions Estimator'!S92)","v":0},0,null,0,null,{"$f":"IF(ISTEXT('Fee Estimator'!$F65),0,IF('Fee Estimator'!$F65=\"\",0,IF($F$12=\"No\",0,IF(O$14=YEAR('Fee Estimator'!$F65),'Fee Estimator'!$M66,0))))","v":0},{"$f":"IF(ISTEXT('Fee Estimator'!$F65),0,IF('Fee Estimator'!$F65=\"\",0,IF($F$12=\"No\",0,IF(P$14=YEAR('Fee Estimator'!$F65),'Fee Estimator'!$M66,0))))","v":0},{"$f":"IF(ISTEXT('Fee Estimator'!$F65),0,IF('Fee Estimator'!$F65=\"\",0,IF($F$12=\"No\",0,IF(Q$14=YEAR('Fee Estimator'!$F65),'Fee Estimator'!$M66,0))))","v":0},{"$f":"IF(ISTEXT('Fee Estimator'!$F65),0,IF('Fee Estimator'!$F65=\"\",0,IF($F$12=\"No\",0,IF(R$14=YEAR('Fee Estimator'!$F65),'Fee Estimator'!$M66,0))))","v":0},{"$f":"IF(ISTEXT('Fee Estimator'!$F65),0,IF('Fee Estimator'!$F65=\"\",0,IF($F$12=\"No\",0,IF(S$14=YEAR('Fee Estimator'!$F65),'Fee Estimator'!$M66,0))))","v":0},{"$f":"IF(ISTEXT('Fee Estimator'!$F65),0,IF('Fee Estimator'!$F65=\"\",0,IF($F$12=\"No\",0,IF(T$14=YEAR('Fee Estimator'!$F65),'Fee Estimator'!$M66,0))))","v":0},{"$f":"IF(ISTEXT('Fee Estimator'!$F65),0,IF('Fee Estimator'!$F65=\"\",0,IF($F$12=\"No\",0,IF(U$14=YEAR('Fee Estimator'!$F65),'Fee Estimator'!$M66,0))))","v":0},{"$f":"IF(ISTEXT('Fee Estimator'!$F65),0,IF('Fee Estimator'!$F65=\"\",0,IF($F$12=\"No\",0,IF(V$14=YEAR('Fee Estimator'!$F65),'Fee Estimator'!$M66,0))))","v":0},{"$f":"IF(ISTEXT('Fee Estimator'!$F65),0,IF('Fee Estimator'!$F65=\"\",0,IF($F$12=\"No\",0,IF(W$14=YEAR('Fee Estimator'!$F65),'Fee Estimator'!$M66,0))))","v":0},{"$f":"IF(ISTEXT('Fee Estimator'!$F65),0,IF('Fee Estimator'!$F65=\"\",0,IF($F$12=\"No\",0,IF(X$14=YEAR('Fee Estimator'!$F65),'Fee Estimator'!$M66,0))))","v":0},{"$f":"IF(ISTEXT('Fee Estimator'!$F65),0,IF('Fee Estimator'!$F65=\"\",0,IF($F$12=\"No\",0,IF(Y$14=YEAR('Fee Estimator'!$F65),'Fee Estimator'!$M66,0))))","v":0},{"$f":"IF(ISTEXT('Fee Estimator'!$F65),0,IF('Fee Estimator'!$F65=\"\",0,IF($F$12=\"No\",0,IF(Z$14=YEAR('Fee Estimator'!$F65),'Fee Estimator'!$M66,0))))","v":0},{"$f":"IF(ISTEXT('Fee Estimator'!$F65),0,IF('Fee Estimator'!$F65=\"\",0,IF($F$12=\"No\",0,IF(AA$14=YEAR('Fee Estimator'!$F65),'Fee Estimator'!$M66,0))))","v":0},{"$f":"IF(ISTEXT('Fee Estimator'!$F65),0,IF('Fee Estimator'!$F65=\"\",0,IF($F$12=\"No\",0,IF(AB$14=YEAR('Fee Estimator'!$F65),'Fee Estimator'!$M66,0))))","v":0},{"$f":"IF(ISTEXT('Fee Estimator'!$F65),0,IF('Fee Estimator'!$F65=\"\",0,IF($F$12=\"No\",0,IF(AC$14=YEAR('Fee Estimator'!$F65),'Fee Estimator'!$M66,0))))","v":0},{"$f":"IF(ISTEXT('Fee Estimator'!$F65),0,IF('Fee Estimator'!$F65=\"\",0,IF($F$12=\"No\",0,IF(AD$14=YEAR('Fee Estimator'!$F65),'Fee Estimator'!$M66,0))))","v":0},{"$f":"IF(ISTEXT('Fee Estimator'!$F65),0,IF('Fee Estimator'!$F65=\"\",0,IF($F$12=\"No\",0,IF(AE$14=YEAR('Fee Estimator'!$F65),'Fee Estimator'!$M66,0))))","v":0},{"$f":"IF(ISTEXT('Fee Estimator'!$F65),0,IF('Fee Estimator'!$F65=\"\",0,IF($F$12=\"No\",0,IF(AF$14=YEAR('Fee Estimator'!$F65),'Fee Estimator'!$M66,0))))","v":0},{"$f":"IF(ISTEXT('Fee Estimator'!$F65),0,IF('Fee Estimator'!$F65=\"\",0,IF($F$12=\"No\",0,IF(AG$14=YEAR('Fee Estimator'!$F65),'Fee Estimator'!$M66,0))))","v":0},{"$f":"IF(ISTEXT('Fee Estimator'!$F65),0,IF('Fee Estimator'!$F65=\"\",0,IF($F$12=\"No\",0,IF(AH$14=YEAR('Fee Estimator'!$F65),'Fee Estimator'!$M66,0))))","v":0},{"$f":"IF(ISTEXT('Fee Estimator'!$F65),0,IF('Fee Estimator'!$F65=\"\",0,IF($F$12=\"No\",0,IF(AI$14=YEAR('Fee Estimator'!$F65),'Fee Estimator'!$M66,0))))","v":0}]
[{"$f":"IF(AND('Emissions Estimator'!$A38=\"\",'Emissions Estimator'!$A93=\"\"),\"\",IF(AND('Emissions Estimator'!$A38=\"\",'Emissions Estimator'!$A93<>\"\"),\"Operation\",IF(AND('Emissions Estimator'!$A93=\"\",'Emissions Estimator'!$A38<>\"\"),\"Construction\",MIN('Emissions Estimator'!$A38,'Emissions Estimator'!$A93))))","v":""},{"$f":"IF(A67=\"\",\"\",IF(AND(A67=\"Construction\",'Emissions Estimator'!$O$9=\"No\"),\"No\",IF(AND(A67=\"Construction\",'Emissions Estimator'!$O$9=\"Yes\"),\"Yes\",IF(A67=\"Operation\",\"\"))))","v":""},{"$f":"IF(AND('Emissions Estimator'!$A38=\"\",'Emissions Estimator'!$A93=\"\"),\"\",IF(AND('Emissions Estimator'!$A38=\"\",'Emissions Estimator'!$A93<>\"\"),'Emissions Estimator'!$A93,IF(AND('Emissions Estimator'!$A93=\"\",'Emissions Estimator'!$A38<>\"\"),'Emissions Estimator'!$A38,MIN('Emissions Estimator'!$A38,'Emissions Estimator'!$A93))))","v":""},27,{"$f":"IF(AND('Emissions Estimator'!C38=\"\",'Emissions Estimator'!C93=\"\"),\"\",IF(AND('Emissions Estimator'!C38=\"\",'Emissions Estimator'!C93<>\"\"),'Emissions Estimator'!C93,IF(AND('Emissions Estimator'!C93=\"\",'Emissions Estimator'!C38<>\"\"),'Emissions Estimator'!C38,MIN('Emissions Estimator'!C38,'Emissions Estimator'!C93))))","v":""},{"$f":"IF(AND(B67=\"\",E67=\"\"),\"\",IF(AND(B67=\"Yes\",$F$12=\"Yes\"),\"Clean Fleet\",IF(AND(B67=\"Yes\",$F$12=\"No\"),\"Clean Fleet\",IF(AND(A67=\"Operation\",$F$12=\"No\"),$E$15-1,IF(AND(A67=\"Operation\",$F$12=\"Yes\"),E67-1,IF(AND(B67=\"No\",$F$12=\"No\"),$E$15-1,IF(AND(B67=\"No\",$F$12=\"Yes\"),E67-1)))))))","v":""},null,"NOx",null,{"$f":"('Emissions Estimator'!R93)","v":0},0,null,0,null,{"$f":"IF(ISTEXT('Fee Estimator'!$F67),0,IF('Fee Estimator'!$F67=\"\",0,IF($F$12=\"No\",0,IF(O$14=YEAR('Fee Estimator'!$F67),'Fee Estimator'!$M67,0))))","v":0},{"$f":"IF(ISTEXT('Fee Estimator'!$F67),0,IF('Fee Estimator'!$F67=\"\",0,IF($F$12=\"No\",0,IF(P$14=YEAR('Fee Estimator'!$F67),'Fee Estimator'!$M67,0))))","v":0},{"$f":"IF(ISTEXT('Fee Estimator'!$F67),0,IF('Fee Estimator'!$F67=\"\",0,IF($F$12=\"No\",0,IF(Q$14=YEAR('Fee Estimator'!$F67),'Fee Estimator'!$M67,0))))","v":0},{"$f":"IF(ISTEXT('Fee Estimator'!$F67),0,IF('Fee Estimator'!$F67=\"\",0,IF($F$12=\"No\",0,IF(R$14=YEAR('Fee Estimator'!$F67),'Fee Estimator'!$M67,0))))","v":0},{"$f":"IF(ISTEXT('Fee Estimator'!$F67),0,IF('Fee Estimator'!$F67=\"\",0,IF($F$12=\"No\",0,IF(S$14=YEAR('Fee Estimator'!$F67),'Fee Estimator'!$M67,0))))","v":0},{"$f":"IF(ISTEXT('Fee Estimator'!$F67),0,IF('Fee Estimator'!$F67=\"\",0,IF($F$12=\"No\",0,IF(T$14=YEAR('Fee Estimator'!$F67),'Fee Estimator'!$M67,0))))","v":0},{"$f":"IF(ISTEXT('Fee Estimator'!$F67),0,IF('Fee Estimator'!$F67=\"\",0,IF($F$12=\"No\",0,IF(U$14=YEAR('Fee Estimator'!$F67),'Fee Estimator'!$M67,0))))","v":0},{"$f":"IF(ISTEXT('Fee Estimator'!$F67),0,IF('Fee Estimator'!$F67=\"\",0,IF($F$12=\"No\",0,IF(V$14=YEAR('Fee Estimator'!$F67),'Fee Estimator'!$M67,0))))","v":0},{"$f":"IF(ISTEXT('Fee Estimator'!$F67),0,IF('Fee Estimator'!$F67=\"\",0,IF($F$12=\"No\",0,IF(W$14=YEAR('Fee Estimator'!$F67),'Fee Estimator'!$M67,0))))","v":0},{"$f":"IF(ISTEXT('Fee Estimator'!$F67),0,IF('Fee Estimator'!$F67=\"\",0,IF($F$12=\"No\",0,IF(X$14=YEAR('Fee Estimator'!$F67),'Fee Estimator'!$M67,0))))","v":0},{"$f":"IF(ISTEXT('Fee Estimator'!$F67),0,IF('Fee Estimator'!$F67=\"\",0,IF($F$12=\"No\",0,IF(Y$14=YEAR('Fee Estimator'!$F67),'Fee Estimator'!$M67,0))))","v":0},{"$f":"IF(ISTEXT('Fee Estimator'!$F67),0,IF('Fee Estimator'!$F67=\"\",0,IF($F$12=\"No\",0,IF(Z$14=YEAR('Fee Estimator'!$F67),'Fee Estimator'!$M67,0))))","v":0},{"$f":"IF(ISTEXT('Fee Estimator'!$F67),0,IF('Fee Estimator'!$F67=\"\",0,IF($F$12=\"No\",0,IF(AA$14=YEAR('Fee Estimator'!$F67),'Fee Estimator'!$M67,0))))","v":0},{"$f":"IF(ISTEXT('Fee Estimator'!$F67),0,IF('Fee Estimator'!$F67=\"\",0,IF($F$12=\"No\",0,IF(AB$14=YEAR('Fee Estimator'!$F67),'Fee Estimator'!$M67,0))))","v":0},{"$f":"IF(ISTEXT('Fee Estimator'!$F67),0,IF('Fee Estimator'!$F67=\"\",0,IF($F$12=\"No\",0,IF(AC$14=YEAR('Fee Estimator'!$F67),'Fee Estimator'!$M67,0))))","v":0},{"$f":"IF(ISTEXT('Fee Estimator'!$F67),0,IF('Fee Estimator'!$F67=\"\",0,IF($F$12=\"No\",0,IF(AD$14=YEAR('Fee Estimator'!$F67),'Fee Estimator'!$M67,0))))","v":0},{"$f":"IF(ISTEXT('Fee Estimator'!$F67),0,IF('Fee Estimator'!$F67=\"\",0,IF($F$12=\"No\",0,IF(AE$14=YEAR('Fee Estimator'!$F67),'Fee Estimator'!$M67,0))))","v":0},{"$f":"IF(ISTEXT('Fee Estimator'!$F67),0,IF('Fee Estimator'!$F67=\"\",0,IF($F$12=\"No\",0,IF(AF$14=YEAR('Fee Estimator'!$F67),'Fee Estimator'!$M67,0))))","v":0},{"$f":"IF(ISTEXT('Fee Estimator'!$F67),0,IF('Fee Estimator'!$F67=\"\",0,IF($F$12=\"No\",0,IF(AG$14=YEAR('Fee Estimator'!$F67),'Fee Estimator'!$M67,0))))","v":0},{"$f":"IF(ISTEXT('Fee Estimator'!$F67),0,IF('Fee Estimator'!$F67=\"\",0,IF($F$12=\"No\",0,IF(AH$14=YEAR('Fee Estimator'!$F67),'Fee Estimator'!$M67,0))))","v":0},{"$f":"IF(ISTEXT('Fee Estimator'!$F67),0,IF('Fee Estimator'!$F67=\"\",0,IF($F$12=\"No\",0,IF(AI$14=YEAR('Fee Estimator'!$F67),'Fee Estimator'!$M67,0))))","v":0}]
[null,null,null,null,null,null,null,"PM10",null,{"$f":"('Emissions Estimator'!S93)","v":0},0,null,0,null,{"$f":"IF(ISTEXT('Fee Estimator'!$F67),0,IF('Fee Estimator'!$F67=\"\",0,IF($F$12=\"No\",0,IF(O$14=YEAR('Fee Estimator'!$F67),'Fee Estimator'!$M68,0))))","v":0},{"$f":"IF(ISTEXT('Fee Estimator'!$F67),0,IF('Fee Estimator'!$F67=\"\",0,IF($F$12=\"No\",0,IF(P$14=YEAR('Fee Estimator'!$F67),'Fee Estimator'!$M68,0))))","v":0},{"$f":"IF(ISTEXT('Fee Estimator'!$F67),0,IF('Fee Estimator'!$F67=\"\",0,IF($F$12=\"No\",0,IF(Q$14=YEAR('Fee Estimator'!$F67),'Fee Estimator'!$M68,0))))","v":0},{"$f":"IF(ISTEXT('Fee Estimator'!$F67),0,IF('Fee Estimator'!$F67=\"\",0,IF($F$12=\"No\",0,IF(R$14=YEAR('Fee Estimator'!$F67),'Fee Estimator'!$M68,0))))","v":0},{"$f":"IF(ISTEXT('Fee Estimator'!$F67),0,IF('Fee Estimator'!$F67=\"\",0,IF($F$12=\"No\",0,IF(S$14=YEAR('Fee Estimator'!$F67),'Fee Estimator'!$M68,0))))","v":0},{"$f":"IF(ISTEXT('Fee Estimator'!$F67),0,IF('Fee Estimator'!$F67=\"\",0,IF($F$12=\"No\",0,IF(T$14=YEAR('Fee Estimator'!$F67),'Fee Estimator'!$M68,0))))","v":0},{"$f":"IF(ISTEXT('Fee Estimator'!$F67),0,IF('Fee Estimator'!$F67=\"\",0,IF($F$12=\"No\",0,IF(U$14=YEAR('Fee Estimator'!$F67),'Fee Estimator'!$M68,0))))","v":0},{"$f":"IF(ISTEXT('Fee Estimator'!$F67),0,IF('Fee Estimator'!$F67=\"\",0,IF($F$12=\"No\",0,IF(V$14=YEAR('Fee Estimator'!$F67),'Fee Estimator'!$M68,0))))","v":0},{"$f":"IF(ISTEXT('Fee Estimator'!$F67),0,IF('Fee Estimator'!$F67=\"\",0,IF($F$12=\"No\",0,IF(W$14=YEAR('Fee Estimator'!$F67),'Fee Estimator'!$M68,0))))","v":0},{"$f":"IF(ISTEXT('Fee Estimator'!$F67),0,IF('Fee Estimator'!$F67=\"\",0,IF($F$12=\"No\",0,IF(X$14=YEAR('Fee Estimator'!$F67),'Fee Estimator'!$M68,0))))","v":0},{"$f":"IF(ISTEXT('Fee Estimator'!$F67),0,IF('Fee Estimator'!$F67=\"\",0,IF($F$12=\"No\",0,IF(Y$14=YEAR('Fee Estimator'!$F67),'Fee Estimator'!$M68,0))))","v":0},{"$f":"IF(ISTEXT('Fee Estimator'!$F67),0,IF('Fee Estimator'!$F67=\"\",0,IF($F$12=\"No\",0,IF(Z$14=YEAR('Fee Estimator'!$F67),'Fee Estimator'!$M68,0))))","v":0},{"$f":"IF(ISTEXT('Fee Estimator'!$F67),0,IF('Fee Estimator'!$F67=\"\",0,IF($F$12=\"No\",0,IF(AA$14=YEAR('Fee Estimator'!$F67),'Fee Estimator'!$M68,0))))","v":0},{"$f":"IF(ISTEXT('Fee Estimator'!$F67),0,IF('Fee Estimator'!$F67=\"\",0,IF($F$12=\"No\",0,IF(AB$14=YEAR('Fee Estimator'!$F67),'Fee Estimator'!$M68,0))))","v":0},{"$f":"IF(ISTEXT('Fee Estimator'!$F67),0,IF('Fee Estimator'!$F67=\"\",0,IF($F$12=\"No\",0,IF(AC$14=YEAR('Fee Estimator'!$F67),'Fee Estimator'!$M68,0))))","v":0},{"$f":"IF(ISTEXT('Fee Estimator'!$F67),0,IF('Fee Estimator'!$F67=\"\",0,IF($F$12=\"No\",0,IF(AD$14=YEAR('Fee Estimator'!$F67),'Fee Estimator'!$M68,0))))","v":0},{"$f":"IF(ISTEXT('Fee Estimator'!$F67),0,IF('Fee Estimator'!$F67=\"\",0,IF($F$12=\"No\",0,IF(AE$14=YEAR('Fee Estimator'!$F67),'Fee Estimator'!$M68,0))))","v":0},{"$f":"IF(ISTEXT('Fee Estimator'!$F67),0,IF('Fee Estimator'!$F67=\"\",0,IF($F$12=\"No\",0,IF(AF$14=YEAR('Fee Estimator'!$F67),'Fee Estimator'!$M68,0))))","v":0},{"$f":"IF(ISTEXT('Fee Estimator'!$F67),0,IF('Fee Estimator'!$F67=\"\",0,IF($F$12=\"No\",0,IF(AG$14=YEAR('Fee Estimator'!$F67),'Fee Estimator'!$M68,0))))","v":0},{"$f":"IF(ISTEXT('Fee Estimator'!$F67),0,IF('Fee Estimator'!$F67=\"\",0,IF($F$12=\"No\",0,IF(AH$14=YEAR('Fee Estimator'!$F67),'Fee Estimator'!$M68,0))))","v":0},{"$f":"IF(ISTEXT('Fee Estimator'!$F67),0,IF('Fee Estimator'!$F67=\"\",0,IF($F$12=\"No\",0,IF(AI$14=YEAR('Fee Estimator'!$F67),'Fee Estimator'!$M68,0))))","v":0}]
[{"$f":"IF(AND('Emissions Estimator'!$A39=\"\",'Emissions Estimator'!$A94=\"\"),\"\",IF(AND('Emissions Estimator'!$A39=\"\",'Emissions Estimator'!$A94<>\"\"),\"Operation\",IF(AND('Emissions Estimator'!$A94=\"\",'Emissions Estimator'!$A39<>\"\"),\"Construction\",MIN('Emissions Estimator'!$A39,'Emissions Estimator'!$A94))))","v":""},{"$f":"IF(A69=\"\",\"\",IF(AND(A69=\"Construction\",'Emissions Estimator'!$O$9=\"No\"),\"No\",IF(AND(A69=\"Construction\",'Emissions Estimator'!$O$9=\"Yes\"),\"Yes\",IF(A69=\"Operation\",\"\"))))","v":""},{"$f":"IF(AND('Emissions Estimator'!$A39=\"\",'Emissions Estimator'!$A94=\"\"),\"\",IF(AND('Emissions Estimator'!$A39=\"\",'Emissions Estimator'!$A94<>\"\"),'Emissions Estimator'!$A94,IF(AND('Emissions Estimator'!$A94=\"\",'Emissions Estimator'!$A39<>\"\"),'Emissions Estimator'!$A39,MIN('Emissions Estimator'!$A39,'Emissions Estimator'!$A94))))","v":""},28,{"$f":"IF(AND('Emissions Estimator'!C39=\"\",'Emissions Estimator'!C94=\"\"),\"\",IF(AND('Emissions Estimator'!C39=\"\",'Emissions Estimator'!C94<>\"\"),'Emissions Estimator'!C94,IF(AND('Emissions Estimator'!C94=\"\",'Emissions Estimator'!C39<>\"\"),'Emissions Estimator'!C39,MIN('Emissions Estimator'!C39,'Emissions Estimator'!C94))))","v":""},{"$f":"IF(AND(B69=\"\",E69=\"\"),\"\",IF(AND(B69=\"Yes\",$F$12=\"Yes\"),\"Clean Fleet\",IF(AND(B69=\"Yes\",$F$12=\"No\"),\"Clean Fleet\",IF(AND(A69=\"Operation\",$F$12=\"No\"),$E$15-1,IF(AND(A69=\"Operation\",$F$12=\"Yes\"),E69-1,IF(AND(B69=\"No\",$F$12=\"No\"),$E$15-1,IF(AND(B69=\"No\",$F$12=\"Yes\"),E69-1)))))))","v":""},null,"NOx",null,{"$f":"('Emissions Estimator'!R94)","v":0},0,null,0,null,{"$f":"IF(ISTEXT('Fee Estimator'!$F69),0,IF('Fee Estimator'!$F69=\"\",0,IF($F$12=\"No\",0,IF(O$14=YEAR('Fee Estimator'!$F69),'Fee Estimator'!$M69,0))))","v":0},{"$f":"IF(ISTEXT('Fee Estimator'!$F69),0,IF('Fee Estimator'!$F69=\"\",0,IF($F$12=\"No\",0,IF(P$14=YEAR('Fee Estimator'!$F69),'Fee Estimator'!$M69,0))))","v":0},{"$f":"IF(ISTEXT('Fee Estimator'!$F69),0,IF('Fee Estimator'!$F69=\"\",0,IF($F$12=\"No\",0,IF(Q$14=YEAR('Fee Estimator'!$F69),'Fee Estimator'!$M69,0))))","v":0},{"$f":"IF(ISTEXT('Fee Estimator'!$F69),0,IF('Fee Estimator'!$F69=\"\",0,IF($F$12=\"No\",0,IF(R$14=YEAR('Fee Estimator'!$F69),'Fee Estimator'!$M69,0))))","v":0},{"$f":"IF(ISTEXT('Fee Estimator'!$F69),0,IF('Fee Estimator'!$F69=\"\",0,IF($F$12=\"No\",0,IF(S$14=YEAR('Fee Estimator'!$F69),'Fee Estimator'!$M69,0))))","v":0},{"$f":"IF(ISTEXT('Fee Estimator'!$F69),0,IF('Fee Estimator'!$F69=\"\",0,IF($F$12=\"No\",0,IF(T$14=YEAR('Fee Estimator'!$F69),'Fee Estimator'!$M69,0))))","v":0},{"$f":"IF(ISTEXT('Fee Estimator'!$F69),0,IF('Fee Estimator'!$F69=\"\",0,IF($F$12=\"No\",0,IF(U$14=YEAR('Fee Estimator'!$F69),'Fee Estimator'!$M69,0))))","v":0},{"$f":"IF(ISTEXT('Fee Estimator'!$F69),0,IF('Fee Estimator'!$F69=\"\",0,IF($F$12=\"No\",0,IF(V$14=YEAR('Fee Estimator'!$F69),'Fee Estimator'!$M69,0))))","v":0},{"$f":"IF(ISTEXT('Fee Estimator'!$F69),0,IF('Fee Estimator'!$F69=\"\",0,IF($F$12=\"No\",0,IF(W$14=YEAR('Fee Estimator'!$F69),'Fee Estimator'!$M69,0))))","v":0},{"$f":"IF(ISTEXT('Fee Estimator'!$F69),0,IF('Fee Estimator'!$F69=\"\",0,IF($F$12=\"No\",0,IF(X$14=YEAR('Fee Estimator'!$F69),'Fee Estimator'!$M69,0))))","v":0},{"$f":"IF(ISTEXT('Fee Estimator'!$F69),0,IF('Fee Estimator'!$F69=\"\",0,IF($F$12=\"No\",0,IF(Y$14=YEAR('Fee Estimator'!$F69),'Fee Estimator'!$M69,0))))","v":0},{"$f":"IF(ISTEXT('Fee Estimator'!$F69),0,IF('Fee Estimator'!$F69=\"\",0,IF($F$12=\"No\",0,IF(Z$14=YEAR('Fee Estimator'!$F69),'Fee Estimator'!$M69,0))))","v":0},{"$f":"IF(ISTEXT('Fee Estimator'!$F69),0,IF('Fee Estimator'!$F69=\"\",0,IF($F$12=\"No\",0,IF(AA$14=YEAR('Fee Estimator'!$F69),'Fee Estimator'!$M69,0))))","v":0},{"$f":"IF(ISTEXT('Fee Estimator'!$F69),0,IF('Fee Estimator'!$F69=\"\",0,IF($F$12=\"No\",0,IF(AB$14=YEAR('Fee Estimator'!$F69),'Fee Estimator'!$M69,0))))","v":0},{"$f":"IF(ISTEXT('Fee Estimator'!$F69),0,IF('Fee Estimator'!$F69=\"\",0,IF($F$12=\"No\",0,IF(AC$14=YEAR('Fee Estimator'!$F69),'Fee Estimator'!$M69,0))))","v":0},{"$f":"IF(ISTEXT('Fee Estimator'!$F69),0,IF('Fee Estimator'!$F69=\"\",0,IF($F$12=\"No\",0,IF(AD$14=YEAR('Fee Estimator'!$F69),'Fee Estimator'!$M69,0))))","v":0},{"$f":"IF(ISTEXT('Fee Estimator'!$F69),0,IF('Fee Estimator'!$F69=\"\",0,IF($F$12=\"No\",0,IF(AE$14=YEAR('Fee Estimator'!$F69),'Fee Estimator'!$M69,0))))","v":0},{"$f":"IF(ISTEXT('Fee Estimator'!$F69),0,IF('Fee Estimator'!$F69=\"\",0,IF($F$12=\"No\",0,IF(AF$14=YEAR('Fee Estimator'!$F69),'Fee Estimator'!$M69,0))))","v":0},{"$f":"IF(ISTEXT('Fee Estimator'!$F69),0,IF('Fee Estimator'!$F69=\"\",0,IF($F$12=\"No\",0,IF(AG$14=YEAR('Fee Estimator'!$F69),'Fee Estimator'!$M69,0))))","v":0},{"$f":"IF(ISTEXT('Fee Estimator'!$F69),0,IF('Fee Estimator'!$F69=\"\",0,IF($F$12=\"No\",0,IF(AH$14=YEAR('Fee Estimator'!$F69),'Fee Estimator'!$M69,0))))","v":0},{"$f":"IF(ISTEXT('Fee Estimator'!$F69),0,IF('Fee Estimator'!$F69=\"\",0,IF($F$12=\"No\",0,IF(AI$14=YEAR('Fee Estimator'!$F69),'Fee Estimator'!$M69,0))))","v":0}]
[null,null,null,null,null,null,null,"PM10",null,{"$f":"('Emissions Estimator'!S94)","v":0},0,null,0,null,{"$f":"IF(ISTEXT('Fee Estimator'!$F69),0,IF('Fee Estimator'!$F69=\"\",0,IF($F$12=\"No\",0,IF(O$14=YEAR('Fee Estimator'!$F69),'Fee Estimator'!$M70,0))))","v":0},{"$f":"IF(ISTEXT('Fee Estimator'!$F69),0,IF('Fee Estimator'!$F69=\"\",0,IF($F$12=\"No\",0,IF(P$14=YEAR('Fee Estimator'!$F69),'Fee Estimator'!$M70,0))))","v":0},{"$f":"IF(ISTEXT('Fee Estimator'!$F69),0,IF('Fee Estimator'!$F69=\"\",0,IF($F$12=\"No\",0,IF(Q$14=YEAR('Fee Estimator'!$F69),'Fee Estimator'!$M70,0))))","v":0},{"$f":"IF(ISTEXT('Fee Estimator'!$F69),0,IF('Fee Estimator'!$F69=\"\",0,IF($F$12=\"No\",0,IF(R$14=YEAR('Fee Estimator'!$F69),'Fee Estimator'!$M70,0))))","v":0},{"$f":"IF(ISTEXT('Fee Estimator'!$F69),0,IF('Fee Estimator'!$F69=\"\",0,IF($F$12=\"No\",0,IF(S$14=YEAR('Fee Estimator'!$F69),'Fee Estimator'!$M70,0))))","v":0},{"$f":"IF(ISTEXT('Fee Estimator'!$F69),0,IF('Fee Estimator'!$F69=\"\",0,IF($F$12=\"No\",0,IF(T$14=YEAR('Fee Estimator'!$F69),'Fee Estimator'!$M70,0))))","v":0},{"$f":"IF(ISTEXT('Fee Estimator'!$F69),0,IF('Fee Estimator'!$F69=\"\",0,IF($F$12=\"No\",0,IF(U$14=YEAR('Fee Estimator'!$F69),'Fee Estimator'!$M70,0))))","v":0},{"$f":"IF(ISTEXT('Fee Estimator'!$F69),0,IF('Fee Estimator'!$F69=\"\",0,IF($F$12=\"No\",0,IF(V$14=YEAR('Fee Estimator'!$F69),'Fee Estimator'!$M70,0))))","v":0},{"$f":"IF(ISTEXT('Fee Estimator'!$F69),0,IF('Fee Estimator'!$F69=\"\",0,IF($F$12=\"No\",0,IF(W$14=YEAR('Fee Estimator'!$F69),'Fee Estimator'!$M70,0))))","v":0},{"$f":"IF(ISTEXT('Fee Estimator'!$F69),0,IF('Fee Estimator'!$F69=\"\",0,IF($F$12=\"No\",0,IF(X$14=YEAR('Fee Estimator'!$F69),'Fee Estimator'!$M70,0))))","v":0},{"$f":"IF(ISTEXT('Fee Estimator'!$F69),0,IF('Fee Estimator'!$F69=\"\",0,IF($F$12=\"No\",0,IF(Y$14=YEAR('Fee Estimator'!$F69),'Fee Estimator'!$M70,0))))","v":0},{"$f":"IF(ISTEXT('Fee Estimator'!$F69),0,IF('Fee Estimator'!$F69=\"\",0,IF($F$12=\"No\",0,IF(Z$14=YEAR('Fee Estimator'!$F69),'Fee Estimator'!$M70,0))))","v":0},{"$f":"IF(ISTEXT('Fee Estimator'!$F69),0,IF('Fee Estimator'!$F69=\"\",0,IF($F$12=\"No\",0,IF(AA$14=YEAR('Fee Estimator'!$F69),'Fee Estimator'!$M70,0))))","v":0},{"$f":"IF(ISTEXT('Fee Estimator'!$F69),0,IF('Fee Estimator'!$F69=\"\",0,IF($F$12=\"No\",0,IF(AB$14=YEAR('Fee Estimator'!$F69),'Fee Estimator'!$M70,0))))","v":0},{"$f":"IF(ISTEXT('Fee Estimator'!$F69),0,IF('Fee Estimator'!$F69=\"\",0,IF($F$12=\"No\",0,IF(AC$14=YEAR('Fee Estimator'!$F69),'Fee Estimator'!$M70,0))))","v":0},{"$f":"IF(ISTEXT('Fee Estimator'!$F69),0,IF('Fee Estimator'!$F69=\"\",0,IF($F$12=\"No\",0,IF(AD$14=YEAR('Fee Estimator'!$F69),'Fee Estimator'!$M70,0))))","v":0},{"$f":"IF(ISTEXT('Fee Estimator'!$F69),0,IF('Fee Estimator'!$F69=\"\",0,IF($F$12=\"No\",0,IF(AE$14=YEAR('Fee Estimator'!$F69),'Fee Estimator'!$M70,0))))","v":0},{"$f":"IF(ISTEXT('Fee Estimator'!$F69),0,IF('Fee Estimator'!$F69=\"\",0,IF($F$12=\"No\",0,IF(AF$14=YEAR('Fee Estimator'!$F69),'Fee Estimator'!$M70,0))))","v":0},{"$f":"IF(ISTEXT('Fee Estimator'!$F69),0,IF('Fee Estimator'!$F69=\"\",0,IF($F$12=\"No\",0,IF(AG$14=YEAR('Fee Estimator'!$F69),'Fee Estimator'!$M70,0))))","v":0},{"$f":"IF(ISTEXT('Fee Estimator'!$F69),0,IF('Fee Estimator'!$F69=\"\",0,IF($F$12=\"No\",0,IF(AH$14=YEAR('Fee Estimator'!$F69),'Fee Estimator'!$M70,0))))","v":0},{"$f":"IF(ISTEXT('Fee Estimator'!$F69),0,IF('Fee Estimator'!$F69=\"\",0,IF($F$12=\"No\",0,IF(AI$14=YEAR('Fee Estimator'!$F69),'Fee Estimator'!$M70,0))))","v":0}]
[{"$f":"IF(AND('Emissions Estimator'!$A40=\"\",'Emissions Estimator'!$A95=\"\"),\"\",IF(AND('Emissions Estimator'!$A40=\"\",'Emissions Estimator'!$A95<>\"\"),\"Operation\",IF(AND('Emissions Estimator'!$A95=\"\",'Emissions Estimator'!$A40<>\"\"),\"Construction\",MIN('Emissions Estimator'!$A40,'Emissions Estimator'!$A95))))","v":""},{"$f":"IF(A71=\"\",\"\",IF(AND(A71=\"Construction\",'Emissions Estimator'!$O$9=\"No\"),\"No\",IF(AND(A71=\"Construction\",'Emissions Estimator'!$O$9=\"Yes\"),\"Yes\",IF(A71=\"Operation\",\"\"))))","v":""},{"$f":"IF(AND('Emissions Estimator'!$A40=\"\",'Emissions Estimator'!$A95=\"\"),\"\",IF(AND('Emissions Estimator'!$A40=\"\",'Emissions Estimator'!$A95<>\"\"),'Emissions Estimator'!$A95,IF(AND('Emissions Estimator'!$A95=\"\",'Emissions Estimator'!$A40<>\"\"),'Emissions Estimator'!$A40,MIN('Emissions Estimator'!$A40,'Emissions Estimator'!$A95))))","v":""},29,{"$f":"IF(AND('Emissions Estimator'!C40=\"\",'Emissions Estimator'!C95=\"\"),\"\",IF(AND('Emissions Estimator'!C40=\"\",'Emissions Estimator'!C95<>\"\"),'Emissions Estimator'!C95,IF(AND('Emissions Estimator'!C95=\"\",'Emissions Estimator'!C40<>\"\"),'Emissions Estimator'!C40,MIN('Emissions Estimator'!C40,'Emissions Estimator'!C95))))","v":""},{"$f":"IF(AND(B71=\"\",E71=\"\"),\"\",IF(AND(B71=\"Yes\",$F$12=\"Yes\"),\"Clean Fleet\",IF(AND(B71=\"Yes\",$F$12=\"No\"),\"Clean Fleet\",IF(AND(A71=\"Operation\",$F$12=\"No\"),$E$15-1,IF(AND(A71=\"Operation\",$F$12=\"Yes\"),E71-1,IF(AND(B71=\"No\",$F$12=\"No\"),$E$15-1,IF(AND(B71=\"No\",$F$12=\"Yes\"),E71-1)))))))","v":""},null,"NOx",null,{"$f":"('Emissions Estimator'!R95)","v":0},0,null,0,null,{"$f":"IF(ISTEXT('Fee Estimator'!$F71),0,IF('Fee Estimator'!$F71=\"\",0,IF($F$12=\"No\",0,IF(O$14=YEAR('Fee Estimator'!$F71),'Fee Estimator'!$M71,0))))","v":0},{"$f":"IF(ISTEXT('Fee Estimator'!$F71),0,IF('Fee Estimator'!$F71=\"\",0,IF($F$12=\"No\",0,IF(P$14=YEAR('Fee Estimator'!$F71),'Fee Estimator'!$M71,0))))","v":0},{"$f":"IF(ISTEXT('Fee Estimator'!$F71),0,IF('Fee Estimator'!$F71=\"\",0,IF($F$12=\"No\",0,IF(Q$14=YEAR('Fee Estimator'!$F71),'Fee Estimator'!$M71,0))))","v":0},{"$f":"IF(ISTEXT('Fee Estimator'!$F71),0,IF('Fee Estimator'!$F71=\"\",0,IF($F$12=\"No\",0,IF(R$14=YEAR('Fee Estimator'!$F71),'Fee Estimator'!$M71,0))))","v":0},{"$f":"IF(ISTEXT('Fee Estimator'!$F71),0,IF('Fee Estimator'!$F71=\"\",0,IF($F$12=\"No\",0,IF(S$14=YEAR('Fee Estimator'!$F71),'Fee Estimator'!$M71,0))))","v":0},{"$f":"IF(ISTEXT('Fee Estimator'!$F71),0,IF('Fee Estimator'!$F71=\"\",0,IF($F$12=\"No\",0,IF(T$14=YEAR('Fee Estimator'!$F71),'Fee Estimator'!$M71,0))))","v":0},{"$f":"IF(ISTEXT('Fee Estimator'!$F71),0,IF('Fee Estimator'!$F71=\"\",0,IF($F$12=\"No\",0,IF(U$14=YEAR('Fee Estimator'!$F71),'Fee Estimator'!$M71,0))))","v":0},{"$f":"IF(ISTEXT('Fee Estimator'!$F71),0,IF('Fee Estimator'!$F71=\"\",0,IF($F$12=\"No\",0,IF(V$14=YEAR('Fee Estimator'!$F71),'Fee Estimator'!$M71,0))))","v":0},{"$f":"IF(ISTEXT('Fee Estimator'!$F71),0,IF('Fee Estimator'!$F71=\"\",0,IF($F$12=\"No\",0,IF(W$14=YEAR('Fee Estimator'!$F71),'Fee Estimator'!$M71,0))))","v":0},{"$f":"IF(ISTEXT('Fee Estimator'!$F71),0,IF('Fee Estimator'!$F71=\"\",0,IF($F$12=\"No\",0,IF(X$14=YEAR('Fee Estimator'!$F71),'Fee Estimator'!$M71,0))))","v":0},{"$f":"IF(ISTEXT('Fee Estimator'!$F71),0,IF('Fee Estimator'!$F71=\"\",0,IF($F$12=\"No\",0,IF(Y$14=YEAR('Fee Estimator'!$F71),'Fee Estimator'!$M71,0))))","v":0},{"$f":"IF(ISTEXT('Fee Estimator'!$F71),0,IF('Fee Estimator'!$F71=\"\",0,IF($F$12=\"No\",0,IF(Z$14=YEAR('Fee Estimator'!$F71),'Fee Estimator'!$M71,0))))","v":0},{"$f":"IF(ISTEXT('Fee Estimator'!$F71),0,IF('Fee Estimator'!$F71=\"\",0,IF($F$12=\"No\",0,IF(AA$14=YEAR('Fee Estimator'!$F71),'Fee Estimator'!$M71,0))))","v":0},{"$f":"IF(ISTEXT('Fee Estimator'!$F71),0,IF('Fee Estimator'!$F71=\"\",0,IF($F$12=\"No\",0,IF(AB$14=YEAR('Fee Estimator'!$F71),'Fee Estimator'!$M71,0))))","v":0},{"$f":"IF(ISTEXT('Fee Estimator'!$F71),0,IF('Fee Estimator'!$F71=\"\",0,IF($F$12=\"No\",0,IF(AC$14=YEAR('Fee Estimator'!$F71),'Fee Estimator'!$M71,0))))","v":0},{"$f":"IF(ISTEXT('Fee Estimator'!$F71),0,IF('Fee Estimator'!$F71=\"\",0,IF($F$12=\"No\",0,IF(AD$14=YEAR('Fee Estimator'!$F71),'Fee Estimator'!$M71,0))))","v":0},{"$f":"IF(ISTEXT('Fee Estimator'!$F71),0,IF('Fee Estimator'!$F71=\"\",0,IF($F$12=\"No\",0,IF(AE$14=YEAR('Fee Estimator'!$F71),'Fee Estimator'!$M71,0))))","v":0},{"$f":"IF(ISTEXT('Fee Estimator'!$F71),0,IF('Fee Estimator'!$F71=\"\",0,IF($F$12=\"No\",0,IF(AF$14=YEAR('Fee Estimator'!$F71),'Fee Estimator'!$M71,0))))","v":0},{"$f":"IF(ISTEXT('Fee Estimator'!$F71),0,IF('Fee Estimator'!$F71=\"\",0,IF($F$12=\"No\",0,IF(AG$14=YEAR('Fee Estimator'!$F71),'Fee Estimator'!$M71,0))))","v":0},{"$f":"IF(ISTEXT('Fee Estimator'!$F71),0,IF('Fee Estimator'!$F71=\"\",0,IF($F$12=\"No\",0,IF(AH$14=YEAR('Fee Estimator'!$F71),'Fee Estimator'!$M71,0))))","v":0},{"$f":"IF(ISTEXT('Fee Estimator'!$F71),0,IF('Fee Estimator'!$F71=\"\",0,IF($F$12=\"No\",0,IF(AI$14=YEAR('Fee Estimator'!$F71),'Fee Estimator'!$M71,0))))","v":0}]
[null,null,null,null,null,null,null,"PM10",null,{"$f":"('Emissions Estimator'!S95)","v":0},0,null,0,null,{"$f":"IF(ISTEXT('Fee Estimator'!$F71),0,IF('Fee Estimator'!$F71=\"\",0,IF($F$12=\"No\",0,IF(O$14=YEAR('Fee Estimator'!$F71),'Fee Estimator'!$M72,0))))","v":0},{"$f":"IF(ISTEXT('Fee Estimator'!$F71),0,IF('Fee Estimator'!$F71=\"\",0,IF($F$12=\"No\",0,IF(P$14=YEAR('Fee Estimator'!$F71),'Fee Estimator'!$M72,0))))","v":0},{"$f":"IF(ISTEXT('Fee Estimator'!$F71),0,IF('Fee Estimator'!$F71=\"\",0,IF($F$12=\"No\",0,IF(Q$14=YEAR('Fee Estimator'!$F71),'Fee Estimator'!$M72,0))))","v":0},{"$f":"IF(ISTEXT('Fee Estimator'!$F71),0,IF('Fee Estimator'!$F71=\"\",0,IF($F$12=\"No\",0,IF(R$14=YEAR('Fee Estimator'!$F71),'Fee Estimator'!$M72,0))))","v":0},{"$f":"IF(ISTEXT('Fee Estimator'!$F71),0,IF('Fee Estimator'!$F71=\"\",0,IF($F$12=\"No\",0,IF(S$14=YEAR('Fee Estimator'!$F71),'Fee Estimator'!$M72,0))))","v":0},{"$f":"IF(ISTEXT('Fee Estimator'!$F71),0,IF('Fee Estimator'!$F71=\"\",0,IF($F$12=\"No\",0,IF(T$14=YEAR('Fee Estimator'!$F71),'Fee Estimator'!$M72,0))))","v":0},{"$f":"IF(ISTEXT('Fee Estimator'!$F71),0,IF('Fee Estimator'!$F71=\"\",0,IF($F$12=\"No\",0,IF(U$14=YEAR('Fee Estimator'!$F71),'Fee Estimator'!$M72,0))))","v":0},{"$f":"IF(ISTEXT('Fee Estimator'!$F71),0,IF('Fee Estimator'!$F71=\"\",0,IF($F$12=\"No\",0,IF(V$14=YEAR('Fee Estimator'!$F71),'Fee Estimator'!$M72,0))))","v":0},{"$f":"IF(ISTEXT('Fee Estimator'!$F71),0,IF('Fee Estimator'!$F71=\"\",0,IF($F$12=\"No\",0,IF(W$14=YEAR('Fee Estimator'!$F71),'Fee Estimator'!$M72,0))))","v":0},{"$f":"IF(ISTEXT('Fee Estimator'!$F71),0,IF('Fee Estimator'!$F71=\"\",0,IF($F$12=\"No\",0,IF(X$14=YEAR('Fee Estimator'!$F71),'Fee Estimator'!$M72,0))))","v":0},{"$f":"IF(ISTEXT('Fee Estimator'!$F71),0,IF('Fee Estimator'!$F71=\"\",0,IF($F$12=\"No\",0,IF(Y$14=YEAR('Fee Estimator'!$F71),'Fee Estimator'!$M72,0))))","v":0},{"$f":"IF(ISTEXT('Fee Estimator'!$F71),0,IF('Fee Estimator'!$F71=\"\",0,IF($F$12=\"No\",0,IF(Z$14=YEAR('Fee Estimator'!$F71),'Fee Estimator'!$M72,0))))","v":0},{"$f":"IF(ISTEXT('Fee Estimator'!$F71),0,IF('Fee Estimator'!$F71=\"\",0,IF($F$12=\"No\",0,IF(AA$14=YEAR('Fee Estimator'!$F71),'Fee Estimator'!$M72,0))))","v":0},{"$f":"IF(ISTEXT('Fee Estimator'!$F71),0,IF('Fee Estimator'!$F71=\"\",0,IF($F$12=\"No\",0,IF(AB$14=YEAR('Fee Estimator'!$F71),'Fee Estimator'!$M72,0))))","v":0},{"$f":"IF(ISTEXT('Fee Estimator'!$F71),0,IF('Fee Estimator'!$F71=\"\",0,IF($F$12=\"No\",0,IF(AC$14=YEAR('Fee Estimator'!$F71),'Fee Estimator'!$M72,0))))","v":0},{"$f":"IF(ISTEXT('Fee Estimator'!$F71),0,IF('Fee Estimator'!$F71=\"\",0,IF($F$12=\"No\",0,IF(AD$14=YEAR('Fee Estimator'!$F71),'Fee Estimator'!$M72,0))))","v":0},{"$f":"IF(ISTEXT('Fee Estimator'!$F71),0,IF('Fee Estimator'!$F71=\"\",0,IF($F$12=\"No\",0,IF(AE$14=YEAR('Fee Estimator'!$F71),'Fee Estimator'!$M72,0))))","v":0},{"$f":"IF(ISTEXT('Fee Estimator'!$F71),0,IF('Fee Estimator'!$F71=\"\",0,IF($F$12=\"No\",0,IF(AF$14=YEAR('Fee Estimator'!$F71),'Fee Estimator'!$M72,0))))","v":0},{"$f":"IF(ISTEXT('Fee Estimator'!$F71),0,IF('Fee Estimator'!$F71=\"\",0,IF($F$12=\"No\",0,IF(AG$14=YEAR('Fee Estimator'!$F71),'Fee Estimator'!$M72,0))))","v":0},{"$f":"IF(ISTEXT('Fee Estimator'!$F71),0,IF('Fee Estimator'!$F71=\"\",0,IF($F$12=\"No\",0,IF(AH$14=YEAR('Fee Estimator'!$F71),'Fee Estimator'!$M72,0))))","v":0},{"$f":"IF(ISTEXT('Fee Estimator'!$F71),0,IF('Fee Estimator'!$F71=\"\",0,IF($F$12=\"No\",0,IF(AI$14=YEAR('Fee Estimator'!$F71),'Fee Estimator'!$M72,0))))","v":0}]
[{"$f":"IF(AND('Emissions Estimator'!$A41=\"\",'Emissions Estimator'!$A96=\"\"),\"\",IF(AND('Emissions Estimator'!$A41=\"\",'Emissions Estimator'!$A96<>\"\"),\"Operation\",IF(AND('Emissions Estimator'!$A96=\"\",'Emissions Estimator'!$A41<>\"\"),\"Construction\",MIN('Emissions Estimator'!$A41,'Emissions Estimator'!$A96))))","v":""},{"$f":"IF(A73=\"\",\"\",IF(AND(A73=\"Construction\",'Emissions Estimator'!$O$9=\"No\"),\"No\",IF(AND(A73=\"Construction\",'Emissions Estimator'!$O$9=\"Yes\"),\"Yes\",IF(A73=\"Operation\",\"\"))))","v":""},{"$f":"IF(AND('Emissions Estimator'!$A41=\"\",'Emissions Estimator'!$A96=\"\"),\"\",IF(AND('Emissions Estimator'!$A41=\"\",'Emissions Estimator'!$A96<>\"\"),'Emissions Estimator'!$A96,IF(AND('Emissions Estimator'!$A96=\"\",'Emissions Estimator'!$A41<>\"\"),'Emissions Estimator'!$A41,MIN('Emissions Estimator'!$A41,'Emissions Estimator'!$A96))))","v":""},30,{"$f":"IF(AND('Emissions Estimator'!C41=\"\",'Emissions Estimator'!C96=\"\"),\"\",IF(AND('Emissions Estimator'!C41=\"\",'Emissions Estimator'!C96<>\"\"),'Emissions Estimator'!C96,IF(AND('Emissions Estimator'!C96=\"\",'Emissions Estimator'!C41<>\"\"),'Emissions Estimator'!C41,MIN('Emissions Estimator'!C41,'Emissions Estimator'!C96))))","v":""},{"$f":"IF(AND(B73=\"\",E73=\"\"),\"\",IF(AND(B73=\"Yes\",$F$12=\"Yes\"),\"Clean Fleet\",IF(AND(B73=\"Yes\",$F$12=\"No\"),\"Clean Fleet\",IF(AND(A73=\"Operation\",$F$12=\"No\"),$E$15-1,IF(AND(A73=\"Operation\",$F$12=\"Yes\"),E73-1,IF(AND(B73=\"No\",$F$12=\"No\"),$E$15-1,IF(AND(B73=\"No\",$F$12=\"Yes\"),E73-1)))))))","v":""},null,"NOx",null,{"$f":"('Emissions Estimator'!R96)","v":0},0,null,0,null,{"$f":"IF(ISTEXT('Fee Estimator'!$F73),0,IF('Fee Estimator'!$F73=\"\",0,IF($F$12=\"No\",0,IF(O$14=YEAR('Fee Estimator'!$F73),'Fee Estimator'!$M73,0))))","v":0},{"$f":"IF(ISTEXT('Fee Estimator'!$F73),0,IF('Fee Estimator'!$F73=\"\",0,IF($F$12=\"No\",0,IF(P$14=YEAR('Fee Estimator'!$F73),'Fee Estimator'!$M73,0))))","v":0},{"$f":"IF(ISTEXT('Fee Estimator'!$F73),0,IF('Fee Estimator'!$F73=\"\",0,IF($F$12=\"No\",0,IF(Q$14=YEAR('Fee Estimator'!$F73),'Fee Estimator'!$M73,0))))","v":0},{"$f":"IF(ISTEXT('Fee Estimator'!$F73),0,IF('Fee Estimator'!$F73=\"\",0,IF($F$12=\"No\",0,IF(R$14=YEAR('Fee Estimator'!$F73),'Fee Estimator'!$M73,0))))","v":0},{"$f":"IF(ISTEXT('Fee Estimator'!$F73),0,IF('Fee Estimator'!$F73=\"\",0,IF($F$12=\"No\",0,IF(S$14=YEAR('Fee Estimator'!$F73),'Fee Estimator'!$M73,0))))","v":0},{"$f":"IF(ISTEXT('Fee Estimator'!$F73),0,IF('Fee Estimator'!$F73=\"\",0,IF($F$12=\"No\",0,IF(T$14=YEAR('Fee Estimator'!$F73),'Fee Estimator'!$M73,0))))","v":0},{"$f":"IF(ISTEXT('Fee Estimator'!$F73),0,IF('Fee Estimator'!$F73=\"\",0,IF($F$12=\"No\",0,IF(U$14=YEAR('Fee Estimator'!$F73),'Fee Estimator'!$M73,0))))","v":0},{"$f":"IF(ISTEXT('Fee Estimator'!$F73),0,IF('Fee Estimator'!$F73=\"\",0,IF($F$12=\"No\",0,IF(V$14=YEAR('Fee Estimator'!$F73),'Fee Estimator'!$M73,0))))","v":0},{"$f":"IF(ISTEXT('Fee Estimator'!$F73),0,IF('Fee Estimator'!$F73=\"\",0,IF($F$12=\"No\",0,IF(W$14=YEAR('Fee Estimator'!$F73),'Fee Estimator'!$M73,0))))","v":0},{"$f":"IF(ISTEXT('Fee Estimator'!$F73),0,IF('Fee Estimator'!$F73=\"\",0,IF($F$12=\"No\",0,IF(X$14=YEAR('Fee Estimator'!$F73),'Fee Estimator'!$M73,0))))","v":0},{"$f":"IF(ISTEXT('Fee Estimator'!$F73),0,IF('Fee Estimator'!$F73=\"\",0,IF($F$12=\"No\",0,IF(Y$14=YEAR('Fee Estimator'!$F73),'Fee Estimator'!$M73,0))))","v":0},{"$f":"IF(ISTEXT('Fee Estimator'!$F73),0,IF('Fee Estimator'!$F73=\"\",0,IF($F$12=\"No\",0,IF(Z$14=YEAR('Fee Estimator'!$F73),'Fee Estimator'!$M73,0))))","v":0},{"$f":"IF(ISTEXT('Fee Estimator'!$F73),0,IF('Fee Estimator'!$F73=\"\",0,IF($F$12=\"No\",0,IF(AA$14=YEAR('Fee Estimator'!$F73),'Fee Estimator'!$M73,0))))","v":0},{"$f":"IF(ISTEXT('Fee Estimator'!$F73),0,IF('Fee Estimator'!$F73=\"\",0,IF($F$12=\"No\",0,IF(AB$14=YEAR('Fee Estimator'!$F73),'Fee Estimator'!$M73,0))))","v":0},{"$f":"IF(ISTEXT('Fee Estimator'!$F73),0,IF('Fee Estimator'!$F73=\"\",0,IF($F$12=\"No\",0,IF(AC$14=YEAR('Fee Estimator'!$F73),'Fee Estimator'!$M73,0))))","v":0},{"$f":"IF(ISTEXT('Fee Estimator'!$F73),0,IF('Fee Estimator'!$F73=\"\",0,IF($F$12=\"No\",0,IF(AD$14=YEAR('Fee Estimator'!$F73),'Fee Estimator'!$M73,0))))","v":0},{"$f":"IF(ISTEXT('Fee Estimator'!$F73),0,IF('Fee Estimator'!$F73=\"\",0,IF($F$12=\"No\",0,IF(AE$14=YEAR('Fee Estimator'!$F73),'Fee Estimator'!$M73,0))))","v":0},{"$f":"IF(ISTEXT('Fee Estimator'!$F73),0,IF('Fee Estimator'!$F73=\"\",0,IF($F$12=\"No\",0,IF(AF$14=YEAR('Fee Estimator'!$F73),'Fee Estimator'!$M73,0))))","v":0},{"$f":"IF(ISTEXT('Fee Estimator'!$F73),0,IF('Fee Estimator'!$F73=\"\",0,IF($F$12=\"No\",0,IF(AG$14=YEAR('Fee Estimator'!$F73),'Fee Estimator'!$M73,0))))","v":0},{"$f":"IF(ISTEXT('Fee Estimator'!$F73),0,IF('Fee Estimator'!$F73=\"\",0,IF($F$12=\"No\",0,IF(AH$14=YEAR('Fee Estimator'!$F73),'Fee Estimator'!$M73,0))))","v":0},{"$f":"IF(ISTEXT('Fee Estimator'!$F73),0,IF('Fee Estimator'!$F73=\"\",0,IF($F$12=\"No\",0,IF(AI$14=YEAR('Fee Estimator'!$F73),'Fee Estimator'!$M73,0))))","v":0}]
[null,null,null,null,null,null,null,"PM10",null,{"$f":"('Emissions Estimator'!S96)","v":0},0,null,0,null,{"$f":"IF(ISTEXT('Fee Estimator'!$F73),0,IF('Fee Estimator'!$F73=\"\",0,IF($F$12=\"No\",0,IF(O$14=YEAR('Fee Estimator'!$F73),'Fee Estimator'!$M74,0))))","v":0},{"$f":"IF(ISTEXT('Fee Estimator'!$F73),0,IF('Fee Estimator'!$F73=\"\",0,IF($F$12=\"No\",0,IF(P$14=YEAR('Fee Estimator'!$F73),'Fee Estimator'!$M74,0))))","v":0},{"$f":"IF(ISTEXT('Fee Estimator'!$F73),0,IF('Fee Estimator'!$F73=\"\",0,IF($F$12=\"No\",0,IF(Q$14=YEAR('Fee Estimator'!$F73),'Fee Estimator'!$M74,0))))","v":0},{"$f":"IF(ISTEXT('Fee Estimator'!$F73),0,IF('Fee Estimator'!$F73=\"\",0,IF($F$12=\"No\",0,IF(R$14=YEAR('Fee Estimator'!$F73),'Fee Estimator'!$M74,0))))","v":0},{"$f":"IF(ISTEXT('Fee Estimator'!$F73),0,IF('Fee Estimator'!$F73=\"\",0,IF($F$12=\"No\",0,IF(S$14=YEAR('Fee Estimator'!$F73),'Fee Estimator'!$M74,0))))","v":0},{"$f":"IF(ISTEXT('Fee Estimator'!$F73),0,IF('Fee Estimator'!$F73=\"\",0,IF($F$12=\"No\",0,IF(T$14=YEAR('Fee Estimator'!$F73),'Fee Estimator'!$M74,0))))","v":0},{"$f":"IF(ISTEXT('Fee Estimator'!$F73),0,IF('Fee Estimator'!$F73=\"\",0,IF($F$12=\"No\",0,IF(U$14=YEAR('Fee Estimator'!$F73),'Fee Estimator'!$M74,0))))","v":0},{"$f":"IF(ISTEXT('Fee Estimator'!$F73),0,IF('Fee Estimator'!$F73=\"\",0,IF($F$12=\"No\",0,IF(V$14=YEAR('Fee Estimator'!$F73),'Fee Estimator'!$M74,0))))","v":0},{"$f":"IF(ISTEXT('Fee Estimator'!$F73),0,IF('Fee Estimator'!$F73=\"\",0,IF($F$12=\"No\",0,IF(W$14=YEAR('Fee Estimator'!$F73),'Fee Estimator'!$M74,0))))","v":0},{"$f":"IF(ISTEXT('Fee Estimator'!$F73),0,IF('Fee Estimator'!$F73=\"\",0,IF($F$12=\"No\",0,IF(X$14=YEAR('Fee Estimator'!$F73),'Fee Estimator'!$M74,0))))","v":0},{"$f":"IF(ISTEXT('Fee Estimator'!$F73),0,IF('Fee Estimator'!$F73=\"\",0,IF($F$12=\"No\",0,IF(Y$14=YEAR('Fee Estimator'!$F73),'Fee Estimator'!$M74,0))))","v":0},{"$f":"IF(ISTEXT('Fee Estimator'!$F73),0,IF('Fee Estimator'!$F73=\"\",0,IF($F$12=\"No\",0,IF(Z$14=YEAR('Fee Estimator'!$F73),'Fee Estimator'!$M74,0))))","v":0},{"$f":"IF(ISTEXT('Fee Estimator'!$F73),0,IF('Fee Estimator'!$F73=\"\",0,IF($F$12=\"No\",0,IF(AA$14=YEAR('Fee Estimator'!$F73),'Fee Estimator'!$M74,0))))","v":0},{"$f":"IF(ISTEXT('Fee Estimator'!$F73),0,IF('Fee Estimator'!$F73=\"\",0,IF($F$12=\"No\",0,IF(AB$14=YEAR('Fee Estimator'!$F73),'Fee Estimator'!$M74,0))))","v":0},{"$f":"IF(ISTEXT('Fee Estimator'!$F73),0,IF('Fee Estimator'!$F73=\"\",0,IF($F$12=\"No\",0,IF(AC$14=YEAR('Fee Estimator'!$F73),'Fee Estimator'!$M74,0))))","v":0},{"$f":"IF(ISTEXT('Fee Estimator'!$F73),0,IF('Fee Estimator'!$F73=\"\",0,IF($F$12=\"No\",0,IF(AD$14=YEAR('Fee Estimator'!$F73),'Fee Estimator'!$M74,0))))","v":0},{"$f":"IF(ISTEXT('Fee Estimator'!$F73),0,IF('Fee Estimator'!$F73=\"\",0,IF($F$12=\"No\",0,IF(AE$14=YEAR('Fee Estimator'!$F73),'Fee Estimator'!$M74,0))))","v":0},{"$f":"IF(ISTEXT('Fee Estimator'!$F73),0,IF('Fee Estimator'!$F73=\"\",0,IF($F$12=\"No\",0,IF(AF$14=YEAR('Fee Estimator'!$F73),'Fee Estimator'!$M74,0))))","v":0},{"$f":"IF(ISTEXT('Fee Estimator'!$F73),0,IF('Fee Estimator'!$F73=\"\",0,IF($F$12=\"No\",0,IF(AG$14=YEAR('Fee Estimator'!$F73),'Fee Estimator'!$M74,0))))","v":0},{"$f":"IF(ISTEXT('Fee Estimator'!$F73),0,IF('Fee Estimator'!$F73=\"\",0,IF($F$12=\"No\",0,IF(AH$14=YEAR('Fee Estimator'!$F73),'Fee Estimator'!$M74,0))))","v":0},{"$f":"IF(ISTEXT('Fee Estimator'!$F73),0,IF('Fee Estimator'!$F73=\"\",0,IF($F$12=\"No\",0,IF(AI$14=YEAR('Fee Estimator'!$F73),'Fee Estimator'!$M74,0))))","v":0}]
[{"$f":"IF(AND('Emissions Estimator'!$A42=\"\",'Emissions Estimator'!$A97=\"\"),\"\",IF(AND('Emissions Estimator'!$A42=\"\",'Emissions Estimator'!$A97<>\"\"),\"Operation\",IF(AND('Emissions Estimator'!$A97=\"\",'Emissions Estimator'!$A42<>\"\"),\"Construction\",MIN('Emissions Estimator'!$A42,'Emissions Estimator'!$A97))))","v":""},{"$f":"IF(A75=\"\",\"\",IF(AND(A75=\"Construction\",'Emissions Estimator'!$O$9=\"No\"),\"No\",IF(AND(A75=\"Construction\",'Emissions Estimator'!$O$9=\"Yes\"),\"Yes\",IF(A75=\"Operation\",\"\"))))","v":""},{"$f":"IF(AND('Emissions Estimator'!$A42=\"\",'Emissions Estimator'!$A97=\"\"),\"\",IF(AND('Emissions Estimator'!$A42=\"\",'Emissions Estimator'!$A97<>\"\"),'Emissions Estimator'!$A97,IF(AND('Emissions Estimator'!$A97=\"\",'Emissions Estimator'!$A42<>\"\"),'Emissions Estimator'!$A42,MIN('Emissions Estimator'!$A42,'Emissions Estimator'!$A97))))","v":""},31,{"$f":"IF(AND('Emissions Estimator'!C42=\"\",'Emissions Estimator'!C97=\"\"),\"\",IF(AND('Emissions Estimator'!C42=\"\",'Emissions Estimator'!C97<>\"\"),'Emissions Estimator'!C97,IF(AND('Emissions Estimator'!C97=\"\",'Emissions Estimator'!C42<>\"\"),'Emissions Estimator'!C42,MIN('Emissions Estimator'!C42,'Emissions Estimator'!C97))))","v":""},{"$f":"IF(AND(B75=\"\",E75=\"\"),\"\",IF(AND(B75=\"Yes\",$F$12=\"Yes\"),\"Clean Fleet\",IF(AND(B75=\"Yes\",$F$12=\"No\"),\"Clean Fleet\",IF(AND(A75=\"Operation\",$F$12=\"No\"),$E$15-1,IF(AND(A75=\"Operation\",$F$12=\"Yes\"),E75-1,IF(AND(B75=\"No\",$F$12=\"No\"),$E$15-1,IF(AND(B75=\"No\",$F$12=\"Yes\"),E75-1)))))))","v":""},null,"NOx",null,{"$f":"('Emissions Estimator'!R97)","v":0},0,null,0,null,{"$f":"IF(ISTEXT('Fee Estimator'!$F75),0,IF('Fee Estimator'!$F75=\"\",0,IF($F$12=\"No\",0,IF(O$14=YEAR('Fee Estimator'!$F75),'Fee Estimator'!$M75,0))))","v":0},{"$f":"IF(ISTEXT('Fee Estimator'!$F75),0,IF('Fee Estimator'!$F75=\"\",0,IF($F$12=\"No\",0,IF(P$14=YEAR('Fee Estimator'!$F75),'Fee Estimator'!$M75,0))))","v":0},{"$f":"IF(ISTEXT('Fee Estimator'!$F75),0,IF('Fee Estimator'!$F75=\"\",0,IF($F$12=\"No\",0,IF(Q$14=YEAR('Fee Estimator'!$F75),'Fee Estimator'!$M75,0))))","v":0},{"$f":"IF(ISTEXT('Fee Estimator'!$F75),0,IF('Fee Estimator'!$F75=\"\",0,IF($F$12=\"No\",0,IF(R$14=YEAR('Fee Estimator'!$F75),'Fee Estimator'!$M75,0))))","v":0},{"$f":"IF(ISTEXT('Fee Estimator'!$F75),0,IF('Fee Estimator'!$F75=\"\",0,IF($F$12=\"No\",0,IF(S$14=YEAR('Fee Estimator'!$F75),'Fee Estimator'!$M75,0))))","v":0},{"$f":"IF(ISTEXT('Fee Estimator'!$F75),0,IF('Fee Estimator'!$F75=\"\",0,IF($F$12=\"No\",0,IF(T$14=YEAR('Fee Estimator'!$F75),'Fee Estimator'!$M75,0))))","v":0},{"$f":"IF(ISTEXT('Fee Estimator'!$F75),0,IF('Fee Estimator'!$F75=\"\",0,IF($F$12=\"No\",0,IF(U$14=YEAR('Fee Estimator'!$F75),'Fee Estimator'!$M75,0))))","v":0},{"$f":"IF(ISTEXT('Fee Estimator'!$F75),0,IF('Fee Estimator'!$F75=\"\",0,IF($F$12=\"No\",0,IF(V$14=YEAR('Fee Estimator'!$F75),'Fee Estimator'!$M75,0))))","v":0},{"$f":"IF(ISTEXT('Fee Estimator'!$F75),0,IF('Fee Estimator'!$F75=\"\",0,IF($F$12=\"No\",0,IF(W$14=YEAR('Fee Estimator'!$F75),'Fee Estimator'!$M75,0))))","v":0},{"$f":"IF(ISTEXT('Fee Estimator'!$F75),0,IF('Fee Estimator'!$F75=\"\",0,IF($F$12=\"No\",0,IF(X$14=YEAR('Fee Estimator'!$F75),'Fee Estimator'!$M75,0))))","v":0},{"$f":"IF(ISTEXT('Fee Estimator'!$F75),0,IF('Fee Estimator'!$F75=\"\",0,IF($F$12=\"No\",0,IF(Y$14=YEAR('Fee Estimator'!$F75),'Fee Estimator'!$M75,0))))","v":0},{"$f":"IF(ISTEXT('Fee Estimator'!$F75),0,IF('Fee Estimator'!$F75=\"\",0,IF($F$12=\"No\",0,IF(Z$14=YEAR('Fee Estimator'!$F75),'Fee Estimator'!$M75,0))))","v":0},{"$f":"IF(ISTEXT('Fee Estimator'!$F75),0,IF('Fee Estimator'!$F75=\"\",0,IF($F$12=\"No\",0,IF(AA$14=YEAR('Fee Estimator'!$F75),'Fee Estimator'!$M75,0))))","v":0},{"$f":"IF(ISTEXT('Fee Estimator'!$F75),0,IF('Fee Estimator'!$F75=\"\",0,IF($F$12=\"No\",0,IF(AB$14=YEAR('Fee Estimator'!$F75),'Fee Estimator'!$M75,0))))","v":0},{"$f":"IF(ISTEXT('Fee Estimator'!$F75),0,IF('Fee Estimator'!$F75=\"\",0,IF($F$12=\"No\",0,IF(AC$14=YEAR('Fee Estimator'!$F75),'Fee Estimator'!$M75,0))))","v":0},{"$f":"IF(ISTEXT('Fee Estimator'!$F75),0,IF('Fee Estimator'!$F75=\"\",0,IF($F$12=\"No\",0,IF(AD$14=YEAR('Fee Estimator'!$F75),'Fee Estimator'!$M75,0))))","v":0},{"$f":"IF(ISTEXT('Fee Estimator'!$F75),0,IF('Fee Estimator'!$F75=\"\",0,IF($F$12=\"No\",0,IF(AE$14=YEAR('Fee Estimator'!$F75),'Fee Estimator'!$M75,0))))","v":0},{"$f":"IF(ISTEXT('Fee Estimator'!$F75),0,IF('Fee Estimator'!$F75=\"\",0,IF($F$12=\"No\",0,IF(AF$14=YEAR('Fee Estimator'!$F75),'Fee Estimator'!$M75,0))))","v":0},{"$f":"IF(ISTEXT('Fee Estimator'!$F75),0,IF('Fee Estimator'!$F75=\"\",0,IF($F$12=\"No\",0,IF(AG$14=YEAR('Fee Estimator'!$F75),'Fee Estimator'!$M75,0))))","v":0},{"$f":"IF(ISTEXT('Fee Estimator'!$F75),0,IF('Fee Estimator'!$F75=\"\",0,IF($F$12=\"No\",0,IF(AH$14=YEAR('Fee Estimator'!$F75),'Fee Estimator'!$M75,0))))","v":0},{"$f":"IF(ISTEXT('Fee Estimator'!$F75),0,IF('Fee Estimator'!$F75=\"\",0,IF($F$12=\"No\",0,IF(AI$14=YEAR('Fee Estimator'!$F75),'Fee Estimator'!$M75,0))))","v":0}]
[null,null,null,null,null,null,null,"PM10",null,{"$f":"('Emissions Estimator'!S97)","v":0},0,null,0,null,{"$f":"IF(ISTEXT('Fee Estimator'!$F75),0,IF('Fee Estimator'!$F75=\"\",0,IF($F$12=\"No\",0,IF(O$14=YEAR('Fee Estimator'!$F75),'Fee Estimator'!$M76,0))))","v":0},{"$f":"IF(ISTEXT('Fee Estimator'!$F75),0,IF('Fee Estimator'!$F75=\"\",0,IF($F$12=\"No\",0,IF(P$14=YEAR('Fee Estimator'!$F75),'Fee Estimator'!$M76,0))))","v":0},{"$f":"IF(ISTEXT('Fee Estimator'!$F75),0,IF('Fee Estimator'!$F75=\"\",0,IF($F$12=\"No\",0,IF(Q$14=YEAR('Fee Estimator'!$F75),'Fee Estimator'!$M76,0))))","v":0},{"$f":"IF(ISTEXT('Fee Estimator'!$F75),0,IF('Fee Estimator'!$F75=\"\",0,IF($F$12=\"No\",0,IF(R$14=YEAR('Fee Estimator'!$F75),'Fee Estimator'!$M76,0))))","v":0},{"$f":"IF(ISTEXT('Fee Estimator'!$F75),0,IF('Fee Estimator'!$F75=\"\",0,IF($F$12=\"No\",0,IF(S$14=YEAR('Fee Estimator'!$F75),'Fee Estimator'!$M76,0))))","v":0},{"$f":"IF(ISTEXT('Fee Estimator'!$F75),0,IF('Fee Estimator'!$F75=\"\",0,IF($F$12=\"No\",0,IF(T$14=YEAR('Fee Estimator'!$F75),'Fee Estimator'!$M76,0))))","v":0},{"$f":"IF(ISTEXT('Fee Estimator'!$F75),0,IF('Fee Estimator'!$F75=\"\",0,IF($F$12=\"No\",0,IF(U$14=YEAR('Fee Estimator'!$F75),'Fee Estimator'!$M76,0))))","v":0},{"$f":"IF(ISTEXT('Fee Estimator'!$F75),0,IF('Fee Estimator'!$F75=\"\",0,IF($F$12=\"No\",0,IF(V$14=YEAR('Fee Estimator'!$F75),'Fee Estimator'!$M76,0))))","v":0},{"$f":"IF(ISTEXT('Fee Estimator'!$F75),0,IF('Fee Estimator'!$F75=\"\",0,IF($F$12=\"No\",0,IF(W$14=YEAR('Fee Estimator'!$F75),'Fee Estimator'!$M76,0))))","v":0},{"$f":"IF(ISTEXT('Fee Estimator'!$F75),0,IF('Fee Estimator'!$F75=\"\",0,IF($F$12=\"No\",0,IF(X$14=YEAR('Fee Estimator'!$F75),'Fee Estimator'!$M76,0))))","v":0},{"$f":"IF(ISTEXT('Fee Estimator'!$F75),0,IF('Fee Estimator'!$F75=\"\",0,IF($F$12=\"No\",0,IF(Y$14=YEAR('Fee Estimator'!$F75),'Fee Estimator'!$M76,0))))","v":0},{"$f":"IF(ISTEXT('Fee Estimator'!$F75),0,IF('Fee Estimator'!$F75=\"\",0,IF($F$12=\"No\",0,IF(Z$14=YEAR('Fee Estimator'!$F75),'Fee Estimator'!$M76,0))))","v":0},{"$f":"IF(ISTEXT('Fee Estimator'!$F75),0,IF('Fee Estimator'!$F75=\"\",0,IF($F$12=\"No\",0,IF(AA$14=YEAR('Fee Estimator'!$F75),'Fee Estimator'!$M76,0))))","v":0},{"$f":"IF(ISTEXT('Fee Estimator'!$F75),0,IF('Fee Estimator'!$F75=\"\",0,IF($F$12=\"No\",0,IF(AB$14=YEAR('Fee Estimator'!$F75),'Fee Estimator'!$M76,0))))","v":0},{"$f":"IF(ISTEXT('Fee Estimator'!$F75),0,IF('Fee Estimator'!$F75=\"\",0,IF($F$12=\"No\",0,IF(AC$14=YEAR('Fee Estimator'!$F75),'Fee Estimator'!$M76,0))))","v":0},{"$f":"IF(ISTEXT('Fee Estimator'!$F75),0,IF('Fee Estimator'!$F75=\"\",0,IF($F$12=\"No\",0,IF(AD$14=YEAR('Fee Estimator'!$F75),'Fee Estimator'!$M76,0))))","v":0},{"$f":"IF(ISTEXT('Fee Estimator'!$F75),0,IF('Fee Estimator'!$F75=\"\",0,IF($F$12=\"No\",0,IF(AE$14=YEAR('Fee Estimator'!$F75),'Fee Estimator'!$M76,0))))","v":0},{"$f":"IF(ISTEXT('Fee Estimator'!$F75),0,IF('Fee Estimator'!$F75=\"\",0,IF($F$12=\"No\",0,IF(AF$14=YEAR('Fee Estimator'!$F75),'Fee Estimator'!$M76,0))))","v":0},{"$f":"IF(ISTEXT('Fee Estimator'!$F75),0,IF('Fee Estimator'!$F75=\"\",0,IF($F$12=\"No\",0,IF(AG$14=YEAR('Fee Estimator'!$F75),'Fee Estimator'!$M76,0))))","v":0},{"$f":"IF(ISTEXT('Fee Estimator'!$F75),0,IF('Fee Estimator'!$F75=\"\",0,IF($F$12=\"No\",0,IF(AH$14=YEAR('Fee Estimator'!$F75),'Fee Estimator'!$M76,0))))","v":0},{"$f":"IF(ISTEXT('Fee Estimator'!$F75),0,IF('Fee Estimator'!$F75=\"\",0,IF($F$12=\"No\",0,IF(AI$14=YEAR('Fee Estimator'!$F75),'Fee Estimator'!$M76,0))))","v":0}]
[{"$f":"IF(AND('Emissions Estimator'!$A43=\"\",'Emissions Estimator'!$A98=\"\"),\"\",IF(AND('Emissions Estimator'!$A43=\"\",'Emissions Estimator'!$A98<>\"\"),\"Operation\",IF(AND('Emissions Estimator'!$A98=\"\",'Emissions Estimator'!$A43<>\"\"),\"Construction\",MIN('Emissions Estimator'!$A43,'Emissions Estimator'!$A98))))","v":""},{"$f":"IF(A77=\"\",\"\",IF(AND(A77=\"Construction\",'Emissions Estimator'!$O$9=\"No\"),\"No\",IF(AND(A77=\"Construction\",'Emissions Estimator'!$O$9=\"Yes\"),\"Yes\",IF(A77=\"Operation\",\"\"))))","v":""},{"$f":"IF(AND('Emissions Estimator'!$A43=\"\",'Emissions Estimator'!$A98=\"\"),\"\",IF(AND('Emissions Estimator'!$A43=\"\",'Emissions Estimator'!$A98<>\"\"),'Emissions Estimator'!$A98,IF(AND('Emissions Estimator'!$A98=\"\",'Emissions Estimator'!$A43<>\"\"),'Emissions Estimator'!$A43,MIN('Emissions Estimator'!$A43,'Emissions Estimator'!$A98))))","v":""},32,{"$f":"IF(AND('Emissions Estimator'!C43=\"\",'Emissions Estimator'!C98=\"\"),\"\",IF(AND('Emissions Estimator'!C43=\"\",'Emissions Estimator'!C98<>\"\"),'Emissions Estimator'!C98,IF(AND('Emissions Estimator'!C98=\"\",'Emissions Estimator'!C43<>\"\"),'Emissions Estimator'!C43,MIN('Emissions Estimator'!C43,'Emissions Estimator'!C98))))","v":""},{"$f":"IF(AND(B77=\"\",E77=\"\"),\"\",IF(AND(B77=\"Yes\",$F$12=\"Yes\"),\"Clean Fleet\",IF(AND(B77=\"Yes\",$F$12=\"No\"),\"Clean Fleet\",IF(AND(A77=\"Operation\",$F$12=\"No\"),$E$15-1,IF(AND(A77=\"Operation\",$F$12=\"Yes\"),E77-1,IF(AND(B77=\"No\",$F$12=\"No\"),$E$15-1,IF(AND(B77=\"No\",$F$12=\"Yes\"),E77-1)))))))","v":""},null,"NOx",null,{"$f":"('Emissions Estimator'!R98)","v":0},0,null,0,null,{"$f":"IF(ISTEXT('Fee Estimator'!$F77),0,IF('Fee Estimator'!$F77=\"\",0,IF($F$12=\"No\",0,IF(O$14=YEAR('Fee Estimator'!$F77),'Fee Estimator'!$M77,0))))","v":0},{"$f":"IF(ISTEXT('Fee Estimator'!$F77),0,IF('Fee Estimator'!$F77=\"\",0,IF($F$12=\"No\",0,IF(P$14=YEAR('Fee Estimator'!$F77),'Fee Estimator'!$M77,0))))","v":0},{"$f":"IF(ISTEXT('Fee Estimator'!$F77),0,IF('Fee Estimator'!$F77=\"\",0,IF($F$12=\"No\",0,IF(Q$14=YEAR('Fee Estimator'!$F77),'Fee Estimator'!$M77,0))))","v":0},{"$f":"IF(ISTEXT('Fee Estimator'!$F77),0,IF('Fee Estimator'!$F77=\"\",0,IF($F$12=\"No\",0,IF(R$14=YEAR('Fee Estimator'!$F77),'Fee Estimator'!$M77,0))))","v":0},{"$f":"IF(ISTEXT('Fee Estimator'!$F77),0,IF('Fee Estimator'!$F77=\"\",0,IF($F$12=\"No\",0,IF(S$14=YEAR('Fee Estimator'!$F77),'Fee Estimator'!$M77,0))))","v":0},{"$f":"IF(ISTEXT('Fee Estimator'!$F77),0,IF('Fee Estimator'!$F77=\"\",0,IF($F$12=\"No\",0,IF(T$14=YEAR('Fee Estimator'!$F77),'Fee Estimator'!$M77,0))))","v":0},{"$f":"IF(ISTEXT('Fee Estimator'!$F77),0,IF('Fee Estimator'!$F77=\"\",0,IF($F$12=\"No\",0,IF(U$14=YEAR('Fee Estimator'!$F77),'Fee Estimator'!$M77,0))))","v":0},{"$f":"IF(ISTEXT('Fee Estimator'!$F77),0,IF('Fee Estimator'!$F77=\"\",0,IF($F$12=\"No\",0,IF(V$14=YEAR('Fee Estimator'!$F77),'Fee Estimator'!$M77,0))))","v":0},{"$f":"IF(ISTEXT('Fee Estimator'!$F77),0,IF('Fee Estimator'!$F77=\"\",0,IF($F$12=\"No\",0,IF(W$14=YEAR('Fee Estimator'!$F77),'Fee Estimator'!$M77,0))))","v":0},{"$f":"IF(ISTEXT('Fee Estimator'!$F77),0,IF('Fee Estimator'!$F77=\"\",0,IF($F$12=\"No\",0,IF(X$14=YEAR('Fee Estimator'!$F77),'Fee Estimator'!$M77,0))))","v":0},{"$f":"IF(ISTEXT('Fee Estimator'!$F77),0,IF('Fee Estimator'!$F77=\"\",0,IF($F$12=\"No\",0,IF(Y$14=YEAR('Fee Estimator'!$F77),'Fee Estimator'!$M77,0))))","v":0},{"$f":"IF(ISTEXT('Fee Estimator'!$F77),0,IF('Fee Estimator'!$F77=\"\",0,IF($F$12=\"No\",0,IF(Z$14=YEAR('Fee Estimator'!$F77),'Fee Estimator'!$M77,0))))","v":0},{"$f":"IF(ISTEXT('Fee Estimator'!$F77),0,IF('Fee Estimator'!$F77=\"\",0,IF($F$12=\"No\",0,IF(AA$14=YEAR('Fee Estimator'!$F77),'Fee Estimator'!$M77,0))))","v":0},{"$f":"IF(ISTEXT('Fee Estimator'!$F77),0,IF('Fee Estimator'!$F77=\"\",0,IF($F$12=\"No\",0,IF(AB$14=YEAR('Fee Estimator'!$F77),'Fee Estimator'!$M77,0))))","v":0},{"$f":"IF(ISTEXT('Fee Estimator'!$F77),0,IF('Fee Estimator'!$F77=\"\",0,IF($F$12=\"No\",0,IF(AC$14=YEAR('Fee Estimator'!$F77),'Fee Estimator'!$M77,0))))","v":0},{"$f":"IF(ISTEXT('Fee Estimator'!$F77),0,IF('Fee Estimator'!$F77=\"\",0,IF($F$12=\"No\",0,IF(AD$14=YEAR('Fee Estimator'!$F77),'Fee Estimator'!$M77,0))))","v":0},{"$f":"IF(ISTEXT('Fee Estimator'!$F77),0,IF('Fee Estimator'!$F77=\"\",0,IF($F$12=\"No\",0,IF(AE$14=YEAR('Fee Estimator'!$F77),'Fee Estimator'!$M77,0))))","v":0},{"$f":"IF(ISTEXT('Fee Estimator'!$F77),0,IF('Fee Estimator'!$F77=\"\",0,IF($F$12=\"No\",0,IF(AF$14=YEAR('Fee Estimator'!$F77),'Fee Estimator'!$M77,0))))","v":0},{"$f":"IF(ISTEXT('Fee Estimator'!$F77),0,IF('Fee Estimator'!$F77=\"\",0,IF($F$12=\"No\",0,IF(AG$14=YEAR('Fee Estimator'!$F77),'Fee Estimator'!$M77,0))))","v":0},{"$f":"IF(ISTEXT('Fee Estimator'!$F77),0,IF('Fee Estimator'!$F77=\"\",0,IF($F$12=\"No\",0,IF(AH$14=YEAR('Fee Estimator'!$F77),'Fee Estimator'!$M77,0))))","v":0},{"$f":"IF(ISTEXT('Fee Estimator'!$F77),0,IF('Fee Estimator'!$F77=\"\",0,IF($F$12=\"No\",0,IF(AI$14=YEAR('Fee Estimator'!$F77),'Fee Estimator'!$M77,0))))","v":0}]
[null,null,null,null,null,null,null,"PM10",null,{"$f":"('Emissions Estimator'!S98)","v":0},0,null,0,null,{"$f":"IF(ISTEXT('Fee Estimator'!$F77),0,IF('Fee Estimator'!$F77=\"\",0,IF($F$12=\"No\",0,IF(O$14=YEAR('Fee Estimator'!$F77),'Fee Estimator'!$M78,0))))","v":0},{"$f":"IF(ISTEXT('Fee Estimator'!$F77),0,IF('Fee Estimator'!$F77=\"\",0,IF($F$12=\"No\",0,IF(P$14=YEAR('Fee Estimator'!$F77),'Fee Estimator'!$M78,0))))","v":0},{"$f":"IF(ISTEXT('Fee Estimator'!$F77),0,IF('Fee Estimator'!$F77=\"\",0,IF($F$12=\"No\",0,IF(Q$14=YEAR('Fee Estimator'!$F77),'Fee Estimator'!$M78,0))))","v":0},{"$f":"IF(ISTEXT('Fee Estimator'!$F77),0,IF('Fee Estimator'!$F77=\"\",0,IF($F$12=\"No\",0,IF(R$14=YEAR('Fee Estimator'!$F77),'Fee Estimator'!$M78,0))))","v":0},{"$f":"IF(ISTEXT('Fee Estimator'!$F77),0,IF('Fee Estimator'!$F77=\"\",0,IF($F$12=\"No\",0,IF(S$14=YEAR('Fee Estimator'!$F77),'Fee Estimator'!$M78,0))))","v":0},{"$f":"IF(ISTEXT('Fee Estimator'!$F77),0,IF('Fee Estimator'!$F77=\"\",0,IF($F$12=\"No\",0,IF(T$14=YEAR('Fee Estimator'!$F77),'Fee Estimator'!$M78,0))))","v":0},{"$f":"IF(ISTEXT('Fee Estimator'!$F77),0,IF('Fee Estimator'!$F77=\"\",0,IF($F$12=\"No\",0,IF(U$14=YEAR('Fee Estimator'!$F77),'Fee Estimator'!$M78,0))))","v":0},{"$f":"IF(ISTEXT('Fee Estimator'!$F77),0,IF('Fee Estimator'!$F77=\"\",0,IF($F$12=\"No\",0,IF(V$14=YEAR('Fee Estimator'!$F77),'Fee Estimator'!$M78,0))))","v":0},{"$f":"IF(ISTEXT('Fee Estimator'!$F77),0,IF('Fee Estimator'!$F77=\"\",0,IF($F$12=\"No\",0,IF(W$14=YEAR('Fee Estimator'!$F77),'Fee Estimator'!$M78,0))))","v":0},{"$f":"IF(ISTEXT('Fee Estimator'!$F77),0,IF('Fee Estimator'!$F77=\"\",0,IF($F$12=\"No\",0,IF(X$14=YEAR('Fee Estimator'!$F77),'Fee Estimator'!$M78,0))))","v":0},{"$f":"IF(ISTEXT('Fee Estimator'!$F77),0,IF('Fee Estimator'!$F77=\"\",0,IF($F$12=\"No\",0,IF(Y$14=YEAR('Fee Estimator'!$F77),'Fee Estimator'!$M78,0))))","v":0},{"$f":"IF(ISTEXT('Fee Estimator'!$F77),0,IF('Fee Estimator'!$F77=\"\",0,IF($F$12=\"No\",0,IF(Z$14=YEAR('Fee Estimator'!$F77),'Fee Estimator'!$M78,0))))","v":0},{"$f":"IF(ISTEXT('Fee Estimator'!$F77),0,IF('Fee Estimator'!$F77=\"\",0,IF($F$12=\"No\",0,IF(AA$14=YEAR('Fee Estimator'!$F77),'Fee Estimator'!$M78,0))))","v":0},{"$f":"IF(ISTEXT('Fee Estimator'!$F77),0,IF('Fee Estimator'!$F77=\"\",0,IF($F$12=\"No\",0,IF(AB$14=YEAR('Fee Estimator'!$F77),'Fee Estimator'!$M78,0))))","v":0},{"$f":"IF(ISTEXT('Fee Estimator'!$F77),0,IF('Fee Estimator'!$F77=\"\",0,IF($F$12=\"No\",0,IF(AC$14=YEAR('Fee Estimator'!$F77),'Fee Estimator'!$M78,0))))","v":0},{"$f":"IF(ISTEXT('Fee Estimator'!$F77),0,IF('Fee Estimator'!$F77=\"\",0,IF($F$12=\"No\",0,IF(AD$14=YEAR('Fee Estimator'!$F77),'Fee Estimator'!$M78,0))))","v":0},{"$f":"IF(ISTEXT('Fee Estimator'!$F77),0,IF('Fee Estimator'!$F77=\"\",0,IF($F$12=\"No\",0,IF(AE$14=YEAR('Fee Estimator'!$F77),'Fee Estimator'!$M78,0))))","v":0},{"$f":"IF(ISTEXT('Fee Estimator'!$F77),0,IF('Fee Estimator'!$F77=\"\",0,IF($F$12=\"No\",0,IF(AF$14=YEAR('Fee Estimator'!$F77),'Fee Estimator'!$M78,0))))","v":0},{"$f":"IF(ISTEXT('Fee Estimator'!$F77),0,IF('Fee Estimator'!$F77=\"\",0,IF($F$12=\"No\",0,IF(AG$14=YEAR('Fee Estimator'!$F77),'Fee Estimator'!$M78,0))))","v":0},{"$f":"IF(ISTEXT('Fee Estimator'!$F77),0,IF('Fee Estimator'!$F77=\"\",0,IF($F$12=\"No\",0,IF(AH$14=YEAR('Fee Estimator'!$F77),'Fee Estimator'!$M78,0))))","v":0},{"$f":"IF(ISTEXT('Fee Estimator'!$F77),0,IF('Fee Estimator'!$F77=\"\",0,IF($F$12=\"No\",0,IF(AI$14=YEAR('Fee Estimator'!$F77),'Fee Estimator'!$M78,0))))","v":0}]
[{"$f":"IF(AND('Emissions Estimator'!$A44=\"\",'Emissions Estimator'!$A99=\"\"),\"\",IF(AND('Emissions Estimator'!$A44=\"\",'Emissions Estimator'!$A99<>\"\"),\"Operation\",IF(AND('Emissions Estimator'!$A99=\"\",'Emissions Estimator'!$A44<>\"\"),\"Construction\",MIN('Emissions Estimator'!$A44,'Emissions Estimator'!$A99))))","v":""},{"$f":"IF(A79=\"\",\"\",IF(AND(A79=\"Construction\",'Emissions Estimator'!$O$9=\"No\"),\"No\",IF(AND(A79=\"Construction\",'Emissions Estimator'!$O$9=\"Yes\"),\"Yes\",IF(A79=\"Operation\",\"\"))))","v":""},{"$f":"IF(AND('Emissions Estimator'!$A44=\"\",'Emissions Estimator'!$A99=\"\"),\"\",IF(AND('Emissions Estimator'!$A44=\"\",'Emissions Estimator'!$A99<>\"\"),'Emissions Estimator'!$A99,IF(AND('Emissions Estimator'!$A99=\"\",'Emissions Estimator'!$A44<>\"\"),'Emissions Estimator'!$A44,MIN('Emissions Estimator'!$A44,'Emissions Estimator'!$A99))))","v":""},33,{"$f":"IF(AND('Emissions Estimator'!C44=\"\",'Emissions Estimator'!C99=\"\"),\"\",IF(AND('Emissions Estimator'!C44=\"\",'Emissions Estimator'!C99<>\"\"),'Emissions Estimator'!C99,IF(AND('Emissions Estimator'!C99=\"\",'Emissions Estimator'!C44<>\"\"),'Emissions Estimator'!C44,MIN('Emissions Estimator'!C44,'Emissions Estimator'!C99))))","v":""},{"$f":"IF(AND(B79=\"\",E79=\"\"),\"\",IF(AND(B79=\"Yes\",$F$12=\"Yes\"),\"Clean Fleet\",IF(AND(B79=\"Yes\",$F$12=\"No\"),\"Clean Fleet\",IF(AND(A79=\"Operation\",$F$12=\"No\"),$E$15-1,IF(AND(A79=\"Operation\",$F$12=\"Yes\"),E79-1,IF(AND(B79=\"No\",$F$12=\"No\"),$E$15-1,IF(AND(B79=\"No\",$F$12=\"Yes\"),E79-1)))))))","v":""},null,"NOx",null,{"$f":"('Emissions Estimator'!R99)","v":0},{"$f":"IF(SUM(Q79:AI79)<J79,J79-SUM(Q79:AI79),IF(SUM(Q79:AI79)>J79,J79-SUM(Q79:AI79),SUM(Q79:AI79)))","v":0},null,0,null,{"$f":"IF(ISTEXT('Fee Estimator'!$F79),0,IF('Fee Estimator'!$F79=\"\",0,IF($F$12=\"No\",0,IF(O$14=YEAR('Fee Estimator'!$F79),'Fee Estimator'!$M79,0))))","v":0},{"$f":"IF(ISTEXT('Fee Estimator'!$F79),0,IF('Fee Estimator'!$F79=\"\",0,IF($F$12=\"No\",0,IF(P$14=YEAR('Fee Estimator'!$F79),'Fee Estimator'!$M79,0))))","v":0},{"$f":"IF(ISTEXT('Fee Estimator'!$F79),0,IF('Fee Estimator'!$F79=\"\",0,IF($F$12=\"No\",0,IF(Q$14=YEAR('Fee Estimator'!$F79),'Fee Estimator'!$M79,0))))","v":0},{"$f":"IF(ISTEXT('Fee Estimator'!$F79),0,IF('Fee Estimator'!$F79=\"\",0,IF($F$12=\"No\",0,IF(R$14=YEAR('Fee Estimator'!$F79),'Fee Estimator'!$M79,0))))","v":0},{"$f":"IF(ISTEXT('Fee Estimator'!$F79),0,IF('Fee Estimator'!$F79=\"\",0,IF($F$12=\"No\",0,IF(S$14=YEAR('Fee Estimator'!$F79),'Fee Estimator'!$M79,0))))","v":0},{"$f":"IF(ISTEXT('Fee Estimator'!$F79),0,IF('Fee Estimator'!$F79=\"\",0,IF($F$12=\"No\",0,IF(T$14=YEAR('Fee Estimator'!$F79),'Fee Estimator'!$M79,0))))","v":0},{"$f":"IF(ISTEXT('Fee Estimator'!$F79),0,IF('Fee Estimator'!$F79=\"\",0,IF($F$12=\"No\",0,IF(U$14=YEAR('Fee Estimator'!$F79),'Fee Estimator'!$M79,0))))","v":0},{"$f":"IF(ISTEXT('Fee Estimator'!$F79),0,IF('Fee Estimator'!$F79=\"\",0,IF($F$12=\"No\",0,IF(V$14=YEAR('Fee Estimator'!$F79),'Fee Estimator'!$M79,0))))","v":0},{"$f":"IF(ISTEXT('Fee Estimator'!$F79),0,IF('Fee Estimator'!$F79=\"\",0,IF($F$12=\"No\",0,IF(W$14=YEAR('Fee Estimator'!$F79),'Fee Estimator'!$M79,0))))","v":0},{"$f":"IF(ISTEXT('Fee Estimator'!$F79),0,IF('Fee Estimator'!$F79=\"\",0,IF($F$12=\"No\",0,IF(X$14=YEAR('Fee Estimator'!$F79),'Fee Estimator'!$M79,0))))","v":0},{"$f":"IF(ISTEXT('Fee Estimator'!$F79),0,IF('Fee Estimator'!$F79=\"\",0,IF($F$12=\"No\",0,IF(Y$14=YEAR('Fee Estimator'!$F79),'Fee Estimator'!$M79,0))))","v":0},{"$f":"IF(ISTEXT('Fee Estimator'!$F79),0,IF('Fee Estimator'!$F79=\"\",0,IF($F$12=\"No\",0,IF(Z$14=YEAR('Fee Estimator'!$F79),'Fee Estimator'!$M79,0))))","v":0},{"$f":"IF(ISTEXT('Fee Estimator'!$F79),0,IF('Fee Estimator'!$F79=\"\",0,IF($F$12=\"No\",0,IF(AA$14=YEAR('Fee Estimator'!$F79),'Fee Estimator'!$M79,0))))","v":0},{"$f":"IF(ISTEXT('Fee Estimator'!$F79),0,IF('Fee Estimator'!$F79=\"\",0,IF($F$12=\"No\",0,IF(AB$14=YEAR('Fee Estimator'!$F79),'Fee Estimator'!$M79,0))))","v":0},{"$f":"IF(ISTEXT('Fee Estimator'!$F79),0,IF('Fee Estimator'!$F79=\"\",0,IF($F$12=\"No\",0,IF(AC$14=YEAR('Fee Estimator'!$F79),'Fee Estimator'!$M79,0))))","v":0},{"$f":"IF(ISTEXT('Fee Estimator'!$F79),0,IF('Fee Estimator'!$F79=\"\",0,IF($F$12=\"No\",0,IF(AD$14=YEAR('Fee Estimator'!$F79),'Fee Estimator'!$M79,0))))","v":0},{"$f":"IF(ISTEXT('Fee Estimator'!$F79),0,IF('Fee Estimator'!$F79=\"\",0,IF($F$12=\"No\",0,IF(AE$14=YEAR('Fee Estimator'!$F79),'Fee Estimator'!$M79,0))))","v":0},{"$f":"IF(ISTEXT('Fee Estimator'!$F79),0,IF('Fee Estimator'!$F79=\"\",0,IF($F$12=\"No\",0,IF(AF$14=YEAR('Fee Estimator'!$F79),'Fee Estimator'!$M79,0))))","v":0},{"$f":"IF(ISTEXT('Fee Estimator'!$F79),0,IF('Fee Estimator'!$F79=\"\",0,IF($F$12=\"No\",0,IF(AG$14=YEAR('Fee Estimator'!$F79),'Fee Estimator'!$M79,0))))","v":0},{"$f":"IF(ISTEXT('Fee Estimator'!$F79),0,IF('Fee Estimator'!$F79=\"\",0,IF($F$12=\"No\",0,IF(AH$14=YEAR('Fee Estimator'!$F79),'Fee Estimator'!$M79,0))))","v":0},{"$f":"IF(ISTEXT('Fee Estimator'!$F79),0,IF('Fee Estimator'!$F79=\"\",0,IF($F$12=\"No\",0,IF(AI$14=YEAR('Fee Estimator'!$F79),'Fee Estimator'!$M79,0))))","v":0}]
[null,null,null,null,null,null,null,"PM10",null,{"$f":"('Emissions Estimator'!S99)","v":0},0,null,0,null,{"$f":"IF(ISTEXT('Fee Estimator'!$F79),0,IF('Fee Estimator'!$F79=\"\",0,IF($F$12=\"No\",0,IF(O$14=YEAR('Fee Estimator'!$F79),'Fee Estimator'!$M80,0))))","v":0},{"$f":"IF(ISTEXT('Fee Estimator'!$F79),0,IF('Fee Estimator'!$F79=\"\",0,IF($F$12=\"No\",0,IF(P$14=YEAR('Fee Estimator'!$F79),'Fee Estimator'!$M80,0))))","v":0},{"$f":"IF(ISTEXT('Fee Estimator'!$F79),0,IF('Fee Estimator'!$F79=\"\",0,IF($F$12=\"No\",0,IF(Q$14=YEAR('Fee Estimator'!$F79),'Fee Estimator'!$M80,0))))","v":0},{"$f":"IF(ISTEXT('Fee Estimator'!$F79),0,IF('Fee Estimator'!$F79=\"\",0,IF($F$12=\"No\",0,IF(R$14=YEAR('Fee Estimator'!$F79),'Fee Estimator'!$M80,0))))","v":0},{"$f":"IF(ISTEXT('Fee Estimator'!$F79),0,IF('Fee Estimator'!$F79=\"\",0,IF($F$12=\"No\",0,IF(S$14=YEAR('Fee Estimator'!$F79),'Fee Estimator'!$M80,0))))","v":0},{"$f":"IF(ISTEXT('Fee Estimator'!$F79),0,IF('Fee Estimator'!$F79=\"\",0,IF($F$12=\"No\",0,IF(T$14=YEAR('Fee Estimator'!$F79),'Fee Estimator'!$M80,0))))","v":0},{"$f":"IF(ISTEXT('Fee Estimator'!$F79),0,IF('Fee Estimator'!$F79=\"\",0,IF($F$12=\"No\",0,IF(U$14=YEAR('Fee Estimator'!$F79),'Fee Estimator'!$M80,0))))","v":0},{"$f":"IF(ISTEXT('Fee Estimator'!$F79),0,IF('Fee Estimator'!$F79=\"\",0,IF($F$12=\"No\",0,IF(V$14=YEAR('Fee Estimator'!$F79),'Fee Estimator'!$M80,0))))","v":0},{"$f":"IF(ISTEXT('Fee Estimator'!$F79),0,IF('Fee Estimator'!$F79=\"\",0,IF($F$12=\"No\",0,IF(W$14=YEAR('Fee Estimator'!$F79),'Fee Estimator'!$M80,0))))","v":0},{"$f":"IF(ISTEXT('Fee Estimator'!$F79),0,IF('Fee Estimator'!$F79=\"\",0,IF($F$12=\"No\",0,IF(X$14=YEAR('Fee Estimator'!$F79),'Fee Estimator'!$M80,0))))","v":0},{"$f":"IF(ISTEXT('Fee Estimator'!$F79),0,IF('Fee Estimator'!$F79=\"\",0,IF($F$12=\"No\",0,IF(Y$14=YEAR('Fee Estimator'!$F79),'Fee Estimator'!$M80,0))))","v":0},{"$f":"IF(ISTEXT('Fee Estimator'!$F79),0,IF('Fee Estimator'!$F79=\"\",0,IF($F$12=\"No\",0,IF(Z$14=YEAR('Fee Estimator'!$F79),'Fee Estimator'!$M80,0))))","v":0},{"$f":"IF(ISTEXT('Fee Estimator'!$F79),0,IF('Fee Estimator'!$F79=\"\",0,IF($F$12=\"No\",0,IF(AA$14=YEAR('Fee Estimator'!$F79),'Fee Estimator'!$M80,0))))","v":0},{"$f":"IF(ISTEXT('Fee Estimator'!$F79),0,IF('Fee Estimator'!$F79=\"\",0,IF($F$12=\"No\",0,IF(AB$14=YEAR('Fee Estimator'!$F79),'Fee Estimator'!$M80,0))))","v":0},{"$f":"IF(ISTEXT('Fee Estimator'!$F79),0,IF('Fee Estimator'!$F79=\"\",0,IF($F$12=\"No\",0,IF(AC$14=YEAR('Fee Estimator'!$F79),'Fee Estimator'!$M80,0))))","v":0},{"$f":"IF(ISTEXT('Fee Estimator'!$F79),0,IF('Fee Estimator'!$F79=\"\",0,IF($F$12=\"No\",0,IF(AD$14=YEAR('Fee Estimator'!$F79),'Fee Estimator'!$M80,0))))","v":0},{"$f":"IF(ISTEXT('Fee Estimator'!$F79),0,IF('Fee Estimator'!$F79=\"\",0,IF($F$12=\"No\",0,IF(AE$14=YEAR('Fee Estimator'!$F79),'Fee Estimator'!$M80,0))))","v":0},{"$f":"IF(ISTEXT('Fee Estimator'!$F79),0,IF('Fee Estimator'!$F79=\"\",0,IF($F$12=\"No\",0,IF(AF$14=YEAR('Fee Estimator'!$F79),'Fee Estimator'!$M80,0))))","v":0},{"$f":"IF(ISTEXT('Fee Estimator'!$F79),0,IF('Fee Estimator'!$F79=\"\",0,IF($F$12=\"No\",0,IF(AG$14=YEAR('Fee Estimator'!$F79),'Fee Estimator'!$M80,0))))","v":0},{"$f":"IF(ISTEXT('Fee Estimator'!$F79),0,IF('Fee Estimator'!$F79=\"\",0,IF($F$12=\"No\",0,IF(AH$14=YEAR('Fee Estimator'!$F79),'Fee Estimator'!$M80,0))))","v":0},{"$f":"IF(ISTEXT('Fee Estimator'!$F79),0,IF('Fee Estimator'!$F79=\"\",0,IF($F$12=\"No\",0,IF(AI$14=YEAR('Fee Estimator'!$F79),'Fee Estimator'!$M80,0))))","v":0}]
[{"$f":"IF(AND('Emissions Estimator'!$A45=\"\",'Emissions Estimator'!$A100=\"\"),\"\",IF(AND('Emissions Estimator'!$A45=\"\",'Emissions Estimator'!$A100<>\"\"),\"Operation\",IF(AND('Emissions Estimator'!$A100=\"\",'Emissions Estimator'!$A45<>\"\"),\"Construction\",MIN('Emissions Estimator'!$A45,'Emissions Estimator'!$A100))))","v":""},{"$f":"IF(A81=\"\",\"\",IF(AND(A81=\"Construction\",'Emissions Estimator'!$O$9=\"No\"),\"No\",IF(AND(A81=\"Construction\",'Emissions Estimator'!$O$9=\"Yes\"),\"Yes\",IF(A81=\"Operation\",\"\"))))","v":""},{"$f":"IF(AND('Emissions Estimator'!$A45=\"\",'Emissions Estimator'!$A100=\"\"),\"\",IF(AND('Emissions Estimator'!$A45=\"\",'Emissions Estimator'!$A100<>\"\"),'Emissions Estimator'!$A100,IF(AND('Emissions Estimator'!$A100=\"\",'Emissions Estimator'!$A45<>\"\"),'Emissions Estimator'!$A45,MIN('Emissions Estimator'!$A45,'Emissions Estimator'!$A100))))","v":""},34,{"$f":"IF(AND('Emissions Estimator'!C45=\"\",'Emissions Estimator'!C100=\"\"),\"\",IF(AND('Emissions Estimator'!C45=\"\",'Emissions Estimator'!C100<>\"\"),'Emissions Estimator'!C100,IF(AND('Emissions Estimator'!C100=\"\",'Emissions Estimator'!C45<>\"\"),'Emissions Estimator'!C45,MIN('Emissions Estimator'!C45,'Emissions Estimator'!C100))))","v":""},{"$f":"IF(AND(B81=\"\",E81=\"\"),\"\",IF(AND(B81=\"Yes\",$F$12=\"Yes\"),\"Clean Fleet\",IF(AND(B81=\"Yes\",$F$12=\"No\"),\"Clean Fleet\",IF(AND(A81=\"Operation\",$F$12=\"No\"),$E$15-1,IF(AND(A81=\"Operation\",$F$12=\"Yes\"),E81-1,IF(AND(B81=\"No\",$F$12=\"No\"),$E$15-1,IF(AND(B81=\"No\",$F$12=\"Yes\"),E81-1)))))))","v":""},null,"NOx",null,{"$f":"('Emissions Estimator'!R100)","v":0},0,null,0,null,{"$f":"IF(ISTEXT('Fee Estimator'!$F81),0,IF('Fee Estimator'!$F81=\"\",0,IF($F$12=\"No\",0,IF(O$14=YEAR('Fee Estimator'!$F81),'Fee Estimator'!$M81,0))))","v":0},{"$f":"IF(ISTEXT('Fee Estimator'!$F81),0,IF('Fee Estimator'!$F81=\"\",0,IF($F$12=\"No\",0,IF(P$14=YEAR('Fee Estimator'!$F81),'Fee Estimator'!$M81,0))))","v":0},{"$f":"IF(ISTEXT('Fee Estimator'!$F81),0,IF('Fee Estimator'!$F81=\"\",0,IF($F$12=\"No\",0,IF(Q$14=YEAR('Fee Estimator'!$F81),'Fee Estimator'!$M81,0))))","v":0},{"$f":"IF(ISTEXT('Fee Estimator'!$F81),0,IF('Fee Estimator'!$F81=\"\",0,IF($F$12=\"No\",0,IF(R$14=YEAR('Fee Estimator'!$F81),'Fee Estimator'!$M81,0))))","v":0},{"$f":"IF(ISTEXT('Fee Estimator'!$F81),0,IF('Fee Estimator'!$F81=\"\",0,IF($F$12=\"No\",0,IF(S$14=YEAR('Fee Estimator'!$F81),'Fee Estimator'!$M81,0))))","v":0},{"$f":"IF(ISTEXT('Fee Estimator'!$F81),0,IF('Fee Estimator'!$F81=\"\",0,IF($F$12=\"No\",0,IF(T$14=YEAR('Fee Estimator'!$F81),'Fee Estimator'!$M81,0))))","v":0},{"$f":"IF(ISTEXT('Fee Estimator'!$F81),0,IF('Fee Estimator'!$F81=\"\",0,IF($F$12=\"No\",0,IF(U$14=YEAR('Fee Estimator'!$F81),'Fee Estimator'!$M81,0))))","v":0},{"$f":"IF(ISTEXT('Fee Estimator'!$F81),0,IF('Fee Estimator'!$F81=\"\",0,IF($F$12=\"No\",0,IF(V$14=YEAR('Fee Estimator'!$F81),'Fee Estimator'!$M81,0))))","v":0},{"$f":"IF(ISTEXT('Fee Estimator'!$F81),0,IF('Fee Estimator'!$F81=\"\",0,IF($F$12=\"No\",0,IF(W$14=YEAR('Fee Estimator'!$F81),'Fee Estimator'!$M81,0))))","v":0},{"$f":"IF(ISTEXT('Fee Estimator'!$F81),0,IF('Fee Estimator'!$F81=\"\",0,IF($F$12=\"No\",0,IF(X$14=YEAR('Fee Estimator'!$F81),'Fee Estimator'!$M81,0))))","v":0},{"$f":"IF(ISTEXT('Fee Estimator'!$F81),0,IF('Fee Estimator'!$F81=\"\",0,IF($F$12=\"No\",0,IF(Y$14=YEAR('Fee Estimator'!$F81),'Fee Estimator'!$M81,0))))","v":0},{"$f":"IF(ISTEXT('Fee Estimator'!$F81),0,IF('Fee Estimator'!$F81=\"\",0,IF($F$12=\"No\",0,IF(Z$14=YEAR('Fee Estimator'!$F81),'Fee Estimator'!$M81,0))))","v":0},{"$f":"IF(ISTEXT('Fee Estimator'!$F81),0,IF('Fee Estimator'!$F81=\"\",0,IF($F$12=\"No\",0,IF(AA$14=YEAR('Fee Estimator'!$F81),'Fee Estimator'!$M81,0))))","v":0},{"$f":"IF(ISTEXT('Fee Estimator'!$F81),0,IF('Fee Estimator'!$F81=\"\",0,IF($F$12=\"No\",0,IF(AB$14=YEAR('Fee Estimator'!$F81),'Fee Estimator'!$M81,0))))","v":0},{"$f":"IF(ISTEXT('Fee Estimator'!$F81),0,IF('Fee Estimator'!$F81=\"\",0,IF($F$12=\"No\",0,IF(AC$14=YEAR('Fee Estimator'!$F81),'Fee Estimator'!$M81,0))))","v":0},{"$f":"IF(ISTEXT('Fee Estimator'!$F81),0,IF('Fee Estimator'!$F81=\"\",0,IF($F$12=\"No\",0,IF(AD$14=YEAR('Fee Estimator'!$F81),'Fee Estimator'!$M81,0))))","v":0},{"$f":"IF(ISTEXT('Fee Estimator'!$F81),0,IF('Fee Estimator'!$F81=\"\",0,IF($F$12=\"No\",0,IF(AE$14=YEAR('Fee Estimator'!$F81),'Fee Estimator'!$M81,0))))","v":0},{"$f":"IF(ISTEXT('Fee Estimator'!$F81),0,IF('Fee Estimator'!$F81=\"\",0,IF($F$12=\"No\",0,IF(AF$14=YEAR('Fee Estimator'!$F81),'Fee Estimator'!$M81,0))))","v":0},{"$f":"IF(ISTEXT('Fee Estimator'!$F81),0,IF('Fee Estimator'!$F81=\"\",0,IF($F$12=\"No\",0,IF(AG$14=YEAR('Fee Estimator'!$F81),'Fee Estimator'!$M81,0))))","v":0},{"$f":"IF(ISTEXT('Fee Estimator'!$F81),0,IF('Fee Estimator'!$F81=\"\",0,IF($F$12=\"No\",0,IF(AH$14=YEAR('Fee Estimator'!$F81),'Fee Estimator'!$M81,0))))","v":0},{"$f":"IF(ISTEXT('Fee Estimator'!$F81),0,IF('Fee Estimator'!$F81=\"\",0,IF($F$12=\"No\",0,IF(AI$14=YEAR('Fee Estimator'!$F81),'Fee Estimator'!$M81,0))))","v":0}]
[null,null,null,null,null,null,null,"PM10",null,{"$f":"('Emissions Estimator'!S100)","v":0},0,null,0,null,{"$f":"IF(ISTEXT('Fee Estimator'!$F81),0,IF('Fee Estimator'!$F81=\"\",0,IF($F$12=\"No\",0,IF(O$14=YEAR('Fee Estimator'!$F81),'Fee Estimator'!$M82,0))))","v":0},{"$f":"IF(ISTEXT('Fee Estimator'!$F81),0,IF('Fee Estimator'!$F81=\"\",0,IF($F$12=\"No\",0,IF(P$14=YEAR('Fee Estimator'!$F81),'Fee Estimator'!$M82,0))))","v":0},{"$f":"IF(ISTEXT('Fee Estimator'!$F81),0,IF('Fee Estimator'!$F81=\"\",0,IF($F$12=\"No\",0,IF(Q$14=YEAR('Fee Estimator'!$F81),'Fee Estimator'!$M82,0))))","v":0},{"$f":"IF(ISTEXT('Fee Estimator'!$F81),0,IF('Fee Estimator'!$F81=\"\",0,IF($F$12=\"No\",0,IF(R$14=YEAR('Fee Estimator'!$F81),'Fee Estimator'!$M82,0))))","v":0},{"$f":"IF(ISTEXT('Fee Estimator'!$F81),0,IF('Fee Estimator'!$F81=\"\",0,IF($F$12=\"No\",0,IF(S$14=YEAR('Fee Estimator'!$F81),'Fee Estimator'!$M82,0))))","v":0},{"$f":"IF(ISTEXT('Fee Estimator'!$F81),0,IF('Fee Estimator'!$F81=\"\",0,IF($F$12=\"No\",0,IF(T$14=YEAR('Fee Estimator'!$F81),'Fee Estimator'!$M82,0))))","v":0},{"$f":"IF(ISTEXT('Fee Estimator'!$F81),0,IF('Fee Estimator'!$F81=\"\",0,IF($F$12=\"No\",0,IF(U$14=YEAR('Fee Estimator'!$F81),'Fee Estimator'!$M82,0))))","v":0},{"$f":"IF(ISTEXT('Fee Estimator'!$F81),0,IF('Fee Estimator'!$F81=\"\",0,IF($F$12=\"No\",0,IF(V$14=YEAR('Fee Estimator'!$F81),'Fee Estimator'!$M82,0))))","v":0},{"$f":"IF(ISTEXT('Fee Estimator'!$F81),0,IF('Fee Estimator'!$F81=\"\",0,IF($F$12=\"No\",0,IF(W$14=YEAR('Fee Estimator'!$F81),'Fee Estimator'!$M82,0))))","v":0},{"$f":"IF(ISTEXT('Fee Estimator'!$F81),0,IF('Fee Estimator'!$F81=\"\",0,IF($F$12=\"No\",0,IF(X$14=YEAR('Fee Estimator'!$F81),'Fee Estimator'!$M82,0))))","v":0},{"$f":"IF(ISTEXT('Fee Estimator'!$F81),0,IF('Fee Estimator'!$F81=\"\",0,IF($F$12=\"No\",0,IF(Y$14=YEAR('Fee Estimator'!$F81),'Fee Estimator'!$M82,0))))","v":0},{"$f":"IF(ISTEXT('Fee Estimator'!$F81),0,IF('Fee Estimator'!$F81=\"\",0,IF($F$12=\"No\",0,IF(Z$14=YEAR('Fee Estimator'!$F81),'Fee Estimator'!$M82,0))))","v":0},{"$f":"IF(ISTEXT('Fee Estimator'!$F81),0,IF('Fee Estimator'!$F81=\"\",0,IF($F$12=\"No\",0,IF(AA$14=YEAR('Fee Estimator'!$F81),'Fee Estimator'!$M82,0))))","v":0},{"$f":"IF(ISTEXT('Fee Estimator'!$F81),0,IF('Fee Estimator'!$F81=\"\",0,IF($F$12=\"No\",0,IF(AB$14=YEAR('Fee Estimator'!$F81),'Fee Estimator'!$M82,0))))","v":0},{"$f":"IF(ISTEXT('Fee Estimator'!$F81),0,IF('Fee Estimator'!$F81=\"\",0,IF($F$12=\"No\",0,IF(AC$14=YEAR('Fee Estimator'!$F81),'Fee Estimator'!$M82,0))))","v":0},{"$f":"IF(ISTEXT('Fee Estimator'!$F81),0,IF('Fee Estimator'!$F81=\"\",0,IF($F$12=\"No\",0,IF(AD$14=YEAR('Fee Estimator'!$F81),'Fee Estimator'!$M82,0))))","v":0},{"$f":"IF(ISTEXT('Fee Estimator'!$F81),0,IF('Fee Estimator'!$F81=\"\",0,IF($F$12=\"No\",0,IF(AE$14=YEAR('Fee Estimator'!$F81),'Fee Estimator'!$M82,0))))","v":0},{"$f":"IF(ISTEXT('Fee Estimator'!$F81),0,IF('Fee Estimator'!$F81=\"\",0,IF($F$12=\"No\",0,IF(AF$14=YEAR('Fee Estimator'!$F81),'Fee Estimator'!$M82,0))))","v":0},{"$f":"IF(ISTEXT('Fee Estimator'!$F81),0,IF('Fee Estimator'!$F81=\"\",0,IF($F$12=\"No\",0,IF(AG$14=YEAR('Fee Estimator'!$F81),'Fee Estimator'!$M82,0))))","v":0},{"$f":"IF(ISTEXT('Fee Estimator'!$F81),0,IF('Fee Estimator'!$F81=\"\",0,IF($F$12=\"No\",0,IF(AH$14=YEAR('Fee Estimator'!$F81),'Fee Estimator'!$M82,0))))","v":0},{"$f":"IF(ISTEXT('Fee Estimator'!$F81),0,IF('Fee Estimator'!$F81=\"\",0,IF($F$12=\"No\",0,IF(AI$14=YEAR('Fee Estimator'!$F81),'Fee Estimator'!$M82,0))))","v":0}]
[{"$f":"IF(AND('Emissions Estimator'!$A46=\"\",'Emissions Estimator'!$A101=\"\"),\"\",IF(AND('Emissions Estimator'!$A46=\"\",'Emissions Estimator'!$A101<>\"\"),\"Operation\",IF(AND('Emissions Estimator'!$A101=\"\",'Emissions Estimator'!$A46<>\"\"),\"Construction\",MIN('Emissions Estimator'!$A46,'Emissions Estimator'!$A101))))","v":""},{"$f":"IF(A83=\"\",\"\",IF(AND(A83=\"Construction\",'Emissions Estimator'!$O$9=\"No\"),\"No\",IF(AND(A83=\"Construction\",'Emissions Estimator'!$O$9=\"Yes\"),\"Yes\",IF(A83=\"Operation\",\"\"))))","v":""},{"$f":"IF(AND('Emissions Estimator'!$A46=\"\",'Emissions Estimator'!$A101=\"\"),\"\",IF(AND('Emissions Estimator'!$A46=\"\",'Emissions Estimator'!$A101<>\"\"),'Emissions Estimator'!$A101,IF(AND('Emissions Estimator'!$A101=\"\",'Emissions Estimator'!$A46<>\"\"),'Emissions Estimator'!$A46,MIN('Emissions Estimator'!$A46,'Emissions Estimator'!$A101))))","v":""},35,{"$f":"IF(AND('Emissions Estimator'!C46=\"\",'Emissions Estimator'!C101=\"\"),\"\",IF(AND('Emissions Estimator'!C46=\"\",'Emissions Estimator'!C101<>\"\"),'Emissions Estimator'!C101,IF(AND('Emissions Estimator'!C101=\"\",'Emissions Estimator'!C46<>\"\"),'Emissions Estimator'!C46,MIN('Emissions Estimator'!C46,'Emissions Estimator'!C101))))","v":""},{"$f":"IF(AND(B83=\"\",E83=\"\"),\"\",IF(AND(B83=\"Yes\",$F$12=\"Yes\"),\"Clean Fleet\",IF(AND(B83=\"Yes\",$F$12=\"No\"),\"Clean Fleet\",IF(AND(A83=\"Operation\",$F$12=\"No\"),$E$15-1,IF(AND(A83=\"Operation\",$F$12=\"Yes\"),E83-1,IF(AND(B83=\"No\",$F$12=\"No\"),$E$15-1,IF(AND(B83=\"No\",$F$12=\"Yes\"),E83-1)))))))","v":""},null,"NOx",null,{"$f":"('Emissions Estimator'!R101)","v":0},0,null,0,null,{"$f":"IF(ISTEXT('Fee Estimator'!$F83),0,IF('Fee Estimator'!$F83=\"\",0,IF($F$12=\"No\",0,IF(O$14=YEAR('Fee Estimator'!$F83),'Fee Estimator'!$M83,0))))","v":0},{"$f":"IF(ISTEXT('Fee Estimator'!$F83),0,IF('Fee Estimator'!$F83=\"\",0,IF($F$12=\"No\",0,IF(P$14=YEAR('Fee Estimator'!$F83),'Fee Estimator'!$M83,0))))","v":0},{"$f":"IF(ISTEXT('Fee Estimator'!$F83),0,IF('Fee Estimator'!$F83=\"\",0,IF($F$12=\"No\",0,IF(Q$14=YEAR('Fee Estimator'!$F83),'Fee Estimator'!$M83,0))))","v":0},{"$f":"IF(ISTEXT('Fee Estimator'!$F83),0,IF('Fee Estimator'!$F83=\"\",0,IF($F$12=\"No\",0,IF(R$14=YEAR('Fee Estimator'!$F83),'Fee Estimator'!$M83,0))))","v":0},{"$f":"IF(ISTEXT('Fee Estimator'!$F83),0,IF('Fee Estimator'!$F83=\"\",0,IF($F$12=\"No\",0,IF(S$14=YEAR('Fee Estimator'!$F83),'Fee Estimator'!$M83,0))))","v":0},{"$f":"IF(ISTEXT('Fee Estimator'!$F83),0,IF('Fee Estimator'!$F83=\"\",0,IF($F$12=\"No\",0,IF(T$14=YEAR('Fee Estimator'!$F83),'Fee Estimator'!$M83,0))))","v":0},{"$f":"IF(ISTEXT('Fee Estimator'!$F83),0,IF('Fee Estimator'!$F83=\"\",0,IF($F$12=\"No\",0,IF(U$14=YEAR('Fee Estimator'!$F83),'Fee Estimator'!$M83,0))))","v":0},{"$f":"IF(ISTEXT('Fee Estimator'!$F83),0,IF('Fee Estimator'!$F83=\"\",0,IF($F$12=\"No\",0,IF(V$14=YEAR('Fee Estimator'!$F83),'Fee Estimator'!$M83,0))))","v":0},{"$f":"IF(ISTEXT('Fee Estimator'!$F83),0,IF('Fee Estimator'!$F83=\"\",0,IF($F$12=\"No\",0,IF(W$14=YEAR('Fee Estimator'!$F83),'Fee Estimator'!$M83,0))))","v":0},{"$f":"IF(ISTEXT('Fee Estimator'!$F83),0,IF('Fee Estimator'!$F83=\"\",0,IF($F$12=\"No\",0,IF(X$14=YEAR('Fee Estimator'!$F83),'Fee Estimator'!$M83,0))))","v":0},{"$f":"IF(ISTEXT('Fee Estimator'!$F83),0,IF('Fee Estimator'!$F83=\"\",0,IF($F$12=\"No\",0,IF(Y$14=YEAR('Fee Estimator'!$F83),'Fee Estimator'!$M83,0))))","v":0},{"$f":"IF(ISTEXT('Fee Estimator'!$F83),0,IF('Fee Estimator'!$F83=\"\",0,IF($F$12=\"No\",0,IF(Z$14=YEAR('Fee Estimator'!$F83),'Fee Estimator'!$M83,0))))","v":0},{"$f":"IF(ISTEXT('Fee Estimator'!$F83),0,IF('Fee Estimator'!$F83=\"\",0,IF($F$12=\"No\",0,IF(AA$14=YEAR('Fee Estimator'!$F83),'Fee Estimator'!$M83,0))))","v":0},{"$f":"IF(ISTEXT('Fee Estimator'!$F83),0,IF('Fee Estimator'!$F83=\"\",0,IF($F$12=\"No\",0,IF(AB$14=YEAR('Fee Estimator'!$F83),'Fee Estimator'!$M83,0))))","v":0},{"$f":"IF(ISTEXT('Fee Estimator'!$F83),0,IF('Fee Estimator'!$F83=\"\",0,IF($F$12=\"No\",0,IF(AC$14=YEAR('Fee Estimator'!$F83),'Fee Estimator'!$M83,0))))","v":0},{"$f":"IF(ISTEXT('Fee Estimator'!$F83),0,IF('Fee Estimator'!$F83=\"\",0,IF($F$12=\"No\",0,IF(AD$14=YEAR('Fee Estimator'!$F83),'Fee Estimator'!$M83,0))))","v":0},{"$f":"IF(ISTEXT('Fee Estimator'!$F83),0,IF('Fee Estimator'!$F83=\"\",0,IF($F$12=\"No\",0,IF(AE$14=YEAR('Fee Estimator'!$F83),'Fee Estimator'!$M83,0))))","v":0},{"$f":"IF(ISTEXT('Fee Estimator'!$F83),0,IF('Fee Estimator'!$F83=\"\",0,IF($F$12=\"No\",0,IF(AF$14=YEAR('Fee Estimator'!$F83),'Fee Estimator'!$M83,0))))","v":0},{"$f":"IF(ISTEXT('Fee Estimator'!$F83),0,IF('Fee Estimator'!$F83=\"\",0,IF($F$12=\"No\",0,IF(AG$14=YEAR('Fee Estimator'!$F83),'Fee Estimator'!$M83,0))))","v":0},{"$f":"IF(ISTEXT('Fee Estimator'!$F83),0,IF('Fee Estimator'!$F83=\"\",0,IF($F$12=\"No\",0,IF(AH$14=YEAR('Fee Estimator'!$F83),'Fee Estimator'!$M83,0))))","v":0},{"$f":"IF(ISTEXT('Fee Estimator'!$F83),0,IF('Fee Estimator'!$F83=\"\",0,IF($F$12=\"No\",0,IF(AI$14=YEAR('Fee Estimator'!$F83),'Fee Estimator'!$M83,0))))","v":0}]
[null,null,null,null,null,null,null,"PM10",null,{"$f":"('Emissions Estimator'!S101)","v":0},0,null,0,null,{"$f":"IF(ISTEXT('Fee Estimator'!$F83),0,IF('Fee Estimator'!$F83=\"\",0,IF($F$12=\"No\",0,IF(O$14=YEAR('Fee Estimator'!$F83),'Fee Estimator'!$M84,0))))","v":0},{"$f":"IF(ISTEXT('Fee Estimator'!$F83),0,IF('Fee Estimator'!$F83=\"\",0,IF($F$12=\"No\",0,IF(P$14=YEAR('Fee Estimator'!$F83),'Fee Estimator'!$M84,0))))","v":0},{"$f":"IF(ISTEXT('Fee Estimator'!$F83),0,IF('Fee Estimator'!$F83=\"\",0,IF($F$12=\"No\",0,IF(Q$14=YEAR('Fee Estimator'!$F83),'Fee Estimator'!$M84,0))))","v":0},{"$f":"IF(ISTEXT('Fee Estimator'!$F83),0,IF('Fee Estimator'!$F83=\"\",0,IF($F$12=\"No\",0,IF(R$14=YEAR('Fee Estimator'!$F83),'Fee Estimator'!$M84,0))))","v":0},{"$f":"IF(ISTEXT('Fee Estimator'!$F83),0,IF('Fee Estimator'!$F83=\"\",0,IF($F$12=\"No\",0,IF(S$14=YEAR('Fee Estimator'!$F83),'Fee Estimator'!$M84,0))))","v":0},{"$f":"IF(ISTEXT('Fee Estimator'!$F83),0,IF('Fee Estimator'!$F83=\"\",0,IF($F$12=\"No\",0,IF(T$14=YEAR('Fee Estimator'!$F83),'Fee Estimator'!$M84,0))))","v":0},{"$f":"IF(ISTEXT('Fee Estimator'!$F83),0,IF('Fee Estimator'!$F83=\"\",0,IF($F$12=\"No\",0,IF(U$14=YEAR('Fee Estimator'!$F83),'Fee Estimator'!$M84,0))))","v":0},{"$f":"IF(ISTEXT('Fee Estimator'!$F83),0,IF('Fee Estimator'!$F83=\"\",0,IF($F$12=\"No\",0,IF(V$14=YEAR('Fee Estimator'!$F83),'Fee Estimator'!$M84,0))))","v":0},{"$f":"IF(ISTEXT('Fee Estimator'!$F83),0,IF('Fee Estimator'!$F83=\"\",0,IF($F$12=\"No\",0,IF(W$14=YEAR('Fee Estimator'!$F83),'Fee Estimator'!$M84,0))))","v":0},{"$f":"IF(ISTEXT('Fee Estimator'!$F83),0,IF('Fee Estimator'!$F83=\"\",0,IF($F$12=\"No\",0,IF(X$14=YEAR('Fee Estimator'!$F83),'Fee Estimator'!$M84,0))))","v":0},{"$f":"IF(ISTEXT('Fee Estimator'!$F83),0,IF('Fee Estimator'!$F83=\"\",0,IF($F$12=\"No\",0,IF(Y$14=YEAR('Fee Estimator'!$F83),'Fee Estimator'!$M84,0))))","v":0},{"$f":"IF(ISTEXT('Fee Estimator'!$F83),0,IF('Fee Estimator'!$F83=\"\",0,IF($F$12=\"No\",0,IF(Z$14=YEAR('Fee Estimator'!$F83),'Fee Estimator'!$M84,0))))","v":0},{"$f":"IF(ISTEXT('Fee Estimator'!$F83),0,IF('Fee Estimator'!$F83=\"\",0,IF($F$12=\"No\",0,IF(AA$14=YEAR('Fee Estimator'!$F83),'Fee Estimator'!$M84,0))))","v":0},{"$f":"IF(ISTEXT('Fee Estimator'!$F83),0,IF('Fee Estimator'!$F83=\"\",0,IF($F$12=\"No\",0,IF(AB$14=YEAR('Fee Estimator'!$F83),'Fee Estimator'!$M84,0))))","v":0},{"$f":"IF(ISTEXT('Fee Estimator'!$F83),0,IF('Fee Estimator'!$F83=\"\",0,IF($F$12=\"No\",0,IF(AC$14=YEAR('Fee Estimator'!$F83),'Fee Estimator'!$M84,0))))","v":0},{"$f":"IF(ISTEXT('Fee Estimator'!$F83),0,IF('Fee Estimator'!$F83=\"\",0,IF($F$12=\"No\",0,IF(AD$14=YEAR('Fee Estimator'!$F83),'Fee Estimator'!$M84,0))))","v":0},{"$f":"IF(ISTEXT('Fee Estimator'!$F83),0,IF('Fee Estimator'!$F83=\"\",0,IF($F$12=\"No\",0,IF(AE$14=YEAR('Fee Estimator'!$F83),'Fee Estimator'!$M84,0))))","v":0},{"$f":"IF(ISTEXT('Fee Estimator'!$F83),0,IF('Fee Estimator'!$F83=\"\",0,IF($F$12=\"No\",0,IF(AF$14=YEAR('Fee Estimator'!$F83),'Fee Estimator'!$M84,0))))","v":0},{"$f":"IF(ISTEXT('Fee Estimator'!$F83),0,IF('Fee Estimator'!$F83=\"\",0,IF($F$12=\"No\",0,IF(AG$14=YEAR('Fee Estimator'!$F83),'Fee Estimator'!$M84,0))))","v":0},{"$f":"IF(ISTEXT('Fee Estimator'!$F83),0,IF('Fee Estimator'!$F83=\"\",0,IF($F$12=\"No\",0,IF(AH$14=YEAR('Fee Estimator'!$F83),'Fee Estimator'!$M84,0))))","v":0},{"$f":"IF(ISTEXT('Fee Estimator'!$F83),0,IF('Fee Estimator'!$F83=\"\",0,IF($F$12=\"No\",0,IF(AI$14=YEAR('Fee Estimator'!$F83),'Fee Estimator'!$M84,0))))","v":0}]
[{"$f":"IF(AND('Emissions Estimator'!$A47=\"\",'Emissions Estimator'!$A102=\"\"),\"\",IF(AND('Emissions Estimator'!$A47=\"\",'Emissions Estimator'!$A102<>\"\"),\"Operation\",IF(AND('Emissions Estimator'!$A102=\"\",'Emissions Estimator'!$A47<>\"\"),\"Construction\",MIN('Emissions Estimator'!$A47,'Emissions Estimator'!$A102))))","v":""},{"$f":"IF(A85=\"\",\"\",IF(AND(A85=\"Construction\",'Emissions Estimator'!$O$9=\"No\"),\"No\",IF(AND(A85=\"Construction\",'Emissions Estimator'!$O$9=\"Yes\"),\"Yes\",IF(A85=\"Operation\",\"\"))))","v":""},{"$f":"IF(AND('Emissions Estimator'!$A47=\"\",'Emissions Estimator'!$A102=\"\"),\"\",IF(AND('Emissions Estimator'!$A47=\"\",'Emissions Estimator'!$A102<>\"\"),'Emissions Estimator'!$A102,IF(AND('Emissions Estimator'!$A102=\"\",'Emissions Estimator'!$A47<>\"\"),'Emissions Estimator'!$A47,MIN('Emissions Estimator'!$A47,'Emissions Estimator'!$A102))))","v":""},36,{"$f":"IF(AND('Emissions Estimator'!C47=\"\",'Emissions Estimator'!C102=\"\"),\"\",IF(AND('Emissions Estimator'!C47=\"\",'Emissions Estimator'!C102<>\"\"),'Emissions Estimator'!C102,IF(AND('Emissions Estimator'!C102=\"\",'Emissions Estimator'!C47<>\"\"),'Emissions Estimator'!C47,MIN('Emissions Estimator'!C47,'Emissions Estimator'!C102))))","v":""},{"$f":"IF(AND(B85=\"\",E85=\"\"),\"\",IF(AND(B85=\"Yes\",$F$12=\"Yes\"),\"Clean Fleet\",IF(AND(B85=\"Yes\",$F$12=\"No\"),\"Clean Fleet\",IF(AND(A85=\"Operation\",$F$12=\"No\"),$E$15-1,IF(AND(A85=\"Operation\",$F$12=\"Yes\"),E85-1,IF(AND(B85=\"No\",$F$12=\"No\"),$E$15-1,IF(AND(B85=\"No\",$F$12=\"Yes\"),E85-1)))))))","v":""},null,"NOx",null,{"$f":"('Emissions Estimator'!R102)","v":0},0,null,0,null,{"$f":"IF(ISTEXT('Fee Estimator'!$F85),0,IF('Fee Estimator'!$F85=\"\",0,IF($F$12=\"No\",0,IF(O$14=YEAR('Fee Estimator'!$F85),'Fee Estimator'!$M85,0))))","v":0},{"$f":"IF(ISTEXT('Fee Estimator'!$F85),0,IF('Fee Estimator'!$F85=\"\",0,IF($F$12=\"No\",0,IF(P$14=YEAR('Fee Estimator'!$F85),'Fee Estimator'!$M85,0))))","v":0},{"$f":"IF(ISTEXT('Fee Estimator'!$F85),0,IF('Fee Estimator'!$F85=\"\",0,IF($F$12=\"No\",0,IF(Q$14=YEAR('Fee Estimator'!$F85),'Fee Estimator'!$M85,0))))","v":0},{"$f":"IF(ISTEXT('Fee Estimator'!$F85),0,IF('Fee Estimator'!$F85=\"\",0,IF($F$12=\"No\",0,IF(R$14=YEAR('Fee Estimator'!$F85),'Fee Estimator'!$M85,0))))","v":0},{"$f":"IF(ISTEXT('Fee Estimator'!$F85),0,IF('Fee Estimator'!$F85=\"\",0,IF($F$12=\"No\",0,IF(S$14=YEAR('Fee Estimator'!$F85),'Fee Estimator'!$M85,0))))","v":0},{"$f":"IF(ISTEXT('Fee Estimator'!$F85),0,IF('Fee Estimator'!$F85=\"\",0,IF($F$12=\"No\",0,IF(T$14=YEAR('Fee Estimator'!$F85),'Fee Estimator'!$M85,0))))","v":0},{"$f":"IF(ISTEXT('Fee Estimator'!$F85),0,IF('Fee Estimator'!$F85=\"\",0,IF($F$12=\"No\",0,IF(U$14=YEAR('Fee Estimator'!$F85),'Fee Estimator'!$M85,0))))","v":0},{"$f":"IF(ISTEXT('Fee Estimator'!$F85),0,IF('Fee Estimator'!$F85=\"\",0,IF($F$12=\"No\",0,IF(V$14=YEAR('Fee Estimator'!$F85),'Fee Estimator'!$M85,0))))","v":0},{"$f":"IF(ISTEXT('Fee Estimator'!$F85),0,IF('Fee Estimator'!$F85=\"\",0,IF($F$12=\"No\",0,IF(W$14=YEAR('Fee Estimator'!$F85),'Fee Estimator'!$M85,0))))","v":0},{"$f":"IF(ISTEXT('Fee Estimator'!$F85),0,IF('Fee Estimator'!$F85=\"\",0,IF($F$12=\"No\",0,IF(X$14=YEAR('Fee Estimator'!$F85),'Fee Estimator'!$M85,0))))","v":0},{"$f":"IF(ISTEXT('Fee Estimator'!$F85),0,IF('Fee Estimator'!$F85=\"\",0,IF($F$12=\"No\",0,IF(Y$14=YEAR('Fee Estimator'!$F85),'Fee Estimator'!$M85,0))))","v":0},{"$f":"IF(ISTEXT('Fee Estimator'!$F85),0,IF('Fee Estimator'!$F85=\"\",0,IF($F$12=\"No\",0,IF(Z$14=YEAR('Fee Estimator'!$F85),'Fee Estimator'!$M85,0))))","v":0},{"$f":"IF(ISTEXT('Fee Estimator'!$F85),0,IF('Fee Estimator'!$F85=\"\",0,IF($F$12=\"No\",0,IF(AA$14=YEAR('Fee Estimator'!$F85),'Fee Estimator'!$M85,0))))","v":0},{"$f":"IF(ISTEXT('Fee Estimator'!$F85),0,IF('Fee Estimator'!$F85=\"\",0,IF($F$12=\"No\",0,IF(AB$14=YEAR('Fee Estimator'!$F85),'Fee Estimator'!$M85,0))))","v":0},{"$f":"IF(ISTEXT('Fee Estimator'!$F85),0,IF('Fee Estimator'!$F85=\"\",0,IF($F$12=\"No\",0,IF(AC$14=YEAR('Fee Estimator'!$F85),'Fee Estimator'!$M85,0))))","v":0},{"$f":"IF(ISTEXT('Fee Estimator'!$F85),0,IF('Fee Estimator'!$F85=\"\",0,IF($F$12=\"No\",0,IF(AD$14=YEAR('Fee Estimator'!$F85),'Fee Estimator'!$M85,0))))","v":0},{"$f":"IF(ISTEXT('Fee Estimator'!$F85),0,IF('Fee Estimator'!$F85=\"\",0,IF($F$12=\"No\",0,IF(AE$14=YEAR('Fee Estimator'!$F85),'Fee Estimator'!$M85,0))))","v":0},{"$f":"IF(ISTEXT('Fee Estimator'!$F85),0,IF('Fee Estimator'!$F85=\"\",0,IF($F$12=\"No\",0,IF(AF$14=YEAR('Fee Estimator'!$F85),'Fee Estimator'!$M85,0))))","v":0},{"$f":"IF(ISTEXT('Fee Estimator'!$F85),0,IF('Fee Estimator'!$F85=\"\",0,IF($F$12=\"No\",0,IF(AG$14=YEAR('Fee Estimator'!$F85),'Fee Estimator'!$M85,0))))","v":0},{"$f":"IF(ISTEXT('Fee Estimator'!$F85),0,IF('Fee Estimator'!$F85=\"\",0,IF($F$12=\"No\",0,IF(AH$14=YEAR('Fee Estimator'!$F85),'Fee Estimator'!$M85,0))))","v":0},{"$f":"IF(ISTEXT('Fee Estimator'!$F85),0,IF('Fee Estimator'!$F85=\"\",0,IF($F$12=\"No\",0,IF(AI$14=YEAR('Fee Estimator'!$F85),'Fee Estimator'!$M85,0))))","v":0}]
[null,null,null,null,null,null,null,"PM10",null,{"$f":"('Emissions Estimator'!S102)","v":0},0,null,0,null,{"$f":"IF(ISTEXT('Fee Estimator'!$F85),0,IF('Fee Estimator'!$F85=\"\",0,IF($F$12=\"No\",0,IF(O$14=YEAR('Fee Estimator'!$F85),'Fee Estimator'!$M86,0))))","v":0},{"$f":"IF(ISTEXT('Fee Estimator'!$F85),0,IF('Fee Estimator'!$F85=\"\",0,IF($F$12=\"No\",0,IF(P$14=YEAR('Fee Estimator'!$F85),'Fee Estimator'!$M86,0))))","v":0},{"$f":"IF(ISTEXT('Fee Estimator'!$F85),0,IF('Fee Estimator'!$F85=\"\",0,IF($F$12=\"No\",0,IF(Q$14=YEAR('Fee Estimator'!$F85),'Fee Estimator'!$M86,0))))","v":0},{"$f":"IF(ISTEXT('Fee Estimator'!$F85),0,IF('Fee Estimator'!$F85=\"\",0,IF($F$12=\"No\",0,IF(R$14=YEAR('Fee Estimator'!$F85),'Fee Estimator'!$M86,0))))","v":0},{"$f":"IF(ISTEXT('Fee Estimator'!$F85),0,IF('Fee Estimator'!$F85=\"\",0,IF($F$12=\"No\",0,IF(S$14=YEAR('Fee Estimator'!$F85),'Fee Estimator'!$M86,0))))","v":0},{"$f":"IF(ISTEXT('Fee Estimator'!$F85),0,IF('Fee Estimator'!$F85=\"\",0,IF($F$12=\"No\",0,IF(T$14=YEAR('Fee Estimator'!$F85),'Fee Estimator'!$M86,0))))","v":0},{"$f":"IF(ISTEXT('Fee Estimator'!$F85),0,IF('Fee Estimator'!$F85=\"\",0,IF($F$12=\"No\",0,IF(U$14=YEAR('Fee Estimator'!$F85),'Fee Estimator'!$M86,0))))","v":0},{"$f":"IF(ISTEXT('Fee Estimator'!$F85),0,IF('Fee Estimator'!$F85=\"\",0,IF($F$12=\"No\",0,IF(V$14=YEAR('Fee Estimator'!$F85),'Fee Estimator'!$M86,0))))","v":0},{"$f":"IF(ISTEXT('Fee Estimator'!$F85),0,IF('Fee Estimator'!$F85=\"\",0,IF($F$12=\"No\",0,IF(W$14=YEAR('Fee Estimator'!$F85),'Fee Estimator'!$M86,0))))","v":0},{"$f":"IF(ISTEXT('Fee Estimator'!$F85),0,IF('Fee Estimator'!$F85=\"\",0,IF($F$12=\"No\",0,IF(X$14=YEAR('Fee Estimator'!$F85),'Fee Estimator'!$M86,0))))","v":0},{"$f":"IF(ISTEXT('Fee Estimator'!$F85),0,IF('Fee Estimator'!$F85=\"\",0,IF($F$12=\"No\",0,IF(Y$14=YEAR('Fee Estimator'!$F85),'Fee Estimator'!$M86,0))))","v":0},{"$f":"IF(ISTEXT('Fee Estimator'!$F85),0,IF('Fee Estimator'!$F85=\"\",0,IF($F$12=\"No\",0,IF(Z$14=YEAR('Fee Estimator'!$F85),'Fee Estimator'!$M86,0))))","v":0},{"$f":"IF(ISTEXT('Fee Estimator'!$F85),0,IF('Fee Estimator'!$F85=\"\",0,IF($F$12=\"No\",0,IF(AA$14=YEAR('Fee Estimator'!$F85),'Fee Estimator'!$M86,0))))","v":0},{"$f":"IF(ISTEXT('Fee Estimator'!$F85),0,IF('Fee Estimator'!$F85=\"\",0,IF($F$12=\"No\",0,IF(AB$14=YEAR('Fee Estimator'!$F85),'Fee Estimator'!$M86,0))))","v":0},{"$f":"IF(ISTEXT('Fee Estimator'!$F85),0,IF('Fee Estimator'!$F85=\"\",0,IF($F$12=\"No\",0,IF(AC$14=YEAR('Fee Estimator'!$F85),'Fee Estimator'!$M86,0))))","v":0},{"$f":"IF(ISTEXT('Fee Estimator'!$F85),0,IF('Fee Estimator'!$F85=\"\",0,IF($F$12=\"No\",0,IF(AD$14=YEAR('Fee Estimator'!$F85),'Fee Estimator'!$M86,0))))","v":0},{"$f":"IF(ISTEXT('Fee Estimator'!$F85),0,IF('Fee Estimator'!$F85=\"\",0,IF($F$12=\"No\",0,IF(AE$14=YEAR('Fee Estimator'!$F85),'Fee Estimator'!$M86,0))))","v":0},{"$f":"IF(ISTEXT('Fee Estimator'!$F85),0,IF('Fee Estimator'!$F85=\"\",0,IF($F$12=\"No\",0,IF(AF$14=YEAR('Fee Estimator'!$F85),'Fee Estimator'!$M86,0))))","v":0},{"$f":"IF(ISTEXT('Fee Estimator'!$F85),0,IF('Fee Estimator'!$F85=\"\",0,IF($F$12=\"No\",0,IF(AG$14=YEAR('Fee Estimator'!$F85),'Fee Estimator'!$M86,0))))","v":0},{"$f":"IF(ISTEXT('Fee Estimator'!$F85),0,IF('Fee Estimator'!$F85=\"\",0,IF($F$12=\"No\",0,IF(AH$14=YEAR('Fee Estimator'!$F85),'Fee Estimator'!$M86,0))))","v":0},{"$f":"IF(ISTEXT('Fee Estimator'!$F85),0,IF('Fee Estimator'!$F85=\"\",0,IF($F$12=\"No\",0,IF(AI$14=YEAR('Fee Estimator'!$F85),'Fee Estimator'!$M86,0))))","v":0}]
[{"$f":"IF(AND('Emissions Estimator'!$A48=\"\",'Emissions Estimator'!$A103=\"\"),\"\",IF(AND('Emissions Estimator'!$A48=\"\",'Emissions Estimator'!$A103<>\"\"),\"Operation\",IF(AND('Emissions Estimator'!$A103=\"\",'Emissions Estimator'!$A48<>\"\"),\"Construction\",MIN('Emissions Estimator'!$A48,'Emissions Estimator'!$A103))))","v":""},{"$f":"IF(A87=\"\",\"\",IF(AND(A87=\"Construction\",'Emissions Estimator'!$O$9=\"No\"),\"No\",IF(AND(A87=\"Construction\",'Emissions Estimator'!$O$9=\"Yes\"),\"Yes\",IF(A87=\"Operation\",\"\"))))","v":""},{"$f":"IF(AND('Emissions Estimator'!$A48=\"\",'Emissions Estimator'!$A103=\"\"),\"\",IF(AND('Emissions Estimator'!$A48=\"\",'Emissions Estimator'!$A103<>\"\"),'Emissions Estimator'!$A103,IF(AND('Emissions Estimator'!$A103=\"\",'Emissions Estimator'!$A48<>\"\"),'Emissions Estimator'!$A48,MIN('Emissions Estimator'!$A48,'Emissions Estimator'!$A103))))","v":""},37,{"$f":"IF(AND('Emissions Estimator'!C48=\"\",'Emissions Estimator'!C103=\"\"),\"\",IF(AND('Emissions Estimator'!C48=\"\",'Emissions Estimator'!C103<>\"\"),'Emissions Estimator'!C103,IF(AND('Emissions Estimator'!C103=\"\",'Emissions Estimator'!C48<>\"\"),'Emissions Estimator'!C48,MIN('Emissions Estimator'!C48,'Emissions Estimator'!C103))))","v":""},{"$f":"IF(AND(B87=\"\",E87=\"\"),\"\",IF(AND(B87=\"Yes\",$F$12=\"Yes\"),\"Clean Fleet\",IF(AND(B87=\"Yes\",$F$12=\"No\"),\"Clean Fleet\",IF(AND(A87=\"Operation\",$F$12=\"No\"),$E$15-1,IF(AND(A87=\"Operation\",$F$12=\"Yes\"),E87-1,IF(AND(B87=\"No\",$F$12=\"No\"),$E$15-1,IF(AND(B87=\"No\",$F$12=\"Yes\"),E87-1)))))))","v":""},null,"NOx",null,{"$f":"('Emissions Estimator'!R103)","v":0},0,null,0,null,{"$f":"IF(ISTEXT('Fee Estimator'!$F87),0,IF('Fee Estimator'!$F87=\"\",0,IF($F$12=\"No\",0,IF(O$14=YEAR('Fee Estimator'!$F87),'Fee Estimator'!$M87,0))))","v":0},{"$f":"IF(ISTEXT('Fee Estimator'!$F87),0,IF('Fee Estimator'!$F87=\"\",0,IF($F$12=\"No\",0,IF(P$14=YEAR('Fee Estimator'!$F87),'Fee Estimator'!$M87,0))))","v":0},{"$f":"IF(ISTEXT('Fee Estimator'!$F87),0,IF('Fee Estimator'!$F87=\"\",0,IF($F$12=\"No\",0,IF(Q$14=YEAR('Fee Estimator'!$F87),'Fee Estimator'!$M87,0))))","v":0},{"$f":"IF(ISTEXT('Fee Estimator'!$F87),0,IF('Fee Estimator'!$F87=\"\",0,IF($F$12=\"No\",0,IF(R$14=YEAR('Fee Estimator'!$F87),'Fee Estimator'!$M87,0))))","v":0},{"$f":"IF(ISTEXT('Fee Estimator'!$F87),0,IF('Fee Estimator'!$F87=\"\",0,IF($F$12=\"No\",0,IF(S$14=YEAR('Fee Estimator'!$F87),'Fee Estimator'!$M87,0))))","v":0},{"$f":"IF(ISTEXT('Fee Estimator'!$F87),0,IF('Fee Estimator'!$F87=\"\",0,IF($F$12=\"No\",0,IF(T$14=YEAR('Fee Estimator'!$F87),'Fee Estimator'!$M87,0))))","v":0},{"$f":"IF(ISTEXT('Fee Estimator'!$F87),0,IF('Fee Estimator'!$F87=\"\",0,IF($F$12=\"No\",0,IF(U$14=YEAR('Fee Estimator'!$F87),'Fee Estimator'!$M87,0))))","v":0},{"$f":"IF(ISTEXT('Fee Estimator'!$F87),0,IF('Fee Estimator'!$F87=\"\",0,IF($F$12=\"No\",0,IF(V$14=YEAR('Fee Estimator'!$F87),'Fee Estimator'!$M87,0))))","v":0},{"$f":"IF(ISTEXT('Fee Estimator'!$F87),0,IF('Fee Estimator'!$F87=\"\",0,IF($F$12=\"No\",0,IF(W$14=YEAR('Fee Estimator'!$F87),'Fee Estimator'!$M87,0))))","v":0},{"$f":"IF(ISTEXT('Fee Estimator'!$F87),0,IF('Fee Estimator'!$F87=\"\",0,IF($F$12=\"No\",0,IF(X$14=YEAR('Fee Estimator'!$F87),'Fee Estimator'!$M87,0))))","v":0},{"$f":"IF(ISTEXT('Fee Estimator'!$F87),0,IF('Fee Estimator'!$F87=\"\",0,IF($F$12=\"No\",0,IF(Y$14=YEAR('Fee Estimator'!$F87),'Fee Estimator'!$M87,0))))","v":0},{"$f":"IF(ISTEXT('Fee Estimator'!$F87),0,IF('Fee Estimator'!$F87=\"\",0,IF($F$12=\"No\",0,IF(Z$14=YEAR('Fee Estimator'!$F87),'Fee Estimator'!$M87,0))))","v":0},{"$f":"IF(ISTEXT('Fee Estimator'!$F87),0,IF('Fee Estimator'!$F87=\"\",0,IF($F$12=\"No\",0,IF(AA$14=YEAR('Fee Estimator'!$F87),'Fee Estimator'!$M87,0))))","v":0},{"$f":"IF(ISTEXT('Fee Estimator'!$F87),0,IF('Fee Estimator'!$F87=\"\",0,IF($F$12=\"No\",0,IF(AB$14=YEAR('Fee Estimator'!$F87),'Fee Estimator'!$M87,0))))","v":0},{"$f":"IF(ISTEXT('Fee Estimator'!$F87),0,IF('Fee Estimator'!$F87=\"\",0,IF($F$12=\"No\",0,IF(AC$14=YEAR('Fee Estimator'!$F87),'Fee Estimator'!$M87,0))))","v":0},{"$f":"IF(ISTEXT('Fee Estimator'!$F87),0,IF('Fee Estimator'!$F87=\"\",0,IF($F$12=\"No\",0,IF(AD$14=YEAR('Fee Estimator'!$F87),'Fee Estimator'!$M87,0))))","v":0},{"$f":"IF(ISTEXT('Fee Estimator'!$F87),0,IF('Fee Estimator'!$F87=\"\",0,IF($F$12=\"No\",0,IF(AE$14=YEAR('Fee Estimator'!$F87),'Fee Estimator'!$M87,0))))","v":0},{"$f":"IF(ISTEXT('Fee Estimator'!$F87),0,IF('Fee Estimator'!$F87=\"\",0,IF($F$12=\"No\",0,IF(AF$14=YEAR('Fee Estimator'!$F87),'Fee Estimator'!$M87,0))))","v":0},{"$f":"IF(ISTEXT('Fee Estimator'!$F87),0,IF('Fee Estimator'!$F87=\"\",0,IF($F$12=\"No\",0,IF(AG$14=YEAR('Fee Estimator'!$F87),'Fee Estimator'!$M87,0))))","v":0},{"$f":"IF(ISTEXT('Fee Estimator'!$F87),0,IF('Fee Estimator'!$F87=\"\",0,IF($F$12=\"No\",0,IF(AH$14=YEAR('Fee Estimator'!$F87),'Fee Estimator'!$M87,0))))","v":0},{"$f":"IF(ISTEXT('Fee Estimator'!$F87),0,IF('Fee Estimator'!$F87=\"\",0,IF($F$12=\"No\",0,IF(AI$14=YEAR('Fee Estimator'!$F87),'Fee Estimator'!$M87,0))))","v":0}]
[null,null,null,null,null,null,null,"PM10",null,{"$f":"('Emissions Estimator'!S103)","v":0},0,null,0,null,{"$f":"IF(ISTEXT('Fee Estimator'!$F87),0,IF('Fee Estimator'!$F87=\"\",0,IF($F$12=\"No\",0,IF(O$14=YEAR('Fee Estimator'!$F87),'Fee Estimator'!$M88,0))))","v":0},{"$f":"IF(ISTEXT('Fee Estimator'!$F87),0,IF('Fee Estimator'!$F87=\"\",0,IF($F$12=\"No\",0,IF(P$14=YEAR('Fee Estimator'!$F87),'Fee Estimator'!$M88,0))))","v":0},{"$f":"IF(ISTEXT('Fee Estimator'!$F87),0,IF('Fee Estimator'!$F87=\"\",0,IF($F$12=\"No\",0,IF(Q$14=YEAR('Fee Estimator'!$F87),'Fee Estimator'!$M88,0))))","v":0},{"$f":"IF(ISTEXT('Fee Estimator'!$F87),0,IF('Fee Estimator'!$F87=\"\",0,IF($F$12=\"No\",0,IF(R$14=YEAR('Fee Estimator'!$F87),'Fee Estimator'!$M88,0))))","v":0},{"$f":"IF(ISTEXT('Fee Estimator'!$F87),0,IF('Fee Estimator'!$F87=\"\",0,IF($F$12=\"No\",0,IF(S$14=YEAR('Fee Estimator'!$F87),'Fee Estimator'!$M88,0))))","v":0},{"$f":"IF(ISTEXT('Fee Estimator'!$F87),0,IF('Fee Estimator'!$F87=\"\",0,IF($F$12=\"No\",0,IF(T$14=YEAR('Fee Estimator'!$F87),'Fee Estimator'!$M88,0))))","v":0},{"$f":"IF(ISTEXT('Fee Estimator'!$F87),0,IF('Fee Estimator'!$F87=\"\",0,IF($F$12=\"No\",0,IF(U$14=YEAR('Fee Estimator'!$F87),'Fee Estimator'!$M88,0))))","v":0},{"$f":"IF(ISTEXT('Fee Estimator'!$F87),0,IF('Fee Estimator'!$F87=\"\",0,IF($F$12=\"No\",0,IF(V$14=YEAR('Fee Estimator'!$F87),'Fee Estimator'!$M88,0))))","v":0},{"$f":"IF(ISTEXT('Fee Estimator'!$F87),0,IF('Fee Estimator'!$F87=\"\",0,IF($F$12=\"No\",0,IF(W$14=YEAR('Fee Estimator'!$F87),'Fee Estimator'!$M88,0))))","v":0},{"$f":"IF(ISTEXT('Fee Estimator'!$F87),0,IF('Fee Estimator'!$F87=\"\",0,IF($F$12=\"No\",0,IF(X$14=YEAR('Fee Estimator'!$F87),'Fee Estimator'!$M88,0))))","v":0},{"$f":"IF(ISTEXT('Fee Estimator'!$F87),0,IF('Fee Estimator'!$F87=\"\",0,IF($F$12=\"No\",0,IF(Y$14=YEAR('Fee Estimator'!$F87),'Fee Estimator'!$M88,0))))","v":0},{"$f":"IF(ISTEXT('Fee Estimator'!$F87),0,IF('Fee Estimator'!$F87=\"\",0,IF($F$12=\"No\",0,IF(Z$14=YEAR('Fee Estimator'!$F87),'Fee Estimator'!$M88,0))))","v":0},{"$f":"IF(ISTEXT('Fee Estimator'!$F87),0,IF('Fee Estimator'!$F87=\"\",0,IF($F$12=\"No\",0,IF(AA$14=YEAR('Fee Estimator'!$F87),'Fee Estimator'!$M88,0))))","v":0},{"$f":"IF(ISTEXT('Fee Estimator'!$F87),0,IF('Fee Estimator'!$F87=\"\",0,IF($F$12=\"No\",0,IF(AB$14=YEAR('Fee Estimator'!$F87),'Fee Estimator'!$M88,0))))","v":0},{"$f":"IF(ISTEXT('Fee Estimator'!$F87),0,IF('Fee Estimator'!$F87=\"\",0,IF($F$12=\"No\",0,IF(AC$14=YEAR('Fee Estimator'!$F87),'Fee Estimator'!$M88,0))))","v":0},{"$f":"IF(ISTEXT('Fee Estimator'!$F87),0,IF('Fee Estimator'!$F87=\"\",0,IF($F$12=\"No\",0,IF(AD$14=YEAR('Fee Estimator'!$F87),'Fee Estimator'!$M88,0))))","v":0},{"$f":"IF(ISTEXT('Fee Estimator'!$F87),0,IF('Fee Estimator'!$F87=\"\",0,IF($F$12=\"No\",0,IF(AE$14=YEAR('Fee Estimator'!$F87),'Fee Estimator'!$M88,0))))","v":0},{"$f":"IF(ISTEXT('Fee Estimator'!$F87),0,IF('Fee Estimator'!$F87=\"\",0,IF($F$12=\"No\",0,IF(AF$14=YEAR('Fee Estimator'!$F87),'Fee Estimator'!$M88,0))))","v":0},{"$f":"IF(ISTEXT('Fee Estimator'!$F87),0,IF('Fee Estimator'!$F87=\"\",0,IF($F$12=\"No\",0,IF(AG$14=YEAR('Fee Estimator'!$F87),'Fee Estimator'!$M88,0))))","v":0},{"$f":"IF(ISTEXT('Fee Estimator'!$F87),0,IF('Fee Estimator'!$F87=\"\",0,IF($F$12=\"No\",0,IF(AH$14=YEAR('Fee Estimator'!$F87),'Fee Estimator'!$M88,0))))","v":0},{"$f":"IF(ISTEXT('Fee Estimator'!$F87),0,IF('Fee Estimator'!$F87=\"\",0,IF($F$12=\"No\",0,IF(AI$14=YEAR('Fee Estimator'!$F87),'Fee Estimator'!$M88,0))))","v":0}]
[{"$f":"IF(AND('Emissions Estimator'!$A49=\"\",'Emissions Estimator'!$A104=\"\"),\"\",IF(AND('Emissions Estimator'!$A49=\"\",'Emissions Estimator'!$A104<>\"\"),\"Operation\",IF(AND('Emissions Estimator'!$A104=\"\",'Emissions Estimator'!$A49<>\"\"),\"Construction\",MIN('Emissions Estimator'!$A49,'Emissions Estimator'!$A104))))","v":""},{"$f":"IF(A89=\"\",\"\",IF(AND(A89=\"Construction\",'Emissions Estimator'!$O$9=\"No\"),\"No\",IF(AND(A89=\"Construction\",'Emissions Estimator'!$O$9=\"Yes\"),\"Yes\",IF(A89=\"Operation\",\"\"))))","v":""},{"$f":"IF(AND('Emissions Estimator'!$A49=\"\",'Emissions Estimator'!$A104=\"\"),\"\",IF(AND('Emissions Estimator'!$A49=\"\",'Emissions Estimator'!$A104<>\"\"),'Emissions Estimator'!$A104,IF(AND('Emissions Estimator'!$A104=\"\",'Emissions Estimator'!$A49<>\"\"),'Emissions Estimator'!$A49,MIN('Emissions Estimator'!$A49,'Emissions Estimator'!$A104))))","v":""},38,{"$f":"IF(AND('Emissions Estimator'!C49=\"\",'Emissions Estimator'!C104=\"\"),\"\",IF(AND('Emissions Estimator'!C49=\"\",'Emissions Estimator'!C104<>\"\"),'Emissions Estimator'!C104,IF(AND('Emissions Estimator'!C104=\"\",'Emissions Estimator'!C49<>\"\"),'Emissions Estimator'!C49,MIN('Emissions Estimator'!C49,'Emissions Estimator'!C104))))","v":""},{"$f":"IF(AND(B89=\"\",E89=\"\"),\"\",IF(AND(B89=\"Yes\",$F$12=\"Yes\"),\"Clean Fleet\",IF(AND(B89=\"Yes\",$F$12=\"No\"),\"Clean Fleet\",IF(AND(A89=\"Operation\",$F$12=\"No\"),$E$15-1,IF(AND(A89=\"Operation\",$F$12=\"Yes\"),E89-1,IF(AND(B89=\"No\",$F$12=\"No\"),$E$15-1,IF(AND(B89=\"No\",$F$12=\"Yes\"),E89-1)))))))","v":""},null,"NOx",null,{"$f":"('Emissions Estimator'!R104)","v":0},0,null,0,null,{"$f":"IF(ISTEXT('Fee Estimator'!$F89),0,IF('Fee Estimator'!$F89=\"\",0,IF($F$12=\"No\",0,IF(O$14=YEAR('Fee Estimator'!$F89),'Fee Estimator'!$M89,0))))","v":0},{"$f":"IF(ISTEXT('Fee Estimator'!$F89),0,IF('Fee Estimator'!$F89=\"\",0,IF($F$12=\"No\",0,IF(P$14=YEAR('Fee Estimator'!$F89),'Fee Estimator'!$M89,0))))","v":0},{"$f":"IF(ISTEXT('Fee Estimator'!$F89),0,IF('Fee Estimator'!$F89=\"\",0,IF($F$12=\"No\",0,IF(Q$14=YEAR('Fee Estimator'!$F89),'Fee Estimator'!$M89,0))))","v":0},{"$f":"IF(ISTEXT('Fee Estimator'!$F89),0,IF('Fee Estimator'!$F89=\"\",0,IF($F$12=\"No\",0,IF(R$14=YEAR('Fee Estimator'!$F89),'Fee Estimator'!$M89,0))))","v":0},{"$f":"IF(ISTEXT('Fee Estimator'!$F89),0,IF('Fee Estimator'!$F89=\"\",0,IF($F$12=\"No\",0,IF(S$14=YEAR('Fee Estimator'!$F89),'Fee Estimator'!$M89,0))))","v":0},{"$f":"IF(ISTEXT('Fee Estimator'!$F89),0,IF('Fee Estimator'!$F89=\"\",0,IF($F$12=\"No\",0,IF(T$14=YEAR('Fee Estimator'!$F89),'Fee Estimator'!$M89,0))))","v":0},{"$f":"IF(ISTEXT('Fee Estimator'!$F89),0,IF('Fee Estimator'!$F89=\"\",0,IF($F$12=\"No\",0,IF(U$14=YEAR('Fee Estimator'!$F89),'Fee Estimator'!$M89,0))))","v":0},{"$f":"IF(ISTEXT('Fee Estimator'!$F89),0,IF('Fee Estimator'!$F89=\"\",0,IF($F$12=\"No\",0,IF(V$14=YEAR('Fee Estimator'!$F89),'Fee Estimator'!$M89,0))))","v":0},{"$f":"IF(ISTEXT('Fee Estimator'!$F89),0,IF('Fee Estimator'!$F89=\"\",0,IF($F$12=\"No\",0,IF(W$14=YEAR('Fee Estimator'!$F89),'Fee Estimator'!$M89,0))))","v":0},{"$f":"IF(ISTEXT('Fee Estimator'!$F89),0,IF('Fee Estimator'!$F89=\"\",0,IF($F$12=\"No\",0,IF(X$14=YEAR('Fee Estimator'!$F89),'Fee Estimator'!$M89,0))))","v":0},{"$f":"IF(ISTEXT('Fee Estimator'!$F89),0,IF('Fee Estimator'!$F89=\"\",0,IF($F$12=\"No\",0,IF(Y$14=YEAR('Fee Estimator'!$F89),'Fee Estimator'!$M89,0))))","v":0},{"$f":"IF(ISTEXT('Fee Estimator'!$F89),0,IF('Fee Estimator'!$F89=\"\",0,IF($F$12=\"No\",0,IF(Z$14=YEAR('Fee Estimator'!$F89),'Fee Estimator'!$M89,0))))","v":0},{"$f":"IF(ISTEXT('Fee Estimator'!$F89),0,IF('Fee Estimator'!$F89=\"\",0,IF($F$12=\"No\",0,IF(AA$14=YEAR('Fee Estimator'!$F89),'Fee Estimator'!$M89,0))))","v":0},{"$f":"IF(ISTEXT('Fee Estimator'!$F89),0,IF('Fee Estimator'!$F89=\"\",0,IF($F$12=\"No\",0,IF(AB$14=YEAR('Fee Estimator'!$F89),'Fee Estimator'!$M89,0))))","v":0},{"$f":"IF(ISTEXT('Fee Estimator'!$F89),0,IF('Fee Estimator'!$F89=\"\",0,IF($F$12=\"No\",0,IF(AC$14=YEAR('Fee Estimator'!$F89),'Fee Estimator'!$M89,0))))","v":0},{"$f":"IF(ISTEXT('Fee Estimator'!$F89),0,IF('Fee Estimator'!$F89=\"\",0,IF($F$12=\"No\",0,IF(AD$14=YEAR('Fee Estimator'!$F89),'Fee Estimator'!$M89,0))))","v":0},{"$f":"IF(ISTEXT('Fee Estimator'!$F89),0,IF('Fee Estimator'!$F89=\"\",0,IF($F$12=\"No\",0,IF(AE$14=YEAR('Fee Estimator'!$F89),'Fee Estimator'!$M89,0))))","v":0},{"$f":"IF(ISTEXT('Fee Estimator'!$F89),0,IF('Fee Estimator'!$F89=\"\",0,IF($F$12=\"No\",0,IF(AF$14=YEAR('Fee Estimator'!$F89),'Fee Estimator'!$M89,0))))","v":0},{"$f":"IF(ISTEXT('Fee Estimator'!$F89),0,IF('Fee Estimator'!$F89=\"\",0,IF($F$12=\"No\",0,IF(AG$14=YEAR('Fee Estimator'!$F89),'Fee Estimator'!$M89,0))))","v":0},{"$f":"IF(ISTEXT('Fee Estimator'!$F89),0,IF('Fee Estimator'!$F89=\"\",0,IF($F$12=\"No\",0,IF(AH$14=YEAR('Fee Estimator'!$F89),'Fee Estimator'!$M89,0))))","v":0},{"$f":"IF(ISTEXT('Fee Estimator'!$F89),0,IF('Fee Estimator'!$F89=\"\",0,IF($F$12=\"No\",0,IF(AI$14=YEAR('Fee Estimator'!$F89),'Fee Estimator'!$M89,0))))","v":0}]
[null,null,null,null,null,null,null,"PM10",null,{"$f":"('Emissions Estimator'!S104)","v":0},0,null,0,null,{"$f":"IF(ISTEXT('Fee Estimator'!$F89),0,IF('Fee Estimator'!$F89=\"\",0,IF($F$12=\"No\",0,IF(O$14=YEAR('Fee Estimator'!$F89),'Fee Estimator'!$M90,0))))","v":0},{"$f":"IF(ISTEXT('Fee Estimator'!$F89),0,IF('Fee Estimator'!$F89=\"\",0,IF($F$12=\"No\",0,IF(P$14=YEAR('Fee Estimator'!$F89),'Fee Estimator'!$M90,0))))","v":0},{"$f":"IF(ISTEXT('Fee Estimator'!$F89),0,IF('Fee Estimator'!$F89=\"\",0,IF($F$12=\"No\",0,IF(Q$14=YEAR('Fee Estimator'!$F89),'Fee Estimator'!$M90,0))))","v":0},{"$f":"IF(ISTEXT('Fee Estimator'!$F89),0,IF('Fee Estimator'!$F89=\"\",0,IF($F$12=\"No\",0,IF(R$14=YEAR('Fee Estimator'!$F89),'Fee Estimator'!$M90,0))))","v":0},{"$f":"IF(ISTEXT('Fee Estimator'!$F89),0,IF('Fee Estimator'!$F89=\"\",0,IF($F$12=\"No\",0,IF(S$14=YEAR('Fee Estimator'!$F89),'Fee Estimator'!$M90,0))))","v":0},{"$f":"IF(ISTEXT('Fee Estimator'!$F89),0,IF('Fee Estimator'!$F89=\"\",0,IF($F$12=\"No\",0,IF(T$14=YEAR('Fee Estimator'!$F89),'Fee Estimator'!$M90,0))))","v":0},{"$f":"IF(ISTEXT('Fee Estimator'!$F89),0,IF('Fee Estimator'!$F89=\"\",0,IF($F$12=\"No\",0,IF(U$14=YEAR('Fee Estimator'!$F89),'Fee Estimator'!$M90,0))))","v":0},{"$f":"IF(ISTEXT('Fee Estimator'!$F89),0,IF('Fee Estimator'!$F89=\"\",0,IF($F$12=\"No\",0,IF(V$14=YEAR('Fee Estimator'!$F89),'Fee Estimator'!$M90,0))))","v":0},{"$f":"IF(ISTEXT('Fee Estimator'!$F89),0,IF('Fee Estimator'!$F89=\"\",0,IF($F$12=\"No\",0,IF(W$14=YEAR('Fee Estimator'!$F89),'Fee Estimator'!$M90,0))))","v":0},{"$f":"IF(ISTEXT('Fee Estimator'!$F89),0,IF('Fee Estimator'!$F89=\"\",0,IF($F$12=\"No\",0,IF(X$14=YEAR('Fee Estimator'!$F89),'Fee Estimator'!$M90,0))))","v":0},{"$f":"IF(ISTEXT('Fee Estimator'!$F89),0,IF('Fee Estimator'!$F89=\"\",0,IF($F$12=\"No\",0,IF(Y$14=YEAR('Fee Estimator'!$F89),'Fee Estimator'!$M90,0))))","v":0},{"$f":"IF(ISTEXT('Fee Estimator'!$F89),0,IF('Fee Estimator'!$F89=\"\",0,IF($F$12=\"No\",0,IF(Z$14=YEAR('Fee Estimator'!$F89),'Fee Estimator'!$M90,0))))","v":0},{"$f":"IF(ISTEXT('Fee Estimator'!$F89),0,IF('Fee Estimator'!$F89=\"\",0,IF($F$12=\"No\",0,IF(AA$14=YEAR('Fee Estimator'!$F89),'Fee Estimator'!$M90,0))))","v":0},{"$f":"IF(ISTEXT('Fee Estimator'!$F89),0,IF('Fee Estimator'!$F89=\"\",0,IF($F$12=\"No\",0,IF(AB$14=YEAR('Fee Estimator'!$F89),'Fee Estimator'!$M90,0))))","v":0},{"$f":"IF(ISTEXT('Fee Estimator'!$F89),0,IF('Fee Estimator'!$F89=\"\",0,IF($F$12=\"No\",0,IF(AC$14=YEAR('Fee Estimator'!$F89),'Fee Estimator'!$M90,0))))","v":0},{"$f":"IF(ISTEXT('Fee Estimator'!$F89),0,IF('Fee Estimator'!$F89=\"\",0,IF($F$12=\"No\",0,IF(AD$14=YEAR('Fee Estimator'!$F89),'Fee Estimator'!$M90,0))))","v":0},{"$f":"IF(ISTEXT('Fee Estimator'!$F89),0,IF('Fee Estimator'!$F89=\"\",0,IF($F$12=\"No\",0,IF(AE$14=YEAR('Fee Estimator'!$F89),'Fee Estimator'!$M90,0))))","v":0},{"$f":"IF(ISTEXT('Fee Estimator'!$F89),0,IF('Fee Estimator'!$F89=\"\",0,IF($F$12=\"No\",0,IF(AF$14=YEAR('Fee Estimator'!$F89),'Fee Estimator'!$M90,0))))","v":0},{"$f":"IF(ISTEXT('Fee Estimator'!$F89),0,IF('Fee Estimator'!$F89=\"\",0,IF($F$12=\"No\",0,IF(AG$14=YEAR('Fee Estimator'!$F89),'Fee Estimator'!$M90,0))))","v":0},{"$f":"IF(ISTEXT('Fee Estimator'!$F89),0,IF('Fee Estimator'!$F89=\"\",0,IF($F$12=\"No\",0,IF(AH$14=YEAR('Fee Estimator'!$F89),'Fee Estimator'!$M90,0))))","v":0},{"$f":"IF(ISTEXT('Fee Estimator'!$F89),0,IF('Fee Estimator'!$F89=\"\",0,IF($F$12=\"No\",0,IF(AI$14=YEAR('Fee Estimator'!$F89),'Fee Estimator'!$M90,0))))","v":0}]
[{"$f":"IF(AND('Emissions Estimator'!$A50=\"\",'Emissions Estimator'!$A105=\"\"),\"\",IF(AND('Emissions Estimator'!$A50=\"\",'Emissions Estimator'!$A105<>\"\"),\"Operation\",IF(AND('Emissions Estimator'!$A105=\"\",'Emissions Estimator'!$A50<>\"\"),\"Construction\",MIN('Emissions Estimator'!$A50,'Emissions Estimator'!$A105))))","v":""},{"$f":"IF(A91=\"\",\"\",IF(AND(A91=\"Construction\",'Emissions Estimator'!$O$9=\"No\"),\"No\",IF(AND(A91=\"Construction\",'Emissions Estimator'!$O$9=\"Yes\"),\"Yes\",IF(A91=\"Operation\",\"\"))))","v":""},{"$f":"IF(AND('Emissions Estimator'!$A50=\"\",'Emissions Estimator'!$A105=\"\"),\"\",IF(AND('Emissions Estimator'!$A50=\"\",'Emissions Estimator'!$A105<>\"\"),'Emissions Estimator'!$A105,IF(AND('Emissions Estimator'!$A105=\"\",'Emissions Estimator'!$A50<>\"\"),'Emissions Estimator'!$A50,MIN('Emissions Estimator'!$A50,'Emissions Estimator'!$A105))))","v":""},39,{"$f":"IF(AND('Emissions Estimator'!C50=\"\",'Emissions Estimator'!C105=\"\"),\"\",IF(AND('Emissions Estimator'!C50=\"\",'Emissions Estimator'!C105<>\"\"),'Emissions Estimator'!C105,IF(AND('Emissions Estimator'!C105=\"\",'Emissions Estimator'!C50<>\"\"),'Emissions Estimator'!C50,MIN('Emissions Estimator'!C50,'Emissions Estimator'!C105))))","v":""},{"$f":"IF(AND(B91=\"\",E91=\"\"),\"\",IF(AND(B91=\"Yes\",$F$12=\"Yes\"),\"Clean Fleet\",IF(AND(B91=\"Yes\",$F$12=\"No\"),\"Clean Fleet\",IF(AND(A91=\"Operation\",$F$12=\"No\"),$E$15-1,IF(AND(A91=\"Operation\",$F$12=\"Yes\"),E91-1,IF(AND(B91=\"No\",$F$12=\"No\"),$E$15-1,IF(AND(B91=\"No\",$F$12=\"Yes\"),E91-1)))))))","v":""},null,"NOx",null,{"$f":"('Emissions Estimator'!R105)","v":0},0,null,0,null,{"$f":"IF(ISTEXT('Fee Estimator'!$F91),0,IF('Fee Estimator'!$F91=\"\",0,IF($F$12=\"No\",0,IF(O$14=YEAR('Fee Estimator'!$F91),'Fee Estimator'!$M91,0))))","v":0},{"$f":"IF(ISTEXT('Fee Estimator'!$F91),0,IF('Fee Estimator'!$F91=\"\",0,IF($F$12=\"No\",0,IF(P$14=YEAR('Fee Estimator'!$F91),'Fee Estimator'!$M91,0))))","v":0},{"$f":"IF(ISTEXT('Fee Estimator'!$F91),0,IF('Fee Estimator'!$F91=\"\",0,IF($F$12=\"No\",0,IF(Q$14=YEAR('Fee Estimator'!$F91),'Fee Estimator'!$M91,0))))","v":0},{"$f":"IF(ISTEXT('Fee Estimator'!$F91),0,IF('Fee Estimator'!$F91=\"\",0,IF($F$12=\"No\",0,IF(R$14=YEAR('Fee Estimator'!$F91),'Fee Estimator'!$M91,0))))","v":0},{"$f":"IF(ISTEXT('Fee Estimator'!$F91),0,IF('Fee Estimator'!$F91=\"\",0,IF($F$12=\"No\",0,IF(S$14=YEAR('Fee Estimator'!$F91),'Fee Estimator'!$M91,0))))","v":0},{"$f":"IF(ISTEXT('Fee Estimator'!$F91),0,IF('Fee Estimator'!$F91=\"\",0,IF($F$12=\"No\",0,IF(T$14=YEAR('Fee Estimator'!$F91),'Fee Estimator'!$M91,0))))","v":0},{"$f":"IF(ISTEXT('Fee Estimator'!$F91),0,IF('Fee Estimator'!$F91=\"\",0,IF($F$12=\"No\",0,IF(U$14=YEAR('Fee Estimator'!$F91),'Fee Estimator'!$M91,0))))","v":0},{"$f":"IF(ISTEXT('Fee Estimator'!$F91),0,IF('Fee Estimator'!$F91=\"\",0,IF($F$12=\"No\",0,IF(V$14=YEAR('Fee Estimator'!$F91),'Fee Estimator'!$M91,0))))","v":0},{"$f":"IF(ISTEXT('Fee Estimator'!$F91),0,IF('Fee Estimator'!$F91=\"\",0,IF($F$12=\"No\",0,IF(W$14=YEAR('Fee Estimator'!$F91),'Fee Estimator'!$M91,0))))","v":0},{"$f":"IF(ISTEXT('Fee Estimator'!$F91),0,IF('Fee Estimator'!$F91=\"\",0,IF($F$12=\"No\",0,IF(X$14=YEAR('Fee Estimator'!$F91),'Fee Estimator'!$M91,0))))","v":0},{"$f":"IF(ISTEXT('Fee Estimator'!$F91),0,IF('Fee Estimator'!$F91=\"\",0,IF($F$12=\"No\",0,IF(Y$14=YEAR('Fee Estimator'!$F91),'Fee Estimator'!$M91,0))))","v":0},{"$f":"IF(ISTEXT('Fee Estimator'!$F91),0,IF('Fee Estimator'!$F91=\"\",0,IF($F$12=\"No\",0,IF(Z$14=YEAR('Fee Estimator'!$F91),'Fee Estimator'!$M91,0))))","v":0},{"$f":"IF(ISTEXT('Fee Estimator'!$F91),0,IF('Fee Estimator'!$F91=\"\",0,IF($F$12=\"No\",0,IF(AA$14=YEAR('Fee Estimator'!$F91),'Fee Estimator'!$M91,0))))","v":0},{"$f":"IF(ISTEXT('Fee Estimator'!$F91),0,IF('Fee Estimator'!$F91=\"\",0,IF($F$12=\"No\",0,IF(AB$14=YEAR('Fee Estimator'!$F91),'Fee Estimator'!$M91,0))))","v":0},{"$f":"IF(ISTEXT('Fee Estimator'!$F91),0,IF('Fee Estimator'!$F91=\"\",0,IF($F$12=\"No\",0,IF(AC$14=YEAR('Fee Estimator'!$F91),'Fee Estimator'!$M91,0))))","v":0},{"$f":"IF(ISTEXT('Fee Estimator'!$F91),0,IF('Fee Estimator'!$F91=\"\",0,IF($F$12=\"No\",0,IF(AD$14=YEAR('Fee Estimator'!$F91),'Fee Estimator'!$M91,0))))","v":0},{"$f":"IF(ISTEXT('Fee Estimator'!$F91),0,IF('Fee Estimator'!$F91=\"\",0,IF($F$12=\"No\",0,IF(AE$14=YEAR('Fee Estimator'!$F91),'Fee Estimator'!$M91,0))))","v":0},{"$f":"IF(ISTEXT('Fee Estimator'!$F91),0,IF('Fee Estimator'!$F91=\"\",0,IF($F$12=\"No\",0,IF(AF$14=YEAR('Fee Estimator'!$F91),'Fee Estimator'!$M91,0))))","v":0},{"$f":"IF(ISTEXT('Fee Estimator'!$F91),0,IF('Fee Estimator'!$F91=\"\",0,IF($F$12=\"No\",0,IF(AG$14=YEAR('Fee Estimator'!$F91),'Fee Estimator'!$M91,0))))","v":0},{"$f":"IF(ISTEXT('Fee Estimator'!$F91),0,IF('Fee Estimator'!$F91=\"\",0,IF($F$12=\"No\",0,IF(AH$14=YEAR('Fee Estimator'!$F91),'Fee Estimator'!$M91,0))))","v":0},{"$f":"IF(ISTEXT('Fee Estimator'!$F91),0,IF('Fee Estimator'!$F91=\"\",0,IF($F$12=\"No\",0,IF(AI$14=YEAR('Fee Estimator'!$F91),'Fee Estimator'!$M91,0))))","v":0}]
[null,null,null,null,null,null,null,"PM10",null,{"$f":"('Emissions Estimator'!S105)","v":0},0,null,0,null,{"$f":"IF(ISTEXT('Fee Estimator'!$F91),0,IF('Fee Estimator'!$F91=\"\",0,IF($F$12=\"No\",0,IF(O$14=YEAR('Fee Estimator'!$F91),'Fee Estimator'!$M92,0))))","v":0},{"$f":"IF(ISTEXT('Fee Estimator'!$F91),0,IF('Fee Estimator'!$F91=\"\",0,IF($F$12=\"No\",0,IF(P$14=YEAR('Fee Estimator'!$F91),'Fee Estimator'!$M92,0))))","v":0},{"$f":"IF(ISTEXT('Fee Estimator'!$F91),0,IF('Fee Estimator'!$F91=\"\",0,IF($F$12=\"No\",0,IF(Q$14=YEAR('Fee Estimator'!$F91),'Fee Estimator'!$M92,0))))","v":0},{"$f":"IF(ISTEXT('Fee Estimator'!$F91),0,IF('Fee Estimator'!$F91=\"\",0,IF($F$12=\"No\",0,IF(R$14=YEAR('Fee Estimator'!$F91),'Fee Estimator'!$M92,0))))","v":0},{"$f":"IF(ISTEXT('Fee Estimator'!$F91),0,IF('Fee Estimator'!$F91=\"\",0,IF($F$12=\"No\",0,IF(S$14=YEAR('Fee Estimator'!$F91),'Fee Estimator'!$M92,0))))","v":0},{"$f":"IF(ISTEXT('Fee Estimator'!$F91),0,IF('Fee Estimator'!$F91=\"\",0,IF($F$12=\"No\",0,IF(T$14=YEAR('Fee Estimator'!$F91),'Fee Estimator'!$M92,0))))","v":0},{"$f":"IF(ISTEXT('Fee Estimator'!$F91),0,IF('Fee Estimator'!$F91=\"\",0,IF($F$12=\"No\",0,IF(U$14=YEAR('Fee Estimator'!$F91),'Fee Estimator'!$M92,0))))","v":0},{"$f":"IF(ISTEXT('Fee Estimator'!$F91),0,IF('Fee Estimator'!$F91=\"\",0,IF($F$12=\"No\",0,IF(V$14=YEAR('Fee Estimator'!$F91),'Fee Estimator'!$M92,0))))","v":0},{"$f":"IF(ISTEXT('Fee Estimator'!$F91),0,IF('Fee Estimator'!$F91=\"\",0,IF($F$12=\"No\",0,IF(W$14=YEAR('Fee Estimator'!$F91),'Fee Estimator'!$M92,0))))","v":0},{"$f":"IF(ISTEXT('Fee Estimator'!$F91),0,IF('Fee Estimator'!$F91=\"\",0,IF($F$12=\"No\",0,IF(X$14=YEAR('Fee Estimator'!$F91),'Fee Estimator'!$M92,0))))","v":0},{"$f":"IF(ISTEXT('Fee Estimator'!$F91),0,IF('Fee Estimator'!$F91=\"\",0,IF($F$12=\"No\",0,IF(Y$14=YEAR('Fee Estimator'!$F91),'Fee Estimator'!$M92,0))))","v":0},{"$f":"IF(ISTEXT('Fee Estimator'!$F91),0,IF('Fee Estimator'!$F91=\"\",0,IF($F$12=\"No\",0,IF(Z$14=YEAR('Fee Estimator'!$F91),'Fee Estimator'!$M92,0))))","v":0},{"$f":"IF(ISTEXT('Fee Estimator'!$F91),0,IF('Fee Estimator'!$F91=\"\",0,IF($F$12=\"No\",0,IF(AA$14=YEAR('Fee Estimator'!$F91),'Fee Estimator'!$M92,0))))","v":0},{"$f":"IF(ISTEXT('Fee Estimator'!$F91),0,IF('Fee Estimator'!$F91=\"\",0,IF($F$12=\"No\",0,IF(AB$14=YEAR('Fee Estimator'!$F91),'Fee Estimator'!$M92,0))))","v":0},{"$f":"IF(ISTEXT('Fee Estimator'!$F91),0,IF('Fee Estimator'!$F91=\"\",0,IF($F$12=\"No\",0,IF(AC$14=YEAR('Fee Estimator'!$F91),'Fee Estimator'!$M92,0))))","v":0},{"$f":"IF(ISTEXT('Fee Estimator'!$F91),0,IF('Fee Estimator'!$F91=\"\",0,IF($F$12=\"No\",0,IF(AD$14=YEAR('Fee Estimator'!$F91),'Fee Estimator'!$M92,0))))","v":0},{"$f":"IF(ISTEXT('Fee Estimator'!$F91),0,IF('Fee Estimator'!$F91=\"\",0,IF($F$12=\"No\",0,IF(AE$14=YEAR('Fee Estimator'!$F91),'Fee Estimator'!$M92,0))))","v":0},{"$f":"IF(ISTEXT('Fee Estimator'!$F91),0,IF('Fee Estimator'!$F91=\"\",0,IF($F$12=\"No\",0,IF(AF$14=YEAR('Fee Estimator'!$F91),'Fee Estimator'!$M92,0))))","v":0},{"$f":"IF(ISTEXT('Fee Estimator'!$F91),0,IF('Fee Estimator'!$F91=\"\",0,IF($F$12=\"No\",0,IF(AG$14=YEAR('Fee Estimator'!$F91),'Fee Estimator'!$M92,0))))","v":0},{"$f":"IF(ISTEXT('Fee Estimator'!$F91),0,IF('Fee Estimator'!$F91=\"\",0,IF($F$12=\"No\",0,IF(AH$14=YEAR('Fee Estimator'!$F91),'Fee Estimator'!$M92,0))))","v":0},{"$f":"IF(ISTEXT('Fee Estimator'!$F91),0,IF('Fee Estimator'!$F91=\"\",0,IF($F$12=\"No\",0,IF(AI$14=YEAR('Fee Estimator'!$F91),'Fee Estimator'!$M92,0))))","v":0}]
[{"$f":"IF(AND('Emissions Estimator'!$A51=\"\",'Emissions Estimator'!$A106=\"\"),\"\",IF(AND('Emissions Estimator'!$A51=\"\",'Emissions Estimator'!$A106<>\"\"),\"Operation\",IF(AND('Emissions Estimator'!$A106=\"\",'Emissions Estimator'!$A51<>\"\"),\"Construction\",MIN('Emissions Estimator'!$A51,'Emissions Estimator'!$A106))))","v":""},{"$f":"IF(A93=\"\",\"\",IF(AND(A93=\"Construction\",'Emissions Estimator'!$O$9=\"No\"),\"No\",IF(AND(A93=\"Construction\",'Emissions Estimator'!$O$9=\"Yes\"),\"Yes\",IF(A93=\"Operation\",\"\"))))","v":""},{"$f":"IF(AND('Emissions Estimator'!$A51=\"\",'Emissions Estimator'!$A106=\"\"),\"\",IF(AND('Emissions Estimator'!$A51=\"\",'Emissions Estimator'!$A106<>\"\"),'Emissions Estimator'!$A106,IF(AND('Emissions Estimator'!$A106=\"\",'Emissions Estimator'!$A51<>\"\"),'Emissions Estimator'!$A51,MIN('Emissions Estimator'!$A51,'Emissions Estimator'!$A106))))","v":""},40,{"$f":"IF(AND('Emissions Estimator'!C51=\"\",'Emissions Estimator'!C106=\"\"),\"\",IF(AND('Emissions Estimator'!C51=\"\",'Emissions Estimator'!C106<>\"\"),'Emissions Estimator'!C106,IF(AND('Emissions Estimator'!C106=\"\",'Emissions Estimator'!C51<>\"\"),'Emissions Estimator'!C51,MIN('Emissions Estimator'!C51,'Emissions Estimator'!C106))))","v":""},{"$f":"IF(AND(B93=\"\",E93=\"\"),\"\",IF(AND(B93=\"Yes\",$F$12=\"Yes\"),\"Clean Fleet\",IF(AND(B93=\"Yes\",$F$12=\"No\"),\"Clean Fleet\",IF(AND(A93=\"Operation\",$F$12=\"No\"),$E$15-1,IF(AND(A93=\"Operation\",$F$12=\"Yes\"),E93-1,IF(AND(B93=\"No\",$F$12=\"No\"),$E$15-1,IF(AND(B93=\"No\",$F$12=\"Yes\"),E93-1)))))))","v":""},null,"NOx",null,{"$f":"('Emissions Estimator'!R106)","v":0},0,null,0,null,{"$f":"IF(ISTEXT('Fee Estimator'!$F93),0,IF('Fee Estimator'!$F93=\"\",0,IF($F$12=\"No\",0,IF(O$14=YEAR('Fee Estimator'!$F93),'Fee Estimator'!$M93,0))))","v":0},{"$f":"IF(ISTEXT('Fee Estimator'!$F93),0,IF('Fee Estimator'!$F93=\"\",0,IF($F$12=\"No\",0,IF(P$14=YEAR('Fee Estimator'!$F93),'Fee Estimator'!$M93,0))))","v":0},{"$f":"IF(ISTEXT('Fee Estimator'!$F93),0,IF('Fee Estimator'!$F93=\"\",0,IF($F$12=\"No\",0,IF(Q$14=YEAR('Fee Estimator'!$F93),'Fee Estimator'!$M93,0))))","v":0},{"$f":"IF(ISTEXT('Fee Estimator'!$F93),0,IF('Fee Estimator'!$F93=\"\",0,IF($F$12=\"No\",0,IF(R$14=YEAR('Fee Estimator'!$F93),'Fee Estimator'!$M93,0))))","v":0},{"$f":"IF(ISTEXT('Fee Estimator'!$F93),0,IF('Fee Estimator'!$F93=\"\",0,IF($F$12=\"No\",0,IF(S$14=YEAR('Fee Estimator'!$F93),'Fee Estimator'!$M93,0))))","v":0},{"$f":"IF(ISTEXT('Fee Estimator'!$F93),0,IF('Fee Estimator'!$F93=\"\",0,IF($F$12=\"No\",0,IF(T$14=YEAR('Fee Estimator'!$F93),'Fee Estimator'!$M93,0))))","v":0},{"$f":"IF(ISTEXT('Fee Estimator'!$F93),0,IF('Fee Estimator'!$F93=\"\",0,IF($F$12=\"No\",0,IF(U$14=YEAR('Fee Estimator'!$F93),'Fee Estimator'!$M93,0))))","v":0},{"$f":"IF(ISTEXT('Fee Estimator'!$F93),0,IF('Fee Estimator'!$F93=\"\",0,IF($F$12=\"No\",0,IF(V$14=YEAR('Fee Estimator'!$F93),'Fee Estimator'!$M93,0))))","v":0},{"$f":"IF(ISTEXT('Fee Estimator'!$F93),0,IF('Fee Estimator'!$F93=\"\",0,IF($F$12=\"No\",0,IF(W$14=YEAR('Fee Estimator'!$F93),'Fee Estimator'!$M93,0))))","v":0},{"$f":"IF(ISTEXT('Fee Estimator'!$F93),0,IF('Fee Estimator'!$F93=\"\",0,IF($F$12=\"No\",0,IF(X$14=YEAR('Fee Estimator'!$F93),'Fee Estimator'!$M93,0))))","v":0},{"$f":"IF(ISTEXT('Fee Estimator'!$F93),0,IF('Fee Estimator'!$F93=\"\",0,IF($F$12=\"No\",0,IF(Y$14=YEAR('Fee Estimator'!$F93),'Fee Estimator'!$M93,0))))","v":0},{"$f":"IF(ISTEXT('Fee Estimator'!$F93),0,IF('Fee Estimator'!$F93=\"\",0,IF($F$12=\"No\",0,IF(Z$14=YEAR('Fee Estimator'!$F93),'Fee Estimator'!$M93,0))))","v":0},{"$f":"IF(ISTEXT('Fee Estimator'!$F93),0,IF('Fee Estimator'!$F93=\"\",0,IF($F$12=\"No\",0,IF(AA$14=YEAR('Fee Estimator'!$F93),'Fee Estimator'!$M93,0))))","v":0},{"$f":"IF(ISTEXT('Fee Estimator'!$F93),0,IF('Fee Estimator'!$F93=\"\",0,IF($F$12=\"No\",0,IF(AB$14=YEAR('Fee Estimator'!$F93),'Fee Estimator'!$M93,0))))","v":0},{"$f":"IF(ISTEXT('Fee Estimator'!$F93),0,IF('Fee Estimator'!$F93=\"\",0,IF($F$12=\"No\",0,IF(AC$14=YEAR('Fee Estimator'!$F93),'Fee Estimator'!$M93,0))))","v":0},{"$f":"IF(ISTEXT('Fee Estimator'!$F93),0,IF('Fee Estimator'!$F93=\"\",0,IF($F$12=\"No\",0,IF(AD$14=YEAR('Fee Estimator'!$F93),'Fee Estimator'!$M93,0))))","v":0},{"$f":"IF(ISTEXT('Fee Estimator'!$F93),0,IF('Fee Estimator'!$F93=\"\",0,IF($F$12=\"No\",0,IF(AE$14=YEAR('Fee Estimator'!$F93),'Fee Estimator'!$M93,0))))","v":0},{"$f":"IF(ISTEXT('Fee Estimator'!$F93),0,IF('Fee Estimator'!$F93=\"\",0,IF($F$12=\"No\",0,IF(AF$14=YEAR('Fee Estimator'!$F93),'Fee Estimator'!$M93,0))))","v":0},{"$f":"IF(ISTEXT('Fee Estimator'!$F93),0,IF('Fee Estimator'!$F93=\"\",0,IF($F$12=\"No\",0,IF(AG$14=YEAR('Fee Estimator'!$F93),'Fee Estimator'!$M93,0))))","v":0},{"$f":"IF(ISTEXT('Fee Estimator'!$F93),0,IF('Fee Estimator'!$F93=\"\",0,IF($F$12=\"No\",0,IF(AH$14=YEAR('Fee Estimator'!$F93),'Fee Estimator'!$M93,0))))","v":0},{"$f":"IF(ISTEXT('Fee Estimator'!$F93),0,IF('Fee Estimator'!$F93=\"\",0,IF($F$12=\"No\",0,IF(AI$14=YEAR('Fee Estimator'!$F93),'Fee Estimator'!$M93,0))))","v":0}]
[null,null,null,null,null,null,null,"PM10",null,{"$f":"('Emissions Estimator'!S106)","v":0},0,null,0,null,{"$f":"IF(ISTEXT('Fee Estimator'!$F93),0,IF('Fee Estimator'!$F93=\"\",0,IF($F$12=\"No\",0,IF(O$14=YEAR('Fee Estimator'!$F93),'Fee Estimator'!$M94,0))))","v":0},{"$f":"IF(ISTEXT('Fee Estimator'!$F93),0,IF('Fee Estimator'!$F93=\"\",0,IF($F$12=\"No\",0,IF(P$14=YEAR('Fee Estimator'!$F93),'Fee Estimator'!$M94,0))))","v":0},{"$f":"IF(ISTEXT('Fee Estimator'!$F93),0,IF('Fee Estimator'!$F93=\"\",0,IF($F$12=\"No\",0,IF(Q$14=YEAR('Fee Estimator'!$F93),'Fee Estimator'!$M94,0))))","v":0},{"$f":"IF(ISTEXT('Fee Estimator'!$F93),0,IF('Fee Estimator'!$F93=\"\",0,IF($F$12=\"No\",0,IF(R$14=YEAR('Fee Estimator'!$F93),'Fee Estimator'!$M94,0))))","v":0},{"$f":"IF(ISTEXT('Fee Estimator'!$F93),0,IF('Fee Estimator'!$F93=\"\",0,IF($F$12=\"No\",0,IF(S$14=YEAR('Fee Estimator'!$F93),'Fee Estimator'!$M94,0))))","v":0},{"$f":"IF(ISTEXT('Fee Estimator'!$F93),0,IF('Fee Estimator'!$F93=\"\",0,IF($F$12=\"No\",0,IF(T$14=YEAR('Fee Estimator'!$F93),'Fee Estimator'!$M94,0))))","v":0},{"$f":"IF(ISTEXT('Fee Estimator'!$F93),0,IF('Fee Estimator'!$F93=\"\",0,IF($F$12=\"No\",0,IF(U$14=YEAR('Fee Estimator'!$F93),'Fee Estimator'!$M94,0))))","v":0},{"$f":"IF(ISTEXT('Fee Estimator'!$F93),0,IF('Fee Estimator'!$F93=\"\",0,IF($F$12=\"No\",0,IF(V$14=YEAR('Fee Estimator'!$F93),'Fee Estimator'!$M94,0))))","v":0},{"$f":"IF(ISTEXT('Fee Estimator'!$F93),0,IF('Fee Estimator'!$F93=\"\",0,IF($F$12=\"No\",0,IF(W$14=YEAR('Fee Estimator'!$F93),'Fee Estimator'!$M94,0))))","v":0},{"$f":"IF(ISTEXT('Fee Estimator'!$F93),0,IF('Fee Estimator'!$F93=\"\",0,IF($F$12=\"No\",0,IF(X$14=YEAR('Fee Estimator'!$F93),'Fee Estimator'!$M94,0))))","v":0},{"$f":"IF(ISTEXT('Fee Estimator'!$F93),0,IF('Fee Estimator'!$F93=\"\",0,IF($F$12=\"No\",0,IF(Y$14=YEAR('Fee Estimator'!$F93),'Fee Estimator'!$M94,0))))","v":0},{"$f":"IF(ISTEXT('Fee Estimator'!$F93),0,IF('Fee Estimator'!$F93=\"\",0,IF($F$12=\"No\",0,IF(Z$14=YEAR('Fee Estimator'!$F93),'Fee Estimator'!$M94,0))))","v":0},{"$f":"IF(ISTEXT('Fee Estimator'!$F93),0,IF('Fee Estimator'!$F93=\"\",0,IF($F$12=\"No\",0,IF(AA$14=YEAR('Fee Estimator'!$F93),'Fee Estimator'!$M94,0))))","v":0},{"$f":"IF(ISTEXT('Fee Estimator'!$F93),0,IF('Fee Estimator'!$F93=\"\",0,IF($F$12=\"No\",0,IF(AB$14=YEAR('Fee Estimator'!$F93),'Fee Estimator'!$M94,0))))","v":0},{"$f":"IF(ISTEXT('Fee Estimator'!$F93),0,IF('Fee Estimator'!$F93=\"\",0,IF($F$12=\"No\",0,IF(AC$14=YEAR('Fee Estimator'!$F93),'Fee Estimator'!$M94,0))))","v":0},{"$f":"IF(ISTEXT('Fee Estimator'!$F93),0,IF('Fee Estimator'!$F93=\"\",0,IF($F$12=\"No\",0,IF(AD$14=YEAR('Fee Estimator'!$F93),'Fee Estimator'!$M94,0))))","v":0},{"$f":"IF(ISTEXT('Fee Estimator'!$F93),0,IF('Fee Estimator'!$F93=\"\",0,IF($F$12=\"No\",0,IF(AE$14=YEAR('Fee Estimator'!$F93),'Fee Estimator'!$M94,0))))","v":0},{"$f":"IF(ISTEXT('Fee Estimator'!$F93),0,IF('Fee Estimator'!$F93=\"\",0,IF($F$12=\"No\",0,IF(AF$14=YEAR('Fee Estimator'!$F93),'Fee Estimator'!$M94,0))))","v":0},{"$f":"IF(ISTEXT('Fee Estimator'!$F93),0,IF('Fee Estimator'!$F93=\"\",0,IF($F$12=\"No\",0,IF(AG$14=YEAR('Fee Estimator'!$F93),'Fee Estimator'!$M94,0))))","v":0},{"$f":"IF(ISTEXT('Fee Estimator'!$F93),0,IF('Fee Estimator'!$F93=\"\",0,IF($F$12=\"No\",0,IF(AH$14=YEAR('Fee Estimator'!$F93),'Fee Estimator'!$M94,0))))","v":0},{"$f":"IF(ISTEXT('Fee Estimator'!$F93),0,IF('Fee Estimator'!$F93=\"\",0,IF($F$12=\"No\",0,IF(AI$14=YEAR('Fee Estimator'!$F93),'Fee Estimator'!$M94,0))))","v":0}]
[{"$f":"IF(AND('Emissions Estimator'!$A52=\"\",'Emissions Estimator'!$A107=\"\"),\"\",IF(AND('Emissions Estimator'!$A52=\"\",'Emissions Estimator'!$A107<>\"\"),\"Operation\",IF(AND('Emissions Estimator'!$A107=\"\",'Emissions Estimator'!$A52<>\"\"),\"Construction\",MIN('Emissions Estimator'!$A52,'Emissions Estimator'!$A107))))","v":""},{"$f":"IF(A95=\"\",\"\",IF(AND(A95=\"Construction\",'Emissions Estimator'!$O$9=\"No\"),\"No\",IF(AND(A95=\"Construction\",'Emissions Estimator'!$O$9=\"Yes\"),\"Yes\",IF(A95=\"Operation\",\"\"))))","v":""},{"$f":"IF(AND('Emissions Estimator'!$A52=\"\",'Emissions Estimator'!$A107=\"\"),\"\",IF(AND('Emissions Estimator'!$A52=\"\",'Emissions Estimator'!$A107<>\"\"),'Emissions Estimator'!$A107,IF(AND('Emissions Estimator'!$A107=\"\",'Emissions Estimator'!$A52<>\"\"),'Emissions Estimator'!$A52,MIN('Emissions Estimator'!$A52,'Emissions Estimator'!$A107))))","v":""},41,{"$f":"IF(AND('Emissions Estimator'!C52=\"\",'Emissions Estimator'!C107=\"\"),\"\",IF(AND('Emissions Estimator'!C52=\"\",'Emissions Estimator'!C107<>\"\"),'Emissions Estimator'!C107,IF(AND('Emissions Estimator'!C107=\"\",'Emissions Estimator'!C52<>\"\"),'Emissions Estimator'!C52,MIN('Emissions Estimator'!C52,'Emissions Estimator'!C107))))","v":""},{"$f":"IF(AND(B95=\"\",E95=\"\"),\"\",IF(AND(B95=\"Yes\",$F$12=\"Yes\"),\"Clean Fleet\",IF(AND(B95=\"Yes\",$F$12=\"No\"),\"Clean Fleet\",IF(AND(A95=\"Operation\",$F$12=\"No\"),$E$15-1,IF(AND(A95=\"Operation\",$F$12=\"Yes\"),E95-1,IF(AND(B95=\"No\",$F$12=\"No\"),$E$15-1,IF(AND(B95=\"No\",$F$12=\"Yes\"),E95-1)))))))","v":""},null,"NOx",null,{"$f":"('Emissions Estimator'!R107)","v":0},0,null,0,null,{"$f":"IF(ISTEXT('Fee Estimator'!$F95),0,IF('Fee Estimator'!$F95=\"\",0,IF($F$12=\"No\",0,IF(O$14=YEAR('Fee Estimator'!$F95),'Fee Estimator'!$M95,0))))","v":0},{"$f":"IF(ISTEXT('Fee Estimator'!$F95),0,IF('Fee Estimator'!$F95=\"\",0,IF($F$12=\"No\",0,IF(P$14=YEAR('Fee Estimator'!$F95),'Fee Estimator'!$M95,0))))","v":0},{"$f":"IF(ISTEXT('Fee Estimator'!$F95),0,IF('Fee Estimator'!$F95=\"\",0,IF($F$12=\"No\",0,IF(Q$14=YEAR('Fee Estimator'!$F95),'Fee Estimator'!$M95,0))))","v":0},{"$f":"IF(ISTEXT('Fee Estimator'!$F95),0,IF('Fee Estimator'!$F95=\"\",0,IF($F$12=\"No\",0,IF(R$14=YEAR('Fee Estimator'!$F95),'Fee Estimator'!$M95,0))))","v":0},{"$f":"IF(ISTEXT('Fee Estimator'!$F95),0,IF('Fee Estimator'!$F95=\"\",0,IF($F$12=\"No\",0,IF(S$14=YEAR('Fee Estimator'!$F95),'Fee Estimator'!$M95,0))))","v":0},{"$f":"IF(ISTEXT('Fee Estimator'!$F95),0,IF('Fee Estimator'!$F95=\"\",0,IF($F$12=\"No\",0,IF(T$14=YEAR('Fee Estimator'!$F95),'Fee Estimator'!$M95,0))))","v":0},{"$f":"IF(ISTEXT('Fee Estimator'!$F95),0,IF('Fee Estimator'!$F95=\"\",0,IF($F$12=\"No\",0,IF(U$14=YEAR('Fee Estimator'!$F95),'Fee Estimator'!$M95,0))))","v":0},{"$f":"IF(ISTEXT('Fee Estimator'!$F95),0,IF('Fee Estimator'!$F95=\"\",0,IF($F$12=\"No\",0,IF(V$14=YEAR('Fee Estimator'!$F95),'Fee Estimator'!$M95,0))))","v":0},{"$f":"IF(ISTEXT('Fee Estimator'!$F95),0,IF('Fee Estimator'!$F95=\"\",0,IF($F$12=\"No\",0,IF(W$14=YEAR('Fee Estimator'!$F95),'Fee Estimator'!$M95,0))))","v":0},{"$f":"IF(ISTEXT('Fee Estimator'!$F95),0,IF('Fee Estimator'!$F95=\"\",0,IF($F$12=\"No\",0,IF(X$14=YEAR('Fee Estimator'!$F95),'Fee Estimator'!$M95,0))))","v":0},{"$f":"IF(ISTEXT('Fee Estimator'!$F95),0,IF('Fee Estimator'!$F95=\"\",0,IF($F$12=\"No\",0,IF(Y$14=YEAR('Fee Estimator'!$F95),'Fee Estimator'!$M95,0))))","v":0},{"$f":"IF(ISTEXT('Fee Estimator'!$F95),0,IF('Fee Estimator'!$F95=\"\",0,IF($F$12=\"No\",0,IF(Z$14=YEAR('Fee Estimator'!$F95),'Fee Estimator'!$M95,0))))","v":0},{"$f":"IF(ISTEXT('Fee Estimator'!$F95),0,IF('Fee Estimator'!$F95=\"\",0,IF($F$12=\"No\",0,IF(AA$14=YEAR('Fee Estimator'!$F95),'Fee Estimator'!$M95,0))))","v":0},{"$f":"IF(ISTEXT('Fee Estimator'!$F95),0,IF('Fee Estimator'!$F95=\"\",0,IF($F$12=\"No\",0,IF(AB$14=YEAR('Fee Estimator'!$F95),'Fee Estimator'!$M95,0))))","v":0},{"$f":"IF(ISTEXT('Fee Estimator'!$F95),0,IF('Fee Estimator'!$F95=\"\",0,IF($F$12=\"No\",0,IF(AC$14=YEAR('Fee Estimator'!$F95),'Fee Estimator'!$M95,0))))","v":0},{"$f":"IF(ISTEXT('Fee Estimator'!$F95),0,IF('Fee Estimator'!$F95=\"\",0,IF($F$12=\"No\",0,IF(AD$14=YEAR('Fee Estimator'!$F95),'Fee Estimator'!$M95,0))))","v":0},{"$f":"IF(ISTEXT('Fee Estimator'!$F95),0,IF('Fee Estimator'!$F95=\"\",0,IF($F$12=\"No\",0,IF(AE$14=YEAR('Fee Estimator'!$F95),'Fee Estimator'!$M95,0))))","v":0},{"$f":"IF(ISTEXT('Fee Estimator'!$F95),0,IF('Fee Estimator'!$F95=\"\",0,IF($F$12=\"No\",0,IF(AF$14=YEAR('Fee Estimator'!$F95),'Fee Estimator'!$M95,0))))","v":0},{"$f":"IF(ISTEXT('Fee Estimator'!$F95),0,IF('Fee Estimator'!$F95=\"\",0,IF($F$12=\"No\",0,IF(AG$14=YEAR('Fee Estimator'!$F95),'Fee Estimator'!$M95,0))))","v":0},{"$f":"IF(ISTEXT('Fee Estimator'!$F95),0,IF('Fee Estimator'!$F95=\"\",0,IF($F$12=\"No\",0,IF(AH$14=YEAR('Fee Estimator'!$F95),'Fee Estimator'!$M95,0))))","v":0},{"$f":"IF(ISTEXT('Fee Estimator'!$F95),0,IF('Fee Estimator'!$F95=\"\",0,IF($F$12=\"No\",0,IF(AI$14=YEAR('Fee Estimator'!$F95),'Fee Estimator'!$M95,0))))","v":0}]
[null,null,null,null,null,null,null,"PM10",null,{"$f":"('Emissions Estimator'!S107)","v":0},0,null,0,null,{"$f":"IF(ISTEXT('Fee Estimator'!$F95),0,IF('Fee Estimator'!$F95=\"\",0,IF($F$12=\"No\",0,IF(O$14=YEAR('Fee Estimator'!$F95),'Fee Estimator'!$M96,0))))","v":0},{"$f":"IF(ISTEXT('Fee Estimator'!$F95),0,IF('Fee Estimator'!$F95=\"\",0,IF($F$12=\"No\",0,IF(P$14=YEAR('Fee Estimator'!$F95),'Fee Estimator'!$M96,0))))","v":0},{"$f":"IF(ISTEXT('Fee Estimator'!$F95),0,IF('Fee Estimator'!$F95=\"\",0,IF($F$12=\"No\",0,IF(Q$14=YEAR('Fee Estimator'!$F95),'Fee Estimator'!$M96,0))))","v":0},{"$f":"IF(ISTEXT('Fee Estimator'!$F95),0,IF('Fee Estimator'!$F95=\"\",0,IF($F$12=\"No\",0,IF(R$14=YEAR('Fee Estimator'!$F95),'Fee Estimator'!$M96,0))))","v":0},{"$f":"IF(ISTEXT('Fee Estimator'!$F95),0,IF('Fee Estimator'!$F95=\"\",0,IF($F$12=\"No\",0,IF(S$14=YEAR('Fee Estimator'!$F95),'Fee Estimator'!$M96,0))))","v":0},{"$f":"IF(ISTEXT('Fee Estimator'!$F95),0,IF('Fee Estimator'!$F95=\"\",0,IF($F$12=\"No\",0,IF(T$14=YEAR('Fee Estimator'!$F95),'Fee Estimator'!$M96,0))))","v":0},{"$f":"IF(ISTEXT('Fee Estimator'!$F95),0,IF('Fee Estimator'!$F95=\"\",0,IF($F$12=\"No\",0,IF(U$14=YEAR('Fee Estimator'!$F95),'Fee Estimator'!$M96,0))))","v":0},{"$f":"IF(ISTEXT('Fee Estimator'!$F95),0,IF('Fee Estimator'!$F95=\"\",0,IF($F$12=\"No\",0,IF(V$14=YEAR('Fee Estimator'!$F95),'Fee Estimator'!$M96,0))))","v":0},{"$f":"IF(ISTEXT('Fee Estimator'!$F95),0,IF('Fee Estimator'!$F95=\"\",0,IF($F$12=\"No\",0,IF(W$14=YEAR('Fee Estimator'!$F95),'Fee Estimator'!$M96,0))))","v":0},{"$f":"IF(ISTEXT('Fee Estimator'!$F95),0,IF('Fee Estimator'!$F95=\"\",0,IF($F$12=\"No\",0,IF(X$14=YEAR('Fee Estimator'!$F95),'Fee Estimator'!$M96,0))))","v":0},{"$f":"IF(ISTEXT('Fee Estimator'!$F95),0,IF('Fee Estimator'!$F95=\"\",0,IF($F$12=\"No\",0,IF(Y$14=YEAR('Fee Estimator'!$F95),'Fee Estimator'!$M96,0))))","v":0},{"$f":"IF(ISTEXT('Fee Estimator'!$F95),0,IF('Fee Estimator'!$F95=\"\",0,IF($F$12=\"No\",0,IF(Z$14=YEAR('Fee Estimator'!$F95),'Fee Estimator'!$M96,0))))","v":0},{"$f":"IF(ISTEXT('Fee Estimator'!$F95),0,IF('Fee Estimator'!$F95=\"\",0,IF($F$12=\"No\",0,IF(AA$14=YEAR('Fee Estimator'!$F95),'Fee Estimator'!$M96,0))))","v":0},{"$f":"IF(ISTEXT('Fee Estimator'!$F95),0,IF('Fee Estimator'!$F95=\"\",0,IF($F$12=\"No\",0,IF(AB$14=YEAR('Fee Estimator'!$F95),'Fee Estimator'!$M96,0))))","v":0},{"$f":"IF(ISTEXT('Fee Estimator'!$F95),0,IF('Fee Estimator'!$F95=\"\",0,IF($F$12=\"No\",0,IF(AC$14=YEAR('Fee Estimator'!$F95),'Fee Estimator'!$M96,0))))","v":0},{"$f":"IF(ISTEXT('Fee Estimator'!$F95),0,IF('Fee Estimator'!$F95=\"\",0,IF($F$12=\"No\",0,IF(AD$14=YEAR('Fee Estimator'!$F95),'Fee Estimator'!$M96,0))))","v":0},{"$f":"IF(ISTEXT('Fee Estimator'!$F95),0,IF('Fee Estimator'!$F95=\"\",0,IF($F$12=\"No\",0,IF(AE$14=YEAR('Fee Estimator'!$F95),'Fee Estimator'!$M96,0))))","v":0},{"$f":"IF(ISTEXT('Fee Estimator'!$F95),0,IF('Fee Estimator'!$F95=\"\",0,IF($F$12=\"No\",0,IF(AF$14=YEAR('Fee Estimator'!$F95),'Fee Estimator'!$M96,0))))","v":0},{"$f":"IF(ISTEXT('Fee Estimator'!$F95),0,IF('Fee Estimator'!$F95=\"\",0,IF($F$12=\"No\",0,IF(AG$14=YEAR('Fee Estimator'!$F95),'Fee Estimator'!$M96,0))))","v":0},{"$f":"IF(ISTEXT('Fee Estimator'!$F95),0,IF('Fee Estimator'!$F95=\"\",0,IF($F$12=\"No\",0,IF(AH$14=YEAR('Fee Estimator'!$F95),'Fee Estimator'!$M96,0))))","v":0},{"$f":"IF(ISTEXT('Fee Estimator'!$F95),0,IF('Fee Estimator'!$F95=\"\",0,IF($F$12=\"No\",0,IF(AI$14=YEAR('Fee Estimator'!$F95),'Fee Estimator'!$M96,0))))","v":0}]
[{"$f":"IF(AND('Emissions Estimator'!$A53=\"\",'Emissions Estimator'!$A108=\"\"),\"\",IF(AND('Emissions Estimator'!$A53=\"\",'Emissions Estimator'!$A108<>\"\"),\"Operation\",IF(AND('Emissions Estimator'!$A108=\"\",'Emissions Estimator'!$A53<>\"\"),\"Construction\",MIN('Emissions Estimator'!$A53,'Emissions Estimator'!$A108))))","v":""},{"$f":"IF(A97=\"\",\"\",IF(AND(A97=\"Construction\",'Emissions Estimator'!$O$9=\"No\"),\"No\",IF(AND(A97=\"Construction\",'Emissions Estimator'!$O$9=\"Yes\"),\"Yes\",IF(A97=\"Operation\",\"\"))))","v":""},{"$f":"IF(AND('Emissions Estimator'!$A53=\"\",'Emissions Estimator'!$A108=\"\"),\"\",IF(AND('Emissions Estimator'!$A53=\"\",'Emissions Estimator'!$A108<>\"\"),'Emissions Estimator'!$A108,IF(AND('Emissions Estimator'!$A108=\"\",'Emissions Estimator'!$A53<>\"\"),'Emissions Estimator'!$A53,MIN('Emissions Estimator'!$A53,'Emissions Estimator'!$A108))))","v":""},42,{"$f":"IF(AND('Emissions Estimator'!C53=\"\",'Emissions Estimator'!C108=\"\"),\"\",IF(AND('Emissions Estimator'!C53=\"\",'Emissions Estimator'!C108<>\"\"),'Emissions Estimator'!C108,IF(AND('Emissions Estimator'!C108=\"\",'Emissions Estimator'!C53<>\"\"),'Emissions Estimator'!C53,MIN('Emissions Estimator'!C53,'Emissions Estimator'!C108))))","v":""},{"$f":"IF(AND(B97=\"\",E97=\"\"),\"\",IF(AND(B97=\"Yes\",$F$12=\"Yes\"),\"Clean Fleet\",IF(AND(B97=\"Yes\",$F$12=\"No\"),\"Clean Fleet\",IF(AND(A97=\"Operation\",$F$12=\"No\"),$E$15-1,IF(AND(A97=\"Operation\",$F$12=\"Yes\"),E97-1,IF(AND(B97=\"No\",$F$12=\"No\"),$E$15-1,IF(AND(B97=\"No\",$F$12=\"Yes\"),E97-1)))))))","v":""},null,"NOx",null,{"$f":"('Emissions Estimator'!R108)","v":0},0,null,0,null,{"$f":"IF(ISTEXT('Fee Estimator'!$F97),0,IF('Fee Estimator'!$F97=\"\",0,IF($F$12=\"No\",0,IF(O$14=YEAR('Fee Estimator'!$F97),'Fee Estimator'!$M97,0))))","v":0},{"$f":"IF(ISTEXT('Fee Estimator'!$F97),0,IF('Fee Estimator'!$F97=\"\",0,IF($F$12=\"No\",0,IF(P$14=YEAR('Fee Estimator'!$F97),'Fee Estimator'!$M97,0))))","v":0},{"$f":"IF(ISTEXT('Fee Estimator'!$F97),0,IF('Fee Estimator'!$F97=\"\",0,IF($F$12=\"No\",0,IF(Q$14=YEAR('Fee Estimator'!$F97),'Fee Estimator'!$M97,0))))","v":0},{"$f":"IF(ISTEXT('Fee Estimator'!$F97),0,IF('Fee Estimator'!$F97=\"\",0,IF($F$12=\"No\",0,IF(R$14=YEAR('Fee Estimator'!$F97),'Fee Estimator'!$M97,0))))","v":0},{"$f":"IF(ISTEXT('Fee Estimator'!$F97),0,IF('Fee Estimator'!$F97=\"\",0,IF($F$12=\"No\",0,IF(S$14=YEAR('Fee Estimator'!$F97),'Fee Estimator'!$M97,0))))","v":0},{"$f":"IF(ISTEXT('Fee Estimator'!$F97),0,IF('Fee Estimator'!$F97=\"\",0,IF($F$12=\"No\",0,IF(T$14=YEAR('Fee Estimator'!$F97),'Fee Estimator'!$M97,0))))","v":0},{"$f":"IF(ISTEXT('Fee Estimator'!$F97),0,IF('Fee Estimator'!$F97=\"\",0,IF($F$12=\"No\",0,IF(U$14=YEAR('Fee Estimator'!$F97),'Fee Estimator'!$M97,0))))","v":0},{"$f":"IF(ISTEXT('Fee Estimator'!$F97),0,IF('Fee Estimator'!$F97=\"\",0,IF($F$12=\"No\",0,IF(V$14=YEAR('Fee Estimator'!$F97),'Fee Estimator'!$M97,0))))","v":0},{"$f":"IF(ISTEXT('Fee Estimator'!$F97),0,IF('Fee Estimator'!$F97=\"\",0,IF($F$12=\"No\",0,IF(W$14=YEAR('Fee Estimator'!$F97),'Fee Estimator'!$M97,0))))","v":0},{"$f":"IF(ISTEXT('Fee Estimator'!$F97),0,IF('Fee Estimator'!$F97=\"\",0,IF($F$12=\"No\",0,IF(X$14=YEAR('Fee Estimator'!$F97),'Fee Estimator'!$M97,0))))","v":0},{"$f":"IF(ISTEXT('Fee Estimator'!$F97),0,IF('Fee Estimator'!$F97=\"\",0,IF($F$12=\"No\",0,IF(Y$14=YEAR('Fee Estimator'!$F97),'Fee Estimator'!$M97,0))))","v":0},{"$f":"IF(ISTEXT('Fee Estimator'!$F97),0,IF('Fee Estimator'!$F97=\"\",0,IF($F$12=\"No\",0,IF(Z$14=YEAR('Fee Estimator'!$F97),'Fee Estimator'!$M97,0))))","v":0},{"$f":"IF(ISTEXT('Fee Estimator'!$F97),0,IF('Fee Estimator'!$F97=\"\",0,IF($F$12=\"No\",0,IF(AA$14=YEAR('Fee Estimator'!$F97),'Fee Estimator'!$M97,0))))","v":0},{"$f":"IF(ISTEXT('Fee Estimator'!$F97),0,IF('Fee Estimator'!$F97=\"\",0,IF($F$12=\"No\",0,IF(AB$14=YEAR('Fee Estimator'!$F97),'Fee Estimator'!$M97,0))))","v":0},{"$f":"IF(ISTEXT('Fee Estimator'!$F97),0,IF('Fee Estimator'!$F97=\"\",0,IF($F$12=\"No\",0,IF(AC$14=YEAR('Fee Estimator'!$F97),'Fee Estimator'!$M97,0))))","v":0},{"$f":"IF(ISTEXT('Fee Estimator'!$F97),0,IF('Fee Estimator'!$F97=\"\",0,IF($F$12=\"No\",0,IF(AD$14=YEAR('Fee Estimator'!$F97),'Fee Estimator'!$M97,0))))","v":0},{"$f":"IF(ISTEXT('Fee Estimator'!$F97),0,IF('Fee Estimator'!$F97=\"\",0,IF($F$12=\"No\",0,IF(AE$14=YEAR('Fee Estimator'!$F97),'Fee Estimator'!$M97,0))))","v":0},{"$f":"IF(ISTEXT('Fee Estimator'!$F97),0,IF('Fee Estimator'!$F97=\"\",0,IF($F$12=\"No\",0,IF(AF$14=YEAR('Fee Estimator'!$F97),'Fee Estimator'!$M97,0))))","v":0},{"$f":"IF(ISTEXT('Fee Estimator'!$F97),0,IF('Fee Estimator'!$F97=\"\",0,IF($F$12=\"No\",0,IF(AG$14=YEAR('Fee Estimator'!$F97),'Fee Estimator'!$M97,0))))","v":0},{"$f":"IF(ISTEXT('Fee Estimator'!$F97),0,IF('Fee Estimator'!$F97=\"\",0,IF($F$12=\"No\",0,IF(AH$14=YEAR('Fee Estimator'!$F97),'Fee Estimator'!$M97,0))))","v":0},{"$f":"IF(ISTEXT('Fee Estimator'!$F97),0,IF('Fee Estimator'!$F97=\"\",0,IF($F$12=\"No\",0,IF(AI$14=YEAR('Fee Estimator'!$F97),'Fee Estimator'!$M97,0))))","v":0}]
[null,null,null,null,null,null,null,"PM10",null,{"$f":"('Emissions Estimator'!S108)","v":0},0,null,0,null,{"$f":"IF(ISTEXT('Fee Estimator'!$F97),0,IF('Fee Estimator'!$F97=\"\",0,IF($F$12=\"No\",0,IF(O$14=YEAR('Fee Estimator'!$F97),'Fee Estimator'!$M98,0))))","v":0},{"$f":"IF(ISTEXT('Fee Estimator'!$F97),0,IF('Fee Estimator'!$F97=\"\",0,IF($F$12=\"No\",0,IF(P$14=YEAR('Fee Estimator'!$F97),'Fee Estimator'!$M98,0))))","v":0},{"$f":"IF(ISTEXT('Fee Estimator'!$F97),0,IF('Fee Estimator'!$F97=\"\",0,IF($F$12=\"No\",0,IF(Q$14=YEAR('Fee Estimator'!$F97),'Fee Estimator'!$M98,0))))","v":0},{"$f":"IF(ISTEXT('Fee Estimator'!$F97),0,IF('Fee Estimator'!$F97=\"\",0,IF($F$12=\"No\",0,IF(R$14=YEAR('Fee Estimator'!$F97),'Fee Estimator'!$M98,0))))","v":0},{"$f":"IF(ISTEXT('Fee Estimator'!$F97),0,IF('Fee Estimator'!$F97=\"\",0,IF($F$12=\"No\",0,IF(S$14=YEAR('Fee Estimator'!$F97),'Fee Estimator'!$M98,0))))","v":0},{"$f":"IF(ISTEXT('Fee Estimator'!$F97),0,IF('Fee Estimator'!$F97=\"\",0,IF($F$12=\"No\",0,IF(T$14=YEAR('Fee Estimator'!$F97),'Fee Estimator'!$M98,0))))","v":0},{"$f":"IF(ISTEXT('Fee Estimator'!$F97),0,IF('Fee Estimator'!$F97=\"\",0,IF($F$12=\"No\",0,IF(U$14=YEAR('Fee Estimator'!$F97),'Fee Estimator'!$M98,0))))","v":0},{"$f":"IF(ISTEXT('Fee Estimator'!$F97),0,IF('Fee Estimator'!$F97=\"\",0,IF($F$12=\"No\",0,IF(V$14=YEAR('Fee Estimator'!$F97),'Fee Estimator'!$M98,0))))","v":0},{"$f":"IF(ISTEXT('Fee Estimator'!$F97),0,IF('Fee Estimator'!$F97=\"\",0,IF($F$12=\"No\",0,IF(W$14=YEAR('Fee Estimator'!$F97),'Fee Estimator'!$M98,0))))","v":0},{"$f":"IF(ISTEXT('Fee Estimator'!$F97),0,IF('Fee Estimator'!$F97=\"\",0,IF($F$12=\"No\",0,IF(X$14=YEAR('Fee Estimator'!$F97),'Fee Estimator'!$M98,0))))","v":0},{"$f":"IF(ISTEXT('Fee Estimator'!$F97),0,IF('Fee Estimator'!$F97=\"\",0,IF($F$12=\"No\",0,IF(Y$14=YEAR('Fee Estimator'!$F97),'Fee Estimator'!$M98,0))))","v":0},{"$f":"IF(ISTEXT('Fee Estimator'!$F97),0,IF('Fee Estimator'!$F97=\"\",0,IF($F$12=\"No\",0,IF(Z$14=YEAR('Fee Estimator'!$F97),'Fee Estimator'!$M98,0))))","v":0},{"$f":"IF(ISTEXT('Fee Estimator'!$F97),0,IF('Fee Estimator'!$F97=\"\",0,IF($F$12=\"No\",0,IF(AA$14=YEAR('Fee Estimator'!$F97),'Fee Estimator'!$M98,0))))","v":0},{"$f":"IF(ISTEXT('Fee Estimator'!$F97),0,IF('Fee Estimator'!$F97=\"\",0,IF($F$12=\"No\",0,IF(AB$14=YEAR('Fee Estimator'!$F97),'Fee Estimator'!$M98,0))))","v":0},{"$f":"IF(ISTEXT('Fee Estimator'!$F97),0,IF('Fee Estimator'!$F97=\"\",0,IF($F$12=\"No\",0,IF(AC$14=YEAR('Fee Estimator'!$F97),'Fee Estimator'!$M98,0))))","v":0},{"$f":"IF(ISTEXT('Fee Estimator'!$F97),0,IF('Fee Estimator'!$F97=\"\",0,IF($F$12=\"No\",0,IF(AD$14=YEAR('Fee Estimator'!$F97),'Fee Estimator'!$M98,0))))","v":0},{"$f":"IF(ISTEXT('Fee Estimator'!$F97),0,IF('Fee Estimator'!$F97=\"\",0,IF($F$12=\"No\",0,IF(AE$14=YEAR('Fee Estimator'!$F97),'Fee Estimator'!$M98,0))))","v":0},{"$f":"IF(ISTEXT('Fee Estimator'!$F97),0,IF('Fee Estimator'!$F97=\"\",0,IF($F$12=\"No\",0,IF(AF$14=YEAR('Fee Estimator'!$F97),'Fee Estimator'!$M98,0))))","v":0},{"$f":"IF(ISTEXT('Fee Estimator'!$F97),0,IF('Fee Estimator'!$F97=\"\",0,IF($F$12=\"No\",0,IF(AG$14=YEAR('Fee Estimator'!$F97),'Fee Estimator'!$M98,0))))","v":0},{"$f":"IF(ISTEXT('Fee Estimator'!$F97),0,IF('Fee Estimator'!$F97=\"\",0,IF($F$12=\"No\",0,IF(AH$14=YEAR('Fee Estimator'!$F97),'Fee Estimator'!$M98,0))))","v":0},{"$f":"IF(ISTEXT('Fee Estimator'!$F97),0,IF('Fee Estimator'!$F97=\"\",0,IF($F$12=\"No\",0,IF(AI$14=YEAR('Fee Estimator'!$F97),'Fee Estimator'!$M98,0))))","v":0}]
[{"$f":"IF(AND('Emissions Estimator'!$A54=\"\",'Emissions Estimator'!$A109=\"\"),\"\",IF(AND('Emissions Estimator'!$A54=\"\",'Emissions Estimator'!$A109<>\"\"),\"Operation\",IF(AND('Emissions Estimator'!$A109=\"\",'Emissions Estimator'!$A54<>\"\"),\"Construction\",MIN('Emissions Estimator'!$A54,'Emissions Estimator'!$A109))))","v":""},{"$f":"IF(A99=\"\",\"\",IF(AND(A99=\"Construction\",'Emissions Estimator'!$O$9=\"No\"),\"No\",IF(AND(A99=\"Construction\",'Emissions Estimator'!$O$9=\"Yes\"),\"Yes\",IF(A99=\"Operation\",\"\"))))","v":""},{"$f":"IF(AND('Emissions Estimator'!$A54=\"\",'Emissions Estimator'!$A109=\"\"),\"\",IF(AND('Emissions Estimator'!$A54=\"\",'Emissions Estimator'!$A109<>\"\"),'Emissions Estimator'!$A109,IF(AND('Emissions Estimator'!$A109=\"\",'Emissions Estimator'!$A54<>\"\"),'Emissions Estimator'!$A54,MIN('Emissions Estimator'!$A54,'Emissions Estimator'!$A109))))","v":""},43,{"$f":"IF(AND('Emissions Estimator'!C54=\"\",'Emissions Estimator'!C109=\"\"),\"\",IF(AND('Emissions Estimator'!C54=\"\",'Emissions Estimator'!C109<>\"\"),'Emissions Estimator'!C109,IF(AND('Emissions Estimator'!C109=\"\",'Emissions Estimator'!C54<>\"\"),'Emissions Estimator'!C54,MIN('Emissions Estimator'!C54,'Emissions Estimator'!C109))))","v":""},{"$f":"IF(AND(B99=\"\",E99=\"\"),\"\",IF(AND(B99=\"Yes\",$F$12=\"Yes\"),\"Clean Fleet\",IF(AND(B99=\"Yes\",$F$12=\"No\"),\"Clean Fleet\",IF(AND(A99=\"Operation\",$F$12=\"No\"),$E$15-1,IF(AND(A99=\"Operation\",$F$12=\"Yes\"),E99-1,IF(AND(B99=\"No\",$F$12=\"No\"),$E$15-1,IF(AND(B99=\"No\",$F$12=\"Yes\"),E99-1)))))))","v":""},null,"NOx",null,{"$f":"('Emissions Estimator'!R109)","v":0},0,null,0,null,{"$f":"IF(ISTEXT('Fee Estimator'!$F99),0,IF('Fee Estimator'!$F99=\"\",0,IF($F$12=\"No\",0,IF(O$14=YEAR('Fee Estimator'!$F99),'Fee Estimator'!$M99,0))))","v":0},{"$f":"IF(ISTEXT('Fee Estimator'!$F99),0,IF('Fee Estimator'!$F99=\"\",0,IF($F$12=\"No\",0,IF(P$14=YEAR('Fee Estimator'!$F99),'Fee Estimator'!$M99,0))))","v":0},{"$f":"IF(ISTEXT('Fee Estimator'!$F99),0,IF('Fee Estimator'!$F99=\"\",0,IF($F$12=\"No\",0,IF(Q$14=YEAR('Fee Estimator'!$F99),'Fee Estimator'!$M99,0))))","v":0},{"$f":"IF(ISTEXT('Fee Estimator'!$F99),0,IF('Fee Estimator'!$F99=\"\",0,IF($F$12=\"No\",0,IF(R$14=YEAR('Fee Estimator'!$F99),'Fee Estimator'!$M99,0))))","v":0},{"$f":"IF(ISTEXT('Fee Estimator'!$F99),0,IF('Fee Estimator'!$F99=\"\",0,IF($F$12=\"No\",0,IF(S$14=YEAR('Fee Estimator'!$F99),'Fee Estimator'!$M99,0))))","v":0},{"$f":"IF(ISTEXT('Fee Estimator'!$F99),0,IF('Fee Estimator'!$F99=\"\",0,IF($F$12=\"No\",0,IF(T$14=YEAR('Fee Estimator'!$F99),'Fee Estimator'!$M99,0))))","v":0},{"$f":"IF(ISTEXT('Fee Estimator'!$F99),0,IF('Fee Estimator'!$F99=\"\",0,IF($F$12=\"No\",0,IF(U$14=YEAR('Fee Estimator'!$F99),'Fee Estimator'!$M99,0))))","v":0},{"$f":"IF(ISTEXT('Fee Estimator'!$F99),0,IF('Fee Estimator'!$F99=\"\",0,IF($F$12=\"No\",0,IF(V$14=YEAR('Fee Estimator'!$F99),'Fee Estimator'!$M99,0))))","v":0},{"$f":"IF(ISTEXT('Fee Estimator'!$F99),0,IF('Fee Estimator'!$F99=\"\",0,IF($F$12=\"No\",0,IF(W$14=YEAR('Fee Estimator'!$F99),'Fee Estimator'!$M99,0))))","v":0},{"$f":"IF(ISTEXT('Fee Estimator'!$F99),0,IF('Fee Estimator'!$F99=\"\",0,IF($F$12=\"No\",0,IF(X$14=YEAR('Fee Estimator'!$F99),'Fee Estimator'!$M99,0))))","v":0},{"$f":"IF(ISTEXT('Fee Estimator'!$F99),0,IF('Fee Estimator'!$F99=\"\",0,IF($F$12=\"No\",0,IF(Y$14=YEAR('Fee Estimator'!$F99),'Fee Estimator'!$M99,0))))","v":0},{"$f":"IF(ISTEXT('Fee Estimator'!$F99),0,IF('Fee Estimator'!$F99=\"\",0,IF($F$12=\"No\",0,IF(Z$14=YEAR('Fee Estimator'!$F99),'Fee Estimator'!$M99,0))))","v":0},{"$f":"IF(ISTEXT('Fee Estimator'!$F99),0,IF('Fee Estimator'!$F99=\"\",0,IF($F$12=\"No\",0,IF(AA$14=YEAR('Fee Estimator'!$F99),'Fee Estimator'!$M99,0))))","v":0},{"$f":"IF(ISTEXT('Fee Estimator'!$F99),0,IF('Fee Estimator'!$F99=\"\",0,IF($F$12=\"No\",0,IF(AB$14=YEAR('Fee Estimator'!$F99),'Fee Estimator'!$M99,0))))","v":0},{"$f":"IF(ISTEXT('Fee Estimator'!$F99),0,IF('Fee Estimator'!$F99=\"\",0,IF($F$12=\"No\",0,IF(AC$14=YEAR('Fee Estimator'!$F99),'Fee Estimator'!$M99,0))))","v":0},{"$f":"IF(ISTEXT('Fee Estimator'!$F99),0,IF('Fee Estimator'!$F99=\"\",0,IF($F$12=\"No\",0,IF(AD$14=YEAR('Fee Estimator'!$F99),'Fee Estimator'!$M99,0))))","v":0},{"$f":"IF(ISTEXT('Fee Estimator'!$F99),0,IF('Fee Estimator'!$F99=\"\",0,IF($F$12=\"No\",0,IF(AE$14=YEAR('Fee Estimator'!$F99),'Fee Estimator'!$M99,0))))","v":0},{"$f":"IF(ISTEXT('Fee Estimator'!$F99),0,IF('Fee Estimator'!$F99=\"\",0,IF($F$12=\"No\",0,IF(AF$14=YEAR('Fee Estimator'!$F99),'Fee Estimator'!$M99,0))))","v":0},{"$f":"IF(ISTEXT('Fee Estimator'!$F99),0,IF('Fee Estimator'!$F99=\"\",0,IF($F$12=\"No\",0,IF(AG$14=YEAR('Fee Estimator'!$F99),'Fee Estimator'!$M99,0))))","v":0},{"$f":"IF(ISTEXT('Fee Estimator'!$F99),0,IF('Fee Estimator'!$F99=\"\",0,IF($F$12=\"No\",0,IF(AH$14=YEAR('Fee Estimator'!$F99),'Fee Estimator'!$M99,0))))","v":0},{"$f":"IF(ISTEXT('Fee Estimator'!$F99),0,IF('Fee Estimator'!$F99=\"\",0,IF($F$12=\"No\",0,IF(AI$14=YEAR('Fee Estimator'!$F99),'Fee Estimator'!$M99,0))))","v":0}]
[null,null,null,null,null,null,null,"PM10",null,{"$f":"('Emissions Estimator'!S109)","v":0},0,null,0,null,{"$f":"IF(ISTEXT('Fee Estimator'!$F99),0,IF('Fee Estimator'!$F99=\"\",0,IF($F$12=\"No\",0,IF(O$14=YEAR('Fee Estimator'!$F99),'Fee Estimator'!$M100,0))))","v":0},{"$f":"IF(ISTEXT('Fee Estimator'!$F99),0,IF('Fee Estimator'!$F99=\"\",0,IF($F$12=\"No\",0,IF(P$14=YEAR('Fee Estimator'!$F99),'Fee Estimator'!$M100,0))))","v":0},{"$f":"IF(ISTEXT('Fee Estimator'!$F99),0,IF('Fee Estimator'!$F99=\"\",0,IF($F$12=\"No\",0,IF(Q$14=YEAR('Fee Estimator'!$F99),'Fee Estimator'!$M100,0))))","v":0},{"$f":"IF(ISTEXT('Fee Estimator'!$F99),0,IF('Fee Estimator'!$F99=\"\",0,IF($F$12=\"No\",0,IF(R$14=YEAR('Fee Estimator'!$F99),'Fee Estimator'!$M100,0))))","v":0},{"$f":"IF(ISTEXT('Fee Estimator'!$F99),0,IF('Fee Estimator'!$F99=\"\",0,IF($F$12=\"No\",0,IF(S$14=YEAR('Fee Estimator'!$F99),'Fee Estimator'!$M100,0))))","v":0},{"$f":"IF(ISTEXT('Fee Estimator'!$F99),0,IF('Fee Estimator'!$F99=\"\",0,IF($F$12=\"No\",0,IF(T$14=YEAR('Fee Estimator'!$F99),'Fee Estimator'!$M100,0))))","v":0},{"$f":"IF(ISTEXT('Fee Estimator'!$F99),0,IF('Fee Estimator'!$F99=\"\",0,IF($F$12=\"No\",0,IF(U$14=YEAR('Fee Estimator'!$F99),'Fee Estimator'!$M100,0))))","v":0},{"$f":"IF(ISTEXT('Fee Estimator'!$F99),0,IF('Fee Estimator'!$F99=\"\",0,IF($F$12=\"No\",0,IF(V$14=YEAR('Fee Estimator'!$F99),'Fee Estimator'!$M100,0))))","v":0},{"$f":"IF(ISTEXT('Fee Estimator'!$F99),0,IF('Fee Estimator'!$F99=\"\",0,IF($F$12=\"No\",0,IF(W$14=YEAR('Fee Estimator'!$F99),'Fee Estimator'!$M100,0))))","v":0},{"$f":"IF(ISTEXT('Fee Estimator'!$F99),0,IF('Fee Estimator'!$F99=\"\",0,IF($F$12=\"No\",0,IF(X$14=YEAR('Fee Estimator'!$F99),'Fee Estimator'!$M100,0))))","v":0},{"$f":"IF(ISTEXT('Fee Estimator'!$F99),0,IF('Fee Estimator'!$F99=\"\",0,IF($F$12=\"No\",0,IF(Y$14=YEAR('Fee Estimator'!$F99),'Fee Estimator'!$M100,0))))","v":0},{"$f":"IF(ISTEXT('Fee Estimator'!$F99),0,IF('Fee Estimator'!$F99=\"\",0,IF($F$12=\"No\",0,IF(Z$14=YEAR('Fee Estimator'!$F99),'Fee Estimator'!$M100,0))))","v":0},{"$f":"IF(ISTEXT('Fee Estimator'!$F99),0,IF('Fee Estimator'!$F99=\"\",0,IF($F$12=\"No\",0,IF(AA$14=YEAR('Fee Estimator'!$F99),'Fee Estimator'!$M100,0))))","v":0},{"$f":"IF(ISTEXT('Fee Estimator'!$F99),0,IF('Fee Estimator'!$F99=\"\",0,IF($F$12=\"No\",0,IF(AB$14=YEAR('Fee Estimator'!$F99),'Fee Estimator'!$M100,0))))","v":0},{"$f":"IF(ISTEXT('Fee Estimator'!$F99),0,IF('Fee Estimator'!$F99=\"\",0,IF($F$12=\"No\",0,IF(AC$14=YEAR('Fee Estimator'!$F99),'Fee Estimator'!$M100,0))))","v":0},{"$f":"IF(ISTEXT('Fee Estimator'!$F99),0,IF('Fee Estimator'!$F99=\"\",0,IF($F$12=\"No\",0,IF(AD$14=YEAR('Fee Estimator'!$F99),'Fee Estimator'!$M100,0))))","v":0},{"$f":"IF(ISTEXT('Fee Estimator'!$F99),0,IF('Fee Estimator'!$F99=\"\",0,IF($F$12=\"No\",0,IF(AE$14=YEAR('Fee Estimator'!$F99),'Fee Estimator'!$M100,0))))","v":0},{"$f":"IF(ISTEXT('Fee Estimator'!$F99),0,IF('Fee Estimator'!$F99=\"\",0,IF($F$12=\"No\",0,IF(AF$14=YEAR('Fee Estimator'!$F99),'Fee Estimator'!$M100,0))))","v":0},{"$f":"IF(ISTEXT('Fee Estimator'!$F99),0,IF('Fee Estimator'!$F99=\"\",0,IF($F$12=\"No\",0,IF(AG$14=YEAR('Fee Estimator'!$F99),'Fee Estimator'!$M100,0))))","v":0},{"$f":"IF(ISTEXT('Fee Estimator'!$F99),0,IF('Fee Estimator'!$F99=\"\",0,IF($F$12=\"No\",0,IF(AH$14=YEAR('Fee Estimator'!$F99),'Fee Estimator'!$M100,0))))","v":0},{"$f":"IF(ISTEXT('Fee Estimator'!$F99),0,IF('Fee Estimator'!$F99=\"\",0,IF($F$12=\"No\",0,IF(AI$14=YEAR('Fee Estimator'!$F99),'Fee Estimator'!$M100,0))))","v":0}]
[{"$f":"IF(AND('Emissions Estimator'!$A55=\"\",'Emissions Estimator'!$A110=\"\"),\"\",IF(AND('Emissions Estimator'!$A55=\"\",'Emissions Estimator'!$A110<>\"\"),\"Operation\",IF(AND('Emissions Estimator'!$A110=\"\",'Emissions Estimator'!$A55<>\"\"),\"Construction\",MIN('Emissions Estimator'!$A55,'Emissions Estimator'!$A110))))","v":""},{"$f":"IF(A101=\"\",\"\",IF(AND(A101=\"Construction\",'Emissions Estimator'!$O$9=\"No\"),\"No\",IF(AND(A101=\"Construction\",'Emissions Estimator'!$O$9=\"Yes\"),\"Yes\",IF(A101=\"Operation\",\"\"))))","v":""},{"$f":"IF(AND('Emissions Estimator'!$A55=\"\",'Emissions Estimator'!$A110=\"\"),\"\",IF(AND('Emissions Estimator'!$A55=\"\",'Emissions Estimator'!$A110<>\"\"),'Emissions Estimator'!$A110,IF(AND('Emissions Estimator'!$A110=\"\",'Emissions Estimator'!$A55<>\"\"),'Emissions Estimator'!$A55,MIN('Emissions Estimator'!$A55,'Emissions Estimator'!$A110))))","v":""},44,{"$f":"IF(AND('Emissions Estimator'!C55=\"\",'Emissions Estimator'!C110=\"\"),\"\",IF(AND('Emissions Estimator'!C55=\"\",'Emissions Estimator'!C110<>\"\"),'Emissions Estimator'!C110,IF(AND('Emissions Estimator'!C110=\"\",'Emissions Estimator'!C55<>\"\"),'Emissions Estimator'!C55,MIN('Emissions Estimator'!C55,'Emissions Estimator'!C110))))","v":""},{"$f":"IF(AND(B101=\"\",E101=\"\"),\"\",IF(AND(B101=\"Yes\",$F$12=\"Yes\"),\"Clean Fleet\",IF(AND(B101=\"Yes\",$F$12=\"No\"),\"Clean Fleet\",IF(AND(A101=\"Operation\",$F$12=\"No\"),$E$15-1,IF(AND(A101=\"Operation\",$F$12=\"Yes\"),E101-1,IF(AND(B101=\"No\",$F$12=\"No\"),$E$15-1,IF(AND(B101=\"No\",$F$12=\"Yes\"),E101-1)))))))","v":""},null,"NOx",null,{"$f":"('Emissions Estimator'!R110)","v":0},0,null,0,null,{"$f":"IF(ISTEXT('Fee Estimator'!$F101),0,IF('Fee Estimator'!$F101=\"\",0,IF($F$12=\"No\",0,IF(O$14=YEAR('Fee Estimator'!$F101),'Fee Estimator'!$M101,0))))","v":0},{"$f":"IF(ISTEXT('Fee Estimator'!$F101),0,IF('Fee Estimator'!$F101=\"\",0,IF($F$12=\"No\",0,IF(P$14=YEAR('Fee Estimator'!$F101),'Fee Estimator'!$M101,0))))","v":0},{"$f":"IF(ISTEXT('Fee Estimator'!$F101),0,IF('Fee Estimator'!$F101=\"\",0,IF($F$12=\"No\",0,IF(Q$14=YEAR('Fee Estimator'!$F101),'Fee Estimator'!$M101,0))))","v":0},{"$f":"IF(ISTEXT('Fee Estimator'!$F101),0,IF('Fee Estimator'!$F101=\"\",0,IF($F$12=\"No\",0,IF(R$14=YEAR('Fee Estimator'!$F101),'Fee Estimator'!$M101,0))))","v":0},{"$f":"IF(ISTEXT('Fee Estimator'!$F101),0,IF('Fee Estimator'!$F101=\"\",0,IF($F$12=\"No\",0,IF(S$14=YEAR('Fee Estimator'!$F101),'Fee Estimator'!$M101,0))))","v":0},{"$f":"IF(ISTEXT('Fee Estimator'!$F101),0,IF('Fee Estimator'!$F101=\"\",0,IF($F$12=\"No\",0,IF(T$14=YEAR('Fee Estimator'!$F101),'Fee Estimator'!$M101,0))))","v":0},{"$f":"IF(ISTEXT('Fee Estimator'!$F101),0,IF('Fee Estimator'!$F101=\"\",0,IF($F$12=\"No\",0,IF(U$14=YEAR('Fee Estimator'!$F101),'Fee Estimator'!$M101,0))))","v":0},{"$f":"IF(ISTEXT('Fee Estimator'!$F101),0,IF('Fee Estimator'!$F101=\"\",0,IF($F$12=\"No\",0,IF(V$14=YEAR('Fee Estimator'!$F101),'Fee Estimator'!$M101,0))))","v":0},{"$f":"IF(ISTEXT('Fee Estimator'!$F101),0,IF('Fee Estimator'!$F101=\"\",0,IF($F$12=\"No\",0,IF(W$14=YEAR('Fee Estimator'!$F101),'Fee Estimator'!$M101,0))))","v":0},{"$f":"IF(ISTEXT('Fee Estimator'!$F101),0,IF('Fee Estimator'!$F101=\"\",0,IF($F$12=\"No\",0,IF(X$14=YEAR('Fee Estimator'!$F101),'Fee Estimator'!$M101,0))))","v":0},{"$f":"IF(ISTEXT('Fee Estimator'!$F101),0,IF('Fee Estimator'!$F101=\"\",0,IF($F$12=\"No\",0,IF(Y$14=YEAR('Fee Estimator'!$F101),'Fee Estimator'!$M101,0))))","v":0},{"$f":"IF(ISTEXT('Fee Estimator'!$F101),0,IF('Fee Estimator'!$F101=\"\",0,IF($F$12=\"No\",0,IF(Z$14=YEAR('Fee Estimator'!$F101),'Fee Estimator'!$M101,0))))","v":0},{"$f":"IF(ISTEXT('Fee Estimator'!$F101),0,IF('Fee Estimator'!$F101=\"\",0,IF($F$12=\"No\",0,IF(AA$14=YEAR('Fee Estimator'!$F101),'Fee Estimator'!$M101,0))))","v":0},{"$f":"IF(ISTEXT('Fee Estimator'!$F101),0,IF('Fee Estimator'!$F101=\"\",0,IF($F$12=\"No\",0,IF(AB$14=YEAR('Fee Estimator'!$F101),'Fee Estimator'!$M101,0))))","v":0},{"$f":"IF(ISTEXT('Fee Estimator'!$F101),0,IF('Fee Estimator'!$F101=\"\",0,IF($F$12=\"No\",0,IF(AC$14=YEAR('Fee Estimator'!$F101),'Fee Estimator'!$M101,0))))","v":0},{"$f":"IF(ISTEXT('Fee Estimator'!$F101),0,IF('Fee Estimator'!$F101=\"\",0,IF($F$12=\"No\",0,IF(AD$14=YEAR('Fee Estimator'!$F101),'Fee Estimator'!$M101,0))))","v":0},{"$f":"IF(ISTEXT('Fee Estimator'!$F101),0,IF('Fee Estimator'!$F101=\"\",0,IF($F$12=\"No\",0,IF(AE$14=YEAR('Fee Estimator'!$F101),'Fee Estimator'!$M101,0))))","v":0},{"$f":"IF(ISTEXT('Fee Estimator'!$F101),0,IF('Fee Estimator'!$F101=\"\",0,IF($F$12=\"No\",0,IF(AF$14=YEAR('Fee Estimator'!$F101),'Fee Estimator'!$M101,0))))","v":0},{"$f":"IF(ISTEXT('Fee Estimator'!$F101),0,IF('Fee Estimator'!$F101=\"\",0,IF($F$12=\"No\",0,IF(AG$14=YEAR('Fee Estimator'!$F101),'Fee Estimator'!$M101,0))))","v":0},{"$f":"IF(ISTEXT('Fee Estimator'!$F101),0,IF('Fee Estimator'!$F101=\"\",0,IF($F$12=\"No\",0,IF(AH$14=YEAR('Fee Estimator'!$F101),'Fee Estimator'!$M101,0))))","v":0},{"$f":"IF(ISTEXT('Fee Estimator'!$F101),0,IF('Fee Estimator'!$F101=\"\",0,IF($F$12=\"No\",0,IF(AI$14=YEAR('Fee Estimator'!$F101),'Fee Estimator'!$M101,0))))","v":0}]
[null,null,null,null,null,null,null,"PM10",null,{"$f":"('Emissions Estimator'!S110)","v":0},0,null,0,null,{"$f":"IF(ISTEXT('Fee Estimator'!$F101),0,IF('Fee Estimator'!$F101=\"\",0,IF($F$12=\"No\",0,IF(O$14=YEAR('Fee Estimator'!$F101),'Fee Estimator'!$M102,0))))","v":0},{"$f":"IF(ISTEXT('Fee Estimator'!$F101),0,IF('Fee Estimator'!$F101=\"\",0,IF($F$12=\"No\",0,IF(P$14=YEAR('Fee Estimator'!$F101),'Fee Estimator'!$M102,0))))","v":0},{"$f":"IF(ISTEXT('Fee Estimator'!$F101),0,IF('Fee Estimator'!$F101=\"\",0,IF($F$12=\"No\",0,IF(Q$14=YEAR('Fee Estimator'!$F101),'Fee Estimator'!$M102,0))))","v":0},{"$f":"IF(ISTEXT('Fee Estimator'!$F101),0,IF('Fee Estimator'!$F101=\"\",0,IF($F$12=\"No\",0,IF(R$14=YEAR('Fee Estimator'!$F101),'Fee Estimator'!$M102,0))))","v":0},{"$f":"IF(ISTEXT('Fee Estimator'!$F101),0,IF('Fee Estimator'!$F101=\"\",0,IF($F$12=\"No\",0,IF(S$14=YEAR('Fee Estimator'!$F101),'Fee Estimator'!$M102,0))))","v":0},{"$f":"IF(ISTEXT('Fee Estimator'!$F101),0,IF('Fee Estimator'!$F101=\"\",0,IF($F$12=\"No\",0,IF(T$14=YEAR('Fee Estimator'!$F101),'Fee Estimator'!$M102,0))))","v":0},{"$f":"IF(ISTEXT('Fee Estimator'!$F101),0,IF('Fee Estimator'!$F101=\"\",0,IF($F$12=\"No\",0,IF(U$14=YEAR('Fee Estimator'!$F101),'Fee Estimator'!$M102,0))))","v":0},{"$f":"IF(ISTEXT('Fee Estimator'!$F101),0,IF('Fee Estimator'!$F101=\"\",0,IF($F$12=\"No\",0,IF(V$14=YEAR('Fee Estimator'!$F101),'Fee Estimator'!$M102,0))))","v":0},{"$f":"IF(ISTEXT('Fee Estimator'!$F101),0,IF('Fee Estimator'!$F101=\"\",0,IF($F$12=\"No\",0,IF(W$14=YEAR('Fee Estimator'!$F101),'Fee Estimator'!$M102,0))))","v":0},{"$f":"IF(ISTEXT('Fee Estimator'!$F101),0,IF('Fee Estimator'!$F101=\"\",0,IF($F$12=\"No\",0,IF(X$14=YEAR('Fee Estimator'!$F101),'Fee Estimator'!$M102,0))))","v":0},{"$f":"IF(ISTEXT('Fee Estimator'!$F101),0,IF('Fee Estimator'!$F101=\"\",0,IF($F$12=\"No\",0,IF(Y$14=YEAR('Fee Estimator'!$F101),'Fee Estimator'!$M102,0))))","v":0},{"$f":"IF(ISTEXT('Fee Estimator'!$F101),0,IF('Fee Estimator'!$F101=\"\",0,IF($F$12=\"No\",0,IF(Z$14=YEAR('Fee Estimator'!$F101),'Fee Estimator'!$M102,0))))","v":0},{"$f":"IF(ISTEXT('Fee Estimator'!$F101),0,IF('Fee Estimator'!$F101=\"\",0,IF($F$12=\"No\",0,IF(AA$14=YEAR('Fee Estimator'!$F101),'Fee Estimator'!$M102,0))))","v":0},{"$f":"IF(ISTEXT('Fee Estimator'!$F101),0,IF('Fee Estimator'!$F101=\"\",0,IF($F$12=\"No\",0,IF(AB$14=YEAR('Fee Estimator'!$F101),'Fee Estimator'!$M102,0))))","v":0},{"$f":"IF(ISTEXT('Fee Estimator'!$F101),0,IF('Fee Estimator'!$F101=\"\",0,IF($F$12=\"No\",0,IF(AC$14=YEAR('Fee Estimator'!$F101),'Fee Estimator'!$M102,0))))","v":0},{"$f":"IF(ISTEXT('Fee Estimator'!$F101),0,IF('Fee Estimator'!$F101=\"\",0,IF($F$12=\"No\",0,IF(AD$14=YEAR('Fee Estimator'!$F101),'Fee Estimator'!$M102,0))))","v":0},{"$f":"IF(ISTEXT('Fee Estimator'!$F101),0,IF('Fee Estimator'!$F101=\"\",0,IF($F$12=\"No\",0,IF(AE$14=YEAR('Fee Estimator'!$F101),'Fee Estimator'!$M102,0))))","v":0},{"$f":"IF(ISTEXT('Fee Estimator'!$F101),0,IF('Fee Estimator'!$F101=\"\",0,IF($F$12=\"No\",0,IF(AF$14=YEAR('Fee Estimator'!$F101),'Fee Estimator'!$M102,0))))","v":0},{"$f":"IF(ISTEXT('Fee Estimator'!$F101),0,IF('Fee Estimator'!$F101=\"\",0,IF($F$12=\"No\",0,IF(AG$14=YEAR('Fee Estimator'!$F101),'Fee Estimator'!$M102,0))))","v":0},{"$f":"IF(ISTEXT('Fee Estimator'!$F101),0,IF('Fee Estimator'!$F101=\"\",0,IF($F$12=\"No\",0,IF(AH$14=YEAR('Fee Estimator'!$F101),'Fee Estimator'!$M102,0))))","v":0},{"$f":"IF(ISTEXT('Fee Estimator'!$F101),0,IF('Fee Estimator'!$F101=\"\",0,IF($F$12=\"No\",0,IF(AI$14=YEAR('Fee Estimator'!$F101),'Fee Estimator'!$M102,0))))","v":0}]
[{"$f":"IF(AND('Emissions Estimator'!$A56=\"\",'Emissions Estimator'!$A111=\"\"),\"\",IF(AND('Emissions Estimator'!$A56=\"\",'Emissions Estimator'!$A111<>\"\"),\"Operation\",IF(AND('Emissions Estimator'!$A111=\"\",'Emissions Estimator'!$A56<>\"\"),\"Construction\",MIN('Emissions Estimator'!$A56,'Emissions Estimator'!$A111))))","v":""},{"$f":"IF(A103=\"\",\"\",IF(AND(A103=\"Construction\",'Emissions Estimator'!$O$9=\"No\"),\"No\",IF(AND(A103=\"Construction\",'Emissions Estimator'!$O$9=\"Yes\"),\"Yes\",IF(A103=\"Operation\",\"\"))))","v":""},{"$f":"IF(AND('Emissions Estimator'!$A56=\"\",'Emissions Estimator'!$A111=\"\"),\"\",IF(AND('Emissions Estimator'!$A56=\"\",'Emissions Estimator'!$A111<>\"\"),'Emissions Estimator'!$A111,IF(AND('Emissions Estimator'!$A111=\"\",'Emissions Estimator'!$A56<>\"\"),'Emissions Estimator'!$A56,MIN('Emissions Estimator'!$A56,'Emissions Estimator'!$A111))))","v":""},45,{"$f":"IF(AND('Emissions Estimator'!C56=\"\",'Emissions Estimator'!C111=\"\"),\"\",IF(AND('Emissions Estimator'!C56=\"\",'Emissions Estimator'!C111<>\"\"),'Emissions Estimator'!C111,IF(AND('Emissions Estimator'!C111=\"\",'Emissions Estimator'!C56<>\"\"),'Emissions Estimator'!C56,MIN('Emissions Estimator'!C56,'Emissions Estimator'!C111))))","v":""},{"$f":"IF(AND(B103=\"\",E103=\"\"),\"\",IF(AND(B103=\"Yes\",$F$12=\"Yes\"),\"Clean Fleet\",IF(AND(B103=\"Yes\",$F$12=\"No\"),\"Clean Fleet\",IF(AND(A103=\"Operation\",$F$12=\"No\"),$E$15-1,IF(AND(A103=\"Operation\",$F$12=\"Yes\"),E103-1,IF(AND(B103=\"No\",$F$12=\"No\"),$E$15-1,IF(AND(B103=\"No\",$F$12=\"Yes\"),E103-1)))))))","v":""},null,"NOx",null,{"$f":"('Emissions Estimator'!R111)","v":0},0,null,0,null,{"$f":"IF(ISTEXT('Fee Estimator'!$F103),0,IF('Fee Estimator'!$F103=\"\",0,IF($F$12=\"No\",0,IF(O$14=YEAR('Fee Estimator'!$F103),'Fee Estimator'!$M103,0))))","v":0},{"$f":"IF(ISTEXT('Fee Estimator'!$F103),0,IF('Fee Estimator'!$F103=\"\",0,IF($F$12=\"No\",0,IF(P$14=YEAR('Fee Estimator'!$F103),'Fee Estimator'!$M103,0))))","v":0},{"$f":"IF(ISTEXT('Fee Estimator'!$F103),0,IF('Fee Estimator'!$F103=\"\",0,IF($F$12=\"No\",0,IF(Q$14=YEAR('Fee Estimator'!$F103),'Fee Estimator'!$M103,0))))","v":0},{"$f":"IF(ISTEXT('Fee Estimator'!$F103),0,IF('Fee Estimator'!$F103=\"\",0,IF($F$12=\"No\",0,IF(R$14=YEAR('Fee Estimator'!$F103),'Fee Estimator'!$M103,0))))","v":0},{"$f":"IF(ISTEXT('Fee Estimator'!$F103),0,IF('Fee Estimator'!$F103=\"\",0,IF($F$12=\"No\",0,IF(S$14=YEAR('Fee Estimator'!$F103),'Fee Estimator'!$M103,0))))","v":0},{"$f":"IF(ISTEXT('Fee Estimator'!$F103),0,IF('Fee Estimator'!$F103=\"\",0,IF($F$12=\"No\",0,IF(T$14=YEAR('Fee Estimator'!$F103),'Fee Estimator'!$M103,0))))","v":0},{"$f":"IF(ISTEXT('Fee Estimator'!$F103),0,IF('Fee Estimator'!$F103=\"\",0,IF($F$12=\"No\",0,IF(U$14=YEAR('Fee Estimator'!$F103),'Fee Estimator'!$M103,0))))","v":0},{"$f":"IF(ISTEXT('Fee Estimator'!$F103),0,IF('Fee Estimator'!$F103=\"\",0,IF($F$12=\"No\",0,IF(V$14=YEAR('Fee Estimator'!$F103),'Fee Estimator'!$M103,0))))","v":0},{"$f":"IF(ISTEXT('Fee Estimator'!$F103),0,IF('Fee Estimator'!$F103=\"\",0,IF($F$12=\"No\",0,IF(W$14=YEAR('Fee Estimator'!$F103),'Fee Estimator'!$M103,0))))","v":0},{"$f":"IF(ISTEXT('Fee Estimator'!$F103),0,IF('Fee Estimator'!$F103=\"\",0,IF($F$12=\"No\",0,IF(X$14=YEAR('Fee Estimator'!$F103),'Fee Estimator'!$M103,0))))","v":0},{"$f":"IF(ISTEXT('Fee Estimator'!$F103),0,IF('Fee Estimator'!$F103=\"\",0,IF($F$12=\"No\",0,IF(Y$14=YEAR('Fee Estimator'!$F103),'Fee Estimator'!$M103,0))))","v":0},{"$f":"IF(ISTEXT('Fee Estimator'!$F103),0,IF('Fee Estimator'!$F103=\"\",0,IF($F$12=\"No\",0,IF(Z$14=YEAR('Fee Estimator'!$F103),'Fee Estimator'!$M103,0))))","v":0},{"$f":"IF(ISTEXT('Fee Estimator'!$F103),0,IF('Fee Estimator'!$F103=\"\",0,IF($F$12=\"No\",0,IF(AA$14=YEAR('Fee Estimator'!$F103),'Fee Estimator'!$M103,0))))","v":0},{"$f":"IF(ISTEXT('Fee Estimator'!$F103),0,IF('Fee Estimator'!$F103=\"\",0,IF($F$12=\"No\",0,IF(AB$14=YEAR('Fee Estimator'!$F103),'Fee Estimator'!$M103,0))))","v":0},{"$f":"IF(ISTEXT('Fee Estimator'!$F103),0,IF('Fee Estimator'!$F103=\"\",0,IF($F$12=\"No\",0,IF(AC$14=YEAR('Fee Estimator'!$F103),'Fee Estimator'!$M103,0))))","v":0},{"$f":"IF(ISTEXT('Fee Estimator'!$F103),0,IF('Fee Estimator'!$F103=\"\",0,IF($F$12=\"No\",0,IF(AD$14=YEAR('Fee Estimator'!$F103),'Fee Estimator'!$M103,0))))","v":0},{"$f":"IF(ISTEXT('Fee Estimator'!$F103),0,IF('Fee Estimator'!$F103=\"\",0,IF($F$12=\"No\",0,IF(AE$14=YEAR('Fee Estimator'!$F103),'Fee Estimator'!$M103,0))))","v":0},{"$f":"IF(ISTEXT('Fee Estimator'!$F103),0,IF('Fee Estimator'!$F103=\"\",0,IF($F$12=\"No\",0,IF(AF$14=YEAR('Fee Estimator'!$F103),'Fee Estimator'!$M103,0))))","v":0},{"$f":"IF(ISTEXT('Fee Estimator'!$F103),0,IF('Fee Estimator'!$F103=\"\",0,IF($F$12=\"No\",0,IF(AG$14=YEAR('Fee Estimator'!$F103),'Fee Estimator'!$M103,0))))","v":0},{"$f":"IF(ISTEXT('Fee Estimator'!$F103),0,IF('Fee Estimator'!$F103=\"\",0,IF($F$12=\"No\",0,IF(AH$14=YEAR('Fee Estimator'!$F103),'Fee Estimator'!$M103,0))))","v":0},{"$f":"IF(ISTEXT('Fee Estimator'!$F103),0,IF('Fee Estimator'!$F103=\"\",0,IF($F$12=\"No\",0,IF(AI$14=YEAR('Fee Estimator'!$F103),'Fee Estimator'!$M103,0))))","v":0}]
[null,null,null,null,null,null,null,"PM10",null,{"$f":"('Emissions Estimator'!S111)","v":0},0,null,0,null,{"$f":"IF(ISTEXT('Fee Estimator'!$F103),0,IF('Fee Estimator'!$F103=\"\",0,IF($F$12=\"No\",0,IF(O$14=YEAR('Fee Estimator'!$F103),'Fee Estimator'!$M104,0))))","v":0},{"$f":"IF(ISTEXT('Fee Estimator'!$F103),0,IF('Fee Estimator'!$F103=\"\",0,IF($F$12=\"No\",0,IF(P$14=YEAR('Fee Estimator'!$F103),'Fee Estimator'!$M104,0))))","v":0},{"$f":"IF(ISTEXT('Fee Estimator'!$F103),0,IF('Fee Estimator'!$F103=\"\",0,IF($F$12=\"No\",0,IF(Q$14=YEAR('Fee Estimator'!$F103),'Fee Estimator'!$M104,0))))","v":0},{"$f":"IF(ISTEXT('Fee Estimator'!$F103),0,IF('Fee Estimator'!$F103=\"\",0,IF($F$12=\"No\",0,IF(R$14=YEAR('Fee Estimator'!$F103),'Fee Estimator'!$M104,0))))","v":0},{"$f":"IF(ISTEXT('Fee Estimator'!$F103),0,IF('Fee Estimator'!$F103=\"\",0,IF($F$12=\"No\",0,IF(S$14=YEAR('Fee Estimator'!$F103),'Fee Estimator'!$M104,0))))","v":0},{"$f":"IF(ISTEXT('Fee Estimator'!$F103),0,IF('Fee Estimator'!$F103=\"\",0,IF($F$12=\"No\",0,IF(T$14=YEAR('Fee Estimator'!$F103),'Fee Estimator'!$M104,0))))","v":0},{"$f":"IF(ISTEXT('Fee Estimator'!$F103),0,IF('Fee Estimator'!$F103=\"\",0,IF($F$12=\"No\",0,IF(U$14=YEAR('Fee Estimator'!$F103),'Fee Estimator'!$M104,0))))","v":0},{"$f":"IF(ISTEXT('Fee Estimator'!$F103),0,IF('Fee Estimator'!$F103=\"\",0,IF($F$12=\"No\",0,IF(V$14=YEAR('Fee Estimator'!$F103),'Fee Estimator'!$M104,0))))","v":0},{"$f":"IF(ISTEXT('Fee Estimator'!$F103),0,IF('Fee Estimator'!$F103=\"\",0,IF($F$12=\"No\",0,IF(W$14=YEAR('Fee Estimator'!$F103),'Fee Estimator'!$M104,0))))","v":0},{"$f":"IF(ISTEXT('Fee Estimator'!$F103),0,IF('Fee Estimator'!$F103=\"\",0,IF($F$12=\"No\",0,IF(X$14=YEAR('Fee Estimator'!$F103),'Fee Estimator'!$M104,0))))","v":0},{"$f":"IF(ISTEXT('Fee Estimator'!$F103),0,IF('Fee Estimator'!$F103=\"\",0,IF($F$12=\"No\",0,IF(Y$14=YEAR('Fee Estimator'!$F103),'Fee Estimator'!$M104,0))))","v":0},{"$f":"IF(ISTEXT('Fee Estimator'!$F103),0,IF('Fee Estimator'!$F103=\"\",0,IF($F$12=\"No\",0,IF(Z$14=YEAR('Fee Estimator'!$F103),'Fee Estimator'!$M104,0))))","v":0},{"$f":"IF(ISTEXT('Fee Estimator'!$F103),0,IF('Fee Estimator'!$F103=\"\",0,IF($F$12=\"No\",0,IF(AA$14=YEAR('Fee Estimator'!$F103),'Fee Estimator'!$M104,0))))","v":0},{"$f":"IF(ISTEXT('Fee Estimator'!$F103),0,IF('Fee Estimator'!$F103=\"\",0,IF($F$12=\"No\",0,IF(AB$14=YEAR('Fee Estimator'!$F103),'Fee Estimator'!$M104,0))))","v":0},{"$f":"IF(ISTEXT('Fee Estimator'!$F103),0,IF('Fee Estimator'!$F103=\"\",0,IF($F$12=\"No\",0,IF(AC$14=YEAR('Fee Estimator'!$F103),'Fee Estimator'!$M104,0))))","v":0},{"$f":"IF(ISTEXT('Fee Estimator'!$F103),0,IF('Fee Estimator'!$F103=\"\",0,IF($F$12=\"No\",0,IF(AD$14=YEAR('Fee Estimator'!$F103),'Fee Estimator'!$M104,0))))","v":0},{"$f":"IF(ISTEXT('Fee Estimator'!$F103),0,IF('Fee Estimator'!$F103=\"\",0,IF($F$12=\"No\",0,IF(AE$14=YEAR('Fee Estimator'!$F103),'Fee Estimator'!$M104,0))))","v":0},{"$f":"IF(ISTEXT('Fee Estimator'!$F103),0,IF('Fee Estimator'!$F103=\"\",0,IF($F$12=\"No\",0,IF(AF$14=YEAR('Fee Estimator'!$F103),'Fee Estimator'!$M104,0))))","v":0},{"$f":"IF(ISTEXT('Fee Estimator'!$F103),0,IF('Fee Estimator'!$F103=\"\",0,IF($F$12=\"No\",0,IF(AG$14=YEAR('Fee Estimator'!$F103),'Fee Estimator'!$M104,0))))","v":0},{"$f":"IF(ISTEXT('Fee Estimator'!$F103),0,IF('Fee Estimator'!$F103=\"\",0,IF($F$12=\"No\",0,IF(AH$14=YEAR('Fee Estimator'!$F103),'Fee Estimator'!$M104,0))))","v":0},{"$f":"IF(ISTEXT('Fee Estimator'!$F103),0,IF('Fee Estimator'!$F103=\"\",0,IF($F$12=\"No\",0,IF(AI$14=YEAR('Fee Estimator'!$F103),'Fee Estimator'!$M104,0))))","v":0}]
[{"$f":"IF(AND('Emissions Estimator'!$A57=\"\",'Emissions Estimator'!$A112=\"\"),\"\",IF(AND('Emissions Estimator'!$A57=\"\",'Emissions Estimator'!$A112<>\"\"),\"Operation\",IF(AND('Emissions Estimator'!$A112=\"\",'Emissions Estimator'!$A57<>\"\"),\"Construction\",MIN('Emissions Estimator'!$A57,'Emissions Estimator'!$A112))))","v":""},{"$f":"IF(A105=\"\",\"\",IF(AND(A105=\"Construction\",'Emissions Estimator'!$O$9=\"No\"),\"No\",IF(AND(A105=\"Construction\",'Emissions Estimator'!$O$9=\"Yes\"),\"Yes\",IF(A105=\"Operation\",\"\"))))","v":""},{"$f":"IF(AND('Emissions Estimator'!$A57=\"\",'Emissions Estimator'!$A112=\"\"),\"\",IF(AND('Emissions Estimator'!$A57=\"\",'Emissions Estimator'!$A112<>\"\"),'Emissions Estimator'!$A112,IF(AND('Emissions Estimator'!$A112=\"\",'Emissions Estimator'!$A57<>\"\"),'Emissions Estimator'!$A57,MIN('Emissions Estimator'!$A57,'Emissions Estimator'!$A112))))","v":""},46,{"$f":"IF(AND('Emissions Estimator'!C57=\"\",'Emissions Estimator'!C112=\"\"),\"\",IF(AND('Emissions Estimator'!C57=\"\",'Emissions Estimator'!C112<>\"\"),'Emissions Estimator'!C112,IF(AND('Emissions Estimator'!C112=\"\",'Emissions Estimator'!C57<>\"\"),'Emissions Estimator'!C57,MIN('Emissions Estimator'!C57,'Emissions Estimator'!C112))))","v":""},{"$f":"IF(AND(B105=\"\",E105=\"\"),\"\",IF(AND(B105=\"Yes\",$F$12=\"Yes\"),\"Clean Fleet\",IF(AND(B105=\"Yes\",$F$12=\"No\"),\"Clean Fleet\",IF(AND(A105=\"Operation\",$F$12=\"No\"),$E$15-1,IF(AND(A105=\"Operation\",$F$12=\"Yes\"),E105-1,IF(AND(B105=\"No\",$F$12=\"No\"),$E$15-1,IF(AND(B105=\"No\",$F$12=\"Yes\"),E105-1)))))))","v":""},null,"NOx",null,{"$f":"('Emissions Estimator'!R112)","v":0},0,null,0,null,{"$f":"IF(ISTEXT('Fee Estimator'!$F105),0,IF('Fee Estimator'!$F105=\"\",0,IF($F$12=\"No\",0,IF(O$14=YEAR('Fee Estimator'!$F105),'Fee Estimator'!$M105,0))))","v":0},{"$f":"IF(ISTEXT('Fee Estimator'!$F105),0,IF('Fee Estimator'!$F105=\"\",0,IF($F$12=\"No\",0,IF(P$14=YEAR('Fee Estimator'!$F105),'Fee Estimator'!$M105,0))))","v":0},{"$f":"IF(ISTEXT('Fee Estimator'!$F105),0,IF('Fee Estimator'!$F105=\"\",0,IF($F$12=\"No\",0,IF(Q$14=YEAR('Fee Estimator'!$F105),'Fee Estimator'!$M105,0))))","v":0},{"$f":"IF(ISTEXT('Fee Estimator'!$F105),0,IF('Fee Estimator'!$F105=\"\",0,IF($F$12=\"No\",0,IF(R$14=YEAR('Fee Estimator'!$F105),'Fee Estimator'!$M105,0))))","v":0},{"$f":"IF(ISTEXT('Fee Estimator'!$F105),0,IF('Fee Estimator'!$F105=\"\",0,IF($F$12=\"No\",0,IF(S$14=YEAR('Fee Estimator'!$F105),'Fee Estimator'!$M105,0))))","v":0},{"$f":"IF(ISTEXT('Fee Estimator'!$F105),0,IF('Fee Estimator'!$F105=\"\",0,IF($F$12=\"No\",0,IF(T$14=YEAR('Fee Estimator'!$F105),'Fee Estimator'!$M105,0))))","v":0},{"$f":"IF(ISTEXT('Fee Estimator'!$F105),0,IF('Fee Estimator'!$F105=\"\",0,IF($F$12=\"No\",0,IF(U$14=YEAR('Fee Estimator'!$F105),'Fee Estimator'!$M105,0))))","v":0},{"$f":"IF(ISTEXT('Fee Estimator'!$F105),0,IF('Fee Estimator'!$F105=\"\",0,IF($F$12=\"No\",0,IF(V$14=YEAR('Fee Estimator'!$F105),'Fee Estimator'!$M105,0))))","v":0},{"$f":"IF(ISTEXT('Fee Estimator'!$F105),0,IF('Fee Estimator'!$F105=\"\",0,IF($F$12=\"No\",0,IF(W$14=YEAR('Fee Estimator'!$F105),'Fee Estimator'!$M105,0))))","v":0},{"$f":"IF(ISTEXT('Fee Estimator'!$F105),0,IF('Fee Estimator'!$F105=\"\",0,IF($F$12=\"No\",0,IF(X$14=YEAR('Fee Estimator'!$F105),'Fee Estimator'!$M105,0))))","v":0},{"$f":"IF(ISTEXT('Fee Estimator'!$F105),0,IF('Fee Estimator'!$F105=\"\",0,IF($F$12=\"No\",0,IF(Y$14=YEAR('Fee Estimator'!$F105),'Fee Estimator'!$M105,0))))","v":0},{"$f":"IF(ISTEXT('Fee Estimator'!$F105),0,IF('Fee Estimator'!$F105=\"\",0,IF($F$12=\"No\",0,IF(Z$14=YEAR('Fee Estimator'!$F105),'Fee Estimator'!$M105,0))))","v":0},{"$f":"IF(ISTEXT('Fee Estimator'!$F105),0,IF('Fee Estimator'!$F105=\"\",0,IF($F$12=\"No\",0,IF(AA$14=YEAR('Fee Estimator'!$F105),'Fee Estimator'!$M105,0))))","v":0},{"$f":"IF(ISTEXT('Fee Estimator'!$F105),0,IF('Fee Estimator'!$F105=\"\",0,IF($F$12=\"No\",0,IF(AB$14=YEAR('Fee Estimator'!$F105),'Fee Estimator'!$M105,0))))","v":0},{"$f":"IF(ISTEXT('Fee Estimator'!$F105),0,IF('Fee Estimator'!$F105=\"\",0,IF($F$12=\"No\",0,IF(AC$14=YEAR('Fee Estimator'!$F105),'Fee Estimator'!$M105,0))))","v":0},{"$f":"IF(ISTEXT('Fee Estimator'!$F105),0,IF('Fee Estimator'!$F105=\"\",0,IF($F$12=\"No\",0,IF(AD$14=YEAR('Fee Estimator'!$F105),'Fee Estimator'!$M105,0))))","v":0},{"$f":"IF(ISTEXT('Fee Estimator'!$F105),0,IF('Fee Estimator'!$F105=\"\",0,IF($F$12=\"No\",0,IF(AE$14=YEAR('Fee Estimator'!$F105),'Fee Estimator'!$M105,0))))","v":0},{"$f":"IF(ISTEXT('Fee Estimator'!$F105),0,IF('Fee Estimator'!$F105=\"\",0,IF($F$12=\"No\",0,IF(AF$14=YEAR('Fee Estimator'!$F105),'Fee Estimator'!$M105,0))))","v":0},{"$f":"IF(ISTEXT('Fee Estimator'!$F105),0,IF('Fee Estimator'!$F105=\"\",0,IF($F$12=\"No\",0,IF(AG$14=YEAR('Fee Estimator'!$F105),'Fee Estimator'!$M105,0))))","v":0},{"$f":"IF(ISTEXT('Fee Estimator'!$F105),0,IF('Fee Estimator'!$F105=\"\",0,IF($F$12=\"No\",0,IF(AH$14=YEAR('Fee Estimator'!$F105),'Fee Estimator'!$M105,0))))","v":0},{"$f":"IF(ISTEXT('Fee Estimator'!$F105),0,IF('Fee Estimator'!$F105=\"\",0,IF($F$12=\"No\",0,IF(AI$14=YEAR('Fee Estimator'!$F105),'Fee Estimator'!$M105,0))))","v":0}]
[null,null,null,null,null,null,null,"PM10",null,{"$f":"('Emissions Estimator'!S112)","v":0},0,null,0,null,{"$f":"IF(ISTEXT('Fee Estimator'!$F105),0,IF('Fee Estimator'!$F105=\"\",0,IF($F$12=\"No\",0,IF(O$14=YEAR('Fee Estimator'!$F105),'Fee Estimator'!$M106,0))))","v":0},{"$f":"IF(ISTEXT('Fee Estimator'!$F105),0,IF('Fee Estimator'!$F105=\"\",0,IF($F$12=\"No\",0,IF(P$14=YEAR('Fee Estimator'!$F105),'Fee Estimator'!$M106,0))))","v":0},{"$f":"IF(ISTEXT('Fee Estimator'!$F105),0,IF('Fee Estimator'!$F105=\"\",0,IF($F$12=\"No\",0,IF(Q$14=YEAR('Fee Estimator'!$F105),'Fee Estimator'!$M106,0))))","v":0},{"$f":"IF(ISTEXT('Fee Estimator'!$F105),0,IF('Fee Estimator'!$F105=\"\",0,IF($F$12=\"No\",0,IF(R$14=YEAR('Fee Estimator'!$F105),'Fee Estimator'!$M106,0))))","v":0},{"$f":"IF(ISTEXT('Fee Estimator'!$F105),0,IF('Fee Estimator'!$F105=\"\",0,IF($F$12=\"No\",0,IF(S$14=YEAR('Fee Estimator'!$F105),'Fee Estimator'!$M106,0))))","v":0},{"$f":"IF(ISTEXT('Fee Estimator'!$F105),0,IF('Fee Estimator'!$F105=\"\",0,IF($F$12=\"No\",0,IF(T$14=YEAR('Fee Estimator'!$F105),'Fee Estimator'!$M106,0))))","v":0},{"$f":"IF(ISTEXT('Fee Estimator'!$F105),0,IF('Fee Estimator'!$F105=\"\",0,IF($F$12=\"No\",0,IF(U$14=YEAR('Fee Estimator'!$F105),'Fee Estimator'!$M106,0))))","v":0},{"$f":"IF(ISTEXT('Fee Estimator'!$F105),0,IF('Fee Estimator'!$F105=\"\",0,IF($F$12=\"No\",0,IF(V$14=YEAR('Fee Estimator'!$F105),'Fee Estimator'!$M106,0))))","v":0},{"$f":"IF(ISTEXT('Fee Estimator'!$F105),0,IF('Fee Estimator'!$F105=\"\",0,IF($F$12=\"No\",0,IF(W$14=YEAR('Fee Estimator'!$F105),'Fee Estimator'!$M106,0))))","v":0},{"$f":"IF(ISTEXT('Fee Estimator'!$F105),0,IF('Fee Estimator'!$F105=\"\",0,IF($F$12=\"No\",0,IF(X$14=YEAR('Fee Estimator'!$F105),'Fee Estimator'!$M106,0))))","v":0},{"$f":"IF(ISTEXT('Fee Estimator'!$F105),0,IF('Fee Estimator'!$F105=\"\",0,IF($F$12=\"No\",0,IF(Y$14=YEAR('Fee Estimator'!$F105),'Fee Estimator'!$M106,0))))","v":0},{"$f":"IF(ISTEXT('Fee Estimator'!$F105),0,IF('Fee Estimator'!$F105=\"\",0,IF($F$12=\"No\",0,IF(Z$14=YEAR('Fee Estimator'!$F105),'Fee Estimator'!$M106,0))))","v":0},{"$f":"IF(ISTEXT('Fee Estimator'!$F105),0,IF('Fee Estimator'!$F105=\"\",0,IF($F$12=\"No\",0,IF(AA$14=YEAR('Fee Estimator'!$F105),'Fee Estimator'!$M106,0))))","v":0},{"$f":"IF(ISTEXT('Fee Estimator'!$F105),0,IF('Fee Estimator'!$F105=\"\",0,IF($F$12=\"No\",0,IF(AB$14=YEAR('Fee Estimator'!$F105),'Fee Estimator'!$M106,0))))","v":0},{"$f":"IF(ISTEXT('Fee Estimator'!$F105),0,IF('Fee Estimator'!$F105=\"\",0,IF($F$12=\"No\",0,IF(AC$14=YEAR('Fee Estimator'!$F105),'Fee Estimator'!$M106,0))))","v":0},{"$f":"IF(ISTEXT('Fee Estimator'!$F105),0,IF('Fee Estimator'!$F105=\"\",0,IF($F$12=\"No\",0,IF(AD$14=YEAR('Fee Estimator'!$F105),'Fee Estimator'!$M106,0))))","v":0},{"$f":"IF(ISTEXT('Fee Estimator'!$F105),0,IF('Fee Estimator'!$F105=\"\",0,IF($F$12=\"No\",0,IF(AE$14=YEAR('Fee Estimator'!$F105),'Fee Estimator'!$M106,0))))","v":0},{"$f":"IF(ISTEXT('Fee Estimator'!$F105),0,IF('Fee Estimator'!$F105=\"\",0,IF($F$12=\"No\",0,IF(AF$14=YEAR('Fee Estimator'!$F105),'Fee Estimator'!$M106,0))))","v":0},{"$f":"IF(ISTEXT('Fee Estimator'!$F105),0,IF('Fee Estimator'!$F105=\"\",0,IF($F$12=\"No\",0,IF(AG$14=YEAR('Fee Estimator'!$F105),'Fee Estimator'!$M106,0))))","v":0},{"$f":"IF(ISTEXT('Fee Estimator'!$F105),0,IF('Fee Estimator'!$F105=\"\",0,IF($F$12=\"No\",0,IF(AH$14=YEAR('Fee Estimator'!$F105),'Fee Estimator'!$M106,0))))","v":0},{"$f":"IF(ISTEXT('Fee Estimator'!$F105),0,IF('Fee Estimator'!$F105=\"\",0,IF($F$12=\"No\",0,IF(AI$14=YEAR('Fee Estimator'!$F105),'Fee Estimator'!$M106,0))))","v":0}]
[{"$f":"IF(AND('Emissions Estimator'!$A58=\"\",'Emissions Estimator'!$A113=\"\"),\"\",IF(AND('Emissions Estimator'!$A58=\"\",'Emissions Estimator'!$A113<>\"\"),\"Operation\",IF(AND('Emissions Estimator'!$A113=\"\",'Emissions Estimator'!$A58<>\"\"),\"Construction\",MIN('Emissions Estimator'!$A58,'Emissions Estimator'!$A113))))","v":""},{"$f":"IF(A107=\"\",\"\",IF(AND(A107=\"Construction\",'Emissions Estimator'!$O$9=\"No\"),\"No\",IF(AND(A107=\"Construction\",'Emissions Estimator'!$O$9=\"Yes\"),\"Yes\",IF(A107=\"Operation\",\"\"))))","v":""},{"$f":"IF(AND('Emissions Estimator'!$A58=\"\",'Emissions Estimator'!$A113=\"\"),\"\",IF(AND('Emissions Estimator'!$A58=\"\",'Emissions Estimator'!$A113<>\"\"),'Emissions Estimator'!$A113,IF(AND('Emissions Estimator'!$A113=\"\",'Emissions Estimator'!$A58<>\"\"),'Emissions Estimator'!$A58,MIN('Emissions Estimator'!$A58,'Emissions Estimator'!$A113))))","v":""},47,{"$f":"IF(AND('Emissions Estimator'!C58=\"\",'Emissions Estimator'!C113=\"\"),\"\",IF(AND('Emissions Estimator'!C58=\"\",'Emissions Estimator'!C113<>\"\"),'Emissions Estimator'!C113,IF(AND('Emissions Estimator'!C113=\"\",'Emissions Estimator'!C58<>\"\"),'Emissions Estimator'!C58,MIN('Emissions Estimator'!C58,'Emissions Estimator'!C113))))","v":""},{"$f":"IF(AND(B107=\"\",E107=\"\"),\"\",IF(AND(B107=\"Yes\",$F$12=\"Yes\"),\"Clean Fleet\",IF(AND(B107=\"Yes\",$F$12=\"No\"),\"Clean Fleet\",IF(AND(A107=\"Operation\",$F$12=\"No\"),$E$15-1,IF(AND(A107=\"Operation\",$F$12=\"Yes\"),E107-1,IF(AND(B107=\"No\",$F$12=\"No\"),$E$15-1,IF(AND(B107=\"No\",$F$12=\"Yes\"),E107-1)))))))","v":""},null,"NOx",null,{"$f":"('Emissions Estimator'!R113)","v":0},0,null,0,null,{"$f":"IF(ISTEXT('Fee Estimator'!$F107),0,IF('Fee Estimator'!$F107=\"\",0,IF($F$12=\"No\",0,IF(O$14=YEAR('Fee Estimator'!$F107),'Fee Estimator'!$M107,0))))","v":0},{"$f":"IF(ISTEXT('Fee Estimator'!$F107),0,IF('Fee Estimator'!$F107=\"\",0,IF($F$12=\"No\",0,IF(P$14=YEAR('Fee Estimator'!$F107),'Fee Estimator'!$M107,0))))","v":0},{"$f":"IF(ISTEXT('Fee Estimator'!$F107),0,IF('Fee Estimator'!$F107=\"\",0,IF($F$12=\"No\",0,IF(Q$14=YEAR('Fee Estimator'!$F107),'Fee Estimator'!$M107,0))))","v":0},{"$f":"IF(ISTEXT('Fee Estimator'!$F107),0,IF('Fee Estimator'!$F107=\"\",0,IF($F$12=\"No\",0,IF(R$14=YEAR('Fee Estimator'!$F107),'Fee Estimator'!$M107,0))))","v":0},{"$f":"IF(ISTEXT('Fee Estimator'!$F107),0,IF('Fee Estimator'!$F107=\"\",0,IF($F$12=\"No\",0,IF(S$14=YEAR('Fee Estimator'!$F107),'Fee Estimator'!$M107,0))))","v":0},{"$f":"IF(ISTEXT('Fee Estimator'!$F107),0,IF('Fee Estimator'!$F107=\"\",0,IF($F$12=\"No\",0,IF(T$14=YEAR('Fee Estimator'!$F107),'Fee Estimator'!$M107,0))))","v":0},{"$f":"IF(ISTEXT('Fee Estimator'!$F107),0,IF('Fee Estimator'!$F107=\"\",0,IF($F$12=\"No\",0,IF(U$14=YEAR('Fee Estimator'!$F107),'Fee Estimator'!$M107,0))))","v":0},{"$f":"IF(ISTEXT('Fee Estimator'!$F107),0,IF('Fee Estimator'!$F107=\"\",0,IF($F$12=\"No\",0,IF(V$14=YEAR('Fee Estimator'!$F107),'Fee Estimator'!$M107,0))))","v":0},{"$f":"IF(ISTEXT('Fee Estimator'!$F107),0,IF('Fee Estimator'!$F107=\"\",0,IF($F$12=\"No\",0,IF(W$14=YEAR('Fee Estimator'!$F107),'Fee Estimator'!$M107,0))))","v":0},{"$f":"IF(ISTEXT('Fee Estimator'!$F107),0,IF('Fee Estimator'!$F107=\"\",0,IF($F$12=\"No\",0,IF(X$14=YEAR('Fee Estimator'!$F107),'Fee Estimator'!$M107,0))))","v":0},{"$f":"IF(ISTEXT('Fee Estimator'!$F107),0,IF('Fee Estimator'!$F107=\"\",0,IF($F$12=\"No\",0,IF(Y$14=YEAR('Fee Estimator'!$F107),'Fee Estimator'!$M107,0))))","v":0},{"$f":"IF(ISTEXT('Fee Estimator'!$F107),0,IF('Fee Estimator'!$F107=\"\",0,IF($F$12=\"No\",0,IF(Z$14=YEAR('Fee Estimator'!$F107),'Fee Estimator'!$M107,0))))","v":0},{"$f":"IF(ISTEXT('Fee Estimator'!$F107),0,IF('Fee Estimator'!$F107=\"\",0,IF($F$12=\"No\",0,IF(AA$14=YEAR('Fee Estimator'!$F107),'Fee Estimator'!$M107,0))))","v":0},{"$f":"IF(ISTEXT('Fee Estimator'!$F107),0,IF('Fee Estimator'!$F107=\"\",0,IF($F$12=\"No\",0,IF(AB$14=YEAR('Fee Estimator'!$F107),'Fee Estimator'!$M107,0))))","v":0},{"$f":"IF(ISTEXT('Fee Estimator'!$F107),0,IF('Fee Estimator'!$F107=\"\",0,IF($F$12=\"No\",0,IF(AC$14=YEAR('Fee Estimator'!$F107),'Fee Estimator'!$M107,0))))","v":0},{"$f":"IF(ISTEXT('Fee Estimator'!$F107),0,IF('Fee Estimator'!$F107=\"\",0,IF($F$12=\"No\",0,IF(AD$14=YEAR('Fee Estimator'!$F107),'Fee Estimator'!$M107,0))))","v":0},{"$f":"IF(ISTEXT('Fee Estimator'!$F107),0,IF('Fee Estimator'!$F107=\"\",0,IF($F$12=\"No\",0,IF(AE$14=YEAR('Fee Estimator'!$F107),'Fee Estimator'!$M107,0))))","v":0},{"$f":"IF(ISTEXT('Fee Estimator'!$F107),0,IF('Fee Estimator'!$F107=\"\",0,IF($F$12=\"No\",0,IF(AF$14=YEAR('Fee Estimator'!$F107),'Fee Estimator'!$M107,0))))","v":0},{"$f":"IF(ISTEXT('Fee Estimator'!$F107),0,IF('Fee Estimator'!$F107=\"\",0,IF($F$12=\"No\",0,IF(AG$14=YEAR('Fee Estimator'!$F107),'Fee Estimator'!$M107,0))))","v":0},{"$f":"IF(ISTEXT('Fee Estimator'!$F107),0,IF('Fee Estimator'!$F107=\"\",0,IF($F$12=\"No\",0,IF(AH$14=YEAR('Fee Estimator'!$F107),'Fee Estimator'!$M107,0))))","v":0},{"$f":"IF(ISTEXT('Fee Estimator'!$F107),0,IF('Fee Estimator'!$F107=\"\",0,IF($F$12=\"No\",0,IF(AI$14=YEAR('Fee Estimator'!$F107),'Fee Estimator'!$M107,0))))","v":0}]
[null,null,null,null,null,null,null,"PM10",null,{"$f":"('Emissions Estimator'!S113)","v":0},0,null,0,null,{"$f":"IF(ISTEXT('Fee Estimator'!$F107),0,IF('Fee Estimator'!$F107=\"\",0,IF($F$12=\"No\",0,IF(O$14=YEAR('Fee Estimator'!$F107),'Fee Estimator'!$M108,0))))","v":0},{"$f":"IF(ISTEXT('Fee Estimator'!$F107),0,IF('Fee Estimator'!$F107=\"\",0,IF($F$12=\"No\",0,IF(P$14=YEAR('Fee Estimator'!$F107),'Fee Estimator'!$M108,0))))","v":0},{"$f":"IF(ISTEXT('Fee Estimator'!$F107),0,IF('Fee Estimator'!$F107=\"\",0,IF($F$12=\"No\",0,IF(Q$14=YEAR('Fee Estimator'!$F107),'Fee Estimator'!$M108,0))))","v":0},{"$f":"IF(ISTEXT('Fee Estimator'!$F107),0,IF('Fee Estimator'!$F107=\"\",0,IF($F$12=\"No\",0,IF(R$14=YEAR('Fee Estimator'!$F107),'Fee Estimator'!$M108,0))))","v":0},{"$f":"IF(ISTEXT('Fee Estimator'!$F107),0,IF('Fee Estimator'!$F107=\"\",0,IF($F$12=\"No\",0,IF(S$14=YEAR('Fee Estimator'!$F107),'Fee Estimator'!$M108,0))))","v":0},{"$f":"IF(ISTEXT('Fee Estimator'!$F107),0,IF('Fee Estimator'!$F107=\"\",0,IF($F$12=\"No\",0,IF(T$14=YEAR('Fee Estimator'!$F107),'Fee Estimator'!$M108,0))))","v":0},{"$f":"IF(ISTEXT('Fee Estimator'!$F107),0,IF('Fee Estimator'!$F107=\"\",0,IF($F$12=\"No\",0,IF(U$14=YEAR('Fee Estimator'!$F107),'Fee Estimator'!$M108,0))))","v":0},{"$f":"IF(ISTEXT('Fee Estimator'!$F107),0,IF('Fee Estimator'!$F107=\"\",0,IF($F$12=\"No\",0,IF(V$14=YEAR('Fee Estimator'!$F107),'Fee Estimator'!$M108,0))))","v":0},{"$f":"IF(ISTEXT('Fee Estimator'!$F107),0,IF('Fee Estimator'!$F107=\"\",0,IF($F$12=\"No\",0,IF(W$14=YEAR('Fee Estimator'!$F107),'Fee Estimator'!$M108,0))))","v":0},{"$f":"IF(ISTEXT('Fee Estimator'!$F107),0,IF('Fee Estimator'!$F107=\"\",0,IF($F$12=\"No\",0,IF(X$14=YEAR('Fee Estimator'!$F107),'Fee Estimator'!$M108,0))))","v":0},{"$f":"IF(ISTEXT('Fee Estimator'!$F107),0,IF('Fee Estimator'!$F107=\"\",0,IF($F$12=\"No\",0,IF(Y$14=YEAR('Fee Estimator'!$F107),'Fee Estimator'!$M108,0))))","v":0},{"$f":"IF(ISTEXT('Fee Estimator'!$F107),0,IF('Fee Estimator'!$F107=\"\",0,IF($F$12=\"No\",0,IF(Z$14=YEAR('Fee Estimator'!$F107),'Fee Estimator'!$M108,0))))","v":0},{"$f":"IF(ISTEXT('Fee Estimator'!$F107),0,IF('Fee Estimator'!$F107=\"\",0,IF($F$12=\"No\",0,IF(AA$14=YEAR('Fee Estimator'!$F107),'Fee Estimator'!$M108,0))))","v":0},{"$f":"IF(ISTEXT('Fee Estimator'!$F107),0,IF('Fee Estimator'!$F107=\"\",0,IF($F$12=\"No\",0,IF(AB$14=YEAR('Fee Estimator'!$F107),'Fee Estimator'!$M108,0))))","v":0},{"$f":"IF(ISTEXT('Fee Estimator'!$F107),0,IF('Fee Estimator'!$F107=\"\",0,IF($F$12=\"No\",0,IF(AC$14=YEAR('Fee Estimator'!$F107),'Fee Estimator'!$M108,0))))","v":0},{"$f":"IF(ISTEXT('Fee Estimator'!$F107),0,IF('Fee Estimator'!$F107=\"\",0,IF($F$12=\"No\",0,IF(AD$14=YEAR('Fee Estimator'!$F107),'Fee Estimator'!$M108,0))))","v":0},{"$f":"IF(ISTEXT('Fee Estimator'!$F107),0,IF('Fee Estimator'!$F107=\"\",0,IF($F$12=\"No\",0,IF(AE$14=YEAR('Fee Estimator'!$F107),'Fee Estimator'!$M108,0))))","v":0},{"$f":"IF(ISTEXT('Fee Estimator'!$F107),0,IF('Fee Estimator'!$F107=\"\",0,IF($F$12=\"No\",0,IF(AF$14=YEAR('Fee Estimator'!$F107),'Fee Estimator'!$M108,0))))","v":0},{"$f":"IF(ISTEXT('Fee Estimator'!$F107),0,IF('Fee Estimator'!$F107=\"\",0,IF($F$12=\"No\",0,IF(AG$14=YEAR('Fee Estimator'!$F107),'Fee Estimator'!$M108,0))))","v":0},{"$f":"IF(ISTEXT('Fee Estimator'!$F107),0,IF('Fee Estimator'!$F107=\"\",0,IF($F$12=\"No\",0,IF(AH$14=YEAR('Fee Estimator'!$F107),'Fee Estimator'!$M108,0))))","v":0},{"$f":"IF(ISTEXT('Fee Estimator'!$F107),0,IF('Fee Estimator'!$F107=\"\",0,IF($F$12=\"No\",0,IF(AI$14=YEAR('Fee Estimator'!$F107),'Fee Estimator'!$M108,0))))","v":0}]
[{"$f":"IF(AND('Emissions Estimator'!$A59=\"\",'Emissions Estimator'!$A114=\"\"),\"\",IF(AND('Emissions Estimator'!$A59=\"\",'Emissions Estimator'!$A114<>\"\"),\"Operation\",IF(AND('Emissions Estimator'!$A114=\"\",'Emissions Estimator'!$A59<>\"\"),\"Construction\",MIN('Emissions Estimator'!$A59,'Emissions Estimator'!$A114))))","v":""},{"$f":"IF(A109=\"\",\"\",IF(AND(A109=\"Construction\",'Emissions Estimator'!$O$9=\"No\"),\"No\",IF(AND(A109=\"Construction\",'Emissions Estimator'!$O$9=\"Yes\"),\"Yes\",IF(A109=\"Operation\",\"\"))))","v":""},{"$f":"IF(AND('Emissions Estimator'!$A59=\"\",'Emissions Estimator'!$A114=\"\"),\"\",IF(AND('Emissions Estimator'!$A59=\"\",'Emissions Estimator'!$A114<>\"\"),'Emissions Estimator'!$A114,IF(AND('Emissions Estimator'!$A114=\"\",'Emissions Estimator'!$A59<>\"\"),'Emissions Estimator'!$A59,MIN('Emissions Estimator'!$A59,'Emissions Estimator'!$A114))))","v":""},48,{"$f":"IF(AND('Emissions Estimator'!C59=\"\",'Emissions Estimator'!C114=\"\"),\"\",IF(AND('Emissions Estimator'!C59=\"\",'Emissions Estimator'!C114<>\"\"),'Emissions Estimator'!C114,IF(AND('Emissions Estimator'!C114=\"\",'Emissions Estimator'!C59<>\"\"),'Emissions Estimator'!C59,MIN('Emissions Estimator'!C59,'Emissions Estimator'!C114))))","v":""},{"$f":"IF(AND(B109=\"\",E109=\"\"),\"\",IF(AND(B109=\"Yes\",$F$12=\"Yes\"),\"Clean Fleet\",IF(AND(B109=\"Yes\",$F$12=\"No\"),\"Clean Fleet\",IF(AND(A109=\"Operation\",$F$12=\"No\"),$E$15-1,IF(AND(A109=\"Operation\",$F$12=\"Yes\"),E109-1,IF(AND(B109=\"No\",$F$12=\"No\"),$E$15-1,IF(AND(B109=\"No\",$F$12=\"Yes\"),E109-1)))))))","v":""},null,"NOx",null,{"$f":"('Emissions Estimator'!R114)","v":0},0,null,0,null,{"$f":"IF(ISTEXT('Fee Estimator'!$F109),0,IF('Fee Estimator'!$F109=\"\",0,IF($F$12=\"No\",0,IF(O$14=YEAR('Fee Estimator'!$F109),'Fee Estimator'!$M109,0))))","v":0},{"$f":"IF(ISTEXT('Fee Estimator'!$F109),0,IF('Fee Estimator'!$F109=\"\",0,IF($F$12=\"No\",0,IF(P$14=YEAR('Fee Estimator'!$F109),'Fee Estimator'!$M109,0))))","v":0},{"$f":"IF(ISTEXT('Fee Estimator'!$F109),0,IF('Fee Estimator'!$F109=\"\",0,IF($F$12=\"No\",0,IF(Q$14=YEAR('Fee Estimator'!$F109),'Fee Estimator'!$M109,0))))","v":0},{"$f":"IF(ISTEXT('Fee Estimator'!$F109),0,IF('Fee Estimator'!$F109=\"\",0,IF($F$12=\"No\",0,IF(R$14=YEAR('Fee Estimator'!$F109),'Fee Estimator'!$M109,0))))","v":0},{"$f":"IF(ISTEXT('Fee Estimator'!$F109),0,IF('Fee Estimator'!$F109=\"\",0,IF($F$12=\"No\",0,IF(S$14=YEAR('Fee Estimator'!$F109),'Fee Estimator'!$M109,0))))","v":0},{"$f":"IF(ISTEXT('Fee Estimator'!$F109),0,IF('Fee Estimator'!$F109=\"\",0,IF($F$12=\"No\",0,IF(T$14=YEAR('Fee Estimator'!$F109),'Fee Estimator'!$M109,0))))","v":0},{"$f":"IF(ISTEXT('Fee Estimator'!$F109),0,IF('Fee Estimator'!$F109=\"\",0,IF($F$12=\"No\",0,IF(U$14=YEAR('Fee Estimator'!$F109),'Fee Estimator'!$M109,0))))","v":0},{"$f":"IF(ISTEXT('Fee Estimator'!$F109),0,IF('Fee Estimator'!$F109=\"\",0,IF($F$12=\"No\",0,IF(V$14=YEAR('Fee Estimator'!$F109),'Fee Estimator'!$M109,0))))","v":0},{"$f":"IF(ISTEXT('Fee Estimator'!$F109),0,IF('Fee Estimator'!$F109=\"\",0,IF($F$12=\"No\",0,IF(W$14=YEAR('Fee Estimator'!$F109),'Fee Estimator'!$M109,0))))","v":0},{"$f":"IF(ISTEXT('Fee Estimator'!$F109),0,IF('Fee Estimator'!$F109=\"\",0,IF($F$12=\"No\",0,IF(X$14=YEAR('Fee Estimator'!$F109),'Fee Estimator'!$M109,0))))","v":0},{"$f":"IF(ISTEXT('Fee Estimator'!$F109),0,IF('Fee Estimator'!$F109=\"\",0,IF($F$12=\"No\",0,IF(Y$14=YEAR('Fee Estimator'!$F109),'Fee Estimator'!$M109,0))))","v":0},{"$f":"IF(ISTEXT('Fee Estimator'!$F109),0,IF('Fee Estimator'!$F109=\"\",0,IF($F$12=\"No\",0,IF(Z$14=YEAR('Fee Estimator'!$F109),'Fee Estimator'!$M109,0))))","v":0},{"$f":"IF(ISTEXT('Fee Estimator'!$F109),0,IF('Fee Estimator'!$F109=\"\",0,IF($F$12=\"No\",0,IF(AA$14=YEAR('Fee Estimator'!$F109),'Fee Estimator'!$M109,0))))","v":0},{"$f":"IF(ISTEXT('Fee Estimator'!$F109),0,IF('Fee Estimator'!$F109=\"\",0,IF($F$12=\"No\",0,IF(AB$14=YEAR('Fee Estimator'!$F109),'Fee Estimator'!$M109,0))))","v":0},{"$f":"IF(ISTEXT('Fee Estimator'!$F109),0,IF('Fee Estimator'!$F109=\"\",0,IF($F$12=\"No\",0,IF(AC$14=YEAR('Fee Estimator'!$F109),'Fee Estimator'!$M109,0))))","v":0},{"$f":"IF(ISTEXT('Fee Estimator'!$F109),0,IF('Fee Estimator'!$F109=\"\",0,IF($F$12=\"No\",0,IF(AD$14=YEAR('Fee Estimator'!$F109),'Fee Estimator'!$M109,0))))","v":0},{"$f":"IF(ISTEXT('Fee Estimator'!$F109),0,IF('Fee Estimator'!$F109=\"\",0,IF($F$12=\"No\",0,IF(AE$14=YEAR('Fee Estimator'!$F109),'Fee Estimator'!$M109,0))))","v":0},{"$f":"IF(ISTEXT('Fee Estimator'!$F109),0,IF('Fee Estimator'!$F109=\"\",0,IF($F$12=\"No\",0,IF(AF$14=YEAR('Fee Estimator'!$F109),'Fee Estimator'!$M109,0))))","v":0},{"$f":"IF(ISTEXT('Fee Estimator'!$F109),0,IF('Fee Estimator'!$F109=\"\",0,IF($F$12=\"No\",0,IF(AG$14=YEAR('Fee Estimator'!$F109),'Fee Estimator'!$M109,0))))","v":0},{"$f":"IF(ISTEXT('Fee Estimator'!$F109),0,IF('Fee Estimator'!$F109=\"\",0,IF($F$12=\"No\",0,IF(AH$14=YEAR('Fee Estimator'!$F109),'Fee Estimator'!$M109,0))))","v":0},{"$f":"IF(ISTEXT('Fee Estimator'!$F109),0,IF('Fee Estimator'!$F109=\"\",0,IF($F$12=\"No\",0,IF(AI$14=YEAR('Fee Estimator'!$F109),'Fee Estimator'!$M109,0))))","v":0}]
[null,null,null,null,null,null,null,"PM10",null,{"$f":"('Emissions Estimator'!S114)","v":0},0,null,0,null,{"$f":"IF(ISTEXT('Fee Estimator'!$F109),0,IF('Fee Estimator'!$F109=\"\",0,IF($F$12=\"No\",0,IF(O$14=YEAR('Fee Estimator'!$F109),'Fee Estimator'!$M110,0))))","v":0},{"$f":"IF(ISTEXT('Fee Estimator'!$F109),0,IF('Fee Estimator'!$F109=\"\",0,IF($F$12=\"No\",0,IF(P$14=YEAR('Fee Estimator'!$F109),'Fee Estimator'!$M110,0))))","v":0},{"$f":"IF(ISTEXT('Fee Estimator'!$F109),0,IF('Fee Estimator'!$F109=\"\",0,IF($F$12=\"No\",0,IF(Q$14=YEAR('Fee Estimator'!$F109),'Fee Estimator'!$M110,0))))","v":0},{"$f":"IF(ISTEXT('Fee Estimator'!$F109),0,IF('Fee Estimator'!$F109=\"\",0,IF($F$12=\"No\",0,IF(R$14=YEAR('Fee Estimator'!$F109),'Fee Estimator'!$M110,0))))","v":0},{"$f":"IF(ISTEXT('Fee Estimator'!$F109),0,IF('Fee Estimator'!$F109=\"\",0,IF($F$12=\"No\",0,IF(S$14=YEAR('Fee Estimator'!$F109),'Fee Estimator'!$M110,0))))","v":0},{"$f":"IF(ISTEXT('Fee Estimator'!$F109),0,IF('Fee Estimator'!$F109=\"\",0,IF($F$12=\"No\",0,IF(T$14=YEAR('Fee Estimator'!$F109),'Fee Estimator'!$M110,0))))","v":0},{"$f":"IF(ISTEXT('Fee Estimator'!$F109),0,IF('Fee Estimator'!$F109=\"\",0,IF($F$12=\"No\",0,IF(U$14=YEAR('Fee Estimator'!$F109),'Fee Estimator'!$M110,0))))","v":0},{"$f":"IF(ISTEXT('Fee Estimator'!$F109),0,IF('Fee Estimator'!$F109=\"\",0,IF($F$12=\"No\",0,IF(V$14=YEAR('Fee Estimator'!$F109),'Fee Estimator'!$M110,0))))","v":0},{"$f":"IF(ISTEXT('Fee Estimator'!$F109),0,IF('Fee Estimator'!$F109=\"\",0,IF($F$12=\"No\",0,IF(W$14=YEAR('Fee Estimator'!$F109),'Fee Estimator'!$M110,0))))","v":0},{"$f":"IF(ISTEXT('Fee Estimator'!$F109),0,IF('Fee Estimator'!$F109=\"\",0,IF($F$12=\"No\",0,IF(X$14=YEAR('Fee Estimator'!$F109),'Fee Estimator'!$M110,0))))","v":0},{"$f":"IF(ISTEXT('Fee Estimator'!$F109),0,IF('Fee Estimator'!$F109=\"\",0,IF($F$12=\"No\",0,IF(Y$14=YEAR('Fee Estimator'!$F109),'Fee Estimator'!$M110,0))))","v":0},{"$f":"IF(ISTEXT('Fee Estimator'!$F109),0,IF('Fee Estimator'!$F109=\"\",0,IF($F$12=\"No\",0,IF(Z$14=YEAR('Fee Estimator'!$F109),'Fee Estimator'!$M110,0))))","v":0},{"$f":"IF(ISTEXT('Fee Estimator'!$F109),0,IF('Fee Estimator'!$F109=\"\",0,IF($F$12=\"No\",0,IF(AA$14=YEAR('Fee Estimator'!$F109),'Fee Estimator'!$M110,0))))","v":0},{"$f":"IF(ISTEXT('Fee Estimator'!$F109),0,IF('Fee Estimator'!$F109=\"\",0,IF($F$12=\"No\",0,IF(AB$14=YEAR('Fee Estimator'!$F109),'Fee Estimator'!$M110,0))))","v":0},{"$f":"IF(ISTEXT('Fee Estimator'!$F109),0,IF('Fee Estimator'!$F109=\"\",0,IF($F$12=\"No\",0,IF(AC$14=YEAR('Fee Estimator'!$F109),'Fee Estimator'!$M110,0))))","v":0},{"$f":"IF(ISTEXT('Fee Estimator'!$F109),0,IF('Fee Estimator'!$F109=\"\",0,IF($F$12=\"No\",0,IF(AD$14=YEAR('Fee Estimator'!$F109),'Fee Estimator'!$M110,0))))","v":0},{"$f":"IF(ISTEXT('Fee Estimator'!$F109),0,IF('Fee Estimator'!$F109=\"\",0,IF($F$12=\"No\",0,IF(AE$14=YEAR('Fee Estimator'!$F109),'Fee Estimator'!$M110,0))))","v":0},{"$f":"IF(ISTEXT('Fee Estimator'!$F109),0,IF('Fee Estimator'!$F109=\"\",0,IF($F$12=\"No\",0,IF(AF$14=YEAR('Fee Estimator'!$F109),'Fee Estimator'!$M110,0))))","v":0},{"$f":"IF(ISTEXT('Fee Estimator'!$F109),0,IF('Fee Estimator'!$F109=\"\",0,IF($F$12=\"No\",0,IF(AG$14=YEAR('Fee Estimator'!$F109),'Fee Estimator'!$M110,0))))","v":0},{"$f":"IF(ISTEXT('Fee Estimator'!$F109),0,IF('Fee Estimator'!$F109=\"\",0,IF($F$12=\"No\",0,IF(AH$14=YEAR('Fee Estimator'!$F109),'Fee Estimator'!$M110,0))))","v":0},{"$f":"IF(ISTEXT('Fee Estimator'!$F109),0,IF('Fee Estimator'!$F109=\"\",0,IF($F$12=\"No\",0,IF(AI$14=YEAR('Fee Estimator'!$F109),'Fee Estimator'!$M110,0))))","v":0}]
[{"$f":"IF(AND('Emissions Estimator'!$A60=\"\",'Emissions Estimator'!$A115=\"\"),\"\",IF(AND('Emissions Estimator'!$A60=\"\",'Emissions Estimator'!$A115<>\"\"),\"Operation\",IF(AND('Emissions Estimator'!$A115=\"\",'Emissions Estimator'!$A60<>\"\"),\"Construction\",MIN('Emissions Estimator'!$A60,'Emissions Estimator'!$A115))))","v":""},{"$f":"IF(A111=\"\",\"\",IF(AND(A111=\"Construction\",'Emissions Estimator'!$O$9=\"No\"),\"No\",IF(AND(A111=\"Construction\",'Emissions Estimator'!$O$9=\"Yes\"),\"Yes\",IF(A111=\"Operation\",\"\"))))","v":""},{"$f":"IF(AND('Emissions Estimator'!$A60=\"\",'Emissions Estimator'!$A115=\"\"),\"\",IF(AND('Emissions Estimator'!$A60=\"\",'Emissions Estimator'!$A115<>\"\"),'Emissions Estimator'!$A115,IF(AND('Emissions Estimator'!$A115=\"\",'Emissions Estimator'!$A60<>\"\"),'Emissions Estimator'!$A60,MIN('Emissions Estimator'!$A60,'Emissions Estimator'!$A115))))","v":""},49,{"$f":"IF(AND('Emissions Estimator'!C60=\"\",'Emissions Estimator'!C115=\"\"),\"\",IF(AND('Emissions Estimator'!C60=\"\",'Emissions Estimator'!C115<>\"\"),'Emissions Estimator'!C115,IF(AND('Emissions Estimator'!C115=\"\",'Emissions Estimator'!C60<>\"\"),'Emissions Estimator'!C60,MIN('Emissions Estimator'!C60,'Emissions Estimator'!C115))))","v":""},{"$f":"IF(AND(B111=\"\",E111=\"\"),\"\",IF(AND(B111=\"Yes\",$F$12=\"Yes\"),\"Clean Fleet\",IF(AND(B111=\"Yes\",$F$12=\"No\"),\"Clean Fleet\",IF(AND(A111=\"Operation\",$F$12=\"No\"),$E$15-1,IF(AND(A111=\"Operation\",$F$12=\"Yes\"),E111-1,IF(AND(B111=\"No\",$F$12=\"No\"),$E$15-1,IF(AND(B111=\"No\",$F$12=\"Yes\"),E111-1)))))))","v":""},null,"NOx",null,{"$f":"('Emissions Estimator'!R115)","v":0},0,null,0,null,{"$f":"IF(ISTEXT('Fee Estimator'!$F111),0,IF('Fee Estimator'!$F111=\"\",0,IF($F$12=\"No\",0,IF(O$14=YEAR('Fee Estimator'!$F111),'Fee Estimator'!$M111,0))))","v":0},{"$f":"IF(ISTEXT('Fee Estimator'!$F111),0,IF('Fee Estimator'!$F111=\"\",0,IF($F$12=\"No\",0,IF(P$14=YEAR('Fee Estimator'!$F111),'Fee Estimator'!$M111,0))))","v":0},{"$f":"IF(ISTEXT('Fee Estimator'!$F111),0,IF('Fee Estimator'!$F111=\"\",0,IF($F$12=\"No\",0,IF(Q$14=YEAR('Fee Estimator'!$F111),'Fee Estimator'!$M111,0))))","v":0},{"$f":"IF(ISTEXT('Fee Estimator'!$F111),0,IF('Fee Estimator'!$F111=\"\",0,IF($F$12=\"No\",0,IF(R$14=YEAR('Fee Estimator'!$F111),'Fee Estimator'!$M111,0))))","v":0},{"$f":"IF(ISTEXT('Fee Estimator'!$F111),0,IF('Fee Estimator'!$F111=\"\",0,IF($F$12=\"No\",0,IF(S$14=YEAR('Fee Estimator'!$F111),'Fee Estimator'!$M111,0))))","v":0},{"$f":"IF(ISTEXT('Fee Estimator'!$F111),0,IF('Fee Estimator'!$F111=\"\",0,IF($F$12=\"No\",0,IF(T$14=YEAR('Fee Estimator'!$F111),'Fee Estimator'!$M111,0))))","v":0},{"$f":"IF(ISTEXT('Fee Estimator'!$F111),0,IF('Fee Estimator'!$F111=\"\",0,IF($F$12=\"No\",0,IF(U$14=YEAR('Fee Estimator'!$F111),'Fee Estimator'!$M111,0))))","v":0},{"$f":"IF(ISTEXT('Fee Estimator'!$F111),0,IF('Fee Estimator'!$F111=\"\",0,IF($F$12=\"No\",0,IF(V$14=YEAR('Fee Estimator'!$F111),'Fee Estimator'!$M111,0))))","v":0},{"$f":"IF(ISTEXT('Fee Estimator'!$F111),0,IF('Fee Estimator'!$F111=\"\",0,IF($F$12=\"No\",0,IF(W$14=YEAR('Fee Estimator'!$F111),'Fee Estimator'!$M111,0))))","v":0},{"$f":"IF(ISTEXT('Fee Estimator'!$F111),0,IF('Fee Estimator'!$F111=\"\",0,IF($F$12=\"No\",0,IF(X$14=YEAR('Fee Estimator'!$F111),'Fee Estimator'!$M111,0))))","v":0},{"$f":"IF(ISTEXT('Fee Estimator'!$F111),0,IF('Fee Estimator'!$F111=\"\",0,IF($F$12=\"No\",0,IF(Y$14=YEAR('Fee Estimator'!$F111),'Fee Estimator'!$M111,0))))","v":0},{"$f":"IF(ISTEXT('Fee Estimator'!$F111),0,IF('Fee Estimator'!$F111=\"\",0,IF($F$12=\"No\",0,IF(Z$14=YEAR('Fee Estimator'!$F111),'Fee Estimator'!$M111,0))))","v":0},{"$f":"IF(ISTEXT('Fee Estimator'!$F111),0,IF('Fee Estimator'!$F111=\"\",0,IF($F$12=\"No\",0,IF(AA$14=YEAR('Fee Estimator'!$F111),'Fee Estimator'!$M111,0))))","v":0},{"$f":"IF(ISTEXT('Fee Estimator'!$F111),0,IF('Fee Estimator'!$F111=\"\",0,IF($F$12=\"No\",0,IF(AB$14=YEAR('Fee Estimator'!$F111),'Fee Estimator'!$M111,0))))","v":0},{"$f":"IF(ISTEXT('Fee Estimator'!$F111),0,IF('Fee Estimator'!$F111=\"\",0,IF($F$12=\"No\",0,IF(AC$14=YEAR('Fee Estimator'!$F111),'Fee Estimator'!$M111,0))))","v":0},{"$f":"IF(ISTEXT('Fee Estimator'!$F111),0,IF('Fee Estimator'!$F111=\"\",0,IF($F$12=\"No\",0,IF(AD$14=YEAR('Fee Estimator'!$F111),'Fee Estimator'!$M111,0))))","v":0},{"$f":"IF(ISTEXT('Fee Estimator'!$F111),0,IF('Fee Estimator'!$F111=\"\",0,IF($F$12=\"No\",0,IF(AE$14=YEAR('Fee Estimator'!$F111),'Fee Estimator'!$M111,0))))","v":0},{"$f":"IF(ISTEXT('Fee Estimator'!$F111),0,IF('Fee Estimator'!$F111=\"\",0,IF($F$12=\"No\",0,IF(AF$14=YEAR('Fee Estimator'!$F111),'Fee Estimator'!$M111,0))))","v":0},{"$f":"IF(ISTEXT('Fee Estimator'!$F111),0,IF('Fee Estimator'!$F111=\"\",0,IF($F$12=\"No\",0,IF(AG$14=YEAR('Fee Estimator'!$F111),'Fee Estimator'!$M111,0))))","v":0},{"$f":"IF(ISTEXT('Fee Estimator'!$F111),0,IF('Fee Estimator'!$F111=\"\",0,IF($F$12=\"No\",0,IF(AH$14=YEAR('Fee Estimator'!$F111),'Fee Estimator'!$M111,0))))","v":0},{"$f":"IF(ISTEXT('Fee Estimator'!$F111),0,IF('Fee Estimator'!$F111=\"\",0,IF($F$12=\"No\",0,IF(AI$14=YEAR('Fee Estimator'!$F111),'Fee Estimator'!$M111,0))))","v":0}]
[null,null,null,null,null,null,null,"PM10",null,{"$f":"('Emissions Estimator'!S115)","v":0},0,null,0,null,{"$f":"IF(ISTEXT('Fee Estimator'!$F111),0,IF('Fee Estimator'!$F111=\"\",0,IF($F$12=\"No\",0,IF(O$14=YEAR('Fee Estimator'!$F111),'Fee Estimator'!$M112,0))))","v":0},{"$f":"IF(ISTEXT('Fee Estimator'!$F111),0,IF('Fee Estimator'!$F111=\"\",0,IF($F$12=\"No\",0,IF(P$14=YEAR('Fee Estimator'!$F111),'Fee Estimator'!$M112,0))))","v":0},{"$f":"IF(ISTEXT('Fee Estimator'!$F111),0,IF('Fee Estimator'!$F111=\"\",0,IF($F$12=\"No\",0,IF(Q$14=YEAR('Fee Estimator'!$F111),'Fee Estimator'!$M112,0))))","v":0},{"$f":"IF(ISTEXT('Fee Estimator'!$F111),0,IF('Fee Estimator'!$F111=\"\",0,IF($F$12=\"No\",0,IF(R$14=YEAR('Fee Estimator'!$F111),'Fee Estimator'!$M112,0))))","v":0},{"$f":"IF(ISTEXT('Fee Estimator'!$F111),0,IF('Fee Estimator'!$F111=\"\",0,IF($F$12=\"No\",0,IF(S$14=YEAR('Fee Estimator'!$F111),'Fee Estimator'!$M112,0))))","v":0},{"$f":"IF(ISTEXT('Fee Estimator'!$F111),0,IF('Fee Estimator'!$F111=\"\",0,IF($F$12=\"No\",0,IF(T$14=YEAR('Fee Estimator'!$F111),'Fee Estimator'!$M112,0))))","v":0},{"$f":"IF(ISTEXT('Fee Estimator'!$F111),0,IF('Fee Estimator'!$F111=\"\",0,IF($F$12=\"No\",0,IF(U$14=YEAR('Fee Estimator'!$F111),'Fee Estimator'!$M112,0))))","v":0},{"$f":"IF(ISTEXT('Fee Estimator'!$F111),0,IF('Fee Estimator'!$F111=\"\",0,IF($F$12=\"No\",0,IF(V$14=YEAR('Fee Estimator'!$F111),'Fee Estimator'!$M112,0))))","v":0},{"$f":"IF(ISTEXT('Fee Estimator'!$F111),0,IF('Fee Estimator'!$F111=\"\",0,IF($F$12=\"No\",0,IF(W$14=YEAR('Fee Estimator'!$F111),'Fee Estimator'!$M112,0))))","v":0},{"$f":"IF(ISTEXT('Fee Estimator'!$F111),0,IF('Fee Estimator'!$F111=\"\",0,IF($F$12=\"No\",0,IF(X$14=YEAR('Fee Estimator'!$F111),'Fee Estimator'!$M112,0))))","v":0},{"$f":"IF(ISTEXT('Fee Estimator'!$F111),0,IF('Fee Estimator'!$F111=\"\",0,IF($F$12=\"No\",0,IF(Y$14=YEAR('Fee Estimator'!$F111),'Fee Estimator'!$M112,0))))","v":0},{"$f":"IF(ISTEXT('Fee Estimator'!$F111),0,IF('Fee Estimator'!$F111=\"\",0,IF($F$12=\"No\",0,IF(Z$14=YEAR('Fee Estimator'!$F111),'Fee Estimator'!$M112,0))))","v":0},{"$f":"IF(ISTEXT('Fee Estimator'!$F111),0,IF('Fee Estimator'!$F111=\"\",0,IF($F$12=\"No\",0,IF(AA$14=YEAR('Fee Estimator'!$F111),'Fee Estimator'!$M112,0))))","v":0},{"$f":"IF(ISTEXT('Fee Estimator'!$F111),0,IF('Fee Estimator'!$F111=\"\",0,IF($F$12=\"No\",0,IF(AB$14=YEAR('Fee Estimator'!$F111),'Fee Estimator'!$M112,0))))","v":0},{"$f":"IF(ISTEXT('Fee Estimator'!$F111),0,IF('Fee Estimator'!$F111=\"\",0,IF($F$12=\"No\",0,IF(AC$14=YEAR('Fee Estimator'!$F111),'Fee Estimator'!$M112,0))))","v":0},{"$f":"IF(ISTEXT('Fee Estimator'!$F111),0,IF('Fee Estimator'!$F111=\"\",0,IF($F$12=\"No\",0,IF(AD$14=YEAR('Fee Estimator'!$F111),'Fee Estimator'!$M112,0))))","v":0},{"$f":"IF(ISTEXT('Fee Estimator'!$F111),0,IF('Fee Estimator'!$F111=\"\",0,IF($F$12=\"No\",0,IF(AE$14=YEAR('Fee Estimator'!$F111),'Fee Estimator'!$M112,0))))","v":0},{"$f":"IF(ISTEXT('Fee Estimator'!$F111),0,IF('Fee Estimator'!$F111=\"\",0,IF($F$12=\"No\",0,IF(AF$14=YEAR('Fee Estimator'!$F111),'Fee Estimator'!$M112,0))))","v":0},{"$f":"IF(ISTEXT('Fee Estimator'!$F111),0,IF('Fee Estimator'!$F111=\"\",0,IF($F$12=\"No\",0,IF(AG$14=YEAR('Fee Estimator'!$F111),'Fee Estimator'!$M112,0))))","v":0},{"$f":"IF(ISTEXT('Fee Estimator'!$F111),0,IF('Fee Estimator'!$F111=\"\",0,IF($F$12=\"No\",0,IF(AH$14=YEAR('Fee Estimator'!$F111),'Fee Estimator'!$M112,0))))","v":0},{"$f":"IF(ISTEXT('Fee Estimator'!$F111),0,IF('Fee Estimator'!$F111=\"\",0,IF($F$12=\"No\",0,IF(AI$14=YEAR('Fee Estimator'!$F111),'Fee Estimator'!$M112,0))))","v":0}]
[{"$f":"IF(AND('Emissions Estimator'!$A61=\"\",'Emissions Estimator'!$A116=\"\"),\"\",IF(AND('Emissions Estimator'!$A61=\"\",'Emissions Estimator'!$A116<>\"\"),\"Operation\",IF(AND('Emissions Estimator'!$A116=\"\",'Emissions Estimator'!$A61<>\"\"),\"Construction\",MIN('Emissions Estimator'!$A61,'Emissions Estimator'!$A116))))","v":""},{"$f":"IF(A113=\"\",\"\",IF(AND(A113=\"Construction\",'Emissions Estimator'!$O$9=\"No\"),\"No\",IF(AND(A113=\"Construction\",'Emissions Estimator'!$O$9=\"Yes\"),\"Yes\",IF(A113=\"Operation\",\"\"))))","v":""},{"$f":"IF(AND('Emissions Estimator'!$A61=\"\",'Emissions Estimator'!$A116=\"\"),\"\",IF(AND('Emissions Estimator'!$A61=\"\",'Emissions Estimator'!$A116<>\"\"),'Emissions Estimator'!$A116,IF(AND('Emissions Estimator'!$A116=\"\",'Emissions Estimator'!$A61<>\"\"),'Emissions Estimator'!$A61,MIN('Emissions Estimator'!$A61,'Emissions Estimator'!$A116))))","v":""},50,{"$f":"IF(AND('Emissions Estimator'!C61=\"\",'Emissions Estimator'!C116=\"\"),\"\",IF(AND('Emissions Estimator'!C61=\"\",'Emissions Estimator'!C116<>\"\"),'Emissions Estimator'!C116,IF(AND('Emissions Estimator'!C116=\"\",'Emissions Estimator'!C61<>\"\"),'Emissions Estimator'!C61,MIN('Emissions Estimator'!C61,'Emissions Estimator'!C116))))","v":""},{"$f":"IF(AND(B113=\"\",E113=\"\"),\"\",IF(AND(B113=\"Yes\",$F$12=\"Yes\"),\"Clean Fleet\",IF(AND(B113=\"Yes\",$F$12=\"No\"),\"Clean Fleet\",IF(AND(A113=\"Operation\",$F$12=\"No\"),$E$15-1,IF(AND(A113=\"Operation\",$F$12=\"Yes\"),E113-1,IF(AND(B113=\"No\",$F$12=\"No\"),$E$15-1,IF(AND(B113=\"No\",$F$12=\"Yes\"),E113-1)))))))","v":""},null,"NOx",null,{"$f":"('Emissions Estimator'!R116)","v":0},0,null,0,null,{"$f":"IF(ISTEXT('Fee Estimator'!$F113),0,IF('Fee Estimator'!$F113=\"\",0,IF($F$12=\"No\",0,IF(O$14=YEAR('Fee Estimator'!$F113),'Fee Estimator'!$M113,0))))","v":0},{"$f":"IF(ISTEXT('Fee Estimator'!$F113),0,IF('Fee Estimator'!$F113=\"\",0,IF($F$12=\"No\",0,IF(P$14=YEAR('Fee Estimator'!$F113),'Fee Estimator'!$M113,0))))","v":0},{"$f":"IF(ISTEXT('Fee Estimator'!$F113),0,IF('Fee Estimator'!$F113=\"\",0,IF($F$12=\"No\",0,IF(Q$14=YEAR('Fee Estimator'!$F113),'Fee Estimator'!$M113,0))))","v":0},{"$f":"IF(ISTEXT('Fee Estimator'!$F113),0,IF('Fee Estimator'!$F113=\"\",0,IF($F$12=\"No\",0,IF(R$14=YEAR('Fee Estimator'!$F113),'Fee Estimator'!$M113,0))))","v":0},{"$f":"IF(ISTEXT('Fee Estimator'!$F113),0,IF('Fee Estimator'!$F113=\"\",0,IF($F$12=\"No\",0,IF(S$14=YEAR('Fee Estimator'!$F113),'Fee Estimator'!$M113,0))))","v":0},{"$f":"IF(ISTEXT('Fee Estimator'!$F113),0,IF('Fee Estimator'!$F113=\"\",0,IF($F$12=\"No\",0,IF(T$14=YEAR('Fee Estimator'!$F113),'Fee Estimator'!$M113,0))))","v":0},{"$f":"IF(ISTEXT('Fee Estimator'!$F113),0,IF('Fee Estimator'!$F113=\"\",0,IF($F$12=\"No\",0,IF(U$14=YEAR('Fee Estimator'!$F113),'Fee Estimator'!$M113,0))))","v":0},{"$f":"IF(ISTEXT('Fee Estimator'!$F113),0,IF('Fee Estimator'!$F113=\"\",0,IF($F$12=\"No\",0,IF(V$14=YEAR('Fee Estimator'!$F113),'Fee Estimator'!$M113,0))))","v":0},{"$f":"IF(ISTEXT('Fee Estimator'!$F113),0,IF('Fee Estimator'!$F113=\"\",0,IF($F$12=\"No\",0,IF(W$14=YEAR('Fee Estimator'!$F113),'Fee Estimator'!$M113,0))))","v":0},{"$f":"IF(ISTEXT('Fee Estimator'!$F113),0,IF('Fee Estimator'!$F113=\"\",0,IF($F$12=\"No\",0,IF(X$14=YEAR('Fee Estimator'!$F113),'Fee Estimator'!$M113,0))))","v":0},{"$f":"IF(ISTEXT('Fee Estimator'!$F113),0,IF('Fee Estimator'!$F113=\"\",0,IF($F$12=\"No\",0,IF(Y$14=YEAR('Fee Estimator'!$F113),'Fee Estimator'!$M113,0))))","v":0},{"$f":"IF(ISTEXT('Fee Estimator'!$F113),0,IF('Fee Estimator'!$F113=\"\",0,IF($F$12=\"No\",0,IF(Z$14=YEAR('Fee Estimator'!$F113),'Fee Estimator'!$M113,0))))","v":0},{"$f":"IF(ISTEXT('Fee Estimator'!$F113),0,IF('Fee Estimator'!$F113=\"\",0,IF($F$12=\"No\",0,IF(AA$14=YEAR('Fee Estimator'!$F113),'Fee Estimator'!$M113,0))))","v":0},{"$f":"IF(ISTEXT('Fee Estimator'!$F113),0,IF('Fee Estimator'!$F113=\"\",0,IF($F$12=\"No\",0,IF(AB$14=YEAR('Fee Estimator'!$F113),'Fee Estimator'!$M113,0))))","v":0},{"$f":"IF(ISTEXT('Fee Estimator'!$F113),0,IF('Fee Estimator'!$F113=\"\",0,IF($F$12=\"No\",0,IF(AC$14=YEAR('Fee Estimator'!$F113),'Fee Estimator'!$M113,0))))","v":0},{"$f":"IF(ISTEXT('Fee Estimator'!$F113),0,IF('Fee Estimator'!$F113=\"\",0,IF($F$12=\"No\",0,IF(AD$14=YEAR('Fee Estimator'!$F113),'Fee Estimator'!$M113,0))))","v":0},{"$f":"IF(ISTEXT('Fee Estimator'!$F113),0,IF('Fee Estimator'!$F113=\"\",0,IF($F$12=\"No\",0,IF(AE$14=YEAR('Fee Estimator'!$F113),'Fee Estimator'!$M113,0))))","v":0},{"$f":"IF(ISTEXT('Fee Estimator'!$F113),0,IF('Fee Estimator'!$F113=\"\",0,IF($F$12=\"No\",0,IF(AF$14=YEAR('Fee Estimator'!$F113),'Fee Estimator'!$M113,0))))","v":0},{"$f":"IF(ISTEXT('Fee Estimator'!$F113),0,IF('Fee Estimator'!$F113=\"\",0,IF($F$12=\"No\",0,IF(AG$14=YEAR('Fee Estimator'!$F113),'Fee Estimator'!$M113,0))))","v":0},{"$f":"IF(ISTEXT('Fee Estimator'!$F113),0,IF('Fee Estimator'!$F113=\"\",0,IF($F$12=\"No\",0,IF(AH$14=YEAR('Fee Estimator'!$F113),'Fee Estimator'!$M113,0))))","v":0},{"$f":"IF(ISTEXT('Fee Estimator'!$F113),0,IF('Fee Estimator'!$F113=\"\",0,IF($F$12=\"No\",0,IF(AI$14=YEAR('Fee Estimator'!$F113),'Fee Estimator'!$M113,0))))","v":0}]
[null,null,null,null,null,null,null,"PM10",null,{"$f":"('Emissions Estimator'!S116)","v":0},0,null,0,null,{"$f":"IF(ISTEXT('Fee Estimator'!$F113),0,IF('Fee Estimator'!$F113=\"\",0,IF($F$12=\"No\",0,IF(O$14=YEAR('Fee Estimator'!$F113),'Fee Estimator'!$M114,0))))","v":0},{"$f":"IF(ISTEXT('Fee Estimator'!$F113),0,IF('Fee Estimator'!$F113=\"\",0,IF($F$12=\"No\",0,IF(P$14=YEAR('Fee Estimator'!$F113),'Fee Estimator'!$M114,0))))","v":0},{"$f":"IF(ISTEXT('Fee Estimator'!$F113),0,IF('Fee Estimator'!$F113=\"\",0,IF($F$12=\"No\",0,IF(Q$14=YEAR('Fee Estimator'!$F113),'Fee Estimator'!$M114,0))))","v":0},{"$f":"IF(ISTEXT('Fee Estimator'!$F113),0,IF('Fee Estimator'!$F113=\"\",0,IF($F$12=\"No\",0,IF(R$14=YEAR('Fee Estimator'!$F113),'Fee Estimator'!$M114,0))))","v":0},{"$f":"IF(ISTEXT('Fee Estimator'!$F113),0,IF('Fee Estimator'!$F113=\"\",0,IF($F$12=\"No\",0,IF(S$14=YEAR('Fee Estimator'!$F113),'Fee Estimator'!$M114,0))))","v":0},{"$f":"IF(ISTEXT('Fee Estimator'!$F113),0,IF('Fee Estimator'!$F113=\"\",0,IF($F$12=\"No\",0,IF(T$14=YEAR('Fee Estimator'!$F113),'Fee Estimator'!$M114,0))))","v":0},{"$f":"IF(ISTEXT('Fee Estimator'!$F113),0,IF('Fee Estimator'!$F113=\"\",0,IF($F$12=\"No\",0,IF(U$14=YEAR('Fee Estimator'!$F113),'Fee Estimator'!$M114,0))))","v":0},{"$f":"IF(ISTEXT('Fee Estimator'!$F113),0,IF('Fee Estimator'!$F113=\"\",0,IF($F$12=\"No\",0,IF(V$14=YEAR('Fee Estimator'!$F113),'Fee Estimator'!$M114,0))))","v":0},{"$f":"IF(ISTEXT('Fee Estimator'!$F113),0,IF('Fee Estimator'!$F113=\"\",0,IF($F$12=\"No\",0,IF(W$14=YEAR('Fee Estimator'!$F113),'Fee Estimator'!$M114,0))))","v":0},{"$f":"IF(ISTEXT('Fee Estimator'!$F113),0,IF('Fee Estimator'!$F113=\"\",0,IF($F$12=\"No\",0,IF(X$14=YEAR('Fee Estimator'!$F113),'Fee Estimator'!$M114,0))))","v":0},{"$f":"IF(ISTEXT('Fee Estimator'!$F113),0,IF('Fee Estimator'!$F113=\"\",0,IF($F$12=\"No\",0,IF(Y$14=YEAR('Fee Estimator'!$F113),'Fee Estimator'!$M114,0))))","v":0},{"$f":"IF(ISTEXT('Fee Estimator'!$F113),0,IF('Fee Estimator'!$F113=\"\",0,IF($F$12=\"No\",0,IF(Z$14=YEAR('Fee Estimator'!$F113),'Fee Estimator'!$M114,0))))","v":0},{"$f":"IF(ISTEXT('Fee Estimator'!$F113),0,IF('Fee Estimator'!$F113=\"\",0,IF($F$12=\"No\",0,IF(AA$14=YEAR('Fee Estimator'!$F113),'Fee Estimator'!$M114,0))))","v":0},{"$f":"IF(ISTEXT('Fee Estimator'!$F113),0,IF('Fee Estimator'!$F113=\"\",0,IF($F$12=\"No\",0,IF(AB$14=YEAR('Fee Estimator'!$F113),'Fee Estimator'!$M114,0))))","v":0},{"$f":"IF(ISTEXT('Fee Estimator'!$F113),0,IF('Fee Estimator'!$F113=\"\",0,IF($F$12=\"No\",0,IF(AC$14=YEAR('Fee Estimator'!$F113),'Fee Estimator'!$M114,0))))","v":0},{"$f":"IF(ISTEXT('Fee Estimator'!$F113),0,IF('Fee Estimator'!$F113=\"\",0,IF($F$12=\"No\",0,IF(AD$14=YEAR('Fee Estimator'!$F113),'Fee Estimator'!$M114,0))))","v":0},{"$f":"IF(ISTEXT('Fee Estimator'!$F113),0,IF('Fee Estimator'!$F113=\"\",0,IF($F$12=\"No\",0,IF(AE$14=YEAR('Fee Estimator'!$F113),'Fee Estimator'!$M114,0))))","v":0},{"$f":"IF(ISTEXT('Fee Estimator'!$F113),0,IF('Fee Estimator'!$F113=\"\",0,IF($F$12=\"No\",0,IF(AF$14=YEAR('Fee Estimator'!$F113),'Fee Estimator'!$M114,0))))","v":0},{"$f":"IF(ISTEXT('Fee Estimator'!$F113),0,IF('Fee Estimator'!$F113=\"\",0,IF($F$12=\"No\",0,IF(AG$14=YEAR('Fee Estimator'!$F113),'Fee Estimator'!$M114,0))))","v":0},{"$f":"IF(ISTEXT('Fee Estimator'!$F113),0,IF('Fee Estimator'!$F113=\"\",0,IF($F$12=\"No\",0,IF(AH$14=YEAR('Fee Estimator'!$F113),'Fee Estimator'!$M114,0))))","v":0},{"$f":"IF(ISTEXT('Fee Estimator'!$F113),0,IF('Fee Estimator'!$F113=\"\",0,IF($F$12=\"No\",0,IF(AI$14=YEAR('Fee Estimator'!$F113),'Fee Estimator'!$M114,0))))","v":0}]
[null,null,"T O T A L\n(tons)",null,null,null,null,"NOx",null,{"$f":"M145+M146","v":0},{"$f":"M139+M140","v":0},null,{"$f":"M134+M135","v":0},null,{"$f":"O134+O135","v":0},{"$f":"P134+P135","v":0},{"$f":"Q134+Q135","v":0},{"$f":"R134+R135","v":0},0,0,0,0,0,0,0,0,0,0,0,0,0,0,0,{"$f":"AH134+AH135","v":0},0]
[null,null,null,null,null,null,null,"PM10",null,{"$f":"+M147+M148","v":0},{"$f":"M141+M142","v":0},null,{"$f":"M136+M137","v":0},null,{"$f":"O136+O137","v":0},{"$f":"P136+P137","v":0},{"$f":"Q136+Q137","v":0},0,0,0,0,0,0,0,0,0,0,0,0,0,0,0,0,{"$f":"AH136+AH137","v":0},0]
[]
[null,null,"Offsite Fee by Pollutant ($)",null,null,null,null,"NOx",null,null,{"$f":"M129+M128","v":0},null,null,null,{"$f":"O129+O128","v":0},{"$f":"P129+P128","v":0},{"$f":"Q129+Q128","v":0},{"$f":"R129+R128","v":0},0,0,0,0,0,0,0,0,0,0,0,0,0,0,0,{"$f":"AH129+AH128","v":0},0]
[null,null,null,null,null,null,null,"PM10",null,null,{"$f":"M130+M131","v":0},null,null,null,{"$f":"O130+O131","v":0},{"$f":"P130+P131","v":0},{"$f":"Q130+Q131","v":0},{"$f":"R130+R131","v":0},0,0,0,0,0,0,0,0,0,0,0,0,0,0,0,{"$f":"AH130+AH131","v":0},0]
[null,null,"Administrative Fee ($) ",null,null,null,null,null,null,null,{"$f":"(SUM(K118:K119)*0.04)","v":0},null,null,null,{"$f":"(SUM(O118:O119)*0.04)","v":0},{"$f":"(SUM(P118:P119)*0.04)","v":0},{"$f":"(SUM(Q118:Q119)*0.04)","v":0},0,0,0,0,0,0,0,0,0,0,0,0,0,0,0,0,{"$f":"(SUM(AH118:AH119)*0.04)","v":0},0]
[null,null,"Offsite Fee ($) ",null,null,null,null,null,null,null,{"$f":"K118+K119","v":0},null,null,null,{"$f":"SUM(O118:O120)","v":0},{"$f":"SUM(P118:P120)","v":0},{"$f":"SUM(Q118:Q120)","v":0},{"$f":"SUM(R118:R120)","v":0},0,0,0,0,0,0,0,0,0,0,0,0,0,0,0,{"$f":"SUM(AH118:AH120)","v":0},0]
[null,null,"Total Project Offsite Fee ($)",null,null,null,null,null,null,null,{"$f":"SUM(K118:K120)","v":0},null,null,null,null,null,null,null,{"$f":"SUM(O121:AI121)","v":0}]
[]
[null,null,"Rule 9510 Fee Schedule ($/ton)"]
[null,null,"Year","Nox","PM10"]
[null,null,"2022 and Beyond",9350,9011]
[]
[null,null,null,null,null,null,null,null,null,"NOx Phase 1-26",null,null,{"$f":"SUM(TRUNC(M15*$D$126,0),TRUNC(M17*$D$126,0),TRUNC(M19*$D$126,0),TRUNC(M21*$D$126,0),TRUNC(M23*$D$126,0),TRUNC(M25*$D$126,0),TRUNC(M27*$D$126,0),TRUNC(M29*$D$126,0),TRUNC(M31*$D$126,0),TRUNC(M33*$D$126,0),TRUNC(M35*$D$126,0),TRUNC(M37*$D$126,0),TRUNC(M39*$D$126,0),TRUNC(M41*$D$126,0),TRUNC(M43*$D$126,0),TRUNC(M45*$D$126,0),TRUNC(M47*$D$126,0),TRUNC(M49*$D$126,0),TRUNC(M51*$D$126,0),TRUNC(M53*$D$126,0),TRUNC(M55*$D$126,0),TRUNC(M57*$D$126,0),TRUNC(M59*$D$126,0),TRUNC(M61*$D$126,0),TRUNC(M63*$D$126,0),TRUNC(M65*$D$126,0))","v":0},null,{"$f":"SUM(TRUNC(O15*$D$126,0),TRUNC(O17*$D$126,0),TRUNC(O19*$D$126,0),TRUNC(O21*$D$126,0),TRUNC(O23*$D$126,0),TRUNC(O25*$D$126,0),TRUNC(O27*$D$126,0),TRUNC(O29*$D$126,0),TRUNC(O31*$D$126,0),TRUNC(O33*$D$126,0),TRUNC(O35*$D$126,0),TRUNC(O37*$D$126,0),TRUNC(O39*$D$126,0),TRUNC(O41*$D$126,0),TRUNC(O43*$D$126,0),TRUNC(O45*$D$126,0),TRUNC(O47*$D$126,0),TRUNC(O49*$D$126,0),TRUNC(O51*$D$126,0),TRUNC(O53*$D$126,0),TRUNC(O55*$D$126,0),TRUNC(O57*$D$126,0),TRUNC(O59*$D$126,0),TRUNC(O61*$D$126,0),TRUNC(O63*$D$126,0),TRUNC(O65*$D$126,0))","v":0},{"$f":"SUM(TRUNC(P15*$D$126,0),TRUNC(P17*$D$126,0),TRUNC(P19*$D$126,0),TRUNC(P21*$D$126,0),TRUNC(P23*$D$126,0),TRUNC(P25*$D$126,0),TRUNC(P27*$D$126,0),TRUNC(P29*$D$126,0),TRUNC(P31*$D$126,0),TRUNC(P33*$D$126,0),TRUNC(P35*$D$126,0),TRUNC(P37*$D$126,0),TRUNC(P39*$D$126,0),TRUNC(P41*$D$126,0),TRUNC(P43*$D$126,0),TRUNC(P45*$D$126,0),TRUNC(P47*$D$126,0),TRUNC(P49*$D$126,0),TRUNC(P51*$D$126,0),TRUNC(P53*$D$126,0),TRUNC(P55*$D$126,0),TRUNC(P57*$D$126,0),TRUNC(P59*$D$126,0),TRUNC(P61*$D$126,0),TRUNC(P63*$D$126,0),TRUNC(P65*$D$126,0))","v":0},0,0,0,0,0,0,0,0,0,0,0,0,0,0,0,0,0,0,0]
[null,null,null,null,null,null,null,null,null,"NOx Phase 27-50",null,null,{"$f":"SUM(TRUNC(M67*$D$126,0),TRUNC(M69*$D$126,0),TRUNC(M71*$D$126,0),TRUNC(M73*$D$126,0),TRUNC(M75*$D$126,0),TRUNC(M77*$D$126,0),TRUNC(M79*$D$126,0),TRUNC(M81*$D$126,0),TRUNC(M83*$D$126,0),TRUNC(M85*$D$126,0),TRUNC(M87*$D$126,0),TRUNC(M89*$D$126,0),TRUNC(M91*$D$126,0),TRUNC(M93*$D$126,0),TRUNC(M95*$D$126,0),TRUNC(M97*$D$126,0),TRUNC(M99*$D$126,0),TRUNC(M101*$D$126,0),TRUNC(M103*$D$126,0),TRUNC(M105*$D$126,0),TRUNC(M107*$D$126,0),TRUNC(M109*$D$126,0),TRUNC(M111*$D$126,0),TRUNC(M113*$D$126,0))","v":0},null,{"$f":"SUM(TRUNC(O67*$D$126,0),TRUNC(O69*$D$126,0),TRUNC(O71*$D$126,0),TRUNC(O73*$D$126,0),TRUNC(O75*$D$126,0),TRUNC(O77*$D$126,0),TRUNC(O79*$D$126,0),TRUNC(O81*$D$126,0),TRUNC(O83*$D$126,0),TRUNC(O85*$D$126,0),TRUNC(O87*$D$126,0),TRUNC(O89*$D$126,0),TRUNC(O91*$D$126,0),TRUNC(O93*$D$126,0),TRUNC(O95*$D$126,0),TRUNC(O97*$D$126,0),TRUNC(O99*$D$126,0),TRUNC(O101*$D$126,0),TRUNC(O103*$D$126,0),TRUNC(O105*$D$126,0),TRUNC(O107*$D$126,0),TRUNC(O109*$D$126,0),TRUNC(O111*$D$126,0),TRUNC(O113*$D$126,0))","v":0},{"$f":"SUM(TRUNC(P67*$D$126,0),TRUNC(P69*$D$126,0),TRUNC(P71*$D$126,0),TRUNC(P73*$D$126,0),TRUNC(P75*$D$126,0),TRUNC(P77*$D$126,0),TRUNC(P79*$D$126,0),TRUNC(P81*$D$126,0),TRUNC(P83*$D$126,0),TRUNC(P85*$D$126,0),TRUNC(P87*$D$126,0),TRUNC(P89*$D$126,0),TRUNC(P91*$D$126,0),TRUNC(P93*$D$126,0),TRUNC(P95*$D$126,0),TRUNC(P97*$D$126,0),TRUNC(P99*$D$126,0),TRUNC(P101*$D$126,0),TRUNC(P103*$D$126,0),TRUNC(P105*$D$126,0),TRUNC(P107*$D$126,0),TRUNC(P109*$D$126,0),TRUNC(P111*$D$126,0),TRUNC(P113*$D$126,0))","v":0},0,0,0,0,0,0,0,0,0,0,0,0,0,0,0,0,0,0,0]
[null,null,null,null,null,null,null,null,null,"PM10 Phase 1-26",null,null,{"$f":"SUM(TRUNC(M16*$E$126,0),TRUNC(M18*$E$126,0),TRUNC(M20*$E$126,0),TRUNC(M22*$E$126,0),TRUNC(M24*$E$126,0),TRUNC(M26*$E$126,0),TRUNC(M28*$E$126,0),TRUNC(M30*$E$126,0),TRUNC(M32*$E$126,0),TRUNC(M34*$E$126,0),TRUNC(M36*$E$126,0),TRUNC(M38*$E$126,0),TRUNC(M40*$E$126,0),TRUNC(M42*$E$126,0),TRUNC(M44*$E$126,0),TRUNC(M46*$E$126,0),TRUNC(M48*$E$126,0),TRUNC(M50*$E$126,0),TRUNC(M52*$E$126,0),TRUNC(M54*$E$126,0),TRUNC(M56*$E$126,0),TRUNC(M58*$E$126,0),TRUNC(M60*$E$126,0),TRUNC(M62*$E$126,0),TRUNC(M64*$E$126,0),TRUNC(M66*$E$126,0))","v":0},null,{"$f":"SUM(TRUNC(O16*$E$126,0),TRUNC(O18*$E$126,0),TRUNC(O20*$E$126,0),TRUNC(O22*$E$126,0),TRUNC(O24*$E$126,0),TRUNC(O26*$E$126,0),TRUNC(O28*$E$126,0),TRUNC(O30*$E$126,0),TRUNC(O32*$E$126,0),TRUNC(O34*$E$126,0),TRUNC(O36*$E$126,0),TRUNC(O38*$E$126,0),TRUNC(O40*$E$126,0),TRUNC(O42*$E$126,0),TRUNC(O44*$E$126,0),TRUNC(O46*$E$126,0),TRUNC(O48*$E$126,0),TRUNC(O50*$E$126,0),TRUNC(O52*$E$126,0),TRUNC(O54*$E$126,0),TRUNC(O56*$E$126,0),TRUNC(O58*$E$126,0),TRUNC(O60*$E$126,0),TRUNC(O62*$E$126,0),TRUNC(O64*$E$126,0),TRUNC(O66*$E$126,0))","v":0},{"$f":"SUM(TRUNC(P16*$E$126,0),TRUNC(P18*$E$126,0),TRUNC(P20*$E$126,0),TRUNC(P22*$E$126,0),TRUNC(P24*$E$126,0),TRUNC(P26*$E$126,0),TRUNC(P28*$E$126,0),TRUNC(P30*$E$126,0),TRUNC(P32*$E$126,0),TRUNC(P34*$E$126,0),TRUNC(P36*$E$126,0),TRUNC(P38*$E$126,0),TRUNC(P40*$E$126,0),TRUNC(P42*$E$126,0),TRUNC(P44*$E$126,0),TRUNC(P46*$E$126,0),TRUNC(P48*$E$126,0),TRUNC(P50*$E$126,0),TRUNC(P52*$E$126,0),TRUNC(P54*$E$126,0),TRUNC(P56*$E$126,0),TRUNC(P58*$E$126,0),TRUNC(P60*$E$126,0),TRUNC(P62*$E$126,0),TRUNC(P64*$E$126,0),TRUNC(P66*$E$126,0))","v":0},0,0,0,0,0,0,0,0,0,0,0,0,0,0,0,0,0,0,0]
[null,null,null,null,null,null,null,null,null,"PM10 Phase 27-50",null,null,{"$f":"SUM(TRUNC(M68*$E$126,0),TRUNC(M70*$E$126,0),TRUNC(M72*$E$126,0),TRUNC(M74*$E$126,0),TRUNC(M76*$E$126,0),TRUNC(M78*$E$126,0),TRUNC(M80*$E$126,0),TRUNC(M82*$E$126,0),TRUNC(M84*$E$126,0),TRUNC(M86*$E$126,0),TRUNC(M88*$E$126,0),TRUNC(M90*$E$126,0),TRUNC(M92*$E$126,0),TRUNC(M94*$E$126,0),TRUNC(M96*$E$126,0),TRUNC(M98*$E$126,0),TRUNC(M100*$E$126,0),TRUNC(M102*$E$126,0),TRUNC(M104*$E$126,0),TRUNC(M106*$E$126,0),TRUNC(M108*$E$126,0),TRUNC(M110*$E$126,0),TRUNC(M112*$E$126,0),TRUNC(M114*$E$126,0))","v":0},null,{"$f":"SUM(TRUNC(O68*$E$126,0),TRUNC(O70*$E$126,0),TRUNC(O72*$E$126,0),TRUNC(O74*$E$126,0),TRUNC(O76*$E$126,0),TRUNC(O78*$E$126,0),TRUNC(O80*$E$126,0),TRUNC(O82*$E$126,0),TRUNC(O84*$E$126,0),TRUNC(O86*$E$126,0),TRUNC(O88*$E$126,0),TRUNC(O90*$E$126,0),TRUNC(O92*$E$126,0),TRUNC(O94*$E$126,0),TRUNC(O96*$E$126,0),TRUNC(O98*$E$126,0),TRUNC(O100*$E$126,0),TRUNC(O102*$E$126,0),TRUNC(O104*$E$126,0),TRUNC(O106*$E$126,0),TRUNC(O108*$E$126,0),TRUNC(O110*$E$126,0),TRUNC(O112*$E$126,0),TRUNC(O114*$E$126,0))","v":0},{"$f":"SUM(TRUNC(P68*$E$126,0),TRUNC(P70*$E$126,0),TRUNC(P72*$E$126,0),TRUNC(P74*$E$126,0),TRUNC(P76*$E$126,0),TRUNC(P78*$E$126,0),TRUNC(P80*$E$126,0),TRUNC(P82*$E$126,0),TRUNC(P84*$E$126,0),TRUNC(P86*$E$126,0),TRUNC(P88*$E$126,0),TRUNC(P90*$E$126,0),TRUNC(P92*$E$126,0),TRUNC(P94*$E$126,0),TRUNC(P96*$E$126,0),TRUNC(P98*$E$126,0),TRUNC(P100*$E$126,0),TRUNC(P102*$E$126,0),TRUNC(P104*$E$126,0),TRUNC(P106*$E$126,0),TRUNC(P108*$E$126,0),TRUNC(P110*$E$126,0),TRUNC(P112*$E$126,0),TRUNC(P114*$E$126,0))","v":0},0,0,0,0,0,0,0,0,0,0,0,0,0,0,0,0,0,0,0]
[]
[]
[null,null,null,null,null,null,null,"No FDS-NOx Total Tons Phase 1-26",null,null,null,null,{"$f":"SUM(M15,M17,M19,M21,M23,M25,M27,M29,M31,M33,M35,M37,M39,M41,M43,M45,M47,M49,M51,M53,M55,M57,M59,M61,M63,M65)","v":0},null,{"$f":"SUM(O15,O17,O19,O21,O23,O25,O27,O29,O31,O33,O35,O37,O39,O41,O43,O45,O47,O49,O51,O53,O55,O57,O59,O61,O63,O65)","v":0},{"$f":"SUM(P15,P17,P19,P21,P23,P25,P27,P29,P31,P33,P35,P37,P39,P41,P43,P45,P47,P49,P51,P53,P55,P57,P59,P61,P63,P65)","v":0},0,0,0,0,0,0,0,0,0,0,0,0,0,0,0,0,0,0,0]
[null,null,null,null,null,null,null,"No FDS-NOxTotal Tons Phase 27-50",null,null,null,null,{"$f":"SUM(M67,M69,M71,M73,M75,M77,M79,M81,M83,M85,M87,M89,M91,M93,M95,M97,M99,M101,M103,M105,M107,M109,M111,M113)","v":0},null,{"$f":"SUM(O67,O69,O71,O73,O75,O77,O79,O81,O83,O85,O87,O89,O91,O93,O95,O97,O99,O101,O103,O105,O107,O109,O111,O113)","v":0},{"$f":"SUM(P67,P69,P71,P73,P75,P77,P79,P81,P83,P85,P87,P89,P91,P93,P95,P97,P99,P101,P103,P105,P107,P109,P111,P113)","v":0},0,0,0,0,0,0,0,0,0,0,0,0,0,0,0,0,0,0,0]
[null,null,null,null,null,null,null,"No FDS-PM10 Total Tons Phase 1-26",null,null,null,null,{"$f":"SUM(M16,M18,M20,M22,M24,M26,M28,M30,M32,M34,M36,M38,M40,M42,M44,M46,M48,M50,M52,M54,M56,M58,M60,M62,M64,M66)","v":0},null,{"$f":"SUM(O16,O18,O20,O22,O24,O26,O28,O30,O32,O34,O36,O38,O40,O42,O44,O46,O48,O50,O52,O54,O56,O58,O60,O62,O64,O66)","v":0},{"$f":"SUM(P16,P18,P20,P22,P24,P26,P28,P30,P32,P34,P36,P38,P40,P42,P44,P46,P48,P50,P52,P54,P56,P58,P60,P62,P64,P66)","v":0},0,0,0,0,0,0,0,0,0,0,0,0,0,0,0,0,0,0,0]
[null,null,null,null,null,null,null,"No FDS-PM10 Total Tons Phase 27-50",null,null,null,null,{"$f":"SUM(M68,M70,M72,M74,M76,M78,M80,M82,M84,M86,M88,M90,M92,M94,M96,M98,M100,M102,M104,M106,M108,M110,M112,M114)","v":0},null,{"$f":"SUM(O68,O70,O72,O74,O76,O78,O80,O82,O84,O86,O88,O90,O92,O94,O96,O98,O100,O102,O104,O106,O108,O110,O112,O114)","v":0},{"$f":"SUM(P68,P70,P72,P74,P76,P78,P80,P82,P84,P86,P88,P90,P92,P94,P96,P98,P100,P102,P104,P106,P108,P110,P112,P114)","v":0},0,0,0,0,0,0,0,0,0,0,0,0,0,0,0,0,0,0,0]
[]
[null,null,null,null,null,null,null,null,null,"NOx Total Tons Phase 1-26",null,null,{"$f":"SUM(K15,K17,K19,K21,K23,K25,K27,K29,K31,K33,K35,K37,K39,K41,K43,K45,K47,K49,K51,K53,K55,K57,K59,K61,K63,K65)","v":0}]
[null,null,null,null,null,null,null,null,null,"NOxTotal Tons Phase 27-50",null,null,{"$f":"SUM(K67,K69,K71,K73,K75,K77,K79,K81,K83,K85,K87,K89,K91,K93,K95,K97,K99,K101,K103,K105,K107,K109,K111,K113)","v":0}]
[null,null,null,null,null,null,null,null,null,"PM10 Total Tons Phase 1-26",null,null,{"$f":"SUM(K16,K18,K20,K22,K24,K26,K28,K30,K32,K34,K36,K38,K40,K42,K44,K46,K48,K50,K52,K54,K56,K58,K60,K62,K64,K66)","v":0}]
[null,null,null,null,null,null,null,null,null,"PM10 Total Tons Phase 27-50",null,null,{"$f":"SUM(K68,K70,K72,K74,K76,K78,K80,K82,K84,K86,K88,K90,K92,K94,K96,K98,K100,K102,K104,K106,K108,K110,K112,K114)","v":0}]
[]
[]
[null,null,null,null,null,null,null,null,null,"REQ NOx Total Tons Phase 1-26",null,null,{"$f":"SUM(J15,J17,J19,J21,J23,J25,J27,J29,J31,J33,J35,J37,J39,J41,J43,J45,J47,J49,J51,J53,J55,J57,J59,J61,J63,J65)","v":0}]
[null,null,null,null,null,null,null,null,null,"REQ NOxTotal Tons Phase 27-50",null,null,{"$f":"SUM(J67,J69,J71,J73,J75,J77,J79,J81,J83,J85,J87,J89,J91,J93,J95,J97,J99,J101,J103,J105,J107,J109,J111,J113)","v":0}]
[null,null,null,null,null,null,null,null,null,"REQ PM10 Total Tons Phase 1-26",null,null,{"$f":"SUM(J16,J18,J20,J22,J24,J26,J28,J30,J32,J34,J36,J38,J40,J42,J44,J46,J48,J50,J52,J54,J56,J58,J60,J62,J64,J66)","v":0}]
[null,null,null,null,null,null,null,null,null,"REQ PM10 Total Tons Phase 27-50",null,null,{"$f":"SUM(J68,J70,J72,J74,J76,J78,J80,J82,J84,J86,J88,J90,J92,J94,J96,J98,J100,J102,J104,J106,J108,J110,J112,J114)","v":0}]